Dist-Zilla-PluginBundle-Author-Celogeek v1.1 Perl 5 v5.18.4 x86_64-linux-ld
- Status
- Pass
- From
- Andreas J. König (ANDK)
- Dist
-
Dist-Zilla-PluginBundle-Author-Celogeek v1.1
- Platform
- Perl 5 v5.18.4 x86_64-linux-ld
- Date
- 2017-12-05 05:56:27
- ID
- 08ce9c5c-d981-11e7-894c-e64d3af7396f
This distribution has been tested as part of the CPAN Testers
project, supporting the Perl programming language. See
http://wiki.cpantesters.org/ for more information or email
questions to cpan-testers-discuss@perl.org
--
Dear celogeek,
This is a computer-generated report for Dist-Zilla-PluginBundle-Author-Celogeek-1.1
on perl 5.18.4, created by CPAN-Reporter-1.2018.
Thank you for uploading your work to CPAN. Congratulations!
All tests were successful.
Sections of this report:
* Tester comments
* Program output
* Prerequisites
* Environment and other context
------------------------------
TESTER COMMENTS
------------------------------
Additional comments from tester:
this report is from an automated smoke testing program
and was not reviewed by a human for accuracy
------------------------------
PROGRAM OUTPUT
------------------------------
Output from './Build test':
t/00-compile.t ............ ok
# Testing with Perl 5.018004, /home/sand/src/perl/repoperls/installed-perls/host/k93msid/v5.18.4/2d7c/bin/perl
# Carp version is 1.38
# Class::MOP version is 2.2006
# Dist::Zilla::App::Command::cover version is 1.101001
# Dist::Zilla::Plugin::AutoPrereqs version is 6.010
# Dist::Zilla::Plugin::CheckChangeLog version is 0.05
# Dist::Zilla::Plugin::Git::NextVersion version is 2.042
# Dist::Zilla::Plugin::MetaConfig version is 6.010
# Dist::Zilla::Plugin::MetaJSON version is 6.010
# Dist::Zilla::Plugin::MetaResourcesFromGit version is 1.103620
# Dist::Zilla::Plugin::MinimumPerl version is 1.006
# Dist::Zilla::Plugin::ModuleBuild version is 6.010
# Dist::Zilla::Plugin::NextRelease version is 6.010
# Dist::Zilla::Plugin::OurPkgVersion version is 0.12
# Dist::Zilla::Plugin::PerlTidy version is 0.21
# Dist::Zilla::Plugin::PodCoverageTests version is 6.010
# Dist::Zilla::Plugin::PodWeaver version is 4.008
# Dist::Zilla::Plugin::Prepender version is 2.004
# Dist::Zilla::Plugin::Prereqs version is 6.010
# Dist::Zilla::Plugin::PruneFiles version is 6.010
# Dist::Zilla::Plugin::ReadmeMarkdownFromPod version is 0.141140
# Dist::Zilla::Plugin::ReportVersions version is 1.110730
# Dist::Zilla::Plugin::Run::BeforeRelease version is 0.046
# Dist::Zilla::Plugin::Test::Compile version is 2.057
# Dist::Zilla::Plugin::Test::Perl::Critic version is 3.001
# Dist::Zilla::Plugin::Test::UnusedVars version is 2.000007
# Dist::Zilla::PluginBundle::Filter version is 6.010
# Dist::Zilla::PluginBundle::Git version is 2.042
# Dist::Zilla::Role::PluginBundle::Easy version is 6.010
# Dist::Zilla::Role::PluginBundle::PluginRemover version is 0.105
# File::Spec version is 3.62
# IO::All version is 0.87
# IO::Handle version is 1.34
# IPC::Open3 version is 1.13
# Module::Build version is 0.4224
# Moose version is 2.2006
# Pod::Coverage::TrustPod version is 0.100003
# Pod::Weaver::Config::Assembler version is 4.015
# Scalar::Util version is 1.49
# Test::More version is 1.302119
# Test::Perl::Critic version is 1.03
# namespace::autoclean version is 0.28
# strict version is 1.07
# warnings version is 1.18
t/000-report-versions.t ... ok
t/author-critic.t ......... skipped: these tests are for testing by the author
t/release-pod-coverage.t .. skipped: these tests are for release candidate testing
t/release-unused-vars.t ... skipped: these tests are for release candidate testing
All tests successful.
Files=5, Tests=45, 8 wallclock secs ( 0.03 usr 0.05 sys + 2.39 cusr 0.50 csys = 2.97 CPU)
Result: PASS
------------------------------
PREREQUISITES
------------------------------
Prerequisite modules loaded:
requires:
Module Need Have
---------------------------------------------- ------ --------
Class::MOP 0 2.2006
Devel::Cover 0 1.29
Dist::Zilla::App::Command::cover 0 1.101001
Dist::Zilla::Plugin::AutoPrereqs 0 6.010
Dist::Zilla::Plugin::CheckChangeLog 0 0.05
Dist::Zilla::Plugin::Git::NextVersion 0 2.042
Dist::Zilla::Plugin::MetaConfig 0 6.010
Dist::Zilla::Plugin::MetaJSON 0 6.010
Dist::Zilla::Plugin::MetaResourcesFromGit 0 1.103620
Dist::Zilla::Plugin::MinimumPerl 0 1.006
Dist::Zilla::Plugin::ModuleBuild 0 6.010
Dist::Zilla::Plugin::NextRelease 0 6.010
Dist::Zilla::Plugin::OurPkgVersion 0 0.12
Dist::Zilla::Plugin::PerlTidy 0 0.21
Dist::Zilla::Plugin::PodCoverageTests 0 6.010
Dist::Zilla::Plugin::PodWeaver 0 4.008
Dist::Zilla::Plugin::Prepender 0 2.004
Dist::Zilla::Plugin::Prereqs 0 6.010
Dist::Zilla::Plugin::PruneFiles 0 6.010
Dist::Zilla::Plugin::ReadmeMarkdownFromPod 0 0.141140
Dist::Zilla::Plugin::ReportVersions 0 1.110730
Dist::Zilla::Plugin::Run::BeforeRelease 0 0.046
Dist::Zilla::Plugin::Test::Compile 0 2.057
Dist::Zilla::Plugin::Test::Perl::Critic 0 3.001
Dist::Zilla::Plugin::Test::UnusedVars 0 2.000007
Dist::Zilla::PluginBundle::Filter 0 6.010
Dist::Zilla::PluginBundle::Git 0 2.042
Dist::Zilla::Role::PluginBundle::Easy 0 6.010
Dist::Zilla::Role::PluginBundle::PluginRemover 0 0.105
IO::All 0.45 0.87
Moose 0 2.2006
namespace::autoclean 0 0.28
perl 5.006 5.018004
Pod::Coverage::TrustPod 0 0.100003
Pod::Weaver::Config::Assembler 0 4.015
strict 0 1.07
Test::Perl::Critic 0 1.03
Test::Pod::Coverage 1.08 1.10
warnings 0 1.18
build_requires:
Module Need Have
---------------------------------------------- ------ --------
Carp 0 1.38
File::Spec 0 3.62
IO::Handle 0 1.34
IPC::Open3 0 1.13
Module::Build 0.3601 0.4224
perl 5.006 5.018004
Scalar::Util 0 1.49
Test::More 0.94 1.302119
configure_requires:
Module Need Have
---------------------------------------------- ------ --------
Module::Build 0.3601 0.4224
------------------------------
ENVIRONMENT AND OTHER CONTEXT
------------------------------
Environment variables:
AUTOMATED_TESTING = 1
LANG = en_US.UTF-8
PATH = /home/sand/bin:/usr/local/bin:/usr/bin:/bin:/usr/games:/usr/local/perl/bin:/usr/X11/bin:/sbin:/usr/sbin
PERL5LIB = /tmp/loop_over_bdir-17821-oEPdez/Dist-Zilla-Plugin-ReportVersions-1.110730-0/blib/arch:/tmp/loop_over_bdir-17821-oEPdez/Dist-Zilla-Plugin-ReportVersions-1.110730-0/blib/lib:/tmp/loop_over_bdir-17821-oEPdez/Dist-Zilla-Plugin-ReadmeMarkdownFromPod-0.141140-0/blib/arch:/tmp/loop_over_bdir-17821-oEPdez/Dist-Zilla-Plugin-ReadmeMarkdownFromPod-0.141140-0/blib/lib:/tmp/loop_over_bdir-17821-oEPdez/Dist-Zilla-Plugin-Prepender-2.004-0/blib/arch:/tmp/loop_over_bdir-17821-oEPdez/Dist-Zilla-Plugin-Prepender-2.004-0/blib/lib:/tmp/loop_over_bdir-17821-oEPdez/Dist-Zilla-Plugin-MetaResourcesFromGit-1.103620-0/blib/arch:/tmp/loop_over_bdir-17821-oEPdez/Dist-Zilla-Plugin-MetaResourcesFromGit-1.103620-0/blib/lib:/tmp/loop_over_bdir-17821-oEPdez/Dist-Zilla-Plugin-CheckChangeLog-0.05-0/blib/arch:/tmp/loop_over_bdir-17821-oEPdez/Dist-Zilla-Plugin-CheckChangeLog-0.05-0/blib/lib:/tmp/loop_over_bdir-17821-oEPdez/Dist-Zilla-App-Command-cover-1.101001-0/blib/arch:/tmp/loop_over_bdir-17821-oEPdez/Dist-Zilla-App-Command-cover-1.101001-0/blib/lib
PERL5OPT =
PERL5_CPANPLUS_IS_RUNNING = 17831
PERL5_CPAN_IS_RUNNING = 17831
PERL5_CPAN_IS_RUNNING_IN_RECURSION = 8141,17831
PERL_CANARY_STABILITY_NOPROMPT = 1
PERL_MM_USE_DEFAULT = 1
PERL_USE_UNSAFE_INC = 1
SHELL = /usr/bin/zsh
TERM = screen
Perl special variables (and OS-specific diagnostics, for MSWin32):
$^X = /home/sand/src/perl/repoperls/installed-perls/host/k93msid/v5.18.4/2d7c/bin/perl
$UID/$EUID = 1005 / 1005
$GID = 1005 1005
$EGID = 1005 1005
Perl module toolchain versions installed:
Module Have
------------------- --------
CPAN 2.20
CPAN::Meta 2.150010
Cwd 3.62
ExtUtils::CBuilder 0.280230
ExtUtils::Command 7.30
ExtUtils::Install 2.06
ExtUtils::MakeMaker 7.30
ExtUtils::Manifest 1.70
ExtUtils::ParseXS 3.35
File::Spec 3.62
JSON 2.95
JSON::PP 2.96
Module::Build 0.4224
Module::Signature 0.81
Parse::CPAN::Meta 2.150010
Test::Harness 3.39
Test::More 1.302119
YAML 1.24
YAML::Syck 1.30
version 0.9918
--
Summary of my perl5 (revision 5 version 18 subversion 4) configuration:
Derived from: 51202371ba68f3f52f13124a3ea1bc3c171e0ee2
Platform:
osname=linux, osvers=4.12.0-2-amd64, archname=x86_64-linux-ld
uname='linux k93msid 4.12.0-2-amd64 #1 smp debian 4.12.13-1 (2017-09-19) x86_64 gnulinux '
config_args='-Dprefix=/home/sand/src/perl/repoperls/installed-perls/host/k93msid/v5.18.4/2d7c -Dmyhostname=k93msid -Dinstallusrbinperl=n -Uversiononly -Dusedevel -des -Ui_db -Dlibswanted=cl pthread socket inet nsl gdbm dbm malloc dl ld sun m crypt sec util c cposix posix ucb BSD gdbm_compat -Uuseithreads -Duselongdouble -DDEBUGGING=-g'
hint=recommended, useposix=true, d_sigaction=define
useithreads=undef, usemultiplicity=undef
useperlio=define, d_sfio=undef, uselargefiles=define, usesocks=undef
use64bitint=define, use64bitall=define, uselongdouble=define
usemymalloc=n, bincompat5005=undef
Compiler:
cc='cc', ccflags ='-fno-strict-aliasing -pipe -fstack-protector -I/usr/local/include -D_LARGEFILE_SOURCE -D_FILE_OFFSET_BITS=64',
optimize='-O2 -g',
cppflags='-fno-strict-aliasing -pipe -fstack-protector -I/usr/local/include'
ccversion='', gccversion='7.2.0', gccosandvers=''
intsize=4, longsize=8, ptrsize=8, doublesize=8, byteorder=12345678
d_longlong=define, longlongsize=8, d_longdbl=define, longdblsize=16
ivtype='long', ivsize=8, nvtype='long double', nvsize=16, Off_t='off_t', lseeksize=8
alignbytes=16, prototype=define
Linker and Libraries:
ld='cc', ldflags =' -fstack-protector -L/usr/local/lib'
libpth=/usr/local/lib /lib/x86_64-linux-gnu /lib/../lib /usr/lib/x86_64-linux-gnu /usr/lib/../lib /lib /usr/lib
libs=-lpthread -lnsl -ldl -lm -lcrypt -lutil -lc
perllibs=-lpthread -lnsl -ldl -lm -lcrypt -lutil -lc
libc=libc-2.24.so, so=so, useshrplib=false, libperl=libperl.a
gnulibc_version='2.24'
Dynamic Linking:
dlsrc=dl_dlopen.xs, dlext=so, d_dlsymun=undef, ccdlflags='-Wl,-E'
cccdlflags='-fPIC', lddlflags='-shared -O2 -g -L/usr/local/lib -fstack-protector'
Characteristics of this binary (from libperl):
Compile-time options: HAS_TIMES PERLIO_LAYERS PERL_DONT_CREATE_GVSV
PERL_HASH_FUNC_ONE_AT_A_TIME_HARD PERL_MALLOC_WRAP
PERL_PRESERVE_IVUV PERL_SAWAMPERSAND PERL_USE_DEVEL
USE_64_BIT_ALL USE_64_BIT_INT USE_LARGE_FILES
USE_LOCALE USE_LOCALE_COLLATE USE_LOCALE_CTYPE
USE_LOCALE_NUMERIC USE_LONG_DOUBLE USE_PERLIO
USE_PERL_ATOF
Locally applied patches:
uncommitted-changes
Built under linux
Compiled at Oct 3 2017 19:53:19
%ENV:
PERL5LIB="/tmp/loop_over_bdir-17821-oEPdez/Dist-Zilla-Plugin-ReportVersions-1.110730-0/blib/arch:/tmp/loop_over_bdir-17821-oEPdez/Dist-Zilla-Plugin-ReportVersions-1.110730-0/blib/lib:/tmp/loop_over_bdir-17821-oEPdez/Dist-Zilla-Plugin-ReadmeMarkdownFromPod-0.141140-0/blib/arch:/tmp/loop_over_bdir-17821-oEPdez/Dist-Zilla-Plugin-ReadmeMarkdownFromPod-0.141140-0/blib/lib:/tmp/loop_over_bdir-17821-oEPdez/Dist-Zilla-Plugin-Prepender-2.004-0/blib/arch:/tmp/loop_over_bdir-17821-oEPdez/Dist-Zilla-Plugin-Prepender-2.004-0/blib/lib:/tmp/loop_over_bdir-17821-oEPdez/Dist-Zilla-Plugin-MetaResourcesFromGit-1.103620-0/blib/arch:/tmp/loop_over_bdir-17821-oEPdez/Dist-Zilla-Plugin-MetaResourcesFromGit-1.103620-0/blib/lib:/tmp/loop_over_bdir-17821-oEPdez/Dist-Zilla-Plugin-CheckChangeLog-0.05-0/blib/arch:/tmp/loop_over_bdir-17821-oEPdez/Dist-Zilla-Plugin-CheckChangeLog-0.05-0/blib/lib:/tmp/loop_over_bdir-17821-oEPdez/Dist-Zilla-App-Command-cover-1.101001-0/blib/arch:/tmp/loop_over_bdir-17821-oEPdez/Dist-Zilla-App-Command-cover-1.101001-0/blib/lib"
PERL5OPT=""
PERL5_CPANPLUS_IS_RUNNING="17831"
PERL5_CPAN_IS_RUNNING="17831"
PERL5_CPAN_IS_RUNNING_IN_RECURSION="8141,17831"
PERL_CANARY_STABILITY_NOPROMPT="1"
PERL_MM_USE_DEFAULT="1"
PERL_USE_UNSAFE_INC="1"
@INC:
/tmp/loop_over_bdir-17821-oEPdez/Dist-Zilla-Plugin-ReportVersions-1.110730-0/blib/arch
/tmp/loop_over_bdir-17821-oEPdez/Dist-Zilla-Plugin-ReportVersions-1.110730-0/blib/lib
/tmp/loop_over_bdir-17821-oEPdez/Dist-Zilla-Plugin-ReadmeMarkdownFromPod-0.141140-0/blib/arch
/tmp/loop_over_bdir-17821-oEPdez/Dist-Zilla-Plugin-ReadmeMarkdownFromPod-0.141140-0/blib/lib
/tmp/loop_over_bdir-17821-oEPdez/Dist-Zilla-Plugin-Prepender-2.004-0/blib/arch
/tmp/loop_over_bdir-17821-oEPdez/Dist-Zilla-Plugin-Prepender-2.004-0/blib/lib
/tmp/loop_over_bdir-17821-oEPdez/Dist-Zilla-Plugin-MetaResourcesFromGit-1.103620-0/blib/arch
/tmp/loop_over_bdir-17821-oEPdez/Dist-Zilla-Plugin-MetaResourcesFromGit-1.103620-0/blib/lib
/tmp/loop_over_bdir-17821-oEPdez/Dist-Zilla-Plugin-CheckChangeLog-0.05-0/blib/arch
/tmp/loop_over_bdir-17821-oEPdez/Dist-Zilla-Plugin-CheckChangeLog-0.05-0/blib/lib
/tmp/loop_over_bdir-17821-oEPdez/Dist-Zilla-App-Command-cover-1.101001-0/blib/arch
/tmp/loop_over_bdir-17821-oEPdez/Dist-Zilla-App-Command-cover-1.101001-0/blib/lib
/home/sand/src/perl/repoperls/installed-perls/host/k93msid/v5.18.4/2d7c/lib/site_perl/5.18.4/x86_64-linux-ld
/home/sand/src/perl/repoperls/installed-perls/host/k93msid/v5.18.4/2d7c/lib/site_perl/5.18.4
/home/sand/src/perl/repoperls/installed-perls/host/k93msid/v5.18.4/2d7c/lib/5.18.4/x86_64-linux-ld
/home/sand/src/perl/repoperls/installed-perls/host/k93msid/v5.18.4/2d7c/lib/5.18.4
.