Venus v4.15 Perl 5 v5.30.3 x86_64-linux

Status
Pass
From
Slaven Rezić
Dist
Venus v4.15
Platform
Perl 5 v5.30.3 x86_64-linux
Date
2023-11-27 17:33:10
ID
08d2cd8e-8d4b-11ee-960c-2d1b6e8775ea
This distribution has been tested as part of the CPAN Testers
project, supporting the Perl programming language.  See
http://wiki.cpantesters.org/ for more information or email
questions to cpan-testers-discuss@perl.org


--
Dear Al Newkirk,

This is a computer-generated report for Venus-4.15
on perl 5.30.3, created by CPAN-Reporter-1.2018.

Thank you for uploading your work to CPAN.  Congratulations!
All tests were successful.

Sections of this report:

    * Tester comments
    * Program output
    * Prerequisites
    * Environment and other context

------------------------------
TESTER COMMENTS
------------------------------

Additional comments from tester:

none provided

------------------------------
PROGRAM OUTPUT
------------------------------

Output from '/usr/bin/make test':

PERL_DL_NONLAZY=1 "/opt/perl-5.30.3/bin/perl" "-MExtUtils::Command::MM" "-MTest::Harness" "-e" "undef *Test::Harness::Switches; test_harness(0, 'blib/lib', 'blib/arch')" t/*.t
t/Venus.t .................... ok
t/Venus_Args.t ............... ok
t/Venus_Array.t .............. ok
t/Venus_Assert.t ............. ok
t/Venus_Atom.t ............... ok
t/Venus_Boolean.t ............ ok
t/Venus_Box.t ................ ok
t/Venus_Check.t .............. ok
t/Venus_Class.t .............. ok
t/Venus_Cli.t ................ ok
t/Venus_Code.t ............... ok
t/Venus_Coercion.t ........... ok
t/Venus_Config.t ............. ok
t/Venus_Constraint.t ......... ok
t/Venus_Container.t .......... ok
t/Venus_Core.t ............... ok
t/Venus_Core_Class.t ......... ok
t/Venus_Core_Mixin.t ......... ok
t/Venus_Core_Role.t .......... ok
t/Venus_Data.t ............... ok
t/Venus_Date.t ............... ok
t/Venus_Dump.t ............... ok
t/Venus_Enum.t ............... ok
t/Venus_Error.t .............. ok
t/Venus_False.t .............. ok
t/Venus_Fault.t .............. ok
t/Venus_Float.t .............. ok
t/Venus_Future.t ............. ok
t/Venus_Gather.t ............. ok
t/Venus_Hash.t ............... ok
t/Venus_Json.t ............... ok
t/Venus_Kind.t ............... ok
t/Venus_Kind_Utility.t ....... ok
t/Venus_Kind_Value.t ......... ok
t/Venus_Log.t ................ ok
t/Venus_Match.t .............. ok
t/Venus_Meta.t ............... ok
t/Venus_Mixin.t .............. ok
t/Venus_Name.t ............... ok
t/Venus_Number.t ............. ok
t/Venus_Opts.t ............... ok
t/Venus_Os.t ................. ok
t/Venus_Path.t ............... ok
t/Venus_Process.t ............ ok
t/Venus_Prototype.t .......... ok
t/Venus_Random.t ............. ok
t/Venus_Regexp.t ............. ok
t/Venus_Replace.t ............ ok
t/Venus_Role.t ............... ok
t/Venus_Role_Accessible.t .... ok
t/Venus_Role_Assertable.t .... ok
t/Venus_Role_Boxable.t ....... ok
t/Venus_Role_Buildable.t ..... ok
t/Venus_Role_Catchable.t ..... ok
t/Venus_Role_Coercible.t ..... ok
t/Venus_Role_Comparable.t .... ok
t/Venus_Role_Defaultable.t ... ok
t/Venus_Role_Deferrable.t .... ok
t/Venus_Role_Digestable.t .... ok
t/Venus_Role_Doable.t ........ ok
t/Venus_Role_Dumpable.t ...... ok
t/Venus_Role_Explainable.t ... ok
t/Venus_Role_Makeable.t ...... ok
t/Venus_Role_Mappable.t ...... ok
t/Venus_Role_Matchable.t ..... ok
t/Venus_Role_Mockable.t ...... ok
t/Venus_Role_Optional.t ...... ok
t/Venus_Role_Patchable.t ..... ok
t/Venus_Role_Pluggable.t ..... ok
t/Venus_Role_Printable.t ..... ok
t/Venus_Role_Proxyable.t ..... ok
t/Venus_Role_Reflectable.t ... ok
t/Venus_Role_Rejectable.t .... ok
t/Venus_Role_Serializable.t .. ok
t/Venus_Role_Stashable.t ..... ok
t/Venus_Role_Subscribable.t .. ok
t/Venus_Role_Superable.t ..... ok
t/Venus_Role_Testable.t ...... ok
t/Venus_Role_Throwable.t ..... ok
t/Venus_Role_Tryable.t ....... ok
t/Venus_Role_Unacceptable.t .. ok
t/Venus_Role_Unpackable.t .... ok
t/Venus_Role_Valuable.t ...... ok
t/Venus_Run.t ................ ok
t/Venus_Scalar.t ............. ok
t/Venus_Schema.t ............. ok
t/Venus_Sealed.t ............. ok
t/Venus_Search.t ............. ok
t/Venus_Set.t ................ ok
t/Venus_Space.t .............. ok
t/Venus_String.t ............. ok
t/Venus_Task.t ............... ok
t/Venus_Template.t ........... ok
t/Venus_Test.t ............... ok
t/Venus_Throw.t .............. ok
t/Venus_True.t ............... ok
t/Venus_Try.t ................ ok
t/Venus_Type.t ............... ok
t/Venus_Undef.t .............. ok
t/Venus_Unpack.t ............. ok
t/Venus_Vars.t ............... ok
t/Venus_Yaml.t ............... ok
All tests successful.
Files=102, Tests=4843, 47 wallclock secs ( 2.42 usr  0.57 sys + 44.02 cusr  2.56 csys = 49.57 CPU)
Result: PASS

------------------------------
PREREQUISITES
------------------------------

Prerequisite modules loaded:

requires:

    Module              Need  Have    
    ------------------- ----- --------
    perl                5.018 5.030003

build_requires:

    Module              Need  Have    
    ------------------- ----- --------
    ExtUtils::MakeMaker 0     7.70    
    perl                5.018 5.030003

configure_requires:

    Module              Need  Have    
    ------------------- ----- --------
    ExtUtils::MakeMaker 0     7.70    


------------------------------
ENVIRONMENT AND OTHER CONTEXT
------------------------------

Environment variables:

    LANG = en_US.UTF-8
    PATH = /usr/local/bin:/usr/bin:/bin:/usr/local/sbin:/usr/sbin:/sbin:/home/cpansand/bin/linux-gnu:/home/cpansand/bin/sh:/home/cpansand/bin:/usr/games:/home/cpansand/devel:/home/eserte/src/srezic-misc/scripts
    PERL5LIB = 
    PERL5OPT = 
    PERL5_CPANPLUS_IS_RUNNING = 730617
    PERL5_CPAN_IS_RUNNING = 730617
    PERL5_CPAN_IS_RUNNING_IN_RECURSION = 729662,730617
    PERLDOC = -MPod::Perldoc::ToTextOverstrike
    PERL_BATCH = yes
    PERL_CANARY_STABILITY_NOPROMPT = 1
    PERL_CPAN_REPORTER_CONFIG = /var/tmp/cpansmoker-1023/2023112717/cpanreporter_000_config.ini
    PERL_EXTUTILS_AUTOINSTALL = --defaultdeps
    PERL_USE_UNSAFE_INC = 1
    SHELL = /usr/bin/zsh
    TERM = screen
    TMPDIR = /var/tmp/cpansmoker-1023/2023112717

Perl special variables (and OS-specific diagnostics, for MSWin32):

    $^X = /opt/perl-5.30.3/bin/perl
    $UID/$EUID = 1023 / 1023
    $GID = 1023 1023
    $EGID = 1023 1023

Perl module toolchain versions installed:

    Module              Have    
    ------------------- --------
    CPAN                2.22    
    CPAN::Meta          2.150010
    Cwd                 3.78    
    ExtUtils::CBuilder  0.280236
    ExtUtils::Command   7.70    
    ExtUtils::Install   2.22    
    ExtUtils::MakeMaker 7.70    
    ExtUtils::Manifest  1.75    
    ExtUtils::ParseXS   3.51    
    File::Spec          3.78    
    JSON                4.10    
    JSON::PP            4.13    
    Module::Build       0.4234  
    Module::Signature   n/a     
    Parse::CPAN::Meta   2.150010
    Test::Harness       3.48    
    Test::More          1.302196
    YAML                1.30    
    YAML::Syck          1.34    
    version             0.9930  


--

Summary of my perl5 (revision 5 version 30 subversion 3) configuration:
   
  Platform:
    osname=linux
    osvers=5.19.9-200.fc36.x86_64
    archname=x86_64-linux
    uname='linux cloud4.bbbike.org 5.19.9-200.fc36.x86_64 #1 smp preempt_dynamic thu sep 15 09:49:52 utc 2022 x86_64 x86_64 x86_64 gnulinux '
    config_args='-ds -e -Dprefix=/opt/perl-5.30.3 -Dcf_email=srezic@cpan.org'
    hint=recommended
    useposix=true
    d_sigaction=define
    useithreads=undef
    usemultiplicity=undef
    use64bitint=define
    use64bitall=define
    uselongdouble=undef
    usemymalloc=n
    default_inc_excludes_dot=define
    bincompat5005=undef
  Compiler:
    cc='cc'
    ccflags ='-fwrapv -fno-strict-aliasing -pipe -fstack-protector-strong -I/usr/local/include -D_LARGEFILE_SOURCE -D_FILE_OFFSET_BITS=64 -D_FORTIFY_SOURCE=2'
    optimize='-O2'
    cppflags='-fwrapv -fno-strict-aliasing -pipe -fstack-protector-strong -I/usr/local/include'
    ccversion=''
    gccversion='12.2.1 20220819 (Red Hat 12.2.1-2)'
    gccosandvers=''
    intsize=4
    longsize=8
    ptrsize=8
    doublesize=8
    byteorder=12345678
    doublekind=3
    d_longlong=define
    longlongsize=8
    d_longdbl=define
    longdblsize=16
    longdblkind=3
    ivtype='long'
    ivsize=8
    nvtype='double'
    nvsize=8
    Off_t='off_t'
    lseeksize=8
    alignbytes=8
    prototype=define
  Linker and Libraries:
    ld='cc'
    ldflags =' -fstack-protector-strong -L/usr/local/lib'
    libpth=/usr/local/lib /usr/lib /lib/../lib64 /usr/lib/../lib64 /lib /lib64 /usr/lib64 /usr/local/lib64
    libs=-lpthread -ldb -ldl -lm -lcrypt -lutil -lc
    perllibs=-lpthread -ldl -lm -lcrypt -lutil -lc
    libc=/lib/../lib64/libc.so.6
    so=so
    useshrplib=false
    libperl=libperl.a
    gnulibc_version='2.35'
  Dynamic Linking:
    dlsrc=dl_dlopen.xs
    dlext=so
    d_dlsymun=undef
    ccdlflags='-Wl,-E'
    cccdlflags='-fPIC'
    lddlflags='-shared -O2 -L/usr/local/lib -fstack-protector-strong'


Characteristics of this binary (from libperl): 
  Compile-time options:
    HAS_TIMES
    PERLIO_LAYERS
    PERL_COPY_ON_WRITE
    PERL_DONT_CREATE_GVSV
    PERL_MALLOC_WRAP
    PERL_OP_PARENT
    PERL_PRESERVE_IVUV
    USE_64_BIT_ALL
    USE_64_BIT_INT
    USE_LARGE_FILES
    USE_LOCALE
    USE_LOCALE_COLLATE
    USE_LOCALE_CTYPE
    USE_LOCALE_NUMERIC
    USE_LOCALE_TIME
    USE_PERLIO
    USE_PERL_ATOF
  Built under linux
  Compiled at Sep 23 2022 05:46:53
  %ENV:
    PERL5LIB=""
    PERL5OPT=""
    PERL5_CPANPLUS_IS_RUNNING="730617"
    PERL5_CPAN_IS_RUNNING="730617"
    PERL5_CPAN_IS_RUNNING_IN_RECURSION="729662,730617"
    PERLDOC="-MPod::Perldoc::ToTextOverstrike"
    PERL_BATCH="yes"
    PERL_CANARY_STABILITY_NOPROMPT="1"
    PERL_CPAN_REPORTER_CONFIG="/var/tmp/cpansmoker-1023/2023112717/cpanreporter_000_config.ini"
    PERL_EXTUTILS_AUTOINSTALL="--defaultdeps"
    PERL_USE_UNSAFE_INC="1"
  @INC:
    /opt/perl-5.30.3/lib/site_perl/5.30.3/x86_64-linux
    /opt/perl-5.30.3/lib/site_perl/5.30.3
    /opt/perl-5.30.3/lib/5.30.3/x86_64-linux
    /opt/perl-5.30.3/lib/5.30.3
    .