Report for Web-Scraper-0.37

Back
From: metabase:user:553c21ce-8d47-11df-9de5-e28c4c42590d
Subject: PASS Web-Scraper-0.37 v5.16.3 GNU/Linux
Date: 2013-05-09T22:30:21Z

This distribution has been tested as part of the CPAN Testers
project, supporting the Perl programming language.  See
http://wiki.cpantesters.org/ for more information or email
questions to cpan-testers-discuss@perl.org


--

Dear Tatsuhiko Miyagawa,

This is a computer-generated error report created automatically by
CPANPLUS, version 0.9136. Testers personal comments may appear
at the end of this report.


Thank you for uploading your work to CPAN.  Congratulations!
All tests were successful.

TEST RESULTS:

Below is the error stack from stage 'make test':

PERL_DL_NONLAZY=1 /home/ioan/perl5/perlbrew/perls/perl-5.16.3/bin/perl "-MExtUtils::Command::MM" "-e" "test_harness(0, 'inc', 'blib/lib', 'blib/arch')" t/*.t
t/00_compile.t .......... ok
t/01_process.t .......... ok
t/05_process_first.t .... ok
t/07-live.t ............. skipped: LIVE_TEST not enabled
t/02_process_multi.t .... ok
t/06_define.t ........... ok
t/03_scraper_nest.t ..... ok
t/04_callback.t ......... ok
t/08-leak.t ............. skipped: LEAK_TEST is not defined
t/11_absolute.t ......... ok
t/12_html.t ............. ok
t/13_textnode.t ......... ok
t/14_absolute_nested.t .. ok
t/09-process_hash.t ..... ok
t/15_absolute_hash.t .... ok
t/16_filter.t ........... ok
t/xml-simple.t .......... skipped: Test requires module 'HTML::TreeBuilder::LibXML' but it's not found
t/18_http_response.t .... skipped: LIVE_TEST not enabled
t/20_comment_nodes.t .... skipped: Please upgrade HTML::TreeBuilder::XPath and HTML::TreeBuilder::LibXML modules for comment nodes supporting
t/redefine.t ............ ok
t/17_filter_loop.t ...... ok
t/19_decode_content.t ... skipped: LIVE_TEST not enabled
t/21_html5.t ............ ok
All tests successful.
Files=23, Tests=38,  1 wallclock secs ( 0.10 usr  0.03 sys +  2.46 cusr  0.31 csys =  2.90 CPU)
Result: PASS


PREREQUISITES:

Here is a list of prerequisites you specified and versions we
managed to load:

	  Module Name                        Have     Want
	  ExtUtils::MakeMaker                6.66     6.59
	  HTML::Entities                     3.69        0
	  HTML::Selector::XPath              0.15     0.03
	  HTML::Tagset                       3.20        0
	  HTML::TreeBuilder                  5.03     3.23
	  HTML::TreeBuilder::XPath           0.14     0.08
	  LWP                                6.05    5.827
	  Scalar::Util                       1.27        0
	  Test::Base                         0.60        0
	  Test::More                         0.98        0
	  Test::Requires                     0.06        0
	  UNIVERSAL::require                 0.13        0
	  URI                                1.60        0
	  XML::XPathEngine                   0.13     0.08
	  YAML                               0.84        0
	! perl                                  0 5.008001

Perl module toolchain versions installed:
	Module Name                        Have
	CPANPLUS                         0.9136
	CPANPLUS::Dist::Build              0.70
	Cwd                                3.40
	ExtUtils::CBuilder             0.280206
	ExtUtils::Command                  1.17
	ExtUtils::Install                  1.58
	ExtUtils::MakeMaker                6.66
	ExtUtils::Manifest                 1.61
	ExtUtils::ParseXS                  3.18
	File::Spec                         3.40
	Module::Build                    0.4005
	Pod::Parser                        1.60
	Pod::Simple                        3.28
	Test::Harness                      3.28
	Test::More                         0.98
	version                          0.9902

******************************** NOTE ********************************
The comments above are created mechanically, possibly without manual
checking by the sender.  As there are many people performing automatic
tests on each upload to CPAN, it is likely that you will receive
identical messages about the same problem.

If you believe that the message is mistaken, please reply to the first
one with correction and/or additional informations, and do not take
it personally.  We appreciate your patience. :)
**********************************************************************

Additional comments:


--

Summary of my perl5 (revision 5 version 16 subversion 3) configuration:
   
  Platform:
    osname=linux, osvers=3.8.0-13-generic, archname=x86_64-linux-thread-multi
    uname='linux zeratul 3.8.0-13-generic #23-ubuntu smp mon mar 18 18:09:44 utc 2013 x86_64 x86_64 x86_64 gnulinux '
    config_args='-de -Dprefix=/home/ioan/perl5/perlbrew/perls/perl-5.16.3 -Dusethreads -Aeval:scriptdir=/home/ioan/perl5/perlbrew/perls/perl-5.16.3/bin'
    hint=recommended, useposix=true, d_sigaction=define
    useithreads=define, usemultiplicity=define
    useperlio=define, d_sfio=undef, uselargefiles=define, usesocks=undef
    use64bitint=define, use64bitall=define, uselongdouble=undef
    usemymalloc=n, bincompat5005=undef
  Compiler:
    cc='cc', ccflags ='-D_REENTRANT -D_GNU_SOURCE -fno-strict-aliasing -pipe -fstack-protector -I/usr/local/include -D_LARGEFILE_SOURCE -D_FILE_OFFSET_BITS=64',
    optimize='-O2',
    cppflags='-D_REENTRANT -D_GNU_SOURCE -fno-strict-aliasing -pipe -fstack-protector -I/usr/local/include'
    ccversion='', gccversion='4.7.2', gccosandvers=''
    intsize=4, longsize=8, ptrsize=8, doublesize=8, byteorder=12345678
    d_longlong=define, longlongsize=8, d_longdbl=define, longdblsize=16
    ivtype='long', ivsize=8, nvtype='double', nvsize=8, Off_t='off_t', lseeksize=8
    alignbytes=8, prototype=define
  Linker and Libraries:
    ld='cc', ldflags =' -fstack-protector -L/usr/local/lib'
    libpth=/usr/local/lib /lib/x86_64-linux-gnu /lib/../lib /usr/lib/x86_64-linux-gnu /usr/lib/../lib /lib /usr/lib
    libs=-lnsl -ldl -lm -lcrypt -lutil -lpthread -lc
    perllibs=-lnsl -ldl -lm -lcrypt -lutil -lpthread -lc
    libc=, so=so, useshrplib=false, libperl=libperl.a
    gnulibc_version='2.17'
  Dynamic Linking:
    dlsrc=dl_dlopen.xs, dlext=so, d_dlsymun=undef, ccdlflags='-Wl,-E'
    cccdlflags='-fPIC', lddlflags='-shared -O2 -L/usr/local/lib -fstack-protector'


Characteristics of this binary (from libperl): 
  Compile-time options: HAS_TIMES MULTIPLICITY PERLIO_LAYERS
                        PERL_DONT_CREATE_GVSV PERL_IMPLICIT_CONTEXT
                        PERL_MALLOC_WRAP PERL_PRESERVE_IVUV USE_64_BIT_ALL
                        USE_64_BIT_INT USE_ITHREADS USE_LARGE_FILES
                        USE_LOCALE USE_LOCALE_COLLATE USE_LOCALE_CTYPE
                        USE_LOCALE_NUMERIC USE_PERLIO USE_PERL_ATOF
                        USE_REENTRANT_API
  Built under linux
  Compiled at Mar 21 2013 10:14:16
  %ENV:
    PERL5LIB=":/home/ioan/.cpanplus/5.16.3/build/Web-Scraper-0.37/blib/lib:/home/ioan/.cpanplus/5.16.3/build/Web-Scraper-0.37/blib/arch"
    PERL5_CPANPLUS_IS_RUNNING="24557"
    PERL5_CPANPLUS_IS_VERSION="0.9136"
    PERLBREW_BASHRC_VERSION="0.58"
    PERLBREW_HOME="/home/ioan/.perlbrew"
    PERLBREW_MANPATH="/home/ioan/perl5/perlbrew/perls/perl-5.16.3/man"
    PERLBREW_PATH="/home/ioan/perl5/perlbrew/bin:/home/ioan/perl5/perlbrew/perls/perl-5.16.3/bin"
    PERLBREW_PERL="perl-5.16.3"
    PERLBREW_ROOT="/home/ioan/perl5/perlbrew"
    PERLBREW_VERSION="0.58"
    PERL_CPANM_DEV="1"
    PERL_READLINE_NOWARN="1"
  @INC:
    /home/ioan/.cpanplus/5.16.3/build/Web-Scraper-0.37/blib/lib
    /home/ioan/.cpanplus/5.16.3/build/Web-Scraper-0.37/blib/arch
    /home/ioan/perl5/perlbrew/perls/perl-5.16.3/lib/site_perl/5.16.3/x86_64-linux-thread-multi
    /home/ioan/perl5/perlbrew/perls/perl-5.16.3/lib/site_perl/5.16.3
    /home/ioan/perl5/perlbrew/perls/perl-5.16.3/lib/5.16.3/x86_64-linux-thread-multi
    /home/ioan/perl5/perlbrew/perls/perl-5.16.3/lib/5.16.3
    .