Report for Dist-Zilla-App-Command-podpreview-0.004

Back
From: metabase:user:68a9c4ac-1ec7-11e0-bf29-9c4bfeb2ac3f
Subject: PASS Dist-Zilla-App-Command-podpreview-0.004 v5.18.2 GNU/Linux
Date: 2014-01-13T01:21:31Z

This distribution has been tested as part of the CPAN Testers
project, supporting the Perl programming language.  See
http://wiki.cpantesters.org/ for more information or email
questions to cpan-testers-discuss@perl.org


--
Dear Peter Shangov,

This is a computer-generated report for Dist-Zilla-App-Command-podpreview-0.004
on perl 5.18.2, created by CPAN-Reporter-1.2010.

Thank you for uploading your work to CPAN.  Congratulations!
All tests were successful.

Sections of this report:

    * Tester comments
    * Program output
    * Prerequisites
    * Environment and other context

------------------------------
TESTER COMMENTS
------------------------------

Additional comments from tester:

none provided

------------------------------
PROGRAM OUTPUT
------------------------------

Output from '/usr/bin/make test':

PERL_DL_NONLAZY=1 /home/rando/perl5/perlbrew/perls/18.2/bin/perl "-MExtUtils::Command::MM" "-MTest::Harness" "-e" "undef *Test::Harness::Switches; test_harness(0, 'blib/lib', 'blib/arch')" t/*.t
t/00-compile.t ........ ok
t/author-pod-spell.t .. skipped: these tests are for testing by the author
t/release-eol.t ....... skipped: these tests are for release candidate testing
t/release-no-tabs.t ... skipped: these tests are for release candidate testing
All tests successful.
Files=4, Tests=1,  0 wallclock secs ( 0.03 usr  0.02 sys +  0.47 cusr  0.06 csys =  0.58 CPU)
Result: PASS

------------------------------
PREREQUISITES
------------------------------

Prerequisite modules loaded:

requires:

    Module              Need Have    
    ------------------- ---- --------
    App::PodPreview     0    0.002   
    Carp                0    1.29    
    Dist::Zilla::App    0    5.010   
    File::Temp          0    0.2304  
    List::Util          0    1.35    
    Moose::Autobox      0    0.15    
    strict              0    1.07    
    warnings            0    1.18    

build_requires:

    Module              Need Have    
    ------------------- ---- --------
    blib                0    1.06    
    Capture::Tiny       0    0.23    
    Test::More          0.88 1.001002

configure_requires:

    Module              Need Have    
    ------------------- ---- --------
    ExtUtils::MakeMaker 6.30 6.86    


------------------------------
ENVIRONMENT AND OTHER CONTEXT
------------------------------

Environment variables:

    LANG = en_US.UTF-8
    LANGUAGE = en_US.UTF-8
    LC_ALL = en_US.UTF-8
    LC_CTYPE = en_US.UTF-8
    PATH = /home/rando/.perlbrew/libs/18.2@std/bin:/home/rando/perl5/perlbrew/bin:/home/rando/perl5/perlbrew/perls/18.2/bin:/home/rando/devel/linux:/home/rando/python/venv/2.7.3/bin:/home/rando/perl5/perlbrew/bin:/home/rando/perl5/perlbrew/perls/local/bin:/home/rando/java/grails-2.1.1/bin:/home/rando/java/groovy-2.0.5/bin:/home/rando/java/jdk1.7.0_11/bin:/home/rando/gopath/bin:/home/rando/go/bin:/home/rando/bin:/home/rando/bin/contrib:/usr/lib/lightdm/lightdm:/usr/local/sbin:/usr/local/bin:/usr/sbin:/usr/bin:/sbin:/bin:/usr/games
    PERL5LIB = /home/rando/.perlbrew/libs/18.2@std/lib/perl5
    PERL5OPT = 
    PERL5_CPANPLUS_IS_RUNNING = 839
    PERL5_CPAN_IS_RUNNING = 839
    PERLBREW_BASHRC_VERSION = 0.66
    PERLBREW_HOME = /home/rando/.perlbrew
    PERLBREW_LIB = std
    PERLBREW_MANPATH = /home/rando/.perlbrew/libs/18.2@std/man:/home/rando/perl5/perlbrew/perls/18.2/man
    PERLBREW_PATH = /home/rando/.perlbrew/libs/18.2@std/bin:/home/rando/perl5/perlbrew/bin:/home/rando/perl5/perlbrew/perls/18.2/bin
    PERLBREW_PERL = 18.2
    PERLBREW_ROOT = /home/rando/perl5/perlbrew
    PERLBREW_VERSION = 0.66
    PERL_CPANM_OPT = --save-dists /home/rando/perl5/cpan/mini --mirror http://cpan.local:4999/-CPAN/ --mirror http://cpan.ezarticleinformation.com/ --mirror http://search.cpan.org/CPAN/
    PERL_LOCAL_LIB_ROOT = /home/rando/.perlbrew/libs/18.2@std
    PERL_MB_OPT = --install_base /home/rando/.perlbrew/libs/18.2@std
    PERL_MM_OPT = INSTALL_BASE=/home/rando/.perlbrew/libs/18.2@std
    SHELL = /bin/bash
    TERM = screen-256color

Perl special variables (and OS-specific diagnostics, for MSWin32):

    $^X = /home/rando/perl5/perlbrew/perls/18.2/bin/perl
    $UID/$EUID = 1000 / 1000
    $GID = 1000 4 24 27 30 46 105 110 123 127 1000
    $EGID = 1000 4 24 27 30 46 105 110 123 127 1000

Perl module toolchain versions installed:

    Module              Have    
    ------------------- --------
    CPAN                2.00    
    CPAN::Meta          2.133380
    Cwd                 3.40    
    ExtUtils::CBuilder  0.280212
    ExtUtils::Command   1.17    
    ExtUtils::Install   1.59    
    ExtUtils::MakeMaker 6.86    
    ExtUtils::Manifest  1.63    
    ExtUtils::ParseXS   3.22    
    File::Spec          3.40    
    JSON                2.90    
    JSON::PP            2.27203 
    Module::Build       0.4204  
    Module::Signature   0.73    
    Parse::CPAN::Meta   1.4409  
    Test::Harness       3.30    
    Test::More          1.001002
    YAML                0.88    
    YAML::Syck          1.27    
    version             0.9906  


--

Summary of my perl5 (revision 5 version 18 subversion 2) configuration:
   
  Platform:
    osname=linux, osvers=3.2.0-58-generic, archname=x86_64-linux
    uname='linux raptor 3.2.0-58-generic #88-ubuntu smp tue dec 3 17:37:58 utc 2013 x86_64 x86_64 x86_64 gnulinux '
    config_args='-de -Dprefix=/home/rando/perl5/perlbrew/perls/18.2 -Dman1dir=none -Dman3dir=none -Aeval:scriptdir=/home/rando/perl5/perlbrew/perls/18.2/bin'
    hint=recommended, useposix=true, d_sigaction=define
    useithreads=undef, usemultiplicity=undef
    useperlio=define, d_sfio=undef, uselargefiles=define, usesocks=undef
    use64bitint=define, use64bitall=define, uselongdouble=undef
    usemymalloc=n, bincompat5005=undef
  Compiler:
    cc='cc', ccflags ='-fno-strict-aliasing -pipe -fstack-protector -I/usr/local/include -D_LARGEFILE_SOURCE -D_FILE_OFFSET_BITS=64',
    optimize='-O2',
    cppflags='-fno-strict-aliasing -pipe -fstack-protector -I/usr/local/include'
    ccversion='', gccversion='4.6.3', gccosandvers=''
    intsize=4, longsize=8, ptrsize=8, doublesize=8, byteorder=12345678
    d_longlong=define, longlongsize=8, d_longdbl=define, longdblsize=16
    ivtype='long', ivsize=8, nvtype='double', nvsize=8, Off_t='off_t', lseeksize=8
    alignbytes=8, prototype=define
  Linker and Libraries:
    ld='cc', ldflags =' -fstack-protector -L/usr/local/lib'
    libpth=/usr/local/lib /lib/x86_64-linux-gnu /lib/../lib /usr/lib/x86_64-linux-gnu /usr/lib/../lib /lib /usr/lib
    libs=-lnsl -ldl -lm -lcrypt -lutil -lc
    perllibs=-lnsl -ldl -lm -lcrypt -lutil -lc
    libc=, so=so, useshrplib=false, libperl=libperl.a
    gnulibc_version='2.15'
  Dynamic Linking:
    dlsrc=dl_dlopen.xs, dlext=so, d_dlsymun=undef, ccdlflags='-Wl,-E'
    cccdlflags='-fPIC', lddlflags='-shared -O2 -L/usr/local/lib -fstack-protector'


Characteristics of this binary (from libperl): 
  Compile-time options: HAS_TIMES PERLIO_LAYERS PERL_DONT_CREATE_GVSV
                        PERL_HASH_FUNC_ONE_AT_A_TIME_HARD PERL_MALLOC_WRAP
                        PERL_PRESERVE_IVUV PERL_SAWAMPERSAND USE_64_BIT_ALL
                        USE_64_BIT_INT USE_LARGE_FILES USE_LOCALE
                        USE_LOCALE_COLLATE USE_LOCALE_CTYPE
                        USE_LOCALE_NUMERIC USE_PERLIO USE_PERL_ATOF
  Built under linux
  Compiled at Jan 12 2014 13:37:33
  %ENV:
    PERL5LIB="/home/rando/.perlbrew/libs/18.2@std/lib/perl5"
    PERL5OPT=""
    PERL5_CPANPLUS_IS_RUNNING="839"
    PERL5_CPAN_IS_RUNNING="839"
    PERLBREW_BASHRC_VERSION="0.66"
    PERLBREW_HOME="/home/rando/.perlbrew"
    PERLBREW_LIB="std"
    PERLBREW_MANPATH="/home/rando/.perlbrew/libs/18.2@std/man:/home/rando/perl5/perlbrew/perls/18.2/man"
    PERLBREW_PATH="/home/rando/.perlbrew/libs/18.2@std/bin:/home/rando/perl5/perlbrew/bin:/home/rando/perl5/perlbrew/perls/18.2/bin"
    PERLBREW_PERL="18.2"
    PERLBREW_ROOT="/home/rando/perl5/perlbrew"
    PERLBREW_VERSION="0.66"
    PERL_CPANM_OPT="--save-dists /home/rando/perl5/cpan/mini --mirror http://cpan.local:4999/-CPAN/ --mirror http://cpan.ezarticleinformation.com/ --mirror http://search.cpan.org/CPAN/"
    PERL_LOCAL_LIB_ROOT="/home/rando/.perlbrew/libs/18.2@std"
    PERL_MB_OPT="--install_base /home/rando/.perlbrew/libs/18.2@std"
    PERL_MM_OPT="INSTALL_BASE=/home/rando/.perlbrew/libs/18.2@std"
  @INC:
    /home/rando/.perlbrew/libs/18.2@std/lib/perl5/x86_64-linux
    /home/rando/.perlbrew/libs/18.2@std/lib/perl5
    /home/rando/perl5/perlbrew/perls/18.2/lib/site_perl/5.18.2/x86_64-linux
    /home/rando/perl5/perlbrew/perls/18.2/lib/site_perl/5.18.2
    /home/rando/perl5/perlbrew/perls/18.2/lib/5.18.2/x86_64-linux
    /home/rando/perl5/perlbrew/perls/18.2/lib/5.18.2
    .