Back
From: metabase:user:314402c4-2aae-11df-837a-5e0a49663a4f
Subject: PASS Gearman-Client-2.002.002 v5.14.4 FreeBSD
Date: 2016-12-03T11:52:58Z
This distribution has been tested as part of the CPAN Testers
project, supporting the Perl programming language. See
http://wiki.cpantesters.org/ for more information or email
questions to cpan-testers-discuss@perl.org
--
Dear Alexei Pastuchov,
This is a computer-generated report for Gearman-Client-2.002.002
on perl 5.14.4, created by CPAN-Reporter-1.2018.
Thank you for uploading your work to CPAN. Congratulations!
All tests were successful.
Sections of this report:
* Tester comments
* Program output
* Prerequisites
* Environment and other context
------------------------------
TESTER COMMENTS
------------------------------
Additional comments from tester:
none provided
------------------------------
PROGRAM OUTPUT
------------------------------
Output from '/usr/bin/make test':
PERL_DL_NONLAZY=1 "/usr/perl5.14.4/bin/perl" "-MExtUtils::Command::MM" "-MTest::Harness" "-e" "undef *Test::Harness::Switches; test_harness(0, 'blib/lib', 'blib/arch')" t/*.t
t/00-use.t ...................... ok
t/01-object.t ................... ok
/usr/local/sbin/gearmand: Could not open log file "/var/db/gearmand/log/gearmand.log", from "/usr/home/eserte/.cpan/build/2016120312/Gearman-Client-2.002.002-4rA0tF", switching to stderr. (No such file or directory)
t/02-client.t ................... ok
/usr/local/sbin/gearmand: Could not open log file "/var/db/gearmand/log/gearmand.log", from "/usr/home/eserte/.cpan/build/2016120312/Gearman-Client-2.002.002-4rA0tF", switching to stderr. (No such file or directory)
t/03-worker.t ................... ok
t/04-task.t ..................... ok
/usr/local/sbin/gearmand: Could not open log file "/var/db/gearmand/log/gearmand.log", from "/usr/home/eserte/.cpan/build/2016120312/Gearman-Client-2.002.002-4rA0tF", switching to stderr. (No such file or directory)
t/05-taskset.t .................. ok
t/06-response-parser.t .......... ok
t/07-response-parser-taskset.t .. ok
t/08-jobstatus.t ................ ok
t/09-connect.t .................. skipped: without $ENV{AUTHOR_TESTING}
t/10-job.t ...................... ok
readline() on unopened filehandle GEN0 at /usr/home/eserte/.cpan/build/2016120312/Gearman-Client-2.002.002-4rA0tF/blib/lib/Gearman/Util.pm line 246.
t/11-unit.t ..................... ok
/usr/local/sbin/gearmand: Could not open log file "/var/db/gearmand/log/gearmand.log", from "/usr/home/eserte/.cpan/build/2016120312/Gearman-Client-2.002.002-4rA0tF", switching to stderr. (No such file or directory)
t/12-sum.t ...................... ok
/usr/local/sbin/gearmand: Could not open log file "/var/db/gearmand/log/gearmand.log", from "/usr/home/eserte/.cpan/build/2016120312/Gearman-Client-2.002.002-4rA0tF", switching to stderr. (No such file or directory)
ERROR 2016-12-03 11:28:58.000000 [ 4 ] shutdown(Connection reset by peer) -> libgearman-server/io.cc:912
t/13-fail.t ..................... ok
/usr/local/sbin/gearmand: Could not open log file "/var/db/gearmand/log/gearmand.log", from "/usr/home/eserte/.cpan/build/2016120312/Gearman-Client-2.002.002-4rA0tF", switching to stderr. (No such file or directory)
ERROR 2016-12-03 11:29:19.000000 [ 2 ] shutdown(Connection reset by peer) -> libgearman-server/io.cc:912
t/14-sleep.t .................... ok
/usr/local/sbin/gearmand: Could not open log file "/var/db/gearmand/log/gearmand.log", from "/usr/home/eserte/.cpan/build/2016120312/Gearman-Client-2.002.002-4rA0tF", switching to stderr. (No such file or directory)
t/15-priority.t ................. ok
/usr/local/sbin/gearmand: Could not open log file "/var/db/gearmand/log/gearmand.log", from "/usr/home/eserte/.cpan/build/2016120312/Gearman-Client-2.002.002-4rA0tF", switching to stderr. (No such file or directory)
t/16-background.t ............... ok
/usr/local/sbin/gearmand: Could not open log file "/var/db/gearmand/log/gearmand.log", from "/usr/home/eserte/.cpan/build/2016120312/Gearman-Client-2.002.002-4rA0tF", switching to stderr. (No such file or directory)
t/17-status.t ................... ok
t/18-ssl.t ...................... skipped: without $ENV{AUTHOR_TESTING}
/usr/local/sbin/gearmand: Could not open log file "/var/db/gearmand/log/gearmand.log", from "/usr/home/eserte/.cpan/build/2016120312/Gearman-Client-2.002.002-4rA0tF", switching to stderr. (No such file or directory)
ERROR 2016-12-03 11:29:26.000000 [ 2 ] shutdown(Connection reset by peer) -> libgearman-server/io.cc:912
t/40-prefix.t ................... ok
/usr/local/sbin/gearmand: Could not open log file "/var/db/gearmand/log/gearmand.log", from "/usr/home/eserte/.cpan/build/2016120312/Gearman-Client-2.002.002-4rA0tF", switching to stderr. (No such file or directory)
ERROR 2016-12-03 11:29:43.000000 [ 1 ] shutdown(Connection reset by peer) -> libgearman-server/io.cc:912
t/50-wait_timeout.t ............. ok
t/65-responseparser.t ........... ok
All tests successful.
Files=22, Tests=305, 66 wallclock secs ( 0.19 usr 0.24 sys + 6.54 cusr 1.50 csys = 8.47 CPU)
Result: PASS
------------------------------
PREREQUISITES
------------------------------
Prerequisite modules loaded:
requires:
Module Need Have
----------------- ---- --------
Carp 0 1.38
fields 0 2.23
IO::Select 0 1.20
IO::Socket::IP 0 0.37
IO::Socket::SSL 0 2.039
List::MoreUtils 0 0.416
POSIX 0 1.24
Ref::Util 0 0.100
Scalar::Util 0 1.46
Socket 0 2.024
Storable 1 2.51
String::CRC32 0 1.5
Time::HiRes 0 1.9741
version 0 0.9916
build_requires:
Module Need Have
----------------- ---- --------
File::Which 0 1.21
IO::Socket::IP 0 0.37
IO::Socket::SSL 0 2.039
Perl::OSType 0 1.010
Proc::Guard 0.07 0.07
Storable 0 2.51
Test::Differences 0 0.64
Test::Exception 0 0.43
Test::More 0 1.302067
Test::TCP 2.17 2.17
Test::Timer 0 0.13
version 0 0.9916
------------------------------
ENVIRONMENT AND OTHER CONTEXT
------------------------------
Environment variables:
LC_ALL = de_DE.ISO8859-1
PATH = /usr/local/bin:/usr/bin:/bin:/usr/local/sbin:/usr/sbin:/sbin:/home/cpansand/bin/freebsd9.3:/home/cpansand/bin/sh:/home/cpansand/bin:/usr/games:/home/cpansand/devel:/usr/home/eserte/src/srezic-misc/scripts
PERL5LIB =
PERL5OPT =
PERL5_CPANPLUS_IS_RUNNING = 97509
PERL5_CPAN_IS_RUNNING = 97509
PERL5_CPAN_IS_RUNNING_IN_RECURSION = 97457,97509
PERLDOC = -MPod::Perldoc::ToTextOverstrike
PERL_BATCH = yes
PERL_CANARY_STABILITY_NOPROMPT = 1
PERL_CPAN_REPORTER_CONFIG = /var/tmp/cpansmoker-1023/2016120312/cpanreporter_000_config.ini
PERL_EXTUTILS_AUTOINSTALL = --defaultdeps
SHELL = /usr/local/bin/zsh
TERM = screen
TMPDIR = /var/tmp/cpansmoker-1023/2016120312
Perl special variables (and OS-specific diagnostics, for MSWin32):
$^X = /usr/perl5.14.4/bin/perl
$UID/$EUID = 1023 / 1023
$GID = 1023 1023
$EGID = 1023 1023
Perl module toolchain versions installed:
Module Have
------------------- --------
CPAN 2.10
CPAN::Meta 2.150010
Cwd 3.62
ExtUtils::CBuilder 0.280224
ExtUtils::Command 7.24
ExtUtils::Install 2.04
ExtUtils::MakeMaker 7.24
ExtUtils::Manifest 1.70
ExtUtils::ParseXS 3.30
File::Spec 3.62
JSON 2.90
JSON::PP 2.27300
Module::Build 0.4220
Module::Signature 0.81
Parse::CPAN::Meta 2.150010
Test::Harness 3.36
Test::More 1.302067
YAML 1.20
YAML::Syck 1.29
version 0.9916
--
Summary of my perl5 (revision 5 version 14 subversion 4) configuration:
Platform:
osname=freebsd, osvers=9.2-release-p4, archname=amd64-freebsd
uname='freebsd cvrsnica-freebsd-92 9.2-release-p4 freebsd 9.2-release-p4 #0: tue apr 8 18:08:22 utc 2014 root@amd64-builder.daemonology.net:usrobjusrsrcsysgeneric amd64 '
config_args='-ds -e -Dprefix=/usr/perl5.14.4'
hint=recommended, useposix=true, d_sigaction=define
useithreads=undef, usemultiplicity=undef
useperlio=define, d_sfio=undef, uselargefiles=define, usesocks=undef
use64bitint=define, use64bitall=define, uselongdouble=undef
usemymalloc=n, bincompat5005=undef
Compiler:
cc='cc', ccflags ='-DHAS_FPSETMASK -DHAS_FLOATINGPOINT_H -fno-strict-aliasing -pipe -fstack-protector -I/usr/local/include',
optimize='-O',
cppflags='-DHAS_FPSETMASK -DHAS_FLOATINGPOINT_H -fno-strict-aliasing -pipe -fstack-protector -I/usr/local/include'
ccversion='', gccversion='4.2.1 20070831 patched [FreeBSD]', gccosandvers=''
intsize=4, longsize=8, ptrsize=8, doublesize=8, byteorder=12345678
d_longlong=define, longlongsize=8, d_longdbl=define, longdblsize=16
ivtype='long', ivsize=8, nvtype='double', nvsize=8, Off_t='off_t', lseeksize=8
alignbytes=8, prototype=define
Linker and Libraries:
ld='cc', ldflags ='-Wl,-E -fstack-protector -L/usr/local/lib'
libpth=/usr/lib /usr/local/lib
libs=-lgdbm -lm -lcrypt -lutil -lc
perllibs=-lm -lcrypt -lutil -lc
libc=, so=so, useshrplib=false, libperl=libperl.a
gnulibc_version=''
Dynamic Linking:
dlsrc=dl_dlopen.xs, dlext=so, d_dlsymun=undef, ccdlflags=' '
cccdlflags='-DPIC -fPIC', lddlflags='-shared -L/usr/local/lib -fstack-protector'
Characteristics of this binary (from libperl):
Compile-time options: PERL_DONT_CREATE_GVSV PERL_MALLOC_WRAP
PERL_PRESERVE_IVUV USE_64_BIT_ALL USE_64_BIT_INT
USE_LARGE_FILES USE_PERLIO USE_PERL_ATOF
Built under freebsd
Compiled at May 16 2014 00:20:44
%ENV:
PERL5LIB=""
PERL5OPT=""
PERL5_CPANPLUS_IS_RUNNING="97509"
PERL5_CPAN_IS_RUNNING="97509"
PERL5_CPAN_IS_RUNNING_IN_RECURSION="97457,97509"
PERLDOC="-MPod::Perldoc::ToTextOverstrike"
PERL_BATCH="yes"
PERL_CANARY_STABILITY_NOPROMPT="1"
PERL_CPAN_REPORTER_CONFIG="/var/tmp/cpansmoker-1023/2016120312/cpanreporter_000_config.ini"
PERL_EXTUTILS_AUTOINSTALL="--defaultdeps"
@INC:
/usr/perl5.14.4/lib/site_perl/5.14.4/amd64-freebsd
/usr/perl5.14.4/lib/site_perl/5.14.4
/usr/perl5.14.4/lib/5.14.4/amd64-freebsd
/usr/perl5.14.4/lib/5.14.4
.