String-Numeric v0.9 Perl 5 v5.18.0 i86pc-solaris

Status
Pass
From
Nigel Horne
Dist
String-Numeric v0.9
Platform
Perl 5 v5.18.0 i86pc-solaris
Date
2018-03-23 03:41:14
ID
0938a35c-2e4c-11e8-91ce-d3e3deac0b3f
This distribution has been tested as part of the CPAN Testers
project, supporting the Perl programming language.  See
http://wiki.cpantesters.org/ for more information or email
questions to cpan-testers-discuss@perl.org


--
Dear Christian Hansen,

This is a computer-generated report for String-Numeric-0.9
on perl 5.18.0, created by CPAN-Reporter-1.2018.

Thank you for uploading your work to CPAN.  Congratulations!
All tests were successful.

Sections of this report:

    * Tester comments
    * Program output
    * Prerequisites
    * Environment and other context

------------------------------
TESTER COMMENTS
------------------------------

Additional comments from tester:

this report is from an automated smoke testing program
and was not reviewed by a human for accuracy

------------------------------
PROGRAM OUTPUT
------------------------------

Output from '/usr/bin/gmake test':

PERL_DL_NONLAZY=1 "/export/home/njh/perl5/perlbrew/perls/perl-5.18.0/bin/perl" "-MExtUtils::Command::MM" "-MTest::Harness" "-e" "undef *Test::Harness::Switches; test_harness(0, 'inc', 'blib/lib', 'blib/arch')" t/*.t
# String::Numeric 0.9, Perl 5.018000, /export/home/njh/perl5/perlbrew/perls/perl-5.18.0/bin/perl
t/000_load.t ....... ok
t/005_import.t ..... ok
t/010_usage.t ...... ok
t/060_overload.t ... ok
t/070_tiescalar.t .. ok
t/020_basic.t ...... ok
All tests successful.
Files=6, Tests=664,  1 wallclock secs ( 0.67 usr  0.11 sys +  3.27 cusr  0.85 csys =  4.90 CPU)
Result: PASS

------------------------------
PREREQUISITES
------------------------------

Prerequisite modules loaded:

requires:

    Module              Need Have    
    ------------------- ---- --------
    ExtUtils::MakeMaker 6.42 7.30    
    Test::Exception     0    0.43    
    Test::More          0.86 1.302122

build_requires:

    Module              Need Have    
    ------------------- ---- --------
    ExtUtils::MakeMaker 0    7.30    

configure_requires:

    Module              Need Have    
    ------------------- ---- --------
    ExtUtils::MakeMaker 6.42 7.30    


------------------------------
ENVIRONMENT AND OTHER CONTEXT
------------------------------

Environment variables:

    AUTOMATED_TESTING = 1
    HARNESS_OPTIONS = j4
    PATH = /export/home/njh/perl5/perlbrew/bin:/export/home/njh/perl5/perlbrew/perls/perl-5.18.0/bin:src/njh/smoker/bin:/usr/bin
    PERL5LIB = /export/home/njh/.cpan/build/JSON-2.97001-grMlIT/blib/arch:/export/home/njh/.cpan/build/JSON-2.97001-grMlIT/blib/lib:/export/home/njh/.cpan/build/Data-Dump-1.23-6ow3BP/blib/arch:/export/home/njh/.cpan/build/Data-Dump-1.23-6ow3BP/blib/lib:/export/home/njh/.cpan/build/Module-Build-0.4224-6abarQ/blib/arch:/export/home/njh/.cpan/build/Module-Build-0.4224-6abarQ/blib/lib:/export/home/njh/.cpan/build/Test-Harness-3.42-dHMWeu/blib/arch:/export/home/njh/.cpan/build/Test-Harness-3.42-dHMWeu/blib/lib
    PERL5OPT = 
    PERL5_CPANPLUS_IS_RUNNING = 22382
    PERL5_CPAN_IS_RUNNING = 22382
    PERLBREW_HOME = /export/home/njh/.perlbrew
    PERLBREW_MANPATH = /export/home/njh/perl5/perlbrew/perls/perl-5.18.0/man
    PERLBREW_PATH = /export/home/njh/perl5/perlbrew/bin:/export/home/njh/perl5/perlbrew/perls/perl-5.18.0/bin
    PERLBREW_PERL = perl-5.18.0
    PERLBREW_ROOT = /export/home/njh/perl5/perlbrew
    PERLBREW_SHELLRC_VERSION = 0.82
    PERLBREW_VERSION = 0.82
    SHELL = /usr/bin/sh
    TERM = dumb

Perl special variables (and OS-specific diagnostics, for MSWin32):

    $^X = /export/home/njh/perl5/perlbrew/perls/perl-5.18.0/bin/perl
    $UID/$EUID = 100 / 100
    $GID = 10 10
    $EGID = 10 10

Perl module toolchain versions installed:

    Module              Have    
    ------------------- --------
    CPAN                2.00    
    CPAN::Meta          2.143240
    Cwd                 3.40    
    ExtUtils::CBuilder  0.280210
    ExtUtils::Command   7.30    
    ExtUtils::Install   2.06    
    ExtUtils::MakeMaker 7.30    
    ExtUtils::Manifest  1.70    
    ExtUtils::ParseXS   3.18    
    File::Spec          3.40    
    JSON                2.97001 
    JSON::PP            2.27203 
    Module::Build       0.4224  
    Module::Signature   n/a     
    Parse::CPAN::Meta   1.4414  
    Test::Harness       3.42    
    Test::More          1.302122
    YAML                1.24    
    YAML::Syck          n/a     
    version             0.9902  


--

Summary of my perl5 (revision 5 version 18 subversion 0) configuration:
   
  Platform:
    osname=solaris, osvers=2.11, archname=i86pc-solaris
    uname='sunos republic31 5.11 11.3 i86pc i386 i86pc '
    config_args='-de -Dprefix=/export/home/njh/perl5/perlbrew/perls/perl-5.18.0 -Aeval:scriptdir=/export/home/njh/perl5/perlbrew/perls/perl-5.18.0/bin'
    hint=recommended, useposix=true, d_sigaction=define
    useithreads=undef, usemultiplicity=undef
    useperlio=define, d_sfio=undef, uselargefiles=define, usesocks=undef
    use64bitint=undef, use64bitall=undef, uselongdouble=undef
    usemymalloc=n, bincompat5005=undef
  Compiler:
    cc='cc', ccflags ='-fno-strict-aliasing -pipe -fstack-protector -I/usr/gnu/include -D_LARGEFILE_SOURCE -D_FILE_OFFSET_BITS=64 -DPERL_USE_SAFE_PUTENV',
    optimize='-O',
    cppflags='-fno-strict-aliasing -pipe -fstack-protector -I/usr/gnu/include'
    ccversion='', gccversion='4.8.2', gccosandvers=''
    intsize=4, longsize=4, ptrsize=4, doublesize=8, byteorder=1234
    d_longlong=define, longlongsize=8, d_longdbl=define, longdblsize=12
    ivtype='long', ivsize=4, nvtype='double', nvsize=8, Off_t='off_t', lseeksize=8
    alignbytes=4, prototype=define
  Linker and Libraries:
    ld='cc', ldflags =' -fstack-protector -L/usr/gnu/lib '
    libpth=/usr/gnu/lib /usr/lib /usr/ccs/lib
    libs=-lsocket -lnsl -lgdbm -ldb -ldl -lm -lc
    perllibs=-lsocket -lnsl -ldl -lm -lc
    libc=/lib/libc.so, so=so, useshrplib=true, libperl=libperl.so
    gnulibc_version=''
  Dynamic Linking:
    dlsrc=dl_dlopen.xs, dlext=so, d_dlsymun=undef, ccdlflags='  -R /export/home/njh/perl5/perlbrew/perls/perl-5.18.0/lib/5.18.0/i86pc-solaris/CORE'
    cccdlflags='-fPIC', lddlflags='-shared -L/usr/gnu/lib -fstack-protector'


Characteristics of this binary (from libperl): 
  Compile-time options: HAS_TIMES PERLIO_LAYERS PERL_DONT_CREATE_GVSV
                        PERL_HASH_FUNC_ONE_AT_A_TIME_HARD PERL_MALLOC_WRAP
                        PERL_PRESERVE_IVUV PERL_SAWAMPERSAND
                        PERL_USE_SAFE_PUTENV USE_LARGE_FILES USE_LOCALE
                        USE_LOCALE_COLLATE USE_LOCALE_CTYPE
                        USE_LOCALE_NUMERIC USE_PERLIO USE_PERL_ATOF
  Locally applied patches:
	Devel::PatchPerl 1.48
  Built under solaris
  Compiled at Feb  8 2018 13:13:54
  %ENV:
    PERL5LIB="/export/home/njh/.cpan/build/JSON-2.97001-grMlIT/blib/arch:/export/home/njh/.cpan/build/JSON-2.97001-grMlIT/blib/lib:/export/home/njh/.cpan/build/Data-Dump-1.23-6ow3BP/blib/arch:/export/home/njh/.cpan/build/Data-Dump-1.23-6ow3BP/blib/lib:/export/home/njh/.cpan/build/Module-Build-0.4224-6abarQ/blib/arch:/export/home/njh/.cpan/build/Module-Build-0.4224-6abarQ/blib/lib:/export/home/njh/.cpan/build/Test-Harness-3.42-dHMWeu/blib/arch:/export/home/njh/.cpan/build/Test-Harness-3.42-dHMWeu/blib/lib"
    PERL5OPT=""
    PERL5_CPANPLUS_IS_RUNNING="22382"
    PERL5_CPAN_IS_RUNNING="22382"
    PERLBREW_HOME="/export/home/njh/.perlbrew"
    PERLBREW_MANPATH="/export/home/njh/perl5/perlbrew/perls/perl-5.18.0/man"
    PERLBREW_PATH="/export/home/njh/perl5/perlbrew/bin:/export/home/njh/perl5/perlbrew/perls/perl-5.18.0/bin"
    PERLBREW_PERL="perl-5.18.0"
    PERLBREW_ROOT="/export/home/njh/perl5/perlbrew"
    PERLBREW_SHELLRC_VERSION="0.82"
    PERLBREW_VERSION="0.82"
  @INC:
    /export/home/njh/.cpan/build/JSON-2.97001-grMlIT/blib/arch
    /export/home/njh/.cpan/build/JSON-2.97001-grMlIT/blib/lib
    /export/home/njh/.cpan/build/Data-Dump-1.23-6ow3BP/blib/arch
    /export/home/njh/.cpan/build/Data-Dump-1.23-6ow3BP/blib/lib
    /export/home/njh/.cpan/build/Module-Build-0.4224-6abarQ/blib/arch
    /export/home/njh/.cpan/build/Module-Build-0.4224-6abarQ/blib/lib
    /export/home/njh/.cpan/build/Test-Harness-3.42-dHMWeu/blib/arch
    /export/home/njh/.cpan/build/Test-Harness-3.42-dHMWeu/blib/lib
    /export/home/njh/perl5/perlbrew/perls/perl-5.18.0/lib/site_perl/5.18.0/i86pc-solaris
    /export/home/njh/perl5/perlbrew/perls/perl-5.18.0/lib/site_perl/5.18.0
    /export/home/njh/perl5/perlbrew/perls/perl-5.18.0/lib/5.18.0/i86pc-solaris
    /export/home/njh/perl5/perlbrew/perls/perl-5.18.0/lib/5.18.0
    .