Report for Color-Scheme-1.02

Back
From: metabase:user:322078bc-2aae-11df-837a-5e0a49663a4f
Subject: PASS Color-Scheme-1.02 v5.12.4 NetBSD
Date: 2011-09-06T17:17:02Z

This distribution has been tested as part of the CPAN Testers
project, supporting the Perl programming language.  See
http://wiki.cpantesters.org/ for more information or email
questions to cpan-testers-discuss@perl.org


--

Dear Ian Langworth,

This is a computer-generated error report created automatically by
CPANPLUS, version 0.9110. Testers personal comments may appear
at the end of this report.

MAKE TEST passed: PERL_DL_NONLAZY=1 /home/cpan/pit/bare/perl-5.12.4/bin/perl "-MExtUtils::Command::MM" "-e" "test_harness(0, 'blib/lib', 'blib/arch')" t/*.t
t/0-signature.t ... ok
# Testing Color::Scheme 1.02, Perl 5.012004, /home/cpan/pit/bare/perl-5.12.4/bin/perl
t/00-load.t ....... ok
t/colors.t ........ ok
t/colors2.t ....... ok
t/pod-coverage.t .. skipped: Test::Pod::Coverage 1.04 required for testing POD coverage
t/pod.t ........... skipped: Test::Pod 1.14 required for testing POD
t/synopsis.t ...... ok
t/three-sixty.t ... ok
All tests successful.
Files=8, Tests=33,  1 wallclock secs ( 0.02 usr  0.19 sys +  0.14 cusr  0.66 csys =  1.01 CPU)
Result: PASS

[MSG] [Tue Sep  6 18:16:16 2011] Sending test report for 'Color-Scheme-1.02'

This report was machine-generated by CPANPLUS::Dist::YACSmoke 0.64.
Powered by minismokebox version 0.54

------------------------------
ENVIRONMENT AND OTHER CONTEXT
------------------------------

Environment variables:

    AUTOMATED_TESTING = 1
    PATH = /home/cpan/bin:/bin:/sbin:/usr/bin:/usr/sbin:/usr/X11R7/bin:/usr/X11R6/bin:/usr/pkg/bin:/usr/pkg/sbin:/usr/games:/usr/local/bin:/usr/local/sbin
    PERL5LIB = :/home/cpan/pit/bare/conf/perl-5.12.4/.cpanplus/5.12.4/build/Data-Dumper-2.131/blib/lib:/home/cpan/pit/bare/conf/perl-5.12.4/.cpanplus/5.12.4/build/Data-Dumper-2.131/blib/arch:/home/cpan/pit/bare/conf/perl-5.12.4/.cpanplus/5.12.4/build/Algorithm-Diff-1.1902/blib/lib:/home/cpan/pit/bare/conf/perl-5.12.4/.cpanplus/5.12.4/build/Algorithm-Diff-1.1902/blib/arch:/home/cpan/pit/bare/conf/perl-5.12.4/.cpanplus/5.12.4/build/Text-Diff-1.41/blib/lib:/home/cpan/pit/bare/conf/perl-5.12.4/.cpanplus/5.12.4/build/Text-Diff-1.41/blib/arch:/home/cpan/pit/bare/conf/perl-5.12.4/.cpanplus/5.12.4/build/Test-Differences-0.61/blib/lib:/home/cpan/pit/bare/conf/perl-5.12.4/.cpanplus/5.12.4/build/Test-Differences-0.61/blib/arch:/home/cpan/pit/bare/conf/perl-5.12.4/.cpanplus/5.12.4/build/Color-Scheme-1.02/blib/lib:/home/cpan/pit/bare/conf/perl-5.12.4/.cpanplus/5.12.4/build/Color-Scheme-1.02/blib/arch
    PERL5_CPANPLUS_IS_RUNNING = 22456
    PERL5_CPANPLUS_IS_VERSION = 0.9110
    PERL5_MINISMOKEBOX = 0.54
    PERL5_YACSMOKE_BASE = /home/cpan/pit/bare/conf/perl-5.12.4
    PERL_EXTUTILS_AUTOINSTALL = --defaultdeps
    PERL_MM_USE_DEFAULT = 1
    SHELL = /usr/pkg/bin/bash
    TERM = screen

Perl special variables (and OS-specific diagnostics, for MSWin32):

    Perl: $^X = /home/cpan/pit/bare/perl-5.12.4/bin/perl
    UID:  $<  = 1001
    EUID: $>  = 1001
    GID:  $(  = 100 100
    EGID: $)  = 100 100


-------------------------------


--

Summary of my perl5 (revision 5 version 12 subversion 4) configuration:
   
  Platform:
    osname=netbsd, osvers=5.1, archname=i386-netbsd
    uname='netbsd nephron.bingosnet.co.uk 5.1 netbsd 5.1 (generic) #0: sun nov 7 14:39:56 utc 2010 builds@b6.netbsd.org:homebuildsabnetbsd-5-1-releasei386201011061943z-objhomebuildsabnetbsd-5-1-releasesrcsysarchi386compilegeneric i386 '
    config_args='-des -Dprefix=/home/cpan/pit/bare/perl-5.12.4'
    hint=recommended, useposix=true, d_sigaction=define
    useithreads=undef, usemultiplicity=undef
    useperlio=define, d_sfio=undef, uselargefiles=define, usesocks=undef
    use64bitint=undef, use64bitall=undef, uselongdouble=undef
    usemymalloc=n, bincompat5005=undef
  Compiler:
    cc='cc', ccflags ='-fno-strict-aliasing -pipe -fstack-protector -I/usr/pkg/include',
    optimize='-O',
    cppflags='-fno-strict-aliasing -pipe -fstack-protector -I/usr/pkg/include'
    ccversion='', gccversion='4.1.3 20080704 prerelease (NetBSD nb2 20081120)', gccosandvers=''
    intsize=4, longsize=4, ptrsize=4, doublesize=8, byteorder=1234
    d_longlong=define, longlongsize=8, d_longdbl=define, longdblsize=12
    ivtype='long', ivsize=4, nvtype='double', nvsize=8, Off_t='off_t', lseeksize=8
    alignbytes=4, prototype=define
  Linker and Libraries:
    ld='cc', ldflags =' -Wl,-rpath,/usr/pkg/lib -Wl,-rpath,/usr/local/lib -fstack-protector -L/usr/pkg/lib'
    libpth=/usr/pkg/lib /lib /usr/lib
    libs=-lgdbm -lm -lcrypt -lutil -lc -lposix
    perllibs=-lm -lcrypt -lutil -lc -lposix
    libc=/lib/libc.so, so=so, useshrplib=false, libperl=libperl.a
    gnulibc_version=''
  Dynamic Linking:
    dlsrc=dl_dlopen.xs, dlext=so, d_dlsymun=undef, ccdlflags='-Wl,-E '
    cccdlflags='-DPIC -fPIC ', lddlflags='--whole-archive -shared  -L/usr/pkg/lib -fstack-protector'


Characteristics of this binary (from libperl): 
  Compile-time options: PERL_DONT_CREATE_GVSV PERL_MALLOC_WRAP
                        USE_LARGE_FILES USE_PERLIO USE_PERL_ATOF
  Built under netbsd
  Compiled at Sep  1 2011 21:36:10
  %ENV:
    PERL5LIB=":/home/cpan/pit/bare/conf/perl-5.12.4/.cpanplus/5.12.4/build/Data-Dumper-2.131/blib/lib:/home/cpan/pit/bare/conf/perl-5.12.4/.cpanplus/5.12.4/build/Data-Dumper-2.131/blib/arch:/home/cpan/pit/bare/conf/perl-5.12.4/.cpanplus/5.12.4/build/Algorithm-Diff-1.1902/blib/lib:/home/cpan/pit/bare/conf/perl-5.12.4/.cpanplus/5.12.4/build/Algorithm-Diff-1.1902/blib/arch:/home/cpan/pit/bare/conf/perl-5.12.4/.cpanplus/5.12.4/build/Text-Diff-1.41/blib/lib:/home/cpan/pit/bare/conf/perl-5.12.4/.cpanplus/5.12.4/build/Text-Diff-1.41/blib/arch:/home/cpan/pit/bare/conf/perl-5.12.4/.cpanplus/5.12.4/build/Test-Differences-0.61/blib/lib:/home/cpan/pit/bare/conf/perl-5.12.4/.cpanplus/5.12.4/build/Test-Differences-0.61/blib/arch:/home/cpan/pit/bare/conf/perl-5.12.4/.cpanplus/5.12.4/build/Color-Scheme-1.02/blib/lib:/home/cpan/pit/bare/conf/perl-5.12.4/.cpanplus/5.12.4/build/Color-Scheme-1.02/blib/arch"
    PERL5_CPANPLUS_IS_RUNNING="22456"
    PERL5_CPANPLUS_IS_VERSION="0.9110"
    PERL5_MINISMOKEBOX="0.54"
    PERL5_YACSMOKE_BASE="/home/cpan/pit/bare/conf/perl-5.12.4"
    PERL_EXTUTILS_AUTOINSTALL="--defaultdeps"
    PERL_MM_USE_DEFAULT="1"
  @INC:
    /home/cpan/pit/bare/conf/perl-5.12.4/.cpanplus/5.12.4/build/Data-Dumper-2.131/blib/lib
    /home/cpan/pit/bare/conf/perl-5.12.4/.cpanplus/5.12.4/build/Data-Dumper-2.131/blib/arch
    /home/cpan/pit/bare/conf/perl-5.12.4/.cpanplus/5.12.4/build/Algorithm-Diff-1.1902/blib/lib
    /home/cpan/pit/bare/conf/perl-5.12.4/.cpanplus/5.12.4/build/Algorithm-Diff-1.1902/blib/arch
    /home/cpan/pit/bare/conf/perl-5.12.4/.cpanplus/5.12.4/build/Text-Diff-1.41/blib/lib
    /home/cpan/pit/bare/conf/perl-5.12.4/.cpanplus/5.12.4/build/Text-Diff-1.41/blib/arch
    /home/cpan/pit/bare/conf/perl-5.12.4/.cpanplus/5.12.4/build/Test-Differences-0.61/blib/lib
    /home/cpan/pit/bare/conf/perl-5.12.4/.cpanplus/5.12.4/build/Test-Differences-0.61/blib/arch
    /home/cpan/pit/bare/conf/perl-5.12.4/.cpanplus/5.12.4/build/Color-Scheme-1.02/blib/lib
    /home/cpan/pit/bare/conf/perl-5.12.4/.cpanplus/5.12.4/build/Color-Scheme-1.02/blib/arch
    /home/cpan/pit/bare/perl-5.12.4/lib/site_perl/5.12.4/i386-netbsd
    /home/cpan/pit/bare/perl-5.12.4/lib/site_perl/5.12.4
    /home/cpan/pit/bare/perl-5.12.4/lib/5.12.4/i386-netbsd
    /home/cpan/pit/bare/perl-5.12.4/lib/5.12.4
    .