Hash-Merge v0.302 Perl 5 v5.33.6 x86_64-linux-thread-multi

Status
Pass
From
Nigel Horne
Dist
Hash-Merge v0.302
Platform
Perl 5 v5.33.6 x86_64-linux-thread-multi
Date
2021-02-04 19:49:04
ID
09513c20-6722-11eb-af3c-8aa6ed1dd336
This distribution has been tested as part of the CPAN Testers
project, supporting the Perl programming language.  See
http://wiki.cpantesters.org/ for more information or email
questions to cpan-testers-discuss@perl.org


--
Dear Stefan Hermes,

This is a computer-generated report for Hash-Merge-0.302
on perl 5.33.6, created by CPAN-Reporter-1.2018.

Thank you for uploading your work to CPAN.  Congratulations!
All tests were successful.

Sections of this report:

    * Tester comments
    * Program output
    * Prerequisites
    * Environment and other context

------------------------------
TESTER COMMENTS
------------------------------

Additional comments from tester:

none provided

------------------------------
PROGRAM OUTPUT
------------------------------

Output from '/usr/bin/make test':

PERL_DL_NONLAZY=1 "/home/opc/perl5/perlbrew/perls/perl-5.33.6-thread/bin/perl5.33.6" "-MExtUtils::Command::MM" "-MTest::Harness" "-e" "undef *Test::Harness::Switches; test_harness(0, 'blib/lib', 'blib/arch')" t/*.t xt/*.t t/Auto/*.t t/Clone/*.t t/Storable/*.t t/ClonePP/*.t
# Testing Hash::Merge version 0.302, Perl 5.033006, /home/opc/perl5/perlbrew/perls/perl-5.33.6-thread/bin/perl5.33.6
# Using backend Clone version 0.45
t/Auto/00-load.t ....... ok
t/Auto/01-merge.t ...... ok
# Testing Hash::Merge version 0.302, Perl 5.033006, /home/opc/perl5/perlbrew/perls/perl-5.33.6-thread/bin/perl5.33.6
# Using backend Clone version 0.45
t/Clone/00-load.t ...... ok
t/Clone/01-merge.t ..... ok
t/Auto/02-oo.t ......... ok
t/ClonePP/00-load.t .... skipped: No Clone::PP found.
t/ClonePP/01-merge.t ... skipped: No Clone::PP found.
t/ClonePP/02-oo.t ...... skipped: No Clone::PP found.
t/Clone/02-oo.t ........ ok
# Testing Hash::Merge version 0.302, Perl 5.033006, /home/opc/perl5/perlbrew/perls/perl-5.33.6-thread/bin/perl5.33.6
# Using backend Storable version 3.23
t/Storable/00-load.t ... ok
t/Storable/01-merge.t .. ok
t/Storable/02-oo.t ..... ok
All tests successful.
Files=12, Tests=510,  4 wallclock secs ( 0.13 usr  0.10 sys +  0.87 cusr  0.14 csys =  1.24 CPU)
Result: PASS

------------------------------
PREREQUISITES
------------------------------

Prerequisite modules loaded:

requires:

    Module              Need     Have    
    ------------------- -------- --------
    Clone::Choose       0.008    0.010   
    perl                5.008001 5.033006
    Scalar::Util        0        1.55    

build_requires:

    Module              Need     Have    
    ------------------- -------- --------
    Test::More          0.9      1.302183

configure_requires:

    Module              Need     Have    
    ------------------- -------- --------
    ExtUtils::MakeMaker 6.64     7.58    


------------------------------
ENVIRONMENT AND OTHER CONTEXT
------------------------------

Environment variables:

    HARNESS_OPTIONS = j2:c
    LANG = en_US.UTF-8
    NONINTERACTIVE_TESTING = 1
    PATH = /home/opc/perl5/perlbrew/bin:/home/opc/perl5/perlbrew/perls/perl-5.33.6-thread/bin:/home/opc/perl5/perlbrew/bin:/usr/local/bin:/usr/bin:/home/opc/.local/bin:/home/opc/bin
    PERL5LIB = 
    PERL5OPT = 
    PERL5_CPANPLUS_IS_RUNNING = 23285
    PERL5_CPAN_IS_RUNNING = 23285
    PERLBREW_HOME = /home/opc/.perlbrew
    PERLBREW_LIB = 
    PERLBREW_MANPATH = /home/opc/perl5/perlbrew/perls/perl-5.33.6-thread/man
    PERLBREW_PATH = /home/opc/perl5/perlbrew/bin:/home/opc/perl5/perlbrew/perls/perl-5.33.6-thread/bin
    PERLBREW_PERL = perl-5.33.6-thread
    PERLBREW_ROOT = /home/opc/perl5/perlbrew
    PERLBREW_SHELLRC_VERSION = 0.91
    PERLBREW_VERSION = 0.91
    PERL_LOCAL_LIB_ROOT = 
    PERL_MM_USE_DEFAULT = 1
    PERL_USE_UNSAFE_INC = 1
    SHELL = /bin/bash

Perl special variables (and OS-specific diagnostics, for MSWin32):

    $^X = /home/opc/perl5/perlbrew/perls/perl-5.33.6-thread/bin/perl5.33.6
    $UID/$EUID = 1000 / 1000
    $GID = 1000 4 10 190 1000
    $EGID = 1000 4 10 190 1000

Perl module toolchain versions installed:

    Module              Have    
    ------------------- --------
    CPAN                2.28    
    CPAN::Meta          2.150010
    Cwd                 3.80    
    ExtUtils::CBuilder  0.280235
    ExtUtils::Command   7.58    
    ExtUtils::Install   2.20    
    ExtUtils::MakeMaker 7.58    
    ExtUtils::Manifest  1.73    
    ExtUtils::ParseXS   3.42    
    File::Spec          3.80    
    JSON                4.03    
    JSON::PP            4.06    
    Module::Build       0.4231  
    Module::Signature   n/a     
    Parse::CPAN::Meta   2.150010
    Test::Harness       3.43    
    Test::More          1.302183
    YAML                1.30    
    YAML::Syck          1.34    
    version             0.9928  


--

Summary of my perl5 (revision 5 version 33 subversion 6) configuration:
   
  Platform:
    osname=linux
    osvers=5.4.17-2036.101.2.el7uek.x86_64
    archname=x86_64-linux-thread-multi
    uname='linux instance-20191218-1736 5.4.17-2036.101.2.el7uek.x86_64 #2 smp wed dec 2 17:56:16 pst 2020 x86_64 x86_64 x86_64 gnulinux '
    config_args='-de -Dprefix=/home/opc/perl5/perlbrew/perls/perl-5.33.6-thread -Dusedevel -Dusethreads -Dusedevel -Accflags= -Aeval:scriptdir=/home/opc/perl5/perlbrew/perls/perl-5.33.6-thread/bin'
    hint=recommended
    useposix=true
    d_sigaction=define
    useithreads=define
    usemultiplicity=define
    use64bitint=define
    use64bitall=define
    uselongdouble=undef
    usemymalloc=n
    default_inc_excludes_dot=define
  Compiler:
    cc='cc'
    ccflags ='-D_REENTRANT -D_GNU_SOURCE -fwrapv -fno-strict-aliasing -pipe -fstack-protector-strong -I/usr/local/include -D_LARGEFILE_SOURCE -D_FILE_OFFSET_BITS=64 -D_FORTIFY_SOURCE=2'
    optimize='-O2'
    cppflags='-D_REENTRANT -D_GNU_SOURCE -fwrapv -fno-strict-aliasing -pipe -fstack-protector-strong -I/usr/local/include'
    ccversion=''
    gccversion='4.8.5 20150623 (Red Hat 4.8.5-44.0.3)'
    gccosandvers=''
    intsize=4
    longsize=8
    ptrsize=8
    doublesize=8
    byteorder=12345678
    doublekind=3
    d_longlong=define
    longlongsize=8
    d_longdbl=define
    longdblsize=16
    longdblkind=3
    ivtype='long'
    ivsize=8
    nvtype='double'
    nvsize=8
    Off_t='off_t'
    lseeksize=8
    alignbytes=8
    prototype=define
  Linker and Libraries:
    ld='cc'
    ldflags =' -fstack-protector-strong -L/usr/local/lib'
    libpth=/usr/local/lib /usr/lib /lib/../lib64 /usr/lib/../lib64 /lib /lib64 /usr/lib64 /usr/local/lib64
    libs=-lpthread -lnsl -lgdbm -ldb -ldl -lm -lcrypt -lutil -lc -lgdbm_compat
    perllibs=-lpthread -lnsl -ldl -lm -lcrypt -lutil -lc
    libc=libc-2.17.so
    so=so
    useshrplib=false
    libperl=libperl.a
    gnulibc_version='2.17'
  Dynamic Linking:
    dlsrc=dl_dlopen.xs
    dlext=so
    d_dlsymun=undef
    ccdlflags='-Wl,-E'
    cccdlflags='-fPIC'
    lddlflags='-shared -O2 -L/usr/local/lib -fstack-protector-strong'


Characteristics of this binary (from libperl): 
  Compile-time options:
    HAS_TIMES
    MULTIPLICITY
    PERLIO_LAYERS
    PERL_COPY_ON_WRITE
    PERL_DONT_CREATE_GVSV
    PERL_IMPLICIT_CONTEXT
    PERL_MALLOC_WRAP
    PERL_OP_PARENT
    PERL_PRESERVE_IVUV
    PERL_USE_DEVEL
    USE_64_BIT_ALL
    USE_64_BIT_INT
    USE_ITHREADS
    USE_LARGE_FILES
    USE_LOCALE
    USE_LOCALE_COLLATE
    USE_LOCALE_CTYPE
    USE_LOCALE_NUMERIC
    USE_LOCALE_TIME
    USE_PERLIO
    USE_PERL_ATOF
    USE_REENTRANT_API
    USE_THREAD_SAFE_LOCALE
  Built under linux
  Compiled at Jan 22 2021 00:50:47
  %ENV:
    PERL5LIB=""
    PERL5OPT=""
    PERL5_CPANPLUS_IS_RUNNING="23285"
    PERL5_CPAN_IS_RUNNING="23285"
    PERLBREW_HOME="/home/opc/.perlbrew"
    PERLBREW_LIB=""
    PERLBREW_MANPATH="/home/opc/perl5/perlbrew/perls/perl-5.33.6-thread/man"
    PERLBREW_PATH="/home/opc/perl5/perlbrew/bin:/home/opc/perl5/perlbrew/perls/perl-5.33.6-thread/bin"
    PERLBREW_PERL="perl-5.33.6-thread"
    PERLBREW_ROOT="/home/opc/perl5/perlbrew"
    PERLBREW_SHELLRC_VERSION="0.91"
    PERLBREW_VERSION="0.91"
    PERL_LOCAL_LIB_ROOT=""
    PERL_MM_USE_DEFAULT="1"
    PERL_USE_UNSAFE_INC="1"
  @INC:
    /home/opc/perl5/perlbrew/perls/perl-5.33.6-thread/lib/site_perl/5.33.6/x86_64-linux-thread-multi
    /home/opc/perl5/perlbrew/perls/perl-5.33.6-thread/lib/site_perl/5.33.6
    /home/opc/perl5/perlbrew/perls/perl-5.33.6-thread/lib/5.33.6/x86_64-linux-thread-multi
    /home/opc/perl5/perlbrew/perls/perl-5.33.6-thread/lib/5.33.6
    .