Back
From: metabase:user:1eed3a18-483e-11e2-a87b-a3931c712682
Subject: PASS Dist-Zilla-Plugin-Test-EOL-0.19 v5.24.0 Mac OS X
Date: 2016-09-06T09:48:17Z
This distribution has been tested as part of the CPAN Testers
project, supporting the Perl programming language. See
http://wiki.cpantesters.org/ for more information or email
questions to cpan-testers-discuss@perl.org
--
Dear ETHER,
This is a computer-generated report for Dist-Zilla-Plugin-Test-EOL-0.19
on perl 5.24.0, created by App::cpanminus::reporter 0.17 (1.7042).
Thank you for uploading your work to CPAN. Congratulations!
All tests were successful.
Sections of this report:
* Tester comments
* Program output
* Prerequisites
* Environment and other context
------------------------------
TESTER COMMENTS
------------------------------
Additional comments from tester:
none provided
------------------------------
PROGRAM OUTPUT
------------------------------
Output from '':
Building and testing Dist-Zilla-Plugin-Test-EOL-0.19
cp lib/Dist/Zilla/Plugin/EOLTests.pm blib/lib/Dist/Zilla/Plugin/EOLTests.pm
cp lib/Dist/Zilla/Plugin/Test/EOL.pm blib/lib/Dist/Zilla/Plugin/Test/EOL.pm
#
# Versions for all modules listed in MYMETA.json (including optional ones):
#
# === Configure Requires ===
#
# Module Want Have
# ------------------- ----- -----
# Module::Build::Tiny 0.034 0.039
#
# === Test Requires ===
#
# Module Want Have
# ---------------- ----- --------
# File::Spec any 3.62
# File::pushd any 1.009
# FindBin any 1.51
# Module::Metadata any 1.000027
# Test::DZil any 6.007
# Test::Deep any 1.120
# Test::EOL any 1.6
# Test::More 0.88 1.302040
# Test::Warnings 0.009 0.026
# if any 0.0606
#
# === Test Recommends ===
#
# Module Want Have
# ---------- -------- --------
# CPAN::Meta 2.120900 2.150010
#
# === Runtime Requires ===
#
# Module Want Have
# --------------------------------- ----- --------
# Data::Section 0.004 0.200006
# Dist::Zilla::File::InMemory any 6.007
# Dist::Zilla::Role::FileFinderUser any 6.007
# Dist::Zilla::Role::FileGatherer any 6.007
# Dist::Zilla::Role::FileMunger any 6.007
# Dist::Zilla::Role::PrereqSource any 6.007
# Dist::Zilla::Role::TextTemplate any 6.007
# Moose any 2.1804
# Moose::Util::TypeConstraints any 2.1804
# Path::Tiny any 0.096
# Sub::Exporter::ForMethods any 0.100052
# namespace::autoclean any 0.28
# strict any 1.11
# warnings any 1.36
#
# === Other Modules ===
#
# Module Have
# --------------------- --------
# CPAN::Meta::Validator 2.150010
# Pod::Coverage 0.23
#
t/00-report-prereqs.t .. ok
t/01-basic.t ........... ok
t/02-eoltests.t ........ ok
t/03-finder.t .......... ok
t/04-filename.t ........ ok
t/eol.t ................ ok
t/prereqs.t ............ ok
t/zzz-check-breaks.t ... ok
All tests successful.
Files=8, Tests=66, 21 wallclock secs ( 0.05 usr 0.03 sys + 7.78 cusr 0.86 csys = 8.72 CPU)
Result: PASS
------------------------------
PREREQUISITES
------------------------------
Prerequisite modules loaded:
No requirements found
------------------------------
ENVIRONMENT AND OTHER CONTEXT
------------------------------
Environment variables:
LANG = en_US.UTF-8
LC_ALL = en_US.UTF-8
LC_CTYPE = UTF-8
PATH = /Users/spoussep/perl5/perlbrew/bin:/Users/spoussep/perl5/perlbrew/perls/perl-5.24.0/bin:/usr/local/bin:/usr/bin:/bin:/usr/sbin:/sbin:/Users/spoussep/.vim/bin:/Users/spoussep/bin:/Users/spoussep/node_modules/.bin
PERLBREW_BASHRC_VERSION = 0.76
PERLBREW_HOME = /Users/spoussep/.perlbrew
PERLBREW_MANPATH = /Users/spoussep/perl5/perlbrew/perls/perl-5.24.0/man
PERLBREW_PATH = /Users/spoussep/perl5/perlbrew/bin:/Users/spoussep/perl5/perlbrew/perls/perl-5.24.0/bin
PERLBREW_PERL = perl-5.24.0
PERLBREW_ROOT = /Users/spoussep/perl5/perlbrew
PERLBREW_VERSION = 0.76
PERL_MM_USE_DEFAULT = 1
SHELL = /usr/local/bin/zsh
TERM = screen
TMPDIR = /var/folders/56/qg9656q92m12dr1xqr6s2ftcmtxx4r/T/
Perl special variables (and OS-specific diagnostics, for MSWin32):
EGID = 697783653 697783653 59590085 97787274 131843966 217853254 270475963 272714219 285615533 314992649 345198435 407432394 519879656 566683779 772484945 842860160 896391198
EUID = 699331736
EXECUTABLE_NAME = /Users/spoussep/perl5/perlbrew/perls/perl-5.24.0/bin/perl
GID = 697783653 697783653 59590085 97787274 131843966 217853254 270475963 272714219 285615533 314992649 345198435 407432394 519879656 566683779 772484945 842860160 896391198
UID = 699331736
Perl module toolchain versions installed:
Module Have
------------------- --------
CPAN 2.14
CPAN::Meta 2.150010
Cwd 3.62
ExtUtils::CBuilder 0.280224
ExtUtils::Command 7.24
ExtUtils::Install 2.04
ExtUtils::MakeMaker 7.24
ExtUtils::Manifest 1.70
ExtUtils::ParseXS 3.30
File::Spec 3.62
JSON 2.90
JSON::PP 2.27400
Module::Build 0.4220
Module::Signature 0.81
Parse::CPAN::Meta 2.150010
Test::Harness 3.36
Test::More 1.302052
YAML 1.18
YAML::Syck 1.29
version 0.9917
--
Summary of my perl5 (revision 5 version 24 subversion 0) configuration:
Platform:
osname=darwin, osvers=15.5.0, archname=darwin-2level
uname='darwin ml906062 15.5.0 darwin kernel version 15.5.0: tue apr 19 18:36:36 pdt 2016; root:xnu-3248.50.21~8release_x86_64 x86_64 '
config_args='-de -Dprefix=/Users/spoussep/perl5/perlbrew/perls/perl-5.24.0 -Aeval:scriptdir=/Users/spoussep/perl5/perlbrew/perls/perl-5.24.0/bin'
hint=recommended, useposix=true, d_sigaction=define
useithreads=undef, usemultiplicity=undef
use64bitint=define, use64bitall=define, uselongdouble=undef
usemymalloc=n, bincompat5005=undef
Compiler:
cc='cc', ccflags ='-fno-common -DPERL_DARWIN -fno-strict-aliasing -pipe -fstack-protector-strong -I/usr/local/include',
optimize='-O3',
cppflags='-fno-common -DPERL_DARWIN -fno-strict-aliasing -pipe -fstack-protector-strong -I/usr/local/include'
ccversion='', gccversion='4.2.1 Compatible Apple LLVM 7.3.0 (clang-703.0.31)', gccosandvers=''
intsize=4, longsize=8, ptrsize=8, doublesize=8, byteorder=12345678, doublekind=3
d_longlong=define, longlongsize=8, d_longdbl=define, longdblsize=16, longdblkind=3
ivtype='long', ivsize=8, nvtype='double', nvsize=8, Off_t='off_t', lseeksize=8
alignbytes=8, prototype=define
Linker and Libraries:
ld='env MACOSX_DEPLOYMENT_TARGET=10.3 cc', ldflags =' -fstack-protector-strong -L/usr/local/lib'
libpth=/usr/local/lib /Library/Developer/CommandLineTools/usr/bin/../lib/clang/7.3.0/lib /Library/Developer/CommandLineTools/usr/lib /usr/lib
libs=-lpthread -lgdbm -ldbm -ldl -lm -lutil -lc
perllibs=-lpthread -ldl -lm -lutil -lc
libc=, so=dylib, useshrplib=false, libperl=libperl.a
gnulibc_version=''
Dynamic Linking:
dlsrc=dl_dlopen.xs, dlext=bundle, d_dlsymun=undef, ccdlflags=' '
cccdlflags=' ', lddlflags=' -bundle -undefined dynamic_lookup -L/usr/local/lib -fstack-protector-strong'
Characteristics of this binary (from libperl):
Compile-time options: HAS_TIMES PERLIO_LAYERS PERL_COPY_ON_WRITE
PERL_DONT_CREATE_GVSV
PERL_HASH_FUNC_ONE_AT_A_TIME_HARD PERL_MALLOC_WRAP
PERL_PRESERVE_IVUV USE_64_BIT_ALL USE_64_BIT_INT
USE_LARGE_FILES USE_LOCALE USE_LOCALE_COLLATE
USE_LOCALE_CTYPE USE_LOCALE_NUMERIC USE_LOCALE_TIME
USE_PERLIO USE_PERL_ATOF
Locally applied patches:
Devel::PatchPerl 1.38
Built under darwin
Compiled at May 24 2016 16:01:51
%ENV:
PERLBREW_BASHRC_VERSION="0.76"
PERLBREW_HOME="/Users/spoussep/.perlbrew"
PERLBREW_MANPATH="/Users/spoussep/perl5/perlbrew/perls/perl-5.24.0/man"
PERLBREW_PATH="/Users/spoussep/perl5/perlbrew/bin:/Users/spoussep/perl5/perlbrew/perls/perl-5.24.0/bin"
PERLBREW_PERL="perl-5.24.0"
PERLBREW_ROOT="/Users/spoussep/perl5/perlbrew"
PERLBREW_VERSION="0.76"
PERL_MM_USE_DEFAULT="1"
@INC:
/Users/spoussep/perl5/perlbrew/perls/perl-5.24.0/lib/site_perl/5.24.0/darwin-2level
/Users/spoussep/perl5/perlbrew/perls/perl-5.24.0/lib/site_perl/5.24.0
/Users/spoussep/perl5/perlbrew/perls/perl-5.24.0/lib/5.24.0/darwin-2level
/Users/spoussep/perl5/perlbrew/perls/perl-5.24.0/lib/5.24.0
.