Module-Pluggable v6.3 Perl 5 v5.40.0 x86_64-linux

Status
Pass
From
Nigel Horne
Dist
Module-Pluggable v6.3
Platform
Perl 5 v5.40.0 x86_64-linux
Date
2025-03-02 05:56:08
ID
0989c944-f72b-11ef-b10c-fa9e0ef3fafc
This distribution has been tested as part of the CPAN Testers
project, supporting the Perl programming language.  See
http://wiki.cpantesters.org/ for more information or email
questions to cpan-testers-discuss@perl.org


--
Dear Simon Wistow,

This is a computer-generated report for Module-Pluggable-6.3
on perl 5.40.0, created by CPAN-Reporter-1.2020.

Thank you for uploading your work to CPAN.  Congratulations!
All tests were successful.

Sections of this report:

    * Tester comments
    * Program output
    * Prerequisites
    * Environment and other context

------------------------------
TESTER COMMENTS
------------------------------

Additional comments from tester:

none provided

------------------------------
PROGRAM OUTPUT
------------------------------

Output from '/usr/bin/make test':

PERL_DL_NONLAZY=1 "/home/njh/perl5/perlbrew/perls/perl-5.40.0/bin/perl" "-MExtUtils::Command::MM" "-MTest::Harness" "-e" "undef *Test::Harness::Switches; test_harness(0, 'blib/lib', 'blib/arch')" t/*.t
t/01use.t .................... ok
t/02alsoworks.t .............. ok
t/02works.t .................. ok
t/02works_taint.t ............ ok
t/03diffname.t ............... ok
t/04acmedir.t ................ ok
t/04acmedir_single.t ......... ok
t/04acmepath.t ............... ok
t/04acmepath_single.t ........ ok
t/05postpath.t ............... ok
t/06multipath.t .............. ok
t/07instantiate.t ............ ok
t/08nothing.t ................ ok
t/09require.t ................ ok
t/10innerpack.t .............. ok
t/10innerpack_inner.t ........ ok
t/10innerpack_noinner.t ...... ok
t/10innerpack_onefile.t ...... ok
t/10innerpack_override.t ..... ok
t/10innerpack_super.t ........ ok
t/11usetwice.t ............... ok
t/12only.t ................... ok
t/12onlyarray.t .............. ok
t/12onlyregex.t .............. ok
t/12onlyrequire.t ............ ok
t/13except.t ................. ok
t/13exceptarray.t ............ ok
t/13exceptregex.t ............ ok
t/14package.t ................ ok
t/15topicsafe.t .............. ok
t/16different_extension.t .... ok
t/17devel_inner_package.t .... ok
t/18skipped_package.t ........ ok
t/19can_ok_clobber.t ......... ok
t/20dodgy_files.t ............ ok
t/21editor_junk.t ............ ok
t/22trigger.t ................ ok
t/23depth.t .................. ok
t/24local_inc_object.t ....... ok
t/24local_inc_package.t ...... ok
t/25single_letter_package.t .. ok
t/26inc_hook.t ............... ok
t/27app_fatpacker.t .......... ok
t/28appledouble.t ............ ok
t/29unreadable.t ............. ok
All tests successful.
Files=45, Tests=194, 11 wallclock secs ( 0.17 usr  0.28 sys +  9.10 cusr  1.35 csys = 10.90 CPU)
Result: PASS

------------------------------
PREREQUISITES
------------------------------

Prerequisite modules loaded:

requires:

    Module                Need  Have    
    --------------------- ----- --------
    Exporter              5.57  5.78    
    File::Basename        0     2.86    
    File::Find            0     1.44    
    File::Spec            3.00  3.90    
    File::Spec::Functions 0     3.91    
    if                    0     0.0610  
    perl                  5.006 5.040000
    Scalar::Util          0     1.63    
    strict                0     1.13    

build_requires:

    Module                Need  Have    
    --------------------- ----- --------
    base                  0     2.27    
    Cwd                   0     3.90    
    Data::Dumper          0     2.189   
    ExtUtils::MakeMaker   0     7.70    
    File::Copy            0     2.41    
    File::Find            0     1.44    
    File::Path            0     2.18    
    File::Spec::Functions 0     3.91    
    File::Temp            0     0.2311  
    FindBin               0     1.54    
    strict                0     1.13    
    Test::More            0     1.302202
    warnings              0     1.70    

configure_requires:

    Module                Need  Have    
    --------------------- ----- --------
    ExtUtils::MakeMaker   0     7.70    

opt_requires:

    Module                Need  Have    
    --------------------- ----- --------
    Module::Runtime       0.012 0.016   


------------------------------
ENVIRONMENT AND OTHER CONTEXT
------------------------------

Environment variables:

    LANG = C.UTF-8
    PATH = /home/njh/perl5/perlbrew/bin:/home/njh/perl5/perlbrew/perls/perl-5.40.0/bin:/home/njh/perl5/perlbrew/bin:/usr/bin:/bin
    PERL5LIB = 
    PERL5OPT = 
    PERL5_CPANPLUS_IS_RUNNING = 20439
    PERL5_CPAN_IS_RUNNING = 20439
    PERLBREW_HOME = /home/njh/.perlbrew
    PERLBREW_LIB = 
    PERLBREW_MANPATH = /home/njh/perl5/perlbrew/perls/perl-5.40.0/man
    PERLBREW_PATH = /home/njh/perl5/perlbrew/bin:/home/njh/perl5/perlbrew/perls/perl-5.40.0/bin
    PERLBREW_PERL = perl-5.40.0
    PERLBREW_ROOT = /home/njh/perl5/perlbrew
    PERLBREW_SHELLRC_VERSION = 0.92
    PERLBREW_VERSION = 0.92
    PERL_LOCAL_LIB_ROOT = 
    PERL_USE_UNSAFE_INC = 1
    SHELL = /bin/sh
    TEMP = /tmp/user/1002
    TMPDIR = /tmp/user/1002

Perl special variables (and OS-specific diagnostics, for MSWin32):

    $^X = /home/njh/perl5/perlbrew/perls/perl-5.40.0/bin/perl
    $UID/$EUID = 1002 / 1002
    $GID = 1002 120 1002
    $EGID = 1002 120 1002

Perl module toolchain versions installed:

    Module              Have    
    ------------------- --------
    CPAN                2.38    
    CPAN::Meta          2.150010
    Cwd                 3.90    
    ExtUtils::CBuilder  0.280240
    ExtUtils::Command   7.70    
    ExtUtils::Install   2.22    
    ExtUtils::MakeMaker 7.70    
    ExtUtils::Manifest  1.75    
    ExtUtils::ParseXS   3.51    
    File::Spec          3.90    
    JSON                4.10    
    JSON::PP            4.16    
    Module::Build       0.4234  
    Module::Signature   0.88    
    Parse::CPAN::Meta   2.150010
    Test2               1.302202
    Test::Harness       3.50    
    Test::More          1.302202
    YAML                1.31    
    YAML::Syck          1.34    
    version             0.9930  


--

Summary of my perl5 (revision 5 version 40 subversion 0) configuration:
   
  Platform:
    osname=linux
    osvers=5.4.0-1102-oracle
    archname=x86_64-linux
    uname='linux oracle1 5.4.0-1102-oracle #111~18.04.1-ubuntu smp thu may 18 22:00:55 utc 2023 x86_64 x86_64 x86_64 gnulinux '
    config_args='-de -Dprefix=/home/njh/perl5/perlbrew/perls/perl-5.40.0 -Aeval:scriptdir=/home/njh/perl5/perlbrew/perls/perl-5.40.0/bin'
    hint=recommended
    useposix=true
    d_sigaction=define
    useithreads=undef
    usemultiplicity=undef
    use64bitint=define
    use64bitall=define
    uselongdouble=undef
    usemymalloc=n
    default_inc_excludes_dot=define
  Compiler:
    cc='cc'
    ccflags ='-fwrapv -fno-strict-aliasing -pipe -fstack-protector-strong -I/usr/local/include -D_LARGEFILE_SOURCE -D_FILE_OFFSET_BITS=64'
    optimize='-O2'
    cppflags='-fwrapv -fno-strict-aliasing -pipe -fstack-protector-strong -I/usr/local/include'
    ccversion=''
    gccversion='7.5.0'
    gccosandvers=''
    intsize=4
    longsize=8
    ptrsize=8
    doublesize=8
    byteorder=12345678
    doublekind=3
    d_longlong=define
    longlongsize=8
    d_longdbl=define
    longdblsize=16
    longdblkind=3
    ivtype='long'
    ivsize=8
    nvtype='double'
    nvsize=8
    Off_t='off_t'
    lseeksize=8
    alignbytes=8
    prototype=define
  Linker and Libraries:
    ld='cc'
    ldflags =' -fstack-protector-strong -L/usr/local/lib'
    libpth=/usr/local/lib /usr/lib/x86_64-linux-gnu /usr/lib /lib/x86_64-linux-gnu /lib
    libs=-lpthread -lgdbm -ldb -ldl -lm -lcrypt -lutil -lc
    perllibs=-lpthread -ldl -lm -lcrypt -lutil -lc
    libc=libc-2.27.so
    so=so
    useshrplib=false
    libperl=libperl.a
    gnulibc_version='2.27'
  Dynamic Linking:
    dlsrc=dl_dlopen.xs
    dlext=so
    d_dlsymun=undef
    ccdlflags='-Wl,-E'
    cccdlflags='-fPIC'
    lddlflags='-shared -O2 -L/usr/local/lib -fstack-protector-strong'


Characteristics of this binary (from libperl): 
  Compile-time options:
    HAS_LONG_DOUBLE
    HAS_STRTOLD
    HAS_TIMES
    PERLIO_LAYERS
    PERL_COPY_ON_WRITE
    PERL_DONT_CREATE_GVSV
    PERL_HASH_FUNC_SIPHASH13
    PERL_HASH_USE_SBOX32
    PERL_MALLOC_WRAP
    PERL_OP_PARENT
    PERL_PRESERVE_IVUV
    PERL_USE_SAFE_PUTENV
    USE_64_BIT_ALL
    USE_64_BIT_INT
    USE_LARGE_FILES
    USE_LOCALE
    USE_LOCALE_COLLATE
    USE_LOCALE_CTYPE
    USE_LOCALE_NUMERIC
    USE_LOCALE_TIME
    USE_PERLIO
    USE_PERL_ATOF
  Built under linux
  Compiled at Jun 10 2024 00:45:01
  %ENV:
    PERL5LIB=""
    PERL5OPT=""
    PERL5_CPANPLUS_IS_RUNNING="20439"
    PERL5_CPAN_IS_RUNNING="20439"
    PERLBREW_HOME="/home/njh/.perlbrew"
    PERLBREW_LIB=""
    PERLBREW_MANPATH="/home/njh/perl5/perlbrew/perls/perl-5.40.0/man"
    PERLBREW_PATH="/home/njh/perl5/perlbrew/bin:/home/njh/perl5/perlbrew/perls/perl-5.40.0/bin"
    PERLBREW_PERL="perl-5.40.0"
    PERLBREW_ROOT="/home/njh/perl5/perlbrew"
    PERLBREW_SHELLRC_VERSION="0.92"
    PERLBREW_VERSION="0.92"
    PERL_LOCAL_LIB_ROOT=""
    PERL_USE_UNSAFE_INC="1"
  @INC:
    /home/njh/perl5/perlbrew/perls/perl-5.40.0/lib/site_perl/5.40.0/x86_64-linux
    /home/njh/perl5/perlbrew/perls/perl-5.40.0/lib/site_perl/5.40.0
    /home/njh/perl5/perlbrew/perls/perl-5.40.0/lib/5.40.0/x86_64-linux
    /home/njh/perl5/perlbrew/perls/perl-5.40.0/lib/5.40.0
    .