Report for Regexp-Common-2017040401

Back
From: metabase:user:e7f7dec2-b051-11df-bd1d-025b7965fceb
Subject: PASS Regexp-Common-2017040401 v5.24.0 GNU/Linux
Date: 2017-04-28T14:36:17Z

This distribution has been tested as part of the CPAN Testers
project, supporting the Perl programming language.  See
http://wiki.cpantesters.org/ for more information or email
questions to cpan-testers-discuss@perl.org


--
Dear Abigail,

This is a computer-generated report for Regexp-Common-2017040401
on perl 5.24.0, created by CPAN-Reporter-1.2018.

Thank you for uploading your work to CPAN.  Congratulations!
All tests were successful.

Sections of this report:

    * Tester comments
    * Program output
    * Prerequisites
    * Environment and other context

------------------------------
TESTER COMMENTS
------------------------------

Additional comments from tester:

none provided

------------------------------
PROGRAM OUTPUT
------------------------------

Output from '/usr/bin/make test':

PERL_DL_NONLAZY=1 "/home/andy/perl5/perlbrew/perls/perl-5.24.0/bin/perl" "-MExtUtils::Command::MM" "-MTest::Harness" "-e" "undef *Test::Harness::Switches; test_harness(0, 'blib/lib', 'blib/arch')" t/*.t t/*/*.t
t/comment/delimited.t ............ ok
t/comment/html.t ................. ok
t/comment/nested.t ............... ok
t/comment/pascal.t ............... ok
t/comment/single_line.t .......... ok
t/comment/single_or_multiline.t .. ok
t/delimited/101_delimited.t ...... ok
t/delimited/111_bquoted.t ........ ok
t/net/101_ipv4.t ................. ok
t/net/102_ipv4_strict.t .......... ok
t/net/111_ipv6.t ................. ok
t/net/121_mac.t .................. ok
t/net/131_domain.t ............... ok
t/number/101_integer.t ........... ok
t/number/111_integer_base.t ...... ok
t/number/121_integer_places.t .... ok
t/number/122_integer_places.t .... ok
t/number/123_integer_places.t .... ok
t/number/131_integer_sep.t ....... ok
t/number/141_integer_group.t ..... ok
t/number/701_squares.t ........... ok
t/number/801_roman.t ............. ok
t/number/decimal.t ............... ok
t/number/number.t ................ ok
t/SEN/usa_ssn.t .................. ok
t/test___luhn.t .................. ok
t/test_balanced.t ................ ok
t/test_bases.t ................... ok
t/test_bases_sep.t ............... ok
t/test_comments.t ................ ok
t/test_curry.t ................... ok
t/test_i.t ....................... ok
t/test_lingua_palindrome.t ....... ok
t/test_list.t .................... ok
t/test_no_import.t ............... ok
t/test_profanity.t ............... ok
t/test_sub.t ..................... ok
t/test_sub_named.t ............... ok
t/test_ws.t ...................... ok
t/URI/any.t ...................... ok
t/URI/fax.t ...................... ok
t/URI/file.t ..................... ok
t/URI/ftp.t ...................... ok
t/URI/gopher.t ................... ok
t/URI/http.t ..................... ok
t/URI/news.t ..................... ok
t/URI/nntp.t ..................... ok
t/URI/pop.t ...................... ok
t/URI/prospero.t ................. ok
t/URI/tel.t ...................... ok
t/URI/telnet.t ................... ok
t/URI/tv.t ....................... ok
t/URI/wais.t ..................... ok
t/zip/101_austria.t .............. ok
t/zip/111_australia.t ............ ok
t/zip/112_australia.t ............ ok
t/zip/121_belgium.t .............. ok
t/zip/131_denmark.t .............. ok
t/zip/141_greenland.t ............ ok
t/zip/151_norway.t ............... ok
t/zip/161_liechtenstein.t ........ ok
t/zip/171_switzerland.t .......... ok
t/zip/181_italy.t ................ ok
t/zip/191_germany.t .............. ok
t/zip/201_luxembourg.t ........... ok
t/zip/211_france.t ............... ok
t/zip/221_monaco.t ............... ok
t/zip/231_san-marino.t ........... ok
t/zip/241_vatican-city.t ......... ok
t/zip/netherlands.t .............. ok
t/zip/spain.t .................... ok
t/zip/us.t ....................... ok
t/zip/zip.t ...................... ok
All tests successful.
Files=73, Tests=2315992, 244 wallclock secs (106.25 usr  3.73 sys + 236.74 cusr  5.34 csys = 352.06 CPU)
Result: PASS

------------------------------
PREREQUISITES
------------------------------

Prerequisite modules loaded:

requires:

    Module              Need Have    
    ------------------- ---- --------
    Config              0    5.024000
    perl                5.01 5.024000
    strict              0    1.11    
    vars                0    1.03    
    warnings            0    1.36    

build_requires:

    Module              Need Have    
    ------------------- ---- --------
    Config              0    5.024000
    strict              0    1.11    
    Test::More          0    1.302075
    vars                0    1.03    
    warnings            0    1.36    

configure_requires:

    Module              Need Have    
    ------------------- ---- --------
    Config              0    5.024000
    ExtUtils::MakeMaker 0    7.24    
    perl                5.01 5.024000
    strict              0    1.11    
    vars                0    1.03    
    warnings            0    1.36    


------------------------------
ENVIRONMENT AND OTHER CONTEXT
------------------------------

Environment variables:

    LANG = en_GB.UTF-8
    LANGUAGE = en_GB:en
    LC_CTYPE = en_GB.UTF-8
    PATH = /home/andy/bin:/home/andy/perl5/perlbrew/bin:/home/andy/perl5/perlbrew/perls/perl-5.24.0/bin:/home/andy/Dropbox/bin:/home/andy/bin/Linux:/usr/local/sbin:/usr/local/bin:/home/andy/bin:/usr/sbin:/usr/bin:/sbin:/bin:/usr/games:/usr/local/games
    PERL5LIB = 
    PERL5OPT = 
    PERL5_CPANPLUS_IS_RUNNING = 17507
    PERL5_CPAN_IS_RUNNING = 17507
    PERLBREW_BASHRC_VERSION = 0.76
    PERLBREW_HOME = /home/andy/.perlbrew
    PERLBREW_MANPATH = /home/andy/perl5/perlbrew/perls/perl-5.24.0/man
    PERLBREW_PATH = /home/andy/perl5/perlbrew/bin:/home/andy/perl5/perlbrew/perls/perl-5.24.0/bin
    PERLBREW_PERL = perl-5.24.0
    PERLBREW_ROOT = /home/andy/perl5/perlbrew
    PERLBREW_VERSION = 0.76
    SHELL = /bin/bash
    TERM = xterm-256color

Perl special variables (and OS-specific diagnostics, for MSWin32):

    $^X = /home/andy/perl5/perlbrew/perls/perl-5.24.0/bin/perl
    $UID/$EUID = 1000 / 1000
    $GID = 50 4 24 27 30 33 46 50 110 115 116 132 134 135 1001
    $EGID = 50 4 24 27 30 33 46 50 110 115 116 132 134 135 1001

Perl module toolchain versions installed:

    Module              Have    
    ------------------- --------
    CPAN                2.16    
    CPAN::Meta          2.150010
    Cwd                 3.63    
    ExtUtils::CBuilder  0.280225
    ExtUtils::Command   7.24    
    ExtUtils::Install   2.04    
    ExtUtils::MakeMaker 7.24    
    ExtUtils::Manifest  1.70    
    ExtUtils::ParseXS   3.31    
    File::Spec          3.63    
    JSON                2.90    
    JSON::PP            2.27400 
    Module::Build       0.4222  
    Module::Signature   0.81    
    Parse::CPAN::Meta   2.150010
    Test::Harness       3.36    
    Test::More          1.302075
    YAML                1.21    
    YAML::Syck          1.29    
    version             0.9917  


--

Summary of my perl5 (revision 5 version 24 subversion 0) configuration:
   
  Platform:
    osname=linux, osvers=4.4.0-34-generic, archname=x86_64-linux
    uname='linux trout 4.4.0-34-generic #53-ubuntu smp wed jul 27 16:06:39 utc 2016 x86_64 x86_64 x86_64 gnulinux '
    config_args='-de -Dprefix=/home/andy/perl5/perlbrew/perls/perl-5.24.0 -Aeval:scriptdir=/home/andy/perl5/perlbrew/perls/perl-5.24.0/bin'
    hint=recommended, useposix=true, d_sigaction=define
    useithreads=undef, usemultiplicity=undef
    use64bitint=define, use64bitall=define, uselongdouble=undef
    usemymalloc=n, bincompat5005=undef
  Compiler:
    cc='cc', ccflags ='-fwrapv -fno-strict-aliasing -pipe -fstack-protector-strong -I/usr/local/include -D_LARGEFILE_SOURCE -D_FILE_OFFSET_BITS=64',
    optimize='-O2',
    cppflags='-fwrapv -fno-strict-aliasing -pipe -fstack-protector-strong -I/usr/local/include'
    ccversion='', gccversion='5.4.0 20160609', gccosandvers=''
    intsize=4, longsize=8, ptrsize=8, doublesize=8, byteorder=12345678, doublekind=3
    d_longlong=define, longlongsize=8, d_longdbl=define, longdblsize=16, longdblkind=3
    ivtype='long', ivsize=8, nvtype='double', nvsize=8, Off_t='off_t', lseeksize=8
    alignbytes=8, prototype=define
  Linker and Libraries:
    ld='cc', ldflags =' -fstack-protector-strong -L/usr/local/lib'
    libpth=/usr/local/lib /usr/lib/gcc/x86_64-linux-gnu/5/include-fixed /usr/include/x86_64-linux-gnu /usr/lib /lib/x86_64-linux-gnu /lib/../lib /usr/lib/x86_64-linux-gnu /usr/lib/../lib /lib
    libs=-lpthread -lnsl -ldl -lm -lcrypt -lutil -lc
    perllibs=-lpthread -lnsl -ldl -lm -lcrypt -lutil -lc
    libc=libc-2.23.so, so=so, useshrplib=false, libperl=libperl.a
    gnulibc_version='2.23'
  Dynamic Linking:
    dlsrc=dl_dlopen.xs, dlext=so, d_dlsymun=undef, ccdlflags='-Wl,-E'
    cccdlflags='-fPIC', lddlflags='-shared -O2 -L/usr/local/lib -fstack-protector-strong'


Characteristics of this binary (from libperl): 
  Compile-time options: HAS_TIMES PERLIO_LAYERS PERL_COPY_ON_WRITE
                        PERL_DONT_CREATE_GVSV
                        PERL_HASH_FUNC_ONE_AT_A_TIME_HARD PERL_MALLOC_WRAP
                        PERL_PRESERVE_IVUV USE_64_BIT_ALL USE_64_BIT_INT
                        USE_LARGE_FILES USE_LOCALE USE_LOCALE_COLLATE
                        USE_LOCALE_CTYPE USE_LOCALE_NUMERIC USE_LOCALE_TIME
                        USE_PERLIO USE_PERL_ATOF
  Locally applied patches:
	Devel::PatchPerl 1.38
  Built under linux
  Compiled at Aug 10 2016 15:26:57
  %ENV:
    PERL5LIB=""
    PERL5OPT=""
    PERL5_CPANPLUS_IS_RUNNING="17507"
    PERL5_CPAN_IS_RUNNING="17507"
    PERLBREW_BASHRC_VERSION="0.76"
    PERLBREW_HOME="/home/andy/.perlbrew"
    PERLBREW_MANPATH="/home/andy/perl5/perlbrew/perls/perl-5.24.0/man"
    PERLBREW_PATH="/home/andy/perl5/perlbrew/bin:/home/andy/perl5/perlbrew/perls/perl-5.24.0/bin"
    PERLBREW_PERL="perl-5.24.0"
    PERLBREW_ROOT="/home/andy/perl5/perlbrew"
    PERLBREW_VERSION="0.76"
  @INC:
    /home/andy/perl5/perlbrew/perls/perl-5.24.0/lib/site_perl/5.24.0/x86_64-linux
    /home/andy/perl5/perlbrew/perls/perl-5.24.0/lib/site_perl/5.24.0
    /home/andy/perl5/perlbrew/perls/perl-5.24.0/lib/5.24.0/x86_64-linux
    /home/andy/perl5/perlbrew/perls/perl-5.24.0/lib/5.24.0
    .