Unicode-UTF8 v0.62 Perl 5 v5.18.0 amd64-freebsd-thread-multi

Status
Pass
From
Nigel Horne
Dist
Unicode-UTF8 v0.62
Platform
Perl 5 v5.18.0 amd64-freebsd-thread-multi
Date
2019-07-01 11:54:54
ID
0a1cb29e-9bf7-11e9-8fa9-99a29f1e7dde
This distribution has been tested as part of the CPAN Testers
project, supporting the Perl programming language.  See
http://wiki.cpantesters.org/ for more information or email
questions to cpan-testers-discuss@perl.org


--
Dear Christian Hansen,

This is a computer-generated report for Unicode-UTF8-0.62
on perl 5.18.0, created by CPAN-Reporter-1.2018.

Thank you for uploading your work to CPAN.  Congratulations!
All tests were successful.

Sections of this report:

    * Tester comments
    * Program output
    * Prerequisites
    * Environment and other context

------------------------------
TESTER COMMENTS
------------------------------

Additional comments from tester:

this report is from an automated smoke testing program
and was not reviewed by a human for accuracy

------------------------------
PROGRAM OUTPUT
------------------------------

Output from '/usr/bin/make test':

"/mnt/nas/home/netgate3/njh/perl5/perlbrew/perls/perl-5.18.0-thread/bin/perl5.18.0" "-Iinc" -MExtUtils::Command::MM -e 'cp_nonempty' -- UTF8.bs blib/arch/auto/Unicode/UTF8/UTF8.bs 644
PERL_DL_NONLAZY=1 "/mnt/nas/home/netgate3/njh/perl5/perlbrew/perls/perl-5.18.0-thread/bin/perl5.18.0" "-MExtUtils::Command::MM" "-MTest::Harness" "-e" "undef *Test::Harness::Switches; test_harness(0, 'inc', 'blib/lib', 'blib/arch')" t/*.t t/*/*.t
# Unicode::UTF8 0.62, Perl 5.018000, /mnt/nas/home/netgate3/njh/perl5/perlbrew/perls/perl-5.18.0-thread/bin/perl5.18.0
t/000_load.t ............... ok
t/030_native.t ............. ok
t/040_wide_characters.t .... ok
t/010_basic.t .............. ok
t/050_noncharacters.t ...... ok
t/045_replacement.t ........ ok
t/080_super.t .............. ok
t/060_surrogates.t ......... ok
t/090_non_shortest_form.t .. ok
t/120_fallback.t ........... ok
t/100_incomplete.t ......... ok
t/150_subwarnings.t ........ ok
t/170_steal.t .............. ok
t/200_leaks.t .............. skipped: Test::LeakTrace 0.10 is required for this test
t/210_tainted.t ............ ok
t/220_magic.t .............. ok
t/999_pod.t ................ skipped: Test::Pod 1.00 required for this test
All tests successful.
Files=17, Tests=12038, 13 wallclock secs ( 5.38 usr  0.45 sys + 14.63 cusr  3.52 csys = 23.97 CPU)
Result: PASS

------------------------------
PREREQUISITES
------------------------------

Prerequisite modules loaded:

requires:

    Module              Need     Have    
    ------------------- -------- --------
    Carp                0        1.29    
    Exporter            0        5.68    
    perl                5.008001 5.018000
    XSLoader            0        0.16    

build_requires:

    Module              Need     Have    
    ------------------- -------- --------
    Encode              1.9801   2.49    
    ExtUtils::MakeMaker 6.59     7.34    
    Test::Fatal         0.006    0.014   
    Test::More          0.47     1.302162

configure_requires:

    Module              Need     Have    
    ------------------- -------- --------
    ExtUtils::MakeMaker 6.59     7.34    


------------------------------
ENVIRONMENT AND OTHER CONTEXT
------------------------------

Environment variables:

    AUTOMATED_TESTING = 1
    HARNESS_OPTIONS = j2
    NONINTERACTIVE_TESTING = 1
    PATH = /home/njh/perl5/perlbrew/bin:/home/njh/perl5/perlbrew/perls/perl-5.18.0-thread/bin:/home/njh/src/njh/smoker/bin:/sbin:/bin:/usr/sbin:/usr/bin:/usr/local/sbin:/usr/local/bin
    PERL5LIB = /var/tmp/build/Test-CheckDeps-0.010-2/blib/arch:/var/tmp/build/Test-CheckDeps-0.010-2/blib/lib:/var/tmp/build/CPAN-Meta-Check-0.014-23/blib/arch:/var/tmp/build/CPAN-Meta-Check-0.014-23/blib/lib:/var/tmp/build/Module-Metadata-1.000036-5/blib/arch:/var/tmp/build/Module-Metadata-1.000036-5/blib/lib:/var/tmp/build/JSON-MaybeXS-1.004000-15/blib/arch:/var/tmp/build/JSON-MaybeXS-1.004000-15/blib/lib:/var/tmp/build/Cpanel-JSON-XS-4.12-15/blib/arch:/var/tmp/build/Cpanel-JSON-XS-4.12-15/blib/lib:/var/tmp/build/IO-Async-0.74-8/blib/arch:/var/tmp/build/IO-Async-0.74-8/blib/lib:/var/tmp/build/Struct-Dumb-0.09-6/blib/arch:/var/tmp/build/Struct-Dumb-0.09-6/blib/lib:/var/tmp/build/Future-0.41-10/blib/arch:/var/tmp/build/Future-0.41-10/blib/lib:/var/tmp/build/Test-Refcount-0.10-9/blib/arch:/var/tmp/build/Test-Refcount-0.10-9/blib/lib:/var/tmp/build/Test-Identity-0.01-9/blib/arch:/var/tmp/build/Test-Identity-0.01-9/blib/lib:/var/tmp/build/Module-Build-0.4229-22/blib/arch:/var/tmp/build/Module-Build-0.4229-22/blib/lib
    PERL5OPT = 
    PERL5_CPANPLUS_IS_RUNNING = 85411
    PERL5_CPAN_IS_RUNNING = 85411
    PERL5_CPAN_IS_RUNNING_IN_RECURSION = 76468,85411
    PERLBREW_HOME = /home/njh/.perlbrew
    PERLBREW_MANPATH = /home/njh/perl5/perlbrew/perls/perl-5.18.0-thread/man
    PERLBREW_PATH = /home/njh/perl5/perlbrew/bin:/home/njh/perl5/perlbrew/perls/perl-5.18.0-thread/bin
    PERLBREW_PERL = perl-5.18.0-thread
    PERLBREW_ROOT = /home/njh/perl5/perlbrew
    PERLBREW_SHELLRC_VERSION = 0.84
    PERLBREW_VERSION = 0.84
    PERL_MM_USE_DEFAULT = 1
    PERL_USE_UNSAFE_INC = 1
    SHELL = /bin/sh
    TMPDIR = /tmp/testwrapper.78199

Perl special variables (and OS-specific diagnostics, for MSWin32):

    $^X = /mnt/nas/home/netgate3/njh/perl5/perlbrew/perls/perl-5.18.0-thread/bin/perl5.18.0
    $UID/$EUID = 1000 / 1000
    $GID = 1000 1000 0
    $EGID = 1000 1000 0

Perl module toolchain versions installed:

    Module              Have    
    ------------------- --------
    CPAN                2.22    
    CPAN::Meta          2.150010
    Cwd                 3.40    
    ExtUtils::CBuilder  0.280210
    ExtUtils::Command   7.34    
    ExtUtils::Install   2.06    
    ExtUtils::MakeMaker 7.34    
    ExtUtils::Manifest  1.70    
    ExtUtils::ParseXS   3.18    
    File::Spec          3.40    
    JSON                2.97001 
    JSON::PP            4.00    
    Module::Build       0.4229  
    Module::Signature   n/a     
    Parse::CPAN::Meta   2.150010
    Test::Harness       3.42    
    Test::More          1.302162
    YAML                1.29    
    YAML::Syck          n/a     
    version             0.9902  


--

Summary of my perl5 (revision 5 version 18 subversion 0) configuration:
   
  Platform:
    osname=freebsd, osvers=11.2-release, archname=amd64-freebsd-thread-multi
    uname='freebsd netgate3 11.2-release freebsd 11.2-release #0 r335510: fri jun 22 04:32:14 utc 2018 root@releng2.nyi.freebsd.org:usrobjusrsrcsysgeneric amd64 '
    config_args='-de -Dprefix=/home/njh/perl5/perlbrew/perls/perl-5.18.0-thread -Dusedevel -Dusethreads -Accflags= -Aeval:scriptdir=/home/njh/perl5/perlbrew/perls/perl-5.18.0-thread/bin'
    hint=recommended, useposix=true, d_sigaction=define
    useithreads=define, usemultiplicity=define
    useperlio=define, d_sfio=undef, uselargefiles=define, usesocks=undef
    use64bitint=define, use64bitall=define, uselongdouble=undef
    usemymalloc=n, bincompat5005=undef
  Compiler:
    cc='cc', ccflags ='-DHAS_FPSETMASK -DHAS_FLOATINGPOINT_H -fno-strict-aliasing -pipe -fstack-protector -I/usr/local/include',
    optimize='-O2',
    cppflags='-DHAS_FPSETMASK -DHAS_FLOATINGPOINT_H -fno-strict-aliasing -pipe -fstack-protector -I/usr/local/include'
    ccversion='', gccversion='4.2.1 Compatible FreeBSD Clang 6.0.0 (tags/RELEASE_600/final 326565)', gccosandvers=''
    intsize=4, longsize=8, ptrsize=8, doublesize=8, byteorder=12345678
    d_longlong=define, longlongsize=8, d_longdbl=define, longdblsize=16
    ivtype='long', ivsize=8, nvtype='double', nvsize=8, Off_t='off_t', lseeksize=8
    alignbytes=8, prototype=define
  Linker and Libraries:
    ld='cc', ldflags ='-pthread -Wl,-E  -fstack-protector -L/usr/local/lib'
    libpth=/usr/lib /usr/local/lib
    libs=-ldl -lm -lcrypt -lutil
    perllibs=-ldl -lm -lcrypt -lutil
    libc=, so=so, useshrplib=false, libperl=libperl.a
    gnulibc_version=''
  Dynamic Linking:
    dlsrc=dl_dlopen.xs, dlext=so, d_dlsymun=undef, ccdlflags=' '
    cccdlflags='-DPIC -fPIC', lddlflags='-shared  -L/usr/local/lib -fstack-protector'


Characteristics of this binary (from libperl): 
  Compile-time options: HAS_TIMES MULTIPLICITY PERLIO_LAYERS
                        PERL_DONT_CREATE_GVSV
                        PERL_HASH_FUNC_ONE_AT_A_TIME_HARD
                        PERL_IMPLICIT_CONTEXT PERL_MALLOC_WRAP
                        PERL_PRESERVE_IVUV PERL_SAWAMPERSAND PERL_USE_DEVEL
                        USE_64_BIT_ALL USE_64_BIT_INT USE_ITHREADS
                        USE_LARGE_FILES USE_LOCALE USE_LOCALE_COLLATE
                        USE_LOCALE_CTYPE USE_LOCALE_NUMERIC USE_PERLIO
                        USE_PERL_ATOF USE_REENTRANT_API
  Locally applied patches:
	Devel::PatchPerl 1.52
  Built under freebsd
  Compiled at Sep 14 2018 17:26:50
  %ENV:
    PERL5LIB="/var/tmp/build/Test-CheckDeps-0.010-2/blib/arch:/var/tmp/build/Test-CheckDeps-0.010-2/blib/lib:/var/tmp/build/CPAN-Meta-Check-0.014-23/blib/arch:/var/tmp/build/CPAN-Meta-Check-0.014-23/blib/lib:/var/tmp/build/Module-Metadata-1.000036-5/blib/arch:/var/tmp/build/Module-Metadata-1.000036-5/blib/lib:/var/tmp/build/JSON-MaybeXS-1.004000-15/blib/arch:/var/tmp/build/JSON-MaybeXS-1.004000-15/blib/lib:/var/tmp/build/Cpanel-JSON-XS-4.12-15/blib/arch:/var/tmp/build/Cpanel-JSON-XS-4.12-15/blib/lib:/var/tmp/build/IO-Async-0.74-8/blib/arch:/var/tmp/build/IO-Async-0.74-8/blib/lib:/var/tmp/build/Struct-Dumb-0.09-6/blib/arch:/var/tmp/build/Struct-Dumb-0.09-6/blib/lib:/var/tmp/build/Future-0.41-10/blib/arch:/var/tmp/build/Future-0.41-10/blib/lib:/var/tmp/build/Test-Refcount-0.10-9/blib/arch:/var/tmp/build/Test-Refcount-0.10-9/blib/lib:/var/tmp/build/Test-Identity-0.01-9/blib/arch:/var/tmp/build/Test-Identity-0.01-9/blib/lib:/var/tmp/build/Module-Build-0.4229-22/blib/arch:/var/tmp/build/Module-Build-0.4229-22/blib/lib"
    PERL5OPT=""
    PERL5_CPANPLUS_IS_RUNNING="85411"
    PERL5_CPAN_IS_RUNNING="85411"
    PERL5_CPAN_IS_RUNNING_IN_RECURSION="76468,85411"
    PERLBREW_HOME="/home/njh/.perlbrew"
    PERLBREW_MANPATH="/home/njh/perl5/perlbrew/perls/perl-5.18.0-thread/man"
    PERLBREW_PATH="/home/njh/perl5/perlbrew/bin:/home/njh/perl5/perlbrew/perls/perl-5.18.0-thread/bin"
    PERLBREW_PERL="perl-5.18.0-thread"
    PERLBREW_ROOT="/home/njh/perl5/perlbrew"
    PERLBREW_SHELLRC_VERSION="0.84"
    PERLBREW_VERSION="0.84"
    PERL_MM_USE_DEFAULT="1"
    PERL_USE_UNSAFE_INC="1"
  @INC:
    /var/tmp/build/Test-CheckDeps-0.010-2/blib/arch
    /var/tmp/build/Test-CheckDeps-0.010-2/blib/lib
    /var/tmp/build/CPAN-Meta-Check-0.014-23/blib/arch
    /var/tmp/build/CPAN-Meta-Check-0.014-23/blib/lib
    /var/tmp/build/Module-Metadata-1.000036-5/blib/arch
    /var/tmp/build/Module-Metadata-1.000036-5/blib/lib
    /var/tmp/build/JSON-MaybeXS-1.004000-15/blib/arch
    /var/tmp/build/JSON-MaybeXS-1.004000-15/blib/lib
    /var/tmp/build/Cpanel-JSON-XS-4.12-15/blib/arch
    /var/tmp/build/Cpanel-JSON-XS-4.12-15/blib/lib
    /var/tmp/build/IO-Async-0.74-8/blib/arch
    /var/tmp/build/IO-Async-0.74-8/blib/lib
    /var/tmp/build/Struct-Dumb-0.09-6/blib/arch
    /var/tmp/build/Struct-Dumb-0.09-6/blib/lib
    /var/tmp/build/Future-0.41-10/blib/arch
    /var/tmp/build/Future-0.41-10/blib/lib
    /var/tmp/build/Test-Refcount-0.10-9/blib/arch
    /var/tmp/build/Test-Refcount-0.10-9/blib/lib
    /var/tmp/build/Test-Identity-0.01-9/blib/arch
    /var/tmp/build/Test-Identity-0.01-9/blib/lib
    /var/tmp/build/Module-Build-0.4229-22/blib/arch
    /var/tmp/build/Module-Build-0.4229-22/blib/lib
    /home/njh/perl5/perlbrew/perls/perl-5.18.0-thread/lib/site_perl/5.18.0/amd64-freebsd-thread-multi
    /home/njh/perl5/perlbrew/perls/perl-5.18.0-thread/lib/site_perl/5.18.0
    /home/njh/perl5/perlbrew/perls/perl-5.18.0-thread/lib/5.18.0/amd64-freebsd-thread-multi
    /home/njh/perl5/perlbrew/perls/perl-5.18.0-thread/lib/5.18.0
    .