JSON-Schema-Tiny v0.030 Perl 5 v5.38.3 x86_64-linux-ld

Status
Pass
From
Andreas J. König (ANDK)
Dist
JSON-Schema-Tiny v0.030
Platform
Perl 5 v5.38.3 x86_64-linux-ld
Date
2025-05-07 03:19:09
ID
0a451b9a-2af2-11f0-8e75-aa6b2a96521c
This distribution has been tested as part of the CPAN Testers
project, supporting the Perl programming language.  See
http://wiki.cpantesters.org/ for more information or email
questions to cpan-testers-discuss@perl.org


--
Dear Karen Etheridge,

This is a computer-generated report for JSON-Schema-Tiny-0.030
on perl 5.38.3, created by CPAN-Reporter-1.2020.

Thank you for uploading your work to CPAN.  Congratulations!
All tests were successful.

Sections of this report:

    * Tester comments
    * Program output
    * Prerequisites
    * Environment and other context

------------------------------
TESTER COMMENTS
------------------------------

Additional comments from tester:

this report is from an automated smoke testing program
and was not reviewed by a human for accuracy

------------------------------
PROGRAM OUTPUT
------------------------------

Output from './Build test':

# 
# Versions for all modules listed in MYMETA.json (including optional ones):
# 
# === Configure Requires ===
# 
#     Module               Want     Have
#     ------------------- ----- --------
#     Module::Build::Tiny 0.034    0.051
#     perl                5.020 5.038003
# 
# === Test Requires ===
# 
#     Module                          Want     Have
#     ------------------------------ ----- --------
#     Data::Dumper                     any    2.188
#     File::Spec                       any     3.88
#     List::Util                      1.50     1.69
#     Math::BigInt                     any 2.005002
#     Module::Metadata                 any 1.000037
#     Path::Tiny                       any    0.146
#     Test::Deep                       any    1.204
#     Test::Fatal                      any    0.017
#     Test::JSON::Schema::Acceptance 1.026    1.027
#     Test::More                      0.96 1.302209
#     Test::Warnings                   any    0.037
#     lib                              any     0.65
#     open                             any     1.13
#     perl                           5.020 5.038003
#     strict                           any     1.12
#     utf8                             any     1.25
# 
# === Test Recommends ===
# 
#     Module         Want     Have
#     ---------- -------- --------
#     CPAN::Meta 2.120900 2.150010
# 
# === Runtime Requires ===
# 
#     Module                   Want     Have
#     -------------------- -------- --------
#     B                         any     1.88
#     Carp                      any     1.54
#     Exporter                 5.57     5.77
#     Feature::Compat::Try      any     0.05
#     JSON::PP                  any     4.16
#     List::Util               1.50     1.69
#     Math::BigFloat            any 2.005002
#     Mojo::JSON                any    undef
#     Mojo::JSON::Pointer       any    undef
#     Mojo::URL                 any    undef
#     Mojolicious              7.23     9.39
#     Ref::Util               0.100    0.204
#     Scalar::Util              any     1.69
#     Storable                  any     3.32
#     autovivification          any     0.18
#     builtin::compat      0.003003 0.003003
#     constant                  any     1.33
#     experimental            0.026    0.034
#     if                        any   0.0610
#     namespace::clean          any     0.27
#     perl                    5.020 5.038003
#     stable                  0.031    0.034
#     strictures                  2 2.000006
#     warnings                  any     1.65
# 
# === Runtime Suggests ===
# 
#     Module           Want  Have
#     ---------------- ---- -----
#     Cpanel::JSON::XS  any  4.39
#     Ref::Util::XS     any 0.117
# 
# === Other Modules ===
# 
#     Module               Have
#     ----------------- -------
#     Cpanel::JSON::XS     4.39
#     Encode               3.21
#     File::Temp         0.2311
#     JSON::PP             4.16
#     JSON::XS             4.03
#     Module::Runtime     0.018
#     Mojolicious          9.39
#     Sub::Name            0.28
#     YAML                 1.31
#     autodie              2.36
#     builtin             0.008
#     builtin::Backport missing
# 
t/00-report-prereqs.t .............. ok
# 
# generated with:              Test::JSON::Schema::Acceptance 1.027
# specification version:       draft2019-09
# using custom test directory: t/additional-tests-draft2019-09
# optional tests included:     no
# 
# filename                                  pass  todo-fail  fail
# ---------------------------------------------------------------
# anchor.json                                  2          0     0
# badRef.json                                  1          0     0
# faux-buggy-schemas.json                      2          0     0
# id.json                                      6          0     0
# integers.json                               29          0     0
# invalid-input.json                           2          0     0
# keyword-independence.json                  750         62     0
# loose-types-const-enum.json                  8          0     0
# ref-and-id.json                              1          0     0
# ref.json                                     4          0     0
# short-circuit.json                          16          0     0
# unknownKeyword.json                          4          0     0
# vocabulary.json                              1          0     0
# ---------------------------------------------------------------
# TOTAL                                      826         62     0
# 
# WARNING: some non-optional tests are failing! This implementation is not fully compliant with the specification!
# 
t/additional-tests-draft2019-09.t .. ok
# 
# generated with:              Test::JSON::Schema::Acceptance 1.027
# specification version:       draft2020-12
# using custom test directory: t/additional-tests-draft2020-12
# optional tests included:     no
# 
# filename                                  pass  todo-fail  fail
# ---------------------------------------------------------------
# anchor.json                                  2          0     0
# badRef.json                                  1          0     0
# faux-buggy-schemas.json                      2          0     0
# id.json                                      6          0     0
# integers.json                               29          0     0
# invalid-input.json                           2          0     0
# keyword-independence.json                  756          0     0
# loose-types-const-enum.json                  8          0     0
# ref.json                                     4          0     0
# short-circuit.json                          16          0     0
# unknownKeyword.json                          4          0     0
# vocabulary.json                              1          0     0
# ---------------------------------------------------------------
# TOTAL                                      831          0     0
# 
# Congratulations, all non-optional tests are passing!
# 
t/additional-tests-draft2020-12.t .. ok
# 
# generated with:              Test::JSON::Schema::Acceptance 1.027
# specification version:       draft7
# using custom test directory: t/additional-tests-draft7
# optional tests included:     no
# 
# filename                                  pass  todo-fail  fail
# ---------------------------------------------------------------
# anchor.json                                  2          0     0
# badRef.json                                  1          0     0
# faux-buggy-schemas.json                      2          0     0
# id.json                                      4          0     0
# integers.json                               29          0     0
# invalid-input.json                           2          0     0
# keyword-independence.json                  636          0     0
# loose-types-const-enum.json                  8          0     0
# ref-and-id.json                              1          0     0
# ref.json                                     4          0     0
# short-circuit.json                          16          0     0
# unknownKeyword.json                          4          0     0
# vocabulary.json                              1          0     0
# ---------------------------------------------------------------
# TOTAL                                      710          0     0
# 
# Congratulations, all non-optional tests are passing!
# 
t/additional-tests-draft7.t ........ ok
t/boolean-data.t ................... ok
t/boolean-schemas.t ................ ok
t/equality.t ....................... ok
t/errors.t ......................... ok
t/max_traversal_depth.t ............ ok
t/pattern.t ........................ ok
t/ref.t ............................ ok
t/specification_version.t .......... ok
t/stringy-numbers.t ................ ok
t/type.t ........................... ok
t/unsupported-keywords.t ........... ok
# 
# generated with:              Test::JSON::Schema::Acceptance 1.027
# with commit:                 e524505b8ac4a61c5dc162b51d68c2385a134706 (Test-JSON-Schema-Acceptance-1.026-16-ge524505)
# from repository:             git://github.com/json-schema-org/JSON-Schema-Test-Suite.git
# specification version:       draft2019-09
# optional tests included:     yes
# skipping directory:          optional/format
# 
# filename                                  pass  todo-fail  fail
# ---------------------------------------------------------------
# additionalItems.json                        20          0     0
# additionalProperties.json                   21          0     0
# allOf.json                                  30          0     0
# anchor.json                                  4          4     0
# anyOf.json                                  18          0     0
# boolean_schema.json                         18          0     0
# const.json                                  50          0     0
# contains.json                               21          0     0
# content.json                                18          0     0
# default.json                                 7          0     0
# defs.json                                    1          1     0
# dependentRequired.json                      20          0     0
# dependentSchemas.json                       20          0     0
# enum.json                                   45          0     0
# exclusiveMaximum.json                        4          0     0
# exclusiveMinimum.json                        4          0     0
# format.json                                114          0     0
# if-then-else.json                           26          0     0
# infinite-loop-detection.json                 2          0     0
# items.json                                  28          0     0
# maxContains.json                            12          0     0
# maxItems.json                                6          0     0
# maxLength.json                               7          0     0
# maxProperties.json                          10          0     0
# maximum.json                                 8          0     0
# minContains.json                            28          0     0
# minItems.json                                6          0     0
# minLength.json                               7          0     0
# minProperties.json                           8          0     0
# minimum.json                                11          0     0
# multipleOf.json                             10          0     0
# not.json                                    39          1     0
# oneOf.json                                  27          0     0
# pattern.json                                 9          0     0
# patternProperties.json                      23          0     0
# properties.json                             28          0     0
# propertyNames.json                          13          0     0
# recursiveRef.json                           20         14     0
# ref.json                                    65         14     0
# refRemote.json                              15         16     0
# required.json                               16          0     0
# type.json                                   80          0     0
# unevaluatedItems.json                       20         35     0
# unevaluatedProperties.json                  60         62     0
# uniqueItems.json                            69          0     0
# vocabulary.json                              2          3     0
# optional/anchor.json                         2          2     0
# optional/bignum.json                         9          0     0
# optional/cross-draft.json                    1          2     0
# optional/dependencies-compatibility.json    22         14     0
# optional/ecmascript-regex.json              60         14     0
# optional/float-overflow.json                 1          0     0
# optional/id.json                             1          2     0
# optional/no-schema.json                      3          0     0
# optional/non-bmp-regex.json                 12          0     0
# optional/refOfUnknownKeyword.json            6          0     0
# optional/unknownKeyword.json                 2          1     0
# ---------------------------------------------------------------
# TOTAL                                     1189        185     0
# 
# WARNING: some non-optional tests are failing! This implementation is not fully compliant with the specification!
# 
t/zzz-acceptance-draft2019-09.t .... ok
# 
# generated with:              Test::JSON::Schema::Acceptance 1.027
# with commit:                 e524505b8ac4a61c5dc162b51d68c2385a134706 (Test-JSON-Schema-Acceptance-1.026-16-ge524505)
# from repository:             git://github.com/json-schema-org/JSON-Schema-Test-Suite.git
# specification version:       draft2020-12
# optional tests included:     yes
# skipping directory:          optional/format
# 
# filename                                  pass  todo-fail  fail
# ---------------------------------------------------------------
# additionalProperties.json                   21          0     0
# allOf.json                                  30          0     0
# anchor.json                                  4          4     0
# anyOf.json                                  18          0     0
# boolean_schema.json                         18          0     0
# const.json                                  50          0     0
# contains.json                               21          0     0
# content.json                                18          0     0
# default.json                                 7          0     0
# defs.json                                    1          1     0
# dependentRequired.json                      20          0     0
# dependentSchemas.json                       20          0     0
# dynamicRef.json                             22         20     0
# enum.json                                   45          0     0
# exclusiveMaximum.json                        4          0     0
# exclusiveMinimum.json                        4          0     0
# format.json                                133          0     0
# if-then-else.json                           26          0     0
# infinite-loop-detection.json                 2          0     0
# items.json                                  29          0     0
# maxContains.json                            12          0     0
# maxItems.json                                6          0     0
# maxLength.json                               7          0     0
# maxProperties.json                          10          0     0
# maximum.json                                 8          0     0
# minContains.json                            28          0     0
# minItems.json                                6          0     0
# minLength.json                               7          0     0
# minProperties.json                           8          0     0
# minimum.json                                11          0     0
# multipleOf.json                             10          0     0
# not.json                                    39          1     0
# oneOf.json                                  27          0     0
# pattern.json                                 9          0     0
# patternProperties.json                      23          0     0
# prefixItems.json                            11          0     0
# properties.json                             28          0     0
# propertyNames.json                          10          0     0
# ref.json                                    64         13     0
# refRemote.json                              15         16     0
# required.json                               16          0     0
# type.json                                   80          0     0
# unevaluatedItems.json                       26         40     0
# unevaluatedProperties.json                  60         62     0
# uniqueItems.json                            69          0     0
# vocabulary.json                              2          3     0
# optional/anchor.json                         2          2     0
# optional/bignum.json                         9          0     0
# optional/cross-draft.json                    0          1     0
# optional/dependencies-compatibility.json    22         14     0
# optional/dynamicRef.json                     1          1     0
# optional/ecmascript-regex.json              60         14     0
# optional/float-overflow.json                 1          0     0
# optional/format-assertion.json               2          2     0
# optional/id.json                             1          2     0
# optional/no-schema.json                      3          0     0
# optional/non-bmp-regex.json                 12          0     0
# optional/refOfUnknownKeyword.json            6          0     0
# optional/unknownKeyword.json                 2          1     0
# ---------------------------------------------------------------
# TOTAL                                     1206        197     0
# 
# WARNING: some non-optional tests are failing! This implementation is not fully compliant with the specification!
# 
t/zzz-acceptance-draft2020-12.t .... ok
# 
# generated with:              Test::JSON::Schema::Acceptance 1.027
# with commit:                 e524505b8ac4a61c5dc162b51d68c2385a134706 (Test-JSON-Schema-Acceptance-1.026-16-ge524505)
# from repository:             git://github.com/json-schema-org/JSON-Schema-Test-Suite.git
# specification version:       draft7
# optional tests included:     yes
# skipping directory:          optional/format
# 
# filename                                  pass  todo-fail  fail
# ---------------------------------------------------------------
# additionalItems.json                        20          0     0
# additionalProperties.json                   16          0     0
# allOf.json                                  30          0     0
# anyOf.json                                  18          0     0
# boolean_schema.json                         18          0     0
# const.json                                  50          0     0
# contains.json                               21          0     0
# default.json                                 7          0     0
# definitions.json                             1          1     0
# dependencies.json                           36          0     0
# enum.json                                   45          0     0
# exclusiveMaximum.json                        4          0     0
# exclusiveMinimum.json                        4          0     0
# format.json                                102          0     0
# if-then-else.json                           26          0     0
# infinite-loop-detection.json                 2          0     0
# items.json                                  28          0     0
# maxItems.json                                6          0     0
# maxLength.json                               7          0     0
# maxProperties.json                          10          0     0
# maximum.json                                 8          0     0
# minItems.json                                6          0     0
# minLength.json                               7          0     0
# minProperties.json                           8          0     0
# minimum.json                                11          0     0
# multipleOf.json                             10          0     0
# not.json                                    38          0     0
# oneOf.json                                  27          0     0
# pattern.json                                 9          0     0
# patternProperties.json                      23          0     0
# properties.json                             28          0     0
# propertyNames.json                          13          0     0
# ref.json                                    64         14     0
# refRemote.json                              11         12     0
# required.json                               16          0     0
# type.json                                   80          0     0
# uniqueItems.json                            69          0     0
# optional/bignum.json                         9          0     0
# optional/content.json                        6          4     0
# optional/cross-draft.json                    1          1     0
# optional/ecmascript-regex.json              60         14     0
# optional/float-overflow.json                 1          0     0
# optional/id.json                             5          2     0
# optional/non-bmp-regex.json                 12          0     0
# optional/unknownKeyword.json                 2          1     0
# ---------------------------------------------------------------
# TOTAL                                      975         49     0
# 
# WARNING: some non-optional tests are failing! This implementation is not fully compliant with the specification!
# 
t/zzz-acceptance-draft7.t .......... ok
All tests successful.

Test Summary Report
-------------------
t/additional-tests-draft2019-09.t (Wstat: 0 Tests: 889 Failed: 0)
  TODO passed:   123-142, 199-202, 239-242, 279-282, 319-362
                399-402, 451-462, 511-514, 551-554, 591-594
                631-634, 671-674, 843-854
t/zzz-acceptance-draft2019-09.t  (Wstat: 0 Tests: 1374 Failed: 0)
  TODO passed:   72-79, 212-213, 628-629, 730-763, 783-784
                791-792, 799-810, 823-834, 841-873, 970-1146
                1216-1224, 1234-1272, 1281-1290, 1296, 1307
                1318-1319, 1326, 1335-1336, 1343, 1348-1350
                1372
t/zzz-acceptance-draft2020-12.t  (Wstat: 0 Tests: 1403 Failed: 0)
  TODO passed:   52-59, 192-193, 234-275, 670-671, 799-800
                807-808, 815-826, 839-850, 857-887, 984-1171
                1241-1249, 1259-1297, 1306-1315, 1321, 1332
                1343-1344, 1351, 1360-1361, 1368, 1373-1379
                1401
t/zzz-acceptance-draft7.t        (Wstat: 0 Tests: 1024 Failed: 0)
  TODO passed:   181-182, 660-663, 670-671, 674-679, 683-690
                703-712, 719-741, 916-927, 936-945, 951
                962, 973-974, 981, 990-991, 998, 1003-1009
                1022
Files=18, Tests=6384, 25 wallclock secs ( 2.57 usr  0.15 sys + 15.99 cusr  1.56 csys = 20.27 CPU)
Result: PASS

------------------------------
PREREQUISITES
------------------------------

Prerequisite modules loaded:

requires:

    Module                         Need     Have    
    ------------------------------ -------- --------
    autovivification               0        0.18    
    B                              0        1.88    
    builtin::compat                0.003003 0.003003
    Carp                           0        1.54    
    constant                       0        1.33    
    experimental                   0.026    0.034   
    Exporter                       5.57     5.77    
    Feature::Compat::Try           0        0.05    
    if                             0        0.0610  
    JSON::PP                       0        4.16    
    List::Util                     1.50     1.69    
    Math::BigFloat                 0        2.005002
    Mojo::JSON                     0        0       
    Mojo::JSON::Pointer            0        0       
    Mojo::URL                      0        0       
    Mojolicious                    7.23     9.39    
    namespace::clean               0        0.27    
    perl                           5.020    5.038003
    Ref::Util                      0.100    0.204   
    Scalar::Util                   0        1.69    
    stable                         0.031    0.034   
    Storable                       0        3.32    
    strictures                     2        2.000006
    warnings                       0        1.65    

build_requires:

    Module                         Need     Have    
    ------------------------------ -------- --------
    Data::Dumper                   0        2.188   
    File::Spec                     0        3.88    
    lib                            0        0.65    
    List::Util                     1.50     1.69    
    Math::BigInt                   0        2.005002
    Module::Metadata               0        1.000037
    open                           0        1.13    
    Path::Tiny                     0        0.146   
    perl                           5.020    5.038003
    strict                         0        1.12    
    Test::Deep                     0        1.204   
    Test::Fatal                    0        0.017   
    Test::JSON::Schema::Acceptance 1.026    1.027   
    Test::More                     0.96     1.302209
    Test::Warnings                 0        0.037   
    utf8                           0        1.25    

configure_requires:

    Module                         Need     Have    
    ------------------------------ -------- --------
    Module::Build::Tiny            0.034    0.051   
    perl                           5.020    5.038003


------------------------------
ENVIRONMENT AND OTHER CONTEXT
------------------------------

Environment variables:

    AUTOMATED_TESTING = 1
    LANG = en_US.UTF-8
    LANGUAGE = en_US:en
    PATH = /home/sand/bin:/usr/local/bin:/usr/bin:/bin:/usr/games:/usr/local/perl/bin:/usr/X11/bin:/sbin:/usr/sbin
    PERL5LIB = 
    PERL5OPT = 
    PERL5_CPANPLUS_IS_RUNNING = 1607251
    PERL5_CPAN_IS_RUNNING = 1607251
    PERL_CANARY_STABILITY_NOPROMPT = 1
    PERL_MM_USE_DEFAULT = 1
    PERL_USE_UNSAFE_INC = 1
    SHELL = /usr/bin/zsh
    TERM = screen

Perl special variables (and OS-specific diagnostics, for MSWin32):

    $^X = /home/sand/src/perl/repoperls/installed-perls/host/k93msid/v5.38.3/af11/bin/perl
    $UID/$EUID = 1005 / 1005
    $GID = 1005 1005
    $EGID = 1005 1005

Perl module toolchain versions installed:

    Module              Have    
    ------------------- --------
    CPAN                2.38    
    CPAN::Meta          2.150010
    Cwd                 3.89    
    ExtUtils::CBuilder  0.280238
    ExtUtils::Command   7.70    
    ExtUtils::Install   2.22    
    ExtUtils::MakeMaker 7.70    
    ExtUtils::Manifest  1.75    
    ExtUtils::ParseXS   3.51    
    File::Spec          3.88    
    JSON                4.10    
    JSON::PP            4.16    
    Module::Build       0.4234  
    Module::Signature   0.89    
    Parse::CPAN::Meta   2.150010
    Test2               1.302209
    Test::Harness       3.50    
    Test::More          1.302209
    YAML                1.31    
    YAML::Syck          1.34    
    version             0.9933  


--

Summary of my perl5 (revision 5 version 38 subversion 3) configuration:
  Commit id: 06697759559c52236e296a256776b1222f228163
  Platform:
    osname=linux
    osvers=6.8.12-amd64
    archname=x86_64-linux-ld
    uname='linux k93msid 6.8.12-amd64 #1 smp preempt_dynamic debian 6.8.12-1 (2024-05-31) x86_64 gnulinux '
    config_args='-Dprefix=/home/sand/src/perl/repoperls/installed-perls/host/k93msid/v5.38.3/af11 -Dmyhostname=k93msid -Dinstallusrbinperl=n -Uversiononly -Dusedevel -des -Ui_db -Dlibswanted=cl pthread socket inet nsl gdbm dbm malloc dl ld sun m crypt sec util c cposix posix ucb BSD gdbm_compat -Uuseithreads -Duselongdouble -DEBUGGING=-g'
    hint=recommended
    useposix=true
    d_sigaction=define
    useithreads=undef
    usemultiplicity=undef
    use64bitint=define
    use64bitall=define
    uselongdouble=define
    usemymalloc=n
    default_inc_excludes_dot=define
  Compiler:
    cc='cc'
    ccflags ='-fwrapv -fno-strict-aliasing -pipe -fstack-protector-strong -I/usr/local/include -D_LARGEFILE_SOURCE -D_FILE_OFFSET_BITS=64 -D_FORTIFY_SOURCE=2'
    optimize='-O2 -g'
    cppflags='-fwrapv -fno-strict-aliasing -pipe -fstack-protector-strong -I/usr/local/include'
    ccversion=''
    gccversion='13.3.0'
    gccosandvers=''
    intsize=4
    longsize=8
    ptrsize=8
    doublesize=8
    byteorder=12345678
    doublekind=3
    d_longlong=define
    longlongsize=8
    d_longdbl=define
    longdblsize=16
    longdblkind=3
    ivtype='long'
    ivsize=8
    nvtype='long double'
    nvsize=16
    Off_t='off_t'
    lseeksize=8
    alignbytes=16
    prototype=define
  Linker and Libraries:
    ld='cc'
    ldflags =' -fstack-protector-strong -L/usr/local/lib'
    libpth=/usr/local/lib /usr/lib/x86_64-linux-gnu /usr/lib /usr/lib64
    libs=-lpthread -ldl -lm -lcrypt -lutil -lc
    perllibs=-lpthread -ldl -lm -lcrypt -lutil -lc
    libc=/lib/x86_64-linux-gnu/libc.so.6
    so=so
    useshrplib=false
    libperl=libperl.a
    gnulibc_version='2.38'
  Dynamic Linking:
    dlsrc=dl_dlopen.xs
    dlext=so
    d_dlsymun=undef
    ccdlflags='-Wl,-E'
    cccdlflags='-fPIC'
    lddlflags='-shared -O2 -g -L/usr/local/lib -fstack-protector-strong'


Characteristics of this binary (from libperl): 
  Compile-time options:
    HAS_LONG_DOUBLE
    HAS_STRTOLD
    HAS_TIMES
    PERLIO_LAYERS
    PERL_COPY_ON_WRITE
    PERL_DONT_CREATE_GVSV
    PERL_HASH_FUNC_SIPHASH13
    PERL_HASH_USE_SBOX32
    PERL_MALLOC_WRAP
    PERL_OP_PARENT
    PERL_PRESERVE_IVUV
    PERL_USE_DEVEL
    PERL_USE_SAFE_PUTENV
    USE_64_BIT_ALL
    USE_64_BIT_INT
    USE_LARGE_FILES
    USE_LOCALE
    USE_LOCALE_COLLATE
    USE_LOCALE_CTYPE
    USE_LOCALE_NUMERIC
    USE_LOCALE_TIME
    USE_LONG_DOUBLE
    USE_PERLIO
    USE_PERL_ATOF
  Built under linux
  Compiled at Jan 20 2025 11:06:15
  %ENV:
    PERL5LIB=""
    PERL5OPT=""
    PERL5_CPANPLUS_IS_RUNNING="1607251"
    PERL5_CPAN_IS_RUNNING="1607251"
    PERL_CANARY_STABILITY_NOPROMPT="1"
    PERL_MM_USE_DEFAULT="1"
    PERL_USE_UNSAFE_INC="1"
  @INC:
    /home/sand/src/perl/repoperls/installed-perls/host/k93msid/v5.38.3/af11/lib/site_perl/5.38.3/x86_64-linux-ld
    /home/sand/src/perl/repoperls/installed-perls/host/k93msid/v5.38.3/af11/lib/site_perl/5.38.3
    /home/sand/src/perl/repoperls/installed-perls/host/k93msid/v5.38.3/af11/lib/5.38.3/x86_64-linux-ld
    /home/sand/src/perl/repoperls/installed-perls/host/k93msid/v5.38.3/af11/lib/5.38.3
    .