Report for MooseX-Attribute-ValidateWithException-0.3.1

Back
From: metabase:user:d49cdc72-1559-11e3-9efd-e82414baadac
Subject: PASS MooseX-Attribute-ValidateWithException-0.3.1 v5.21.10 GNU/Linux
Date: 2015-04-20T11:26:08Z

This distribution has been tested as part of the CPAN Testers
project, supporting the Perl programming language.  See
http://wiki.cpantesters.org/ for more information or email
questions to cpan-testers-discuss@perl.org


--
Dear Kent Fredric,

This is a computer-generated report for MooseX-Attribute-ValidateWithException-0.3.1
on perl 5.21.10, created by CPAN-Reporter-1.2014.

Thank you for uploading your work to CPAN.  Congratulations!
All tests were successful.

Sections of this report:

    * Tester comments
    * Program output
    * Prerequisites
    * Environment and other context

------------------------------
TESTER COMMENTS
------------------------------

Additional comments from tester:

none provided

------------------------------
PROGRAM OUTPUT
------------------------------

Output from './Build test':

t/00-compile/lib_MooseX_Attribute_ValidateWithException_AttributeRole_pm.t .. ok
t/00-compile/lib_MooseX_Attribute_ValidateWithException_Exception_pm.t ...... ok
t/00-compile/lib_MooseX_Attribute_ValidateWithException_pm.t ................ ok

# Generated by Dist::Zilla::Plugin::ReportVersions::Tiny v1.10
# perl: 5.021010 (wanted 5.006) on linux from /home/vagrant/perl5/perlbrew/perls/5.21.10/bin/perl5.21.10
# 
# Module::Build                                 => 0.4211     (want 0.4203) 
# Moose                                         => 2.1404     (want 2.1200) 
# Moose::Exporter                               => 2.1404     (want any version)
# Moose::Role                                   => 2.1404     (want any version)
# Test::Fatal                                   => 0.014      (want any version)
# Test::More                                    => 1.301001105 (want 1.001002)
# Throwable::Error                              => 0.200012   (want any version)
# strict                                        => 1.09       (want any version)
# warnings                                      => 1.31       (want any version)
# 
# Thanks for using my code.  I hope it works for you.
# If not, please try and include this output in the bug report.
# That will help me reproduce the issue and solve your problem.
# 
t/000-report-versions-tiny.t ................................................ ok
t/01-basic.t ................................................................ ok
All tests successful.
Files=5, Tests=5,  2 wallclock secs ( 0.03 usr  0.01 sys +  1.34 cusr  0.19 csys =  1.57 CPU)
Result: PASS

------------------------------
PREREQUISITES
------------------------------

Prerequisite modules loaded:

requires:

    Module           Need     Have        
    ---------------- -------- ------------
    Moose            2.1200   2.1404      
    Moose::Exporter  0        2.1404      
    Moose::Role      0        2.1404      
    perl             5.006    5.021010    
    strict           0        1.09        
    Throwable::Error 0        0.200012    
    warnings         0        1.31        

build_requires:

    Module           Need     Have        
    ---------------- -------- ------------
    Module::Build    0.4203   0.4211      
    Test::Fatal      0        0.014       
    Test::More       1.001002 1.301001_105

configure_requires:

    Module           Need     Have        
    ---------------- -------- ------------
    Module::Build    0.4203   0.4211      


------------------------------
ENVIRONMENT AND OTHER CONTEXT
------------------------------

Environment variables:

    LC_CTYPE = en_NZ.UTF8
    NONINTERACTIVE_TESTING = 1
    PATH = /home/vagrant/perl5/perlbrew/bin:/home/vagrant/perl5/perlbrew/perls/5.21.10/bin:/usr/local/bin:/usr/bin:/bin:/opt/bin:/usr/x86_64-pc-linux-gnu/gcc-bin/4.8.4
    PERL5LIB = 
    PERL5OPT = 
    PERL5_CPANPLUS_IS_RUNNING = 7021
    PERL5_CPAN_IS_RUNNING = 7021
    PERLBREW_BASHRC_VERSION = 0.73
    PERLBREW_HOME = /home/vagrant/.perlbrew
    PERLBREW_MANPATH = /home/vagrant/perl5/perlbrew/perls/5.21.10/man
    PERLBREW_PATH = /home/vagrant/perl5/perlbrew/bin:/home/vagrant/perl5/perlbrew/perls/5.21.10/bin
    PERLBREW_PERL = 5.21.10
    PERLBREW_ROOT = /home/vagrant/perl5/perlbrew
    PERLBREW_VERSION = 0.73
    PERL_MM_USE_DEFAULT = 1
    SHELL = /bin/bash
    TERM = screen

Perl special variables (and OS-specific diagnostics, for MSWin32):

    $^X = /home/vagrant/perl5/perlbrew/perls/5.21.10/bin/perl5.21.10
    $UID/$EUID = 1000 / 1000
    $GID = 1000 1000
    $EGID = 1000 1000

Perl module toolchain versions installed:

    Module              Have        
    ------------------- ------------
    CPAN                2.10        
    CPAN::Meta          2.150001    
    Cwd                 3.55        
    ExtUtils::CBuilder  0.280221    
    ExtUtils::Command   1.20        
    ExtUtils::Install   2.04        
    ExtUtils::MakeMaker 7.04        
    ExtUtils::Manifest  1.70        
    ExtUtils::ParseXS   3.27        
    File::Spec          3.55        
    JSON                2.90        
    JSON::PP            2.27300     
    Module::Build       0.4211      
    Module::Signature   0.78        
    Parse::CPAN::Meta   1.4414      
    Test::Harness       3.35        
    Test::More          1.301001_105
    YAML                1.15        
    YAML::Syck          n/a         
    version             0.9909      


--

Summary of my perl5 (revision 5 version 21 subversion 10) configuration:
   
  Platform:
    osname=linux, osvers=3.18.11-gentoo, archname=x86_64-linux
    uname='linux localhost 3.18.11-gentoo #1 smp sat apr 18 20:24:48 utc 2015 x86_64 intel(r) core(tm) i5-2410m cpu @ 2.30ghz genuineintel gnulinux '
    config_args='-de -Dprefix=/home/vagrant/perl5/perlbrew/perls/5.21.10 -Doptimize= -O3 -march=native -mtune=native -Dman1dir=none -Dman3dir=none -Dusedevel -Accflags=-DPERL_HASH_FUNC_SDBM -Aeval:scriptdir=/home/vagrant/perl5/perlbrew/perls/5.21.10/bin'
    hint=recommended, useposix=true, d_sigaction=define
    useithreads=undef, usemultiplicity=undef
    use64bitint=define, use64bitall=define, uselongdouble=undef
    usemymalloc=n, bincompat5005=undef
  Compiler:
    cc='cc', ccflags ='-DPERL_HASH_FUNC_SDBM -fwrapv -fno-strict-aliasing -pipe -fstack-protector -D_LARGEFILE_SOURCE -D_FILE_OFFSET_BITS=64',
    optimize=' -O3 -march=native -mtune=native',
    cppflags='-DPERL_HASH_FUNC_SDBM -fwrapv -fno-strict-aliasing -pipe -fstack-protector'
    ccversion='', gccversion='4.8.4', gccosandvers=''
    intsize=4, longsize=8, ptrsize=8, doublesize=8, byteorder=12345678, doublekind=3
    d_longlong=define, longlongsize=8, d_longdbl=define, longdblsize=16, longdblkind=3
    ivtype='long', ivsize=8, nvtype='double', nvsize=8, Off_t='off_t', lseeksize=8
    alignbytes=8, prototype=define
  Linker and Libraries:
    ld='cc', ldflags =' -fstack-protector -L/usr/local/lib'
    libpth=/usr/lib/gcc/x86_64-pc-linux-gnu/4.8.4/include-fixed /usr/lib /usr/local/lib /lib/../lib64 /usr/lib/../lib64 /lib /lib64 /usr/lib64 /usr/local/lib64
    libs=-lpthread -lnsl -lgdbm -ldb -ldl -lm -lcrypt -lutil -lc -lgdbm_compat
    perllibs=-lpthread -lnsl -ldl -lm -lcrypt -lutil -lc
    libc=libc-2.20.so, so=so, useshrplib=false, libperl=libperl.a
    gnulibc_version='2.20'
  Dynamic Linking:
    dlsrc=dl_dlopen.xs, dlext=so, d_dlsymun=undef, ccdlflags='-Wl,-E'
    cccdlflags='-fPIC', lddlflags='-shared  -O3 -march=native -mtune=native -L/usr/local/lib -fstack-protector'


Characteristics of this binary (from libperl): 
  Compile-time options: HAS_TIMES PERLIO_LAYERS PERL_DONT_CREATE_GVSV
                        PERL_HASH_FUNC_SDBM PERL_MALLOC_WRAP
                        PERL_NEW_COPY_ON_WRITE PERL_PRESERVE_IVUV
                        PERL_USE_DEVEL USE_64_BIT_ALL USE_64_BIT_INT
                        USE_LARGE_FILES USE_LOCALE USE_LOCALE_COLLATE
                        USE_LOCALE_CTYPE USE_LOCALE_NUMERIC USE_LOCALE_TIME
                        USE_PERLIO USE_PERL_ATOF
  Built under linux
  Compiled at Apr 19 2015 03:51:39
  %ENV:
    PERL5LIB=""
    PERL5OPT=""
    PERL5_CPANPLUS_IS_RUNNING="7021"
    PERL5_CPAN_IS_RUNNING="7021"
    PERLBREW_BASHRC_VERSION="0.73"
    PERLBREW_HOME="/home/vagrant/.perlbrew"
    PERLBREW_MANPATH="/home/vagrant/perl5/perlbrew/perls/5.21.10/man"
    PERLBREW_PATH="/home/vagrant/perl5/perlbrew/bin:/home/vagrant/perl5/perlbrew/perls/5.21.10/bin"
    PERLBREW_PERL="5.21.10"
    PERLBREW_ROOT="/home/vagrant/perl5/perlbrew"
    PERLBREW_VERSION="0.73"
    PERL_MM_USE_DEFAULT="1"
  @INC:
    /home/vagrant/perl5/perlbrew/perls/5.21.10/lib/site_perl/5.21.10/x86_64-linux
    /home/vagrant/perl5/perlbrew/perls/5.21.10/lib/site_perl/5.21.10
    /home/vagrant/perl5/perlbrew/perls/5.21.10/lib/5.21.10/x86_64-linux
    /home/vagrant/perl5/perlbrew/perls/5.21.10/lib/5.21.10
    .