Alien-libuv v1.014 Perl 5 v5.24.2 amd64-freebsd

Status
Pass
From
Slaven Rezić (SREZIC)
Dist
Alien-libuv v1.014
Platform
Perl 5 v5.24.2 amd64-freebsd
Date
2020-07-16 05:06:00
ID
0a6d8ab4-c722-11ea-aa81-9d351f24ea8f
This distribution has been tested as part of the CPAN Testers
project, supporting the Perl programming language.  See
http://wiki.cpantesters.org/ for more information or email
questions to cpan-testers-discuss@perl.org


--
Dear Chase Whitener,

This is a computer-generated report for Alien-libuv-1.014
on perl 5.24.2, created by CPAN-Reporter-1.2018.

Thank you for uploading your work to CPAN.  Congratulations!
All tests were successful.

Sections of this report:

    * Tester comments
    * Program output
    * Prerequisites
    * Environment and other context

------------------------------
TESTER COMMENTS
------------------------------

Additional comments from tester:

none provided

------------------------------
PROGRAM OUTPUT
------------------------------

Output from '/usr/bin/make test':

PERL_DL_NONLAZY=1 "/usr/perl5.24.2p/bin/perl" "-MExtUtils::Command::MM" "-MTest::Harness" "-e" "undef *Test::Harness::Switches; test_harness(0, 'blib/lib', 'blib/arch')" t/*.t
# 
# Versions for all modules listed in MYMETA.json (including optional ones):
# 
# === Configure Requires ===
# 
#     Module                             Want    Have
#     ---------------------------------- ---- -------
#     Alien::Build                       2.15    2.26
#     Alien::Build::MM                   0.32    2.26
#     Alien::Build::Plugin::Build::Make  0.01    2.26
#     Alien::Build::Plugin::Probe::Vcpkg 2.15    2.26
#     ExtUtils::MakeMaker                6.52 7.10_02
# 
# === Build Requires ===
# 
#     Module                             Want     Have
#     ---------------------------------- ---- --------
#     Alien::Build                       2.15     2.26
#     Alien::Build::MM                   0.32     2.26
#     Alien::Build::Plugin::Build::Make   any     2.26
#     Alien::Build::Plugin::Probe::Vcpkg 2.15     2.26
#     Config                              any 5.024002
#     ExtUtils::MakeMaker                6.52  7.10_02
#     IPC::Cmd                            any  0.92_01
# 
# === Test Requires ===
# 
#     Module              Want     Have
#     ------------------- ---- --------
#     ExtUtils::MakeMaker 6.52  7.10_02
#     File::Spec           any     3.75
#     Test2::Suite         any 0.000072
#     Test2::V0            any 0.000072
#     Test::Alien          any     2.26
#     Test::More          0.88 1.302140
# 
# === Test Recommends ===
# 
#     Module            Want     Have
#     ------------- -------- --------
#     CPAN::Meta    2.120900 2.150010
#     FFI::Platypus      any  missing
# 
# === Runtime Requires ===
# 
#     Module                                Want    Have
#     ------------------------------------- ---- -------
#     Alien::Autotools                      1.00    1.05
#     Alien::Base                           2.15    2.26
#     Alien::Build                          0.25    2.26
#     Alien::Build::Plugin::Build::Autoconf 0.04    2.26
#     base                                   any 2.23_01
#     strict                                 any    1.11
#     warnings                               any    1.36
# 
t/00-report-prereqs.t .. ok
# 
# 
# 
# HARNESS_ACTIVE=1
# HARNESS_VERSION=3.36_01
# LC_ALL=de_DE.ISO8859-1
# PERL5LIB=/home/cpansand/.cpan/build/2020071607/Alien-libuv-1.014-bBYdYa/blib/lib:/home/cpansand/.cpan/build/2020071607/Alien-libuv-1.014-bBYdYa/blib/arch:/home/cpansand/.cpan/build/2020071607/Alien-Autotools-1.05-DPjPcp/blib/arch:/home/cpansand/.cpan/build/2020071607/Alien-Autotools-1.05-DPjPcp/blib/lib:/home/cpansand/.cpan/build/2020071607/Alien-automake-0.15-ayEwtH/blib/arch:/home/cpansand/.cpan/build/2020071607/Alien-automake-0.15-ayEwtH/blib/lib:/home/cpansand/.cpan/build/2020071607/Alien-autoconf-0.16-DgYfZu/blib/arch:/home/cpansand/.cpan/build/2020071607/Alien-autoconf-0.16-DgYfZu/blib/lib:/home/cpansand/.cpan/build/2020071607/Alien-m4-0.19-iKduVB/blib/arch:/home/cpansand/.cpan/build/2020071607/Alien-m4-0.19-iKduVB/blib/lib:/home/cpansand/.cpan/build/2020071607/Alien-libtool-0.14-zKQinT/blib/arch:/home/cpansand/.cpan/build/2020071607/Alien-libtool-0.14-zKQinT/blib/lib:/home/cpansand/.cpan/build/2020071607/Alien-Build-2.26-6kQzcl/blib/arch:/home/cpansand/.cpan/build/2020071607/Alien-Build-2.26-6kQzcl/blib/lib:/home/cpansand/.cpan/build/2020071607/Alien-Autotools-1.05-DPjPcp/blib/arch:/home/cpansand/.cpan/build/2020071607/Alien-Autotools-1.05-DPjPcp/blib/lib:/home/cpansand/.cpan/build/2020071607/Alien-automake-0.15-ayEwtH/blib/arch:/home/cpansand/.cpan/build/2020071607/Alien-automake-0.15-ayEwtH/blib/lib:/home/cpansand/.cpan/build/2020071607/Alien-autoconf-0.16-DgYfZu/blib/arch:/home/cpansand/.cpan/build/2020071607/Alien-autoconf-0.16-DgYfZu/blib/lib:/home/cpansand/.cpan/build/2020071607/Alien-m4-0.19-iKduVB/blib/arch:/home/cpansand/.cpan/build/2020071607/Alien-m4-0.19-iKduVB/blib/lib:/home/cpansand/.cpan/build/2020071607/Alien-libtool-0.14-zKQinT/blib/arch:/home/cpansand/.cpan/build/2020071607/Alien-libtool-0.14-zKQinT/blib/lib:/home/cpansand/.cpan/build/2020071607/Alien-Build-2.26-6kQzcl/blib/arch:/home/cpansand/.cpan/build/2020071607/Alien-Build-2.26-6kQzcl/blib/lib
# PERL5OPT=
# PERL5_CPANPLUS_IS_RUNNING=76959
# PERL5_CPAN_IS_RUNNING=76959
# PERL5_CPAN_IS_RUNNING_IN_RECURSION=75103,76959
# PERLDOC=-MPod::Perldoc::ToTextOverstrike
# PERL_BATCH=yes
# PERL_CANARY_STABILITY_NOPROMPT=1
# PERL_CPAN_REPORTER_CONFIG=/var/tmp/cpansmoker-1023/2020071606/cpanreporter_000_config.ini
# PERL_DL_NONLAZY=1
# PERL_EXTUTILS_AUTOINSTALL=--defaultdeps
# SHELL=/usr/local/bin/zsh
# 
# 
# 
# PERL5LIB path
# /home/cpansand/.cpan/build/2020071607/Alien-libuv-1.014-bBYdYa/blib/lib
# /home/cpansand/.cpan/build/2020071607/Alien-libuv-1.014-bBYdYa/blib/arch
# /home/cpansand/.cpan/build/2020071607/Alien-Autotools-1.05-DPjPcp/blib/arch
# /home/cpansand/.cpan/build/2020071607/Alien-Autotools-1.05-DPjPcp/blib/lib
# /home/cpansand/.cpan/build/2020071607/Alien-automake-0.15-ayEwtH/blib/arch
# /home/cpansand/.cpan/build/2020071607/Alien-automake-0.15-ayEwtH/blib/lib
# /home/cpansand/.cpan/build/2020071607/Alien-autoconf-0.16-DgYfZu/blib/arch
# /home/cpansand/.cpan/build/2020071607/Alien-autoconf-0.16-DgYfZu/blib/lib
# /home/cpansand/.cpan/build/2020071607/Alien-m4-0.19-iKduVB/blib/arch
# /home/cpansand/.cpan/build/2020071607/Alien-m4-0.19-iKduVB/blib/lib
# /home/cpansand/.cpan/build/2020071607/Alien-libtool-0.14-zKQinT/blib/arch
# /home/cpansand/.cpan/build/2020071607/Alien-libtool-0.14-zKQinT/blib/lib
# /home/cpansand/.cpan/build/2020071607/Alien-Build-2.26-6kQzcl/blib/arch
# /home/cpansand/.cpan/build/2020071607/Alien-Build-2.26-6kQzcl/blib/lib
# /home/cpansand/.cpan/build/2020071607/Alien-Autotools-1.05-DPjPcp/blib/arch
# /home/cpansand/.cpan/build/2020071607/Alien-Autotools-1.05-DPjPcp/blib/lib
# /home/cpansand/.cpan/build/2020071607/Alien-automake-0.15-ayEwtH/blib/arch
# /home/cpansand/.cpan/build/2020071607/Alien-automake-0.15-ayEwtH/blib/lib
# /home/cpansand/.cpan/build/2020071607/Alien-autoconf-0.16-DgYfZu/blib/arch
# /home/cpansand/.cpan/build/2020071607/Alien-autoconf-0.16-DgYfZu/blib/lib
# /home/cpansand/.cpan/build/2020071607/Alien-m4-0.19-iKduVB/blib/arch
# /home/cpansand/.cpan/build/2020071607/Alien-m4-0.19-iKduVB/blib/lib
# /home/cpansand/.cpan/build/2020071607/Alien-libtool-0.14-zKQinT/blib/arch
# /home/cpansand/.cpan/build/2020071607/Alien-libtool-0.14-zKQinT/blib/lib
# /home/cpansand/.cpan/build/2020071607/Alien-Build-2.26-6kQzcl/blib/arch
# /home/cpansand/.cpan/build/2020071607/Alien-Build-2.26-6kQzcl/blib/lib
# 
# 
# 
# perl                                  5.024002
# Alien::Base                           2.26
# Alien::Build                          2.26
# Alien::Build::MM                      2.26
# Alien::Build::Plugin::Build::Autoconf 2.26
# Config                                5.024002
# ExtUtils::MakeMaker                   7.1002
# IPC::Cmd                              0.92_01
# Test2::Suite                          0.000072
# Test::Alien                           2.26
# Test::More                            1.302140
# 
# 
# 
# version        = 1.10.1
# cflags         = -I/usr/local/include
# cflags_static  = -I/usr/local/include
# libs           = -L/usr/local/lib -luv -lrt -lpthread -lkvm
# libs_static    = -L/usr/local/lib -luv -lrt -lpthread -lkvm
# 
# 
# 
t/00_diag.t ............ ok
# Install type: system
t/01_use.t ............. ok
t/ffi.t ................ ok
t/xs.t ................. ok
All tests successful.
Files=5, Tests=9,  1 wallclock secs ( 0.00 usr  0.03 sys +  0.16 cusr  0.76 csys =  0.95 CPU)
Result: PASS
"/usr/perl5.24.2p/bin/perl" -MAlien::Build::MM=cmd -e test
Alien::Build::Plugin::PkgConfig::Negotiate> Using PkgConfig plugin: PkgConfig::CommandLine

------------------------------
PREREQUISITES
------------------------------

Prerequisite modules loaded:

requires:

    Module                                Need Have    
    ------------------------------------- ---- --------
    Alien::Autotools                      1.00 1.05    
    Alien::Base                           2.15 2.26    
    Alien::Build                          0.25 2.26    
    Alien::Build::Plugin::Build::Autoconf 0.04 2.26    
    base                                  0    2.23_01 
    strict                                0    1.11    
    warnings                              0    1.36    

build_requires:

    Module                                Need Have    
    ------------------------------------- ---- --------
    Alien::Build                          2.15 2.26    
    Alien::Build::MM                      0.32 2.26    
    Alien::Build::Plugin::Build::Make     0    2.26    
    Alien::Build::Plugin::Probe::Vcpkg    2.15 2.26    
    Config                                0    5.024002
    ExtUtils::MakeMaker                   6.52 7.10_02 
    File::Spec                            0    3.75    
    IPC::Cmd                              0    0.92_01 
    Test2::Suite                          0    0.000072
    Test2::V0                             0    0.000072
    Test::Alien                           0    2.26    
    Test::More                            0.88 1.302140

configure_requires:

    Module                                Need Have    
    ------------------------------------- ---- --------
    Alien::Build                          2.15 2.26    
    Alien::Build::MM                      0.32 2.26    
    Alien::Build::Plugin::Build::Make     0.01 2.26    
    Alien::Build::Plugin::Probe::Vcpkg    2.15 2.26    
    ExtUtils::MakeMaker                   6.52 7.10_02 


------------------------------
ENVIRONMENT AND OTHER CONTEXT
------------------------------

Environment variables:

    LC_ALL = de_DE.ISO8859-1
    PATH = /usr/local/bin:/usr/bin:/bin:/usr/local/sbin:/usr/sbin:/sbin:/home/cpansand/bin/freebsd10.3:/home/cpansand/bin/sh:/home/cpansand/bin:/usr/games:/home/cpansand/devel:/home/eserte/src/srezic-misc/scripts
    PERL5LIB = /home/cpansand/.cpan/build/2020071607/Alien-Autotools-1.05-DPjPcp/blib/arch:/home/cpansand/.cpan/build/2020071607/Alien-Autotools-1.05-DPjPcp/blib/lib:/home/cpansand/.cpan/build/2020071607/Alien-automake-0.15-ayEwtH/blib/arch:/home/cpansand/.cpan/build/2020071607/Alien-automake-0.15-ayEwtH/blib/lib:/home/cpansand/.cpan/build/2020071607/Alien-autoconf-0.16-DgYfZu/blib/arch:/home/cpansand/.cpan/build/2020071607/Alien-autoconf-0.16-DgYfZu/blib/lib:/home/cpansand/.cpan/build/2020071607/Alien-m4-0.19-iKduVB/blib/arch:/home/cpansand/.cpan/build/2020071607/Alien-m4-0.19-iKduVB/blib/lib:/home/cpansand/.cpan/build/2020071607/Alien-libtool-0.14-zKQinT/blib/arch:/home/cpansand/.cpan/build/2020071607/Alien-libtool-0.14-zKQinT/blib/lib:/home/cpansand/.cpan/build/2020071607/Alien-Build-2.26-6kQzcl/blib/arch:/home/cpansand/.cpan/build/2020071607/Alien-Build-2.26-6kQzcl/blib/lib
    PERL5OPT = 
    PERL5_CPANPLUS_IS_RUNNING = 76959
    PERL5_CPAN_IS_RUNNING = 76959
    PERL5_CPAN_IS_RUNNING_IN_RECURSION = 75103,76959
    PERLDOC = -MPod::Perldoc::ToTextOverstrike
    PERL_BATCH = yes
    PERL_CANARY_STABILITY_NOPROMPT = 1
    PERL_CPAN_REPORTER_CONFIG = /var/tmp/cpansmoker-1023/2020071606/cpanreporter_000_config.ini
    PERL_EXTUTILS_AUTOINSTALL = --defaultdeps
    SHELL = /usr/local/bin/zsh
    TERM = screen
    TMPDIR = /var/tmp/cpansmoker-1023/2020071606

Perl special variables (and OS-specific diagnostics, for MSWin32):

    $^X = /usr/perl5.24.2p/bin/perl
    $UID/$EUID = 1023 / 1023
    $GID = 1023 1023
    $EGID = 1023 1023

Perl module toolchain versions installed:

    Module              Have      
    ------------------- ----------
    CPAN                2.11_01   
    CPAN::Meta          2.150010  
    Cwd                 3.75      
    ExtUtils::CBuilder  0.280225  
    ExtUtils::Command   7.10_02   
    ExtUtils::Install   2.04      
    ExtUtils::MakeMaker 7.10_02   
    ExtUtils::Manifest  1.71      
    ExtUtils::ParseXS   3.31      
    File::Spec          3.75      
    JSON                2.94      
    JSON::PP            2.27300_01
    Module::Build       0.4224    
    Module::Signature   n/a       
    Parse::CPAN::Meta   2.150010  
    Test::Harness       3.36_01   
    Test::More          1.302140  
    YAML                1.23      
    YAML::Syck          1.30      
    version             0.9924    


--

Summary of my perl5 (revision 5 version 24 subversion 2) configuration:
   
  Platform:
    osname=freebsd, osvers=10.3-release-p11, archname=amd64-freebsd
    uname='freebsd cvrsnica-freebsd-101.herceg.de 10.3-release-p11 freebsd 10.3-release-p11 #0: mon oct 24 18:49:24 utc 2016 root@amd64-builder.daemonology.net:usrobjusrsrcsysgeneric amd64 '
    config_args='-ds -e -Dprefix=/usr/perl5.24.2p -Dcf_email=srezic@cpan.org -Doptimize=-O2 -pipe'
    hint=recommended, useposix=true, d_sigaction=define
    useithreads=undef, usemultiplicity=undef
    use64bitint=define, use64bitall=define, uselongdouble=undef
    usemymalloc=n, bincompat5005=undef
  Compiler:
    cc='cc', ccflags ='-DHAS_FPSETMASK -DHAS_FLOATINGPOINT_H -fno-strict-aliasing -pipe -fstack-protector -I/usr/local/include -D_FORTIFY_SOURCE=2',
    optimize='-O2 -pipe',
    cppflags='-DHAS_FPSETMASK -DHAS_FLOATINGPOINT_H -fno-strict-aliasing -pipe -fstack-protector -I/usr/local/include'
    ccversion='', gccversion='4.2.1 Compatible FreeBSD Clang 3.4.1 (tags/RELEASE_34/dot1-final 208032)', gccosandvers=''
    intsize=4, longsize=8, ptrsize=8, doublesize=8, byteorder=12345678, doublekind=3
    d_longlong=define, longlongsize=8, d_longdbl=define, longdblsize=16, longdblkind=3
    ivtype='long', ivsize=8, nvtype='double', nvsize=8, Off_t='off_t', lseeksize=8
    alignbytes=8, prototype=define
  Linker and Libraries:
    ld='cc', ldflags ='-pthread -Wl,-E  -fstack-protector -L/usr/local/lib'
    libpth=/usr/lib /usr/local/lib /usr/include/clang/3.4.1 /usr/lib
    libs=-lpthread -lgdbm -lm -lcrypt -lutil -lc
    perllibs=-lpthread -lm -lcrypt -lutil -lc
    libc=, so=so, useshrplib=false, libperl=libperl.a
    gnulibc_version=''
  Dynamic Linking:
    dlsrc=dl_dlopen.xs, dlext=so, d_dlsymun=undef, ccdlflags=' '
    cccdlflags='-DPIC -fPIC', lddlflags='-shared  -L/usr/local/lib -fstack-protector'


Characteristics of this binary (from libperl): 
  Compile-time options: HAS_TIMES PERLIO_LAYERS PERL_COPY_ON_WRITE
                        PERL_DONT_CREATE_GVSV
                        PERL_HASH_FUNC_ONE_AT_A_TIME_HARD PERL_MALLOC_WRAP
                        PERL_PRESERVE_IVUV USE_64_BIT_ALL USE_64_BIT_INT
                        USE_LARGE_FILES USE_LOCALE USE_LOCALE_COLLATE
                        USE_LOCALE_CTYPE USE_LOCALE_NUMERIC USE_LOCALE_TIME
                        USE_PERLIO USE_PERL_ATOF
  Built under freebsd
  Compiled at Jul 29 2017 11:20:18
  %ENV:
    PERL5LIB="/home/cpansand/.cpan/build/2020071607/Alien-Autotools-1.05-DPjPcp/blib/arch:/home/cpansand/.cpan/build/2020071607/Alien-Autotools-1.05-DPjPcp/blib/lib:/home/cpansand/.cpan/build/2020071607/Alien-automake-0.15-ayEwtH/blib/arch:/home/cpansand/.cpan/build/2020071607/Alien-automake-0.15-ayEwtH/blib/lib:/home/cpansand/.cpan/build/2020071607/Alien-autoconf-0.16-DgYfZu/blib/arch:/home/cpansand/.cpan/build/2020071607/Alien-autoconf-0.16-DgYfZu/blib/lib:/home/cpansand/.cpan/build/2020071607/Alien-m4-0.19-iKduVB/blib/arch:/home/cpansand/.cpan/build/2020071607/Alien-m4-0.19-iKduVB/blib/lib:/home/cpansand/.cpan/build/2020071607/Alien-libtool-0.14-zKQinT/blib/arch:/home/cpansand/.cpan/build/2020071607/Alien-libtool-0.14-zKQinT/blib/lib:/home/cpansand/.cpan/build/2020071607/Alien-Build-2.26-6kQzcl/blib/arch:/home/cpansand/.cpan/build/2020071607/Alien-Build-2.26-6kQzcl/blib/lib"
    PERL5OPT=""
    PERL5_CPANPLUS_IS_RUNNING="76959"
    PERL5_CPAN_IS_RUNNING="76959"
    PERL5_CPAN_IS_RUNNING_IN_RECURSION="75103,76959"
    PERLDOC="-MPod::Perldoc::ToTextOverstrike"
    PERL_BATCH="yes"
    PERL_CANARY_STABILITY_NOPROMPT="1"
    PERL_CPAN_REPORTER_CONFIG="/var/tmp/cpansmoker-1023/2020071606/cpanreporter_000_config.ini"
    PERL_EXTUTILS_AUTOINSTALL="--defaultdeps"
  @INC:
    /home/cpansand/.cpan/build/2020071607/Alien-Autotools-1.05-DPjPcp/blib/arch
    /home/cpansand/.cpan/build/2020071607/Alien-Autotools-1.05-DPjPcp/blib/lib
    /home/cpansand/.cpan/build/2020071607/Alien-automake-0.15-ayEwtH/blib/arch
    /home/cpansand/.cpan/build/2020071607/Alien-automake-0.15-ayEwtH/blib/lib
    /home/cpansand/.cpan/build/2020071607/Alien-autoconf-0.16-DgYfZu/blib/arch
    /home/cpansand/.cpan/build/2020071607/Alien-autoconf-0.16-DgYfZu/blib/lib
    /home/cpansand/.cpan/build/2020071607/Alien-m4-0.19-iKduVB/blib/arch
    /home/cpansand/.cpan/build/2020071607/Alien-m4-0.19-iKduVB/blib/lib
    /home/cpansand/.cpan/build/2020071607/Alien-libtool-0.14-zKQinT/blib/arch
    /home/cpansand/.cpan/build/2020071607/Alien-libtool-0.14-zKQinT/blib/lib
    /home/cpansand/.cpan/build/2020071607/Alien-Build-2.26-6kQzcl/blib/arch
    /home/cpansand/.cpan/build/2020071607/Alien-Build-2.26-6kQzcl/blib/lib
    /usr/perl5.24.2p/lib/site_perl/5.24.2/amd64-freebsd
    /usr/perl5.24.2p/lib/site_perl/5.24.2
    /usr/perl5.24.2p/lib/5.24.2/amd64-freebsd
    /usr/perl5.24.2p/lib/5.24.2
    .