PadWalker v2.5 Perl 5 v5.33.9 x86_64-linux
- Status
- Pass
- From
- Carlos Guevara
- Dist
-
PadWalker v2.5
- Platform
- Perl 5 v5.33.9 x86_64-linux
- Date
- 2021-03-26 03:47:52
- ID
- 0a87738a-8de6-11eb-a1ca-f023948becb1
This distribution has been tested as part of the CPAN Testers
project, supporting the Perl programming language. See
http://wiki.cpantesters.org/ for more information or email
questions to cpan-testers-discuss@perl.org
--
Dear Robin Houston,
This is a computer-generated report for PadWalker-2.5
on perl 5.33.9, created by CPAN-Reporter-1.2018.
Thank you for uploading your work to CPAN. Congratulations!
All tests were successful.
Sections of this report:
* Tester comments
* Program output
* Prerequisites
* Environment and other context
------------------------------
TESTER COMMENTS
------------------------------
Additional comments from tester:
this report is from an automated smoke testing program
and was not reviewed by a human for accuracy
------------------------------
PROGRAM OUTPUT
------------------------------
Output from '/usr/bin/make test':
"/home/cpan/bin/perl-blead/bin/perl5.33.9" -MExtUtils::Command::MM -e 'cp_nonempty' -- PadWalker.bs blib/arch/auto/PadWalker/PadWalker.bs 644
PERL_DL_NONLAZY=1 "/home/cpan/bin/perl-blead/bin/perl5.33.9" "-MExtUtils::Command::MM" "-MTest::Harness" "-e" "undef *Test::Harness::Switches; test_harness(0, 'blib/lib', 'blib/arch')" t/*.t
"my" variable $blah masks earlier declaration in same scope at t/closure.t line 57.
t/closure.t ... ok
"my" variable $x masks earlier declaration in same scope at t/dm.t line 58.
"our" variable $x masks earlier declaration in same scope at t/dm.t line 63.
t/dm.t ........ ok
t/foo.t ....... ok
"my" variable $h masks earlier declaration in same scope at t/our.t line 12.
t/our.t ....... ok
t/recurse.t ... ok
t/sub.t ....... ok
t/test.t ...... ok
t/tt.t ........ ok
"my" variable $foo masks earlier declaration in same scope at t/var_name.t line 13.
t/var_name.t .. ok
All tests successful.
Files=9, Tests=82, 0 wallclock secs ( 0.02 usr 0.03 sys + 0.06 cusr 0.02 csys = 0.13 CPU)
Result: PASS
------------------------------
PREREQUISITES
------------------------------
Prerequisite modules loaded:
requires:
Module Need Have
------------------- -------- --------
perl 5.008001 5.033009
build_requires:
Module Need Have
------------------- -------- --------
ExtUtils::MakeMaker 0 7.60
configure_requires:
Module Need Have
------------------- -------- --------
ExtUtils::MakeMaker 0 7.60
------------------------------
ENVIRONMENT AND OTHER CONTEXT
------------------------------
Environment variables:
AUTOMATED_TESTING = 1
DATE_MANIP_TEST_DM5 = 1
LANG = en_US.UTF-8
LC_ALL = C
NONINTERACTIVE_TESTING = 1
PATH = /home/cpan/bin/perl-blead/bin:/home/cpan/bin:/home/cpan/bin:/home/cpan/bin:/usr/local/sbin:/usr/local/bin:/usr/sbin:/usr/bin:/sbin:/bin:/usr/games:/usr/local/games
PERL5LIB =
PERL5OPT =
PERL5_CPANPLUS_IS_RUNNING = 11101
PERL5_CPAN_IS_RUNNING = 11101
PERL_MM_USE_DEFAULT = 1
PERL_USE_UNSAFE_INC = 1
PERL_VERSION = blead
SHELL = /bin/bash
TERM = screen.xterm-256color
TMPDIR = /home/cpan/tmp
Perl special variables (and OS-specific diagnostics, for MSWin32):
$^X = /home/cpan/bin/perl-blead/bin/perl5.33.9
$UID/$EUID = 1002 / 1002
$GID = 1002 1002
$EGID = 1002 1002
Perl module toolchain versions installed:
Module Have
------------------- --------
CPAN 2.28
CPAN::Meta 2.150010
Cwd 3.80
ExtUtils::CBuilder 0.280236
ExtUtils::Command 7.60
ExtUtils::Install 2.20
ExtUtils::MakeMaker 7.60
ExtUtils::Manifest 1.73
ExtUtils::ParseXS 3.43
File::Spec 3.80
JSON n/a
JSON::PP 4.06
Module::Build 0.4231
Module::Signature n/a
Parse::CPAN::Meta 2.150010
Test::Harness 3.43
Test::More 1.302183
YAML n/a
YAML::Syck n/a
version 0.9928
--
Summary of my perl5 (revision 5 version 33 subversion 9) configuration:
Commit id: 99155265b6644bc3178a61cd413e989b2ecf90d9
Platform:
osname=linux
osvers=4.4.0-206-generic
archname=x86_64-linux
uname='linux cjg-trusty 4.4.0-206-generic #238~14.04.1-ubuntu smp wed mar 17 06:45:15 utc 2021 x86_64 x86_64 x86_64 gnulinux '
config_args='-des -Dprefix=~/bin/perl-blead -Dscriptdir=~/bin/perl-blead/bin -Dusedevel -Duse64bitall'
hint=recommended
useposix=true
d_sigaction=define
useithreads=undef
usemultiplicity=undef
use64bitint=define
use64bitall=define
uselongdouble=undef
usemymalloc=n
default_inc_excludes_dot=define
Compiler:
cc='cc'
ccflags ='-fwrapv -fno-strict-aliasing -pipe -fstack-protector -I/usr/local/include -D_LARGEFILE_SOURCE -D_FILE_OFFSET_BITS=64'
optimize='-O2'
cppflags='-fwrapv -fno-strict-aliasing -pipe -fstack-protector -I/usr/local/include'
ccversion=''
gccversion='4.8.4'
gccosandvers=''
intsize=4
longsize=8
ptrsize=8
doublesize=8
byteorder=12345678
doublekind=3
d_longlong=define
longlongsize=8
d_longdbl=define
longdblsize=16
longdblkind=3
ivtype='long'
ivsize=8
nvtype='double'
nvsize=8
Off_t='off_t'
lseeksize=8
alignbytes=8
prototype=define
Linker and Libraries:
ld='cc'
ldflags =' -fstack-protector -L/usr/local/lib'
libpth=/usr/local/lib /usr/lib/gcc/x86_64-linux-gnu/4.8/include-fixed /usr/include/x86_64-linux-gnu /usr/lib /lib/x86_64-linux-gnu /lib/../lib /usr/lib/x86_64-linux-gnu /usr/lib/../lib /lib
libs=-lpthread -lnsl -ldb -ldl -lm -lcrypt -lutil -lc
perllibs=-lpthread -lnsl -ldl -lm -lcrypt -lutil -lc
libc=libc-2.19.so
so=so
useshrplib=false
libperl=libperl.a
gnulibc_version='2.19'
Dynamic Linking:
dlsrc=dl_dlopen.xs
dlext=so
d_dlsymun=undef
ccdlflags='-Wl,-E'
cccdlflags='-fPIC'
lddlflags='-shared -O2 -L/usr/local/lib -fstack-protector'
Characteristics of this binary (from libperl):
Compile-time options:
HAS_TIMES
PERLIO_LAYERS
PERL_COPY_ON_WRITE
PERL_DONT_CREATE_GVSV
PERL_MALLOC_WRAP
PERL_OP_PARENT
PERL_PRESERVE_IVUV
PERL_USE_DEVEL
USE_64_BIT_ALL
USE_64_BIT_INT
USE_LARGE_FILES
USE_LOCALE
USE_LOCALE_COLLATE
USE_LOCALE_CTYPE
USE_LOCALE_NUMERIC
USE_LOCALE_TIME
USE_PERLIO
USE_PERL_ATOF
Built under linux
Compiled at Mar 25 2021 23:27:13
%ENV:
PERL5LIB=""
PERL5OPT=""
PERL5_CPANPLUS_IS_RUNNING="11101"
PERL5_CPAN_IS_RUNNING="11101"
PERL_MM_USE_DEFAULT="1"
PERL_USE_UNSAFE_INC="1"
PERL_VERSION="blead"
@INC:
/home/cpan/bin/perl-blead/lib/site_perl/5.33.9/x86_64-linux
/home/cpan/bin/perl-blead/lib/site_perl/5.33.9
/home/cpan/bin/perl-blead/lib/5.33.9/x86_64-linux
/home/cpan/bin/perl-blead/lib/5.33.9
.