Report for CGI-Session-4.43

Back
From: metabase:user:3198cbe2-2aae-11df-837a-5e0a49663a4f
Subject: PASS CGI-Session-4.43 v5.16.3 GNU/Linux
Date: 2013-11-11T15:07:54Z

This distribution has been tested as part of the CPAN Testers
project, supporting the Perl programming language.  See
http://wiki.cpantesters.org/ for more information or email
questions to cpan-testers-discuss@perl.org


--
Dear Mark Stosberg,

This is a computer-generated report for CGI-Session-4.43
on perl 5.16.3, created by CPAN-Reporter-1.2010.

Thank you for uploading your work to CPAN.  Congratulations!
All tests were successful.

Sections of this report:

    * Tester comments
    * Program output
    * Prerequisites
    * Environment and other context

------------------------------
TESTER COMMENTS
------------------------------

Additional comments from tester:

this report is from an automated smoke testing program
and was not reviewed by a human for accuracy

------------------------------
PROGRAM OUTPUT
------------------------------

Output from './Build test':

Use of qw(...) as parentheses is deprecated at
	/home/graham/perls/caches/perl-5.16.3-thread/build/CGI-Session-4.43-HgzwVo/blib/lib/CGI/Session.pm line 804 (#1)
    (D deprecated) You have something like foreach $x qw(a b c) {...},
    using a qw(...) list literal where a parenthesised expression is
    expected.  Historically the parser fooled itself into thinking that
    qw(...) literals were always enclosed in parentheses, and as a result
    you could sometimes omit parentheses around them.  (You could never do
    the foreach qw(a b c) {...} that you might have expected, though.)
    The parser no longer lies to itself in this way.  Wrap the list literal
    in parentheses, like foreach $x (qw(a b c)) {...}.
    
t/api3_db_file.t ................ ok
Use of qw(...) as parentheses is deprecated at
	/home/graham/perls/caches/perl-5.16.3-thread/build/CGI-Session-4.43-HgzwVo/blib/lib/CGI/Session.pm line 804 (#1)
    (D deprecated) You have something like foreach $x qw(a b c) {...},
    using a qw(...) list literal where a parenthesised expression is
    expected.  Historically the parser fooled itself into thinking that
    qw(...) literals were always enclosed in parentheses, and as a result
    you could sometimes omit parentheses around them.  (You could never do
    the foreach qw(a b c) {...} that you might have expected, though.)
    The parser no longer lies to itself in this way.  Wrap the list literal
    in parentheses, like foreach $x (qw(a b c)) {...}.
    
t/api3_db_file_freezethaw.t ..... ok
Use of qw(...) as parentheses is deprecated at
	/home/graham/perls/caches/perl-5.16.3-thread/build/CGI-Session-4.43-HgzwVo/blib/lib/CGI/Session.pm line 804 (#1)
    (D deprecated) You have something like foreach $x qw(a b c) {...},
    using a qw(...) list literal where a parenthesised expression is
    expected.  Historically the parser fooled itself into thinking that
    qw(...) literals were always enclosed in parentheses, and as a result
    you could sometimes omit parentheses around them.  (You could never do
    the foreach qw(a b c) {...} that you might have expected, though.)
    The parser no longer lies to itself in this way.  Wrap the list literal
    in parentheses, like foreach $x (qw(a b c)) {...}.
    
t/api3_db_file_storable.t ....... ok
Use of qw(...) as parentheses is deprecated at
	/home/graham/perls/caches/perl-5.16.3-thread/build/CGI-Session-4.43-HgzwVo/blib/lib/CGI/Session.pm line 804 (#1)
    (D deprecated) You have something like foreach $x qw(a b c) {...},
    using a qw(...) list literal where a parenthesised expression is
    expected.  Historically the parser fooled itself into thinking that
    qw(...) literals were always enclosed in parentheses, and as a result
    you could sometimes omit parentheses around them.  (You could never do
    the foreach qw(a b c) {...} that you might have expected, though.)
    The parser no longer lies to itself in this way.  Wrap the list literal
    in parentheses, like foreach $x (qw(a b c)) {...}.
    
t/api3_db_file_storable_incr.t .. ok
Use of qw(...) as parentheses is deprecated at
	/home/graham/perls/caches/perl-5.16.3-thread/build/CGI-Session-4.43-HgzwVo/blib/lib/CGI/Session.pm line 804 (#1)
    (D deprecated) You have something like foreach $x qw(a b c) {...},
    using a qw(...) list literal where a parenthesised expression is
    expected.  Historically the parser fooled itself into thinking that
    qw(...) literals were always enclosed in parentheses, and as a result
    you could sometimes omit parentheses around them.  (You could never do
    the foreach qw(a b c) {...} that you might have expected, though.)
    The parser no longer lies to itself in this way.  Wrap the list literal
    in parentheses, like foreach $x (qw(a b c)) {...}.
    
t/api3_file.t ................... ok
Use of qw(...) as parentheses is deprecated at
	/home/graham/perls/caches/perl-5.16.3-thread/build/CGI-Session-4.43-HgzwVo/blib/lib/CGI/Session.pm line 804 (#1)
    (D deprecated) You have something like foreach $x qw(a b c) {...},
    using a qw(...) list literal where a parenthesised expression is
    expected.  Historically the parser fooled itself into thinking that
    qw(...) literals were always enclosed in parentheses, and as a result
    you could sometimes omit parentheses around them.  (You could never do
    the foreach qw(a b c) {...} that you might have expected, though.)
    The parser no longer lies to itself in this way.  Wrap the list literal
    in parentheses, like foreach $x (qw(a b c)) {...}.
    
t/api3_file_freezethaw.t ........ ok
Use of qw(...) as parentheses is deprecated at
	/home/graham/perls/caches/perl-5.16.3-thread/build/CGI-Session-4.43-HgzwVo/blib/lib/CGI/Session.pm line 804 (#1)
    (D deprecated) You have something like foreach $x qw(a b c) {...},
    using a qw(...) list literal where a parenthesised expression is
    expected.  Historically the parser fooled itself into thinking that
    qw(...) literals were always enclosed in parentheses, and as a result
    you could sometimes omit parentheses around them.  (You could never do
    the foreach qw(a b c) {...} that you might have expected, though.)
    The parser no longer lies to itself in this way.  Wrap the list literal
    in parentheses, like foreach $x (qw(a b c)) {...}.
    
t/api3_file_freezethaw_incr.t ... ok
Use of qw(...) as parentheses is deprecated at
	/home/graham/perls/caches/perl-5.16.3-thread/build/CGI-Session-4.43-HgzwVo/blib/lib/CGI/Session.pm line 804 (#1)
    (D deprecated) You have something like foreach $x qw(a b c) {...},
    using a qw(...) list literal where a parenthesised expression is
    expected.  Historically the parser fooled itself into thinking that
    qw(...) literals were always enclosed in parentheses, and as a result
    you could sometimes omit parentheses around them.  (You could never do
    the foreach qw(a b c) {...} that you might have expected, though.)
    The parser no longer lies to itself in this way.  Wrap the list literal
    in parentheses, like foreach $x (qw(a b c)) {...}.
    
t/api3_file_storable.t .......... ok
Use of qw(...) as parentheses is deprecated at
	/home/graham/perls/caches/perl-5.16.3-thread/build/CGI-Session-4.43-HgzwVo/blib/lib/CGI/Session.pm line 804 (#1)
    (D deprecated) You have something like foreach $x qw(a b c) {...},
    using a qw(...) list literal where a parenthesised expression is
    expected.  Historically the parser fooled itself into thinking that
    qw(...) literals were always enclosed in parentheses, and as a result
    you could sometimes omit parentheses around them.  (You could never do
    the foreach qw(a b c) {...} that you might have expected, though.)
    The parser no longer lies to itself in this way.  Wrap the list literal
    in parentheses, like foreach $x (qw(a b c)) {...}.
    
t/api3_file_storable_incr.t ..... ok
Use of qw(...) as parentheses is deprecated at
	/home/graham/perls/caches/perl-5.16.3-thread/build/CGI-Session-4.43-HgzwVo/blib/lib/CGI/Session.pm line 804 (#1)
    (D deprecated) You have something like foreach $x qw(a b c) {...},
    using a qw(...) list literal where a parenthesised expression is
    expected.  Historically the parser fooled itself into thinking that
    qw(...) literals were always enclosed in parentheses, and as a result
    you could sometimes omit parentheses around them.  (You could never do
    the foreach qw(a b c) {...} that you might have expected, though.)
    The parser no longer lies to itself in this way.  Wrap the list literal
    in parentheses, like foreach $x (qw(a b c)) {...}.
    
t/api3_incr.t ................... ok
Use of qw(...) as parentheses is deprecated at
	/home/graham/perls/caches/perl-5.16.3-thread/build/CGI-Session-4.43-HgzwVo/blib/lib/CGI/Session.pm line 804 (#1)
    (D deprecated) You have something like foreach $x qw(a b c) {...},
    using a qw(...) list literal where a parenthesised expression is
    expected.  Historically the parser fooled itself into thinking that
    qw(...) literals were always enclosed in parentheses, and as a result
    you could sometimes omit parentheses around them.  (You could never do
    the foreach qw(a b c) {...} that you might have expected, though.)
    The parser no longer lies to itself in this way.  Wrap the list literal
    in parentheses, like foreach $x (qw(a b c)) {...}.
    
#Using FreezeThaw as object serializer
t/api3_obj_store.t .............. ok
Use of qw(...) as parentheses is deprecated at
	/home/graham/perls/caches/perl-5.16.3-thread/build/CGI-Session-4.43-HgzwVo/blib/lib/CGI/Session.pm line 804 (#1)
    (D deprecated) You have something like foreach $x qw(a b c) {...},
    using a qw(...) list literal where a parenthesised expression is
    expected.  Historically the parser fooled itself into thinking that
    qw(...) literals were always enclosed in parentheses, and as a result
    you could sometimes omit parentheses around them.  (You could never do
    the foreach qw(a b c) {...} that you might have expected, though.)
    The parser no longer lies to itself in this way.  Wrap the list literal
    in parentheses, like foreach $x (qw(a b c)) {...}.
    
t/api3_obj_store_db_file.t ...... ok
Use of qw(...) as parentheses is deprecated at /home/graham/perls/caches/perl-5.16.3-thread/build/CGI-Session-4.43-HgzwVo/blib/lib/CGI/Session.pm line 804.
t/bug21952.t .................... ok
Use of qw(...) as parentheses is deprecated at /home/graham/perls/caches/perl-5.16.3-thread/build/CGI-Session-4.43-HgzwVo/blib/lib/CGI/Session.pm line 804.
t/bug24285.t .................... ok
Use of qw(...) as parentheses is deprecated at
	/home/graham/perls/caches/perl-5.16.3-thread/build/CGI-Session-4.43-HgzwVo/blib/lib/CGI/Session.pm line 804 (#1)
    (D deprecated) You have something like foreach $x qw(a b c) {...},
    using a qw(...) list literal where a parenthesised expression is
    expected.  Historically the parser fooled itself into thinking that
    qw(...) literals were always enclosed in parentheses, and as a result
    you could sometimes omit parentheses around them.  (You could never do
    the foreach qw(a b c) {...} that you might have expected, though.)
    The parser no longer lies to itself in this way.  Wrap the list literal
    in parentheses, like foreach $x (qw(a b c)) {...}.
    
t/cgi_simple.t .................. ok
Use of qw(...) as parentheses is deprecated at
	/home/graham/perls/caches/perl-5.16.3-thread/build/CGI-Session-4.43-HgzwVo/blib/lib/CGI/Session.pm line 804 (#1)
    (D deprecated) You have something like foreach $x qw(a b c) {...},
    using a qw(...) list literal where a parenthesised expression is
    expected.  Historically the parser fooled itself into thinking that
    qw(...) literals were always enclosed in parentheses, and as a result
    you could sometimes omit parentheses around them.  (You could never do
    the foreach qw(a b c) {...} that you might have expected, though.)
    The parser no longer lies to itself in this way.  Wrap the list literal
    in parentheses, like foreach $x (qw(a b c)) {...}.
    
t/complex_ds.t .................. ok
t/driver_dbi.t .................. ok
Use of qw(...) as parentheses is deprecated at
	/home/graham/perls/caches/perl-5.16.3-thread/build/CGI-Session-4.43-HgzwVo/blib/lib/CGI/Session.pm line 804 (#1)
    (D deprecated) You have something like foreach $x qw(a b c) {...},
    using a qw(...) list literal where a parenthesised expression is
    expected.  Historically the parser fooled itself into thinking that
    qw(...) literals were always enclosed in parentheses, and as a result
    you could sometimes omit parentheses around them.  (You could never do
    the foreach qw(a b c) {...} that you might have expected, though.)
    The parser no longer lies to itself in this way.  Wrap the list literal
    in parentheses, like foreach $x (qw(a b c)) {...}.
    
t/expire.t ...................... ok
Use of qw(...) as parentheses is deprecated at /home/graham/perls/caches/perl-5.16.3-thread/build/CGI-Session-4.43-HgzwVo/blib/lib/CGI/Session.pm line 804.
# The found session has been deleted and flushed
t/find.t ........................ ok
Use of qw(...) as parentheses is deprecated at /home/graham/perls/caches/perl-5.16.3-thread/build/CGI-Session-4.43-HgzwVo/blib/lib/CGI/Session.pm line 804.
t/flush.t ....................... ok
Use of qw(...) as parentheses is deprecated at
	/home/graham/perls/caches/perl-5.16.3-thread/build/CGI-Session-4.43-HgzwVo/blib/lib/CGI/Session.pm line 804 (#1)
    (D deprecated) You have something like foreach $x qw(a b c) {...},
    using a qw(...) list literal where a parenthesised expression is
    expected.  Historically the parser fooled itself into thinking that
    qw(...) literals were always enclosed in parentheses, and as a result
    you could sometimes omit parentheses around them.  (You could never do
    the foreach qw(a b c) {...} that you might have expected, though.)
    The parser no longer lies to itself in this way.  Wrap the list literal
    in parentheses, like foreach $x (qw(a b c)) {...}.
    
t/g4.t .......................... ok
Use of qw(...) as parentheses is deprecated at
	/home/graham/perls/caches/perl-5.16.3-thread/build/CGI-Session-4.43-HgzwVo/blib/lib/CGI/Session.pm line 804 (#1)
    (D deprecated) You have something like foreach $x qw(a b c) {...},
    using a qw(...) list literal where a parenthesised expression is
    expected.  Historically the parser fooled itself into thinking that
    qw(...) literals were always enclosed in parentheses, and as a result
    you could sometimes omit parentheses around them.  (You could never do
    the foreach qw(a b c) {...} that you might have expected, though.)
    The parser no longer lies to itself in this way.  Wrap the list literal
    in parentheses, like foreach $x (qw(a b c)) {...}.
    
t/g4_dbfile.t ................... ok
Use of qw(...) as parentheses is deprecated at
	/home/graham/perls/caches/perl-5.16.3-thread/build/CGI-Session-4.43-HgzwVo/blib/lib/CGI/Session.pm line 804 (#1)
    (D deprecated) You have something like foreach $x qw(a b c) {...},
    using a qw(...) list literal where a parenthesised expression is
    expected.  Historically the parser fooled itself into thinking that
    qw(...) literals were always enclosed in parentheses, and as a result
    you could sometimes omit parentheses around them.  (You could never do
    the foreach qw(a b c) {...} that you might have expected, though.)
    The parser no longer lies to itself in this way.  Wrap the list literal
    in parentheses, like foreach $x (qw(a b c)) {...}.
    
t/g4_dbfile_freezethaw.t ........ ok
Use of qw(...) as parentheses is deprecated at
	/home/graham/perls/caches/perl-5.16.3-thread/build/CGI-Session-4.43-HgzwVo/blib/lib/CGI/Session.pm line 804 (#1)
    (D deprecated) You have something like foreach $x qw(a b c) {...},
    using a qw(...) list literal where a parenthesised expression is
    expected.  Historically the parser fooled itself into thinking that
    qw(...) literals were always enclosed in parentheses, and as a result
    you could sometimes omit parentheses around them.  (You could never do
    the foreach qw(a b c) {...} that you might have expected, though.)
    The parser no longer lies to itself in this way.  Wrap the list literal
    in parentheses, like foreach $x (qw(a b c)) {...}.
    
t/g4_dbfile_storable.t .......... ok
Use of qw(...) as parentheses is deprecated at
	/home/graham/perls/caches/perl-5.16.3-thread/build/CGI-Session-4.43-HgzwVo/blib/lib/CGI/Session.pm line 804 (#1)
    (D deprecated) You have something like foreach $x qw(a b c) {...},
    using a qw(...) list literal where a parenthesised expression is
    expected.  Historically the parser fooled itself into thinking that
    qw(...) literals were always enclosed in parentheses, and as a result
    you could sometimes omit parentheses around them.  (You could never do
    the foreach qw(a b c) {...} that you might have expected, though.)
    The parser no longer lies to itself in this way.  Wrap the list literal
    in parentheses, like foreach $x (qw(a b c)) {...}.
    
t/g4_freezethaw.t ............... ok
t/g4_mysql.t .................... skipped: DBD::mysql is NOT available
t/g4_mysql_freezethaw.t ......... skipped: DBD::mysql is NOT available
t/g4_mysql_storable.t ........... skipped: DBD::mysql is NOT available
t/g4_postgresql.t ............... skipped: DataSource is not known
t/g4_postgresql_freezethaw.t .... skipped: DataSource is not known
t/g4_postgresql_storable.t ...... skipped: DataSource is not known
Use of qw(...) as parentheses is deprecated at
	/home/graham/perls/caches/perl-5.16.3-thread/build/CGI-Session-4.43-HgzwVo/blib/lib/CGI/Session.pm line 804 (#1)
    (D deprecated) You have something like foreach $x qw(a b c) {...},
    using a qw(...) list literal where a parenthesised expression is
    expected.  Historically the parser fooled itself into thinking that
    qw(...) literals were always enclosed in parentheses, and as a result
    you could sometimes omit parentheses around them.  (You could never do
    the foreach qw(a b c) {...} that you might have expected, though.)
    The parser no longer lies to itself in this way.  Wrap the list literal
    in parentheses, like foreach $x (qw(a b c)) {...}.
    
t/g4_sqlite.t ................... ok
Use of qw(...) as parentheses is deprecated at
	/home/graham/perls/caches/perl-5.16.3-thread/build/CGI-Session-4.43-HgzwVo/blib/lib/CGI/Session.pm line 804 (#1)
    (D deprecated) You have something like foreach $x qw(a b c) {...},
    using a qw(...) list literal where a parenthesised expression is
    expected.  Historically the parser fooled itself into thinking that
    qw(...) literals were always enclosed in parentheses, and as a result
    you could sometimes omit parentheses around them.  (You could never do
    the foreach qw(a b c) {...} that you might have expected, though.)
    The parser no longer lies to itself in this way.  Wrap the list literal
    in parentheses, like foreach $x (qw(a b c)) {...}.
    
t/g4_sqlite_freezethaw.t ........ ok
Use of qw(...) as parentheses is deprecated at
	/home/graham/perls/caches/perl-5.16.3-thread/build/CGI-Session-4.43-HgzwVo/blib/lib/CGI/Session.pm line 804 (#1)
    (D deprecated) You have something like foreach $x qw(a b c) {...},
    using a qw(...) list literal where a parenthesised expression is
    expected.  Historically the parser fooled itself into thinking that
    qw(...) literals were always enclosed in parentheses, and as a result
    you could sometimes omit parentheses around them.  (You could never do
    the foreach qw(a b c) {...} that you might have expected, though.)
    The parser no longer lies to itself in this way.  Wrap the list literal
    in parentheses, like foreach $x (qw(a b c)) {...}.
    
t/g4_sqlite_storable.t .......... ok
Use of qw(...) as parentheses is deprecated at
	/home/graham/perls/caches/perl-5.16.3-thread/build/CGI-Session-4.43-HgzwVo/blib/lib/CGI/Session.pm line 804 (#1)
    (D deprecated) You have something like foreach $x qw(a b c) {...},
    using a qw(...) list literal where a parenthesised expression is
    expected.  Historically the parser fooled itself into thinking that
    qw(...) literals were always enclosed in parentheses, and as a result
    you could sometimes omit parentheses around them.  (You could never do
    the foreach qw(a b c) {...} that you might have expected, though.)
    The parser no longer lies to itself in this way.  Wrap the list literal
    in parentheses, like foreach $x (qw(a b c)) {...}.
    
t/g4_storable.t ................. ok
Use of qw(...) as parentheses is deprecated at
	/home/graham/perls/caches/perl-5.16.3-thread/build/CGI-Session-4.43-HgzwVo/blib/lib/CGI/Session.pm line 804 (#1)
    (D deprecated) You have something like foreach $x qw(a b c) {...},
    using a qw(...) list literal where a parenthesised expression is
    expected.  Historically the parser fooled itself into thinking that
    qw(...) literals were always enclosed in parentheses, and as a result
    you could sometimes omit parentheses around them.  (You could never do
    the foreach qw(a b c) {...} that you might have expected, though.)
    The parser no longer lies to itself in this way.  Wrap the list literal
    in parentheses, like foreach $x (qw(a b c)) {...}.
    
t/header.t ...................... ok
Use of qw(...) as parentheses is deprecated at t/ip_matches.t line 39 (#1)
    (D deprecated) You have something like foreach $x qw(a b c) {...},
    using a qw(...) list literal where a parenthesised expression is
    expected.  Historically the parser fooled itself into thinking that
    qw(...) literals were always enclosed in parentheses, and as a result
    you could sometimes omit parentheses around them.  (You could never do
    the foreach qw(a b c) {...} that you might have expected, though.)
    The parser no longer lies to itself in this way.  Wrap the list literal
    in parentheses, like foreach $x (qw(a b c)) {...}.
    
Use of qw(...) as parentheses is deprecated at
	/home/graham/perls/caches/perl-5.16.3-thread/build/CGI-Session-4.43-HgzwVo/blib/lib/CGI/Session.pm line 804 (#1)
t/ip_matches.t .................. ok
Use of qw(...) as parentheses is deprecated at
	/home/graham/perls/caches/perl-5.16.3-thread/build/CGI-Session-4.43-HgzwVo/blib/lib/CGI/Session.pm line 804 (#1)
    (D deprecated) You have something like foreach $x qw(a b c) {...},
    using a qw(...) list literal where a parenthesised expression is
    expected.  Historically the parser fooled itself into thinking that
    qw(...) literals were always enclosed in parentheses, and as a result
    you could sometimes omit parentheses around them.  (You could never do
    the foreach qw(a b c) {...} that you might have expected, though.)
    The parser no longer lies to itself in this way.  Wrap the list literal
    in parentheses, like foreach $x (qw(a b c)) {...}.
    
t/is_new.t ...................... ok
Use of qw(...) as parentheses is deprecated at
	/home/graham/perls/caches/perl-5.16.3-thread/build/CGI-Session-4.43-HgzwVo/blib/lib/CGI/Session.pm line 804 (#1)
    (D deprecated) You have something like foreach $x qw(a b c) {...},
    using a qw(...) list literal where a parenthesised expression is
    expected.  Historically the parser fooled itself into thinking that
    qw(...) literals were always enclosed in parentheses, and as a result
    you could sometimes omit parentheses around them.  (You could never do
    the foreach qw(a b c) {...} that you might have expected, though.)
    The parser no longer lies to itself in this way.  Wrap the list literal
    in parentheses, like foreach $x (qw(a b c)) {...}.
    
Argument "wrong" isn't numeric in numeric ne (!=) at
	/home/graham/perls/caches/perl-5.16.3-thread/build/CGI-Session-4.43-HgzwVo/blib/lib/CGI/Session.pm line 684 (#2)
    (W numeric) The indicated string was fed as an argument to an operator
    that expected a numeric value instead.  If you're fortunate the message
    will identify which operator was so unfortunate.
    
t/load.t ........................ ok
Use of qw(...) as parentheses is deprecated at /home/graham/perls/caches/perl-5.16.3-thread/build/CGI-Session-4.43-HgzwVo/blib/lib/CGI/Session.pm line 804.
t/load_with_undef.t ............. ok
Use of qw(...) as parentheses is deprecated at
	/home/graham/perls/caches/perl-5.16.3-thread/build/CGI-Session-4.43-HgzwVo/blib/lib/CGI/Session.pm line 804 (#1)
    (D deprecated) You have something like foreach $x qw(a b c) {...},
    using a qw(...) list literal where a parenthesised expression is
    expected.  Historically the parser fooled itself into thinking that
    qw(...) literals were always enclosed in parentheses, and as a result
    you could sometimes omit parentheses around them.  (You could never do
    the foreach qw(a b c) {...} that you might have expected, though.)
    The parser no longer lies to itself in this way.  Wrap the list literal
    in parentheses, like foreach $x (qw(a b c)) {...}.
    
t/name.t ........................ ok
Use of qw(...) as parentheses is deprecated at /home/graham/perls/caches/perl-5.16.3-thread/build/CGI-Session-4.43-HgzwVo/blib/lib/CGI/Session.pm line 804.
t/new_with_undef.t .............. ok
Use of qw(...) as parentheses is deprecated at
	/home/graham/perls/caches/perl-5.16.3-thread/build/CGI-Session-4.43-HgzwVo/blib/lib/CGI/Session.pm line 804 (#1)
    (D deprecated) You have something like foreach $x qw(a b c) {...},
    using a qw(...) list literal where a parenthesised expression is
    expected.  Historically the parser fooled itself into thinking that
    qw(...) literals were always enclosed in parentheses, and as a result
    you could sometimes omit parentheses around them.  (You could never do
    the foreach qw(a b c) {...} that you might have expected, though.)
    The parser no longer lies to itself in this way.  Wrap the list literal
    in parentheses, like foreach $x (qw(a b c)) {...}.
    
t/parse_dsn.t ................... ok
Use of qw(...) as parentheses is deprecated at /home/graham/perls/caches/perl-5.16.3-thread/build/CGI-Session-4.43-HgzwVo/blib/lib/CGI/Session.pm line 804.
t/remote_addr.t ................. ok
Use of qw(...) as parentheses is deprecated at /home/graham/perls/caches/perl-5.16.3-thread/build/CGI-Session-4.43-HgzwVo/blib/lib/CGI/Session.pm line 804.
# Check in STORE of original item
# Check in STORE of stored/retrieved item
# Check in LOAD after loading from session
t/session_param_undef.t ......... ok
Use of qw(...) as parentheses is deprecated at
	/home/graham/perls/caches/perl-5.16.3-thread/build/CGI-Session-4.43-HgzwVo/blib/lib/CGI/Session.pm line 804 (#1)
    (D deprecated) You have something like foreach $x qw(a b c) {...},
    using a qw(...) list literal where a parenthesised expression is
    expected.  Historically the parser fooled itself into thinking that
    qw(...) literals were always enclosed in parentheses, and as a result
    you could sometimes omit parentheses around them.  (You could never do
    the foreach qw(a b c) {...} that you might have expected, though.)
    The parser no longer lies to itself in this way.  Wrap the list literal
    in parentheses, like foreach $x (qw(a b c)) {...}.
    
t/str2seconds.t ................. ok
Use of qw(...) as parentheses is deprecated at /home/graham/perls/caches/perl-5.16.3-thread/build/CGI-Session-4.43-HgzwVo/blib/lib/CGI/Session.pm line 804.
t/symlink_db_file.t ............. ok
Use of qw(...) as parentheses is deprecated at /home/graham/perls/caches/perl-5.16.3-thread/build/CGI-Session-4.43-HgzwVo/blib/lib/CGI/Session.pm line 804.
t/symlink_file.t ................ ok
All tests successful.
Files=48, Tests=1233, 36 wallclock secs ( 0.40 usr  0.05 sys +  6.93 cusr  0.67 csys =  8.05 CPU)
Result: PASS

------------------------------
PREREQUISITES
------------------------------

Prerequisite modules loaded:

requires:

    Module              Need Have    
    ------------------- ---- --------
    CGI                 3.26 3.63    
    Data::Dumper        0    2.145   
    Digest::MD5         0    2.53    
    Scalar::Util        0    1.35    

build_requires:

    Module              Need Have    
    ------------------- ---- --------
    Test::More          0    1.001002

configure_requires:

    Module              Need Have    
    ------------------- ---- --------
    ExtUtils::MakeMaker 0    6.83_01 


------------------------------
ENVIRONMENT AND OTHER CONTEXT
------------------------------

Environment variables:

    AUTOMATED_TESTING = 1
    LANG = en_GB.UTF-8
    LC_ADDRESS = en_GB.UTF-8
    LC_COLLATE = en_GB.UTF-8
    LC_CTYPE = en_GB.UTF-8
    LC_IDENTIFICATION = en_GB.UTF-8
    LC_MEASUREMENT = en_GB.UTF-8
    LC_MESSAGES = en_GB.UTF-8
    LC_MONETARY = en_GB.UTF-8
    LC_NAME = en_GB.UTF-8
    LC_NUMERIC = en_GB.UTF-8
    LC_PAPER = en_GB.UTF-8
    LC_TELEPHONE = en_GB.UTF-8
    LC_TIME = en_GB.UTF-8
    PATH = /home/graham/perls/perl5.16.3-thread/bin:/usr/local/sbin:/usr/local/bin:/usr/bin:/usr/bin/core_perl
    PERL5LIB = 
    PERL5OPT = 
    PERL5_CPANPLUS_IS_RUNNING = 12845
    PERL5_CPAN_IS_RUNNING = 12845
    PERL5_CPAN_IS_RUNNING_IN_RECURSION = 486,12845
    PERL_CR_SMOKER_CURRENT = CGI-Session-4.43
    PERL_EXTUTILS_AUTOINSTALL = --defaultdeps
    PERL_MM_USE_DEFAULT = 1
    SHELL = /bin/bash
    TERM = xterm

Perl special variables (and OS-specific diagnostics, for MSWin32):

    $^X = /home/graham/perls/perl5.16.3-thread/bin/perl
    $UID/$EUID = 1000 / 1000
    $GID = 100 10 100
    $EGID = 100 10 100

Perl module toolchain versions installed:

    Module              Have    
    ------------------- --------
    CPAN                2.00    
    CPAN::Meta          2.132830
    Cwd                 3.40    
    ExtUtils::CBuilder  0.280212
    ExtUtils::Command   1.18    
    ExtUtils::Install   1.58    
    ExtUtils::MakeMaker 6.83_01 
    ExtUtils::Manifest  1.63    
    ExtUtils::ParseXS   3.22    
    File::Spec          3.40    
    JSON                2.90    
    JSON::PP            2.27203 
    Module::Build       0.39_01 
    Module::Signature   n/a     
    Parse::CPAN::Meta   1.4409  
    Test::Harness       3.29    
    Test::More          1.001002
    YAML                0.84    
    YAML::Syck          1.27    
    version             0.9904  


--

Summary of my perl5 (revision 5 version 16 subversion 3) configuration:
   
  Platform:
    osname=linux, osvers=3.11.6-1-arch, archname=x86_64-linux-thread-multi
    uname='linux arch002 3.11.6-1-arch #1 smp preempt fri oct 18 23:22:36 cest 2013 x86_64 gnulinux '
    config_args=''
    hint=recommended, useposix=true, d_sigaction=define
    useithreads=define, usemultiplicity=define
    useperlio=define, d_sfio=undef, uselargefiles=define, usesocks=undef
    use64bitint=define, use64bitall=define, uselongdouble=undef
    usemymalloc=n, bincompat5005=undef
  Compiler:
    cc='cc', ccflags ='-D_REENTRANT -D_GNU_SOURCE -fno-strict-aliasing -pipe -fstack-protector -I/usr/local/include -D_LARGEFILE_SOURCE -D_FILE_OFFSET_BITS=64',
    optimize='-O2',
    cppflags='-D_REENTRANT -D_GNU_SOURCE -fno-strict-aliasing -pipe -fstack-protector -I/usr/local/include'
    ccversion='', gccversion='4.8.2', gccosandvers=''
    intsize=4, longsize=8, ptrsize=8, doublesize=8, byteorder=12345678
    d_longlong=define, longlongsize=8, d_longdbl=define, longdblsize=16
    ivtype='long', ivsize=8, nvtype='double', nvsize=8, Off_t='off_t', lseeksize=8
    alignbytes=8, prototype=define
  Linker and Libraries:
    ld='cc', ldflags =' -fstack-protector -L/usr/local/lib'
    libpth=/usr/local/lib /lib/../lib /usr/lib/../lib /lib /usr/lib /lib64 /usr/lib64
    libs=-lnsl -lgdbm -ldb -ldl -lm -lcrypt -lutil -lpthread -lc -lgdbm_compat
    perllibs=-lnsl -ldl -lm -lcrypt -lutil -lpthread -lc
    libc=/lib/libc-2.18.so, so=so, useshrplib=false, libperl=libperl.a
    gnulibc_version='2.18'
  Dynamic Linking:
    dlsrc=dl_dlopen.xs, dlext=so, d_dlsymun=undef, ccdlflags='-Wl,-E'
    cccdlflags='-fPIC', lddlflags='-shared -O2 -L/usr/local/lib -fstack-protector'


Characteristics of this binary (from libperl): 
  Compile-time options: HAS_TIMES MULTIPLICITY PERLIO_LAYERS
                        PERL_DONT_CREATE_GVSV PERL_IMPLICIT_CONTEXT
                        PERL_MALLOC_WRAP PERL_PRESERVE_IVUV USE_64_BIT_ALL
                        USE_64_BIT_INT USE_ITHREADS USE_LARGE_FILES
                        USE_LOCALE USE_LOCALE_COLLATE USE_LOCALE_CTYPE
                        USE_LOCALE_NUMERIC USE_PERLIO USE_PERL_ATOF
                        USE_REENTRANT_API
  Built under linux
  Compiled at Nov  3 2013 12:08:50
  %ENV:
    PERL5LIB=""
    PERL5OPT=""
    PERL5_CPANPLUS_IS_RUNNING="12845"
    PERL5_CPAN_IS_RUNNING="12845"
    PERL5_CPAN_IS_RUNNING_IN_RECURSION="486,12845"
    PERL_CR_SMOKER_CURRENT="CGI-Session-4.43"
    PERL_EXTUTILS_AUTOINSTALL="--defaultdeps"
    PERL_MM_USE_DEFAULT="1"
  @INC:
    /home/graham/perls/perl5.16.3-thread/lib/site_perl/5.16.3/x86_64-linux-thread-multi
    /home/graham/perls/perl5.16.3-thread/lib/site_perl/5.16.3
    /home/graham/perls/perl5.16.3-thread/lib/5.16.3/x86_64-linux-thread-multi
    /home/graham/perls/perl5.16.3-thread/lib/5.16.3
    .