Back
From: metabase:user:314402c4-2aae-11df-837a-5e0a49663a4f
Subject: PASS Storable-AMF-1.23 v5.24.1 RC3 GNU/Linux
Date: 2016-08-20T09:32:41Z
This distribution has been tested as part of the CPAN Testers
project, supporting the Perl programming language. See
http://wiki.cpantesters.org/ for more information or email
questions to cpan-testers-discuss@perl.org
--
Dear Grishayev Anatoliy,
This is a computer-generated report for Storable-AMF-1.23
on perl 5.24.1, created by CPAN-Reporter-1.2018.
Thank you for uploading your work to CPAN. Congratulations!
All tests were successful.
Sections of this report:
* Tester comments
* Program output
* Prerequisites
* Environment and other context
------------------------------
TESTER COMMENTS
------------------------------
Additional comments from tester:
none provided
------------------------------
PROGRAM OUTPUT
------------------------------
Output from '/usr/bin/make test':
"/bbbike/perl-5.24.1-RC3/bin/perl" -MExtUtils::Command::MM -e 'cp_nonempty' -- AMF.bs blib/arch/auto/Storable/AMF/AMF.bs 644
PERL_DL_NONLAZY=1 "/bbbike/perl-5.24.1-RC3/bin/perl" "-MExtUtils::Command::MM" "-MTest::Harness" "-e" "undef *Test::Harness::Switches; test_harness(0, 'blib/lib', 'blib/arch')" t/*.t
78563412 LIT 12345678
t/00-compile.t .............. ok
t/01-parse_amf0.t ........... ok
t/02-parse_amf3.t ........... ok
t/03-format-long-str.t ...... ok
t/04-blessed.t .............. ok
t/05-dclone.t ............... ok
t/06-aux-utility.t .......... skipped: This perl version is too modern( >= 5.020 )
t/06-last-undef.t ........... ok
t/07-pod.t .................. ok
t/08-amf3-integer.t ......... ok
ord(+-)=43 45. -number=256
t/10-dual-var.t ............. ok
t/20-amf-double.t ........... ok
t/21-amf-strings.t .......... ok
t/22-array.t ................ ok
t/23-array-flash0.t ......... ok
t/24-anon-object.t .......... ok
t/30-can-AMF0.t ............. ok
t/31-can-AMF0.t ............. ok
t/32-can-AMF3.t ............. ok
t/40-negative-freeze.t ...... ok
t/41-neg-parse.t ............ ok
t/45-total-sv.t ............. ok
t/46-mem-safe-AMF0.t ........ ok
t/47-mem-safe-AMF3.t ........ ok
t/48-mem-safe-neg-AMF0.t .... ok
t/49-mem-safe-neg-AMF3.t .... ok
t/50-AMF90-exception.t ...... ok
t/51-strict-pragma.t ........ ok
t/52-special-case.t ......... ok
t/53-strict-pragma-amf0.t ... ok
t/54-strict-pragma-amf3.t ... ok
t/55-store-etc-amf0.t ....... ok
t/56-store-etc-amf3.t ....... ok
t/57-deparse-amf0.t ......... ok
t/58-deparse-amf3.t ......... ok
t/60-bug.t .................. ok
t/61-amf-date.t ............. ok
t/62-basic-ext.t ............ ok
t/63-parse-option.t ......... ok
t/64-prefer-number.t ........ ok
t/65-prefer-number3.t ....... ok
t/66-boolean.t .............. ok
t/67-boolean-real.t ......... ok
t/68-boolean-json.t ......... ok
t/69-to_AMF-experimental.t .. ok
t/70-Mapper.t ............... ok
t/71-amf-plus-marker.t ...... ok
t/72-max-array.t ............ ok
t/73-amf-tmp-storage.t ...... ok
t/74-amf-skip-bad.t ......... ok
t/75-devel-api.t ............ ok
All tests successful.
Files=51, Tests=3742, 3 wallclock secs ( 0.23 usr 0.18 sys + 2.04 cusr 0.34 csys = 2.79 CPU)
Result: PASS
------------------------------
PREREQUISITES
------------------------------
Prerequisite modules loaded:
requires:
Module Need Have
------------------- -------- --------
perl 5.007003 5.024001
XSLoader 0.06 0.22
build_requires:
Module Need Have
------------------- -------- --------
ExtUtils::MakeMaker 0 7.22
configure_requires:
Module Need Have
------------------- -------- --------
ExtUtils::MakeMaker 0 7.22
------------------------------
ENVIRONMENT AND OTHER CONTEXT
------------------------------
Environment variables:
LANG = C
LC_ALL = de_DE.UTF-8
PATH = /usr/local/bin:/usr/bin:/bin:/usr/local/sbin:/usr/sbin:/sbin:/home/cpansand/bin/linux-gnu:/home/cpansand/bin/sh:/home/cpansand/bin:/usr/games:/home/cpansand/devel:/home/eserte/src/srezic-misc/scripts
PERL5LIB =
PERL5OPT =
PERL5_CPANPLUS_IS_RUNNING = 10773
PERL5_CPAN_IS_RUNNING = 10773
PERL5_CPAN_IS_RUNNING_IN_RECURSION = 10687,10773
PERLDOC = -MPod::Perldoc::ToTextOverstrike
PERL_BATCH = yes
PERL_CANARY_STABILITY_NOPROMPT = 1
PERL_CPAN_REPORTER_CONFIG = /run/user/1023/cpansmoker/2016082006/cpanreporter_001_config.ini
PERL_EXTUTILS_AUTOINSTALL = --defaultdeps
PERL_PARALLEL_SMOKER = yes
PERL_USE_UNSAFE_INC = 1
SHELL = /bin/zsh
TERM = screen
TMPDIR = /run/user/1023/cpansmoker/2016082006
Perl special variables (and OS-specific diagnostics, for MSWin32):
$^X = /bbbike/perl-5.24.1-RC3/bin/perl
$UID/$EUID = 1023 / 1023
$GID = 1023 1023
$EGID = 1023 1023
Perl module toolchain versions installed:
Module Have
------------------- ----------
CPAN 2.11_01
CPAN::Meta 2.150010
Cwd 3.63_01
ExtUtils::CBuilder 0.280225
ExtUtils::Command 7.22
ExtUtils::Install 2.04
ExtUtils::MakeMaker 7.22
ExtUtils::Manifest 1.70
ExtUtils::ParseXS 3.31
File::Spec 3.63_01
JSON 2.90
JSON::PP 2.27300_01
Module::Build 0.4220
Module::Signature 0.80
Parse::CPAN::Meta 2.150010
Test::Harness 3.36_01
Test::More 1.302052
YAML 1.18
YAML::Syck 1.29
version 0.9916
--
Summary of my perl5 (revision 5 version 24 subversion 1) configuration:
Platform:
osname=linux, osvers=3.16.0-4-amd64, archname=x86_64-linux
uname='linux eserte 3.16.0-4-amd64 #1 smp debian 3.16.7-ckt25-2+deb8u3 (2016-07-02) x86_64 gnulinux '
config_args='-ds -e -Dprefix=/opt/perl-5.24.1-RC3 -Dcf_email=srezic@cpan.org'
hint=recommended, useposix=true, d_sigaction=define
useithreads=undef, usemultiplicity=undef
use64bitint=define, use64bitall=define, uselongdouble=undef
usemymalloc=n, bincompat5005=undef
Compiler:
cc='cc', ccflags ='-fwrapv -fno-strict-aliasing -pipe -fstack-protector-strong -I/usr/local/include -D_LARGEFILE_SOURCE -D_FILE_OFFSET_BITS=64 -D_FORTIFY_SOURCE=2',
optimize='-O2',
cppflags='-fwrapv -fno-strict-aliasing -pipe -fstack-protector-strong -I/usr/local/include'
ccversion='', gccversion='4.9.2', gccosandvers=''
intsize=4, longsize=8, ptrsize=8, doublesize=8, byteorder=12345678, doublekind=3
d_longlong=define, longlongsize=8, d_longdbl=define, longdblsize=16, longdblkind=3
ivtype='long', ivsize=8, nvtype='double', nvsize=8, Off_t='off_t', lseeksize=8
alignbytes=8, prototype=define
Linker and Libraries:
ld='cc', ldflags =' -fstack-protector-strong -L/usr/local/lib'
libpth=/usr/local/lib /usr/lib/gcc/x86_64-linux-gnu/4.9/include-fixed /usr/include/x86_64-linux-gnu /usr/lib /lib/x86_64-linux-gnu /lib/../lib /usr/lib/x86_64-linux-gnu /usr/lib/../lib /lib
libs=-lpthread -lnsl -lgdbm -ldb -ldl -lm -lcrypt -lutil -lc -lgdbm_compat
perllibs=-lpthread -lnsl -ldl -lm -lcrypt -lutil -lc
libc=libc-2.19.so, so=so, useshrplib=false, libperl=libperl.a
gnulibc_version='2.19'
Dynamic Linking:
dlsrc=dl_dlopen.xs, dlext=so, d_dlsymun=undef, ccdlflags='-Wl,-E'
cccdlflags='-fPIC', lddlflags='-shared -O2 -L/usr/local/lib -fstack-protector-strong'
Characteristics of this binary (from libperl):
Compile-time options: HAS_TIMES PERLIO_LAYERS PERL_COPY_ON_WRITE
PERL_DONT_CREATE_GVSV
PERL_HASH_FUNC_ONE_AT_A_TIME_HARD PERL_MALLOC_WRAP
PERL_PRESERVE_IVUV USE_64_BIT_ALL USE_64_BIT_INT
USE_LARGE_FILES USE_LOCALE USE_LOCALE_COLLATE
USE_LOCALE_CTYPE USE_LOCALE_NUMERIC USE_LOCALE_TIME
USE_PERLIO USE_PERL_ATOF
Locally applied patches:
RC3
Built under linux
Compiled at Aug 19 2016 14:16:54
%ENV:
PERL5LIB=""
PERL5OPT=""
PERL5_CPANPLUS_IS_RUNNING="10773"
PERL5_CPAN_IS_RUNNING="10773"
PERL5_CPAN_IS_RUNNING_IN_RECURSION="10687,10773"
PERLDOC="-MPod::Perldoc::ToTextOverstrike"
PERL_BATCH="yes"
PERL_CANARY_STABILITY_NOPROMPT="1"
PERL_CPAN_REPORTER_CONFIG="/run/user/1023/cpansmoker/2016082006/cpanreporter_001_config.ini"
PERL_EXTUTILS_AUTOINSTALL="--defaultdeps"
PERL_PARALLEL_SMOKER="yes"
PERL_USE_UNSAFE_INC="1"
@INC:
/opt/perl-5.24.1-RC3/lib/site_perl/5.24.1/x86_64-linux
/opt/perl-5.24.1-RC3/lib/site_perl/5.24.1
/opt/perl-5.24.1-RC3/lib/5.24.1/x86_64-linux
/opt/perl-5.24.1-RC3/lib/5.24.1
.