Report for LMDB_File-0.07_4

Back
From: metabase:user:322078bc-2aae-11df-837a-5e0a49663a4f
Subject: PASS LMDB_File-0.07_4 v5.16.3 NetBSD
Date: 2014-11-01T14:19:08Z

This distribution has been tested as part of the CPAN Testers
project, supporting the Perl programming language.  See
http://wiki.cpantesters.org/ for more information or email
questions to cpan-testers-discuss@perl.org


--

Dear SORTIZ,

This is a computer-generated error report created automatically by
CPANPLUS, version 0.9152. Testers personal comments may appear
at the end of this report.


Thank you for uploading your work to CPAN.  Congratulations!
All tests were successful.

TEST RESULTS:

Below is the error stack from stage 'make test':

Running Mkbootstrap for LMDB_File ()
chmod 644 LMDB_File.bs
PERL_DL_NONLAZY=1 /home/cpan/pit/thr/perl-5.16.3/bin/perl "-MExtUtils::Command::MM" "-MTest::Harness" "-e" "undef *Test::Harness::Switches; test_harness(0, 'blib/lib', 'blib/arch')" t/*.t
t/00-basic.t ........ ok
t/01-environment.t .. ok
t/02-named.t ........ ok
# Normal mode in 9.50711 wallclock secs ( 9.48 usr +  0.00 sys =  9.48 CPU) @  5.27/s (n=50)
# ZC: Diferent buffer: 7f7ff7edf010+f4240 vs 7f7ff5301000+f4240
# Fast mode in 0.223607 wallclock secs ( 0.22 usr +  0.00 sys =  0.22 CPU) @ 227.27/s (n=50)
# ZC: Same buffer: 7f7ff7edf010+f4240 vs 7f7ff7edf010+f4240
# ZC: Same buffer by ref: 7f7ff7edf010+f4240 vs 7f7ff7edf010+f4240
# ZC: Same buffer yet: 7f7ff7edf010+f4240 vs 7f7ff7edf010+f4240
# ZC: Same buffer yet: 7f7ff7edf010+f4240 vs 7f7ff7edf010+f4240
# ZZZZZZZZZ90ABC4E6789pqrstuvwx9
t/03-fastmode.t ..... ok
# Writen 2000000 in 2.66297 seconds
# Readed 2000000 in 2.09072 seconds
t/04-bigone.t ....... ok
All tests successful.
Files=5, Tests=300, 18 wallclock secs ( 0.06 usr  0.02 sys + 15.00 cusr  0.29 csys = 15.37 CPU)
Result: PASS


PREREQUISITES:

Here is a list of prerequisites you specified and versions we
managed to load:

	  Module Name                        Have     Want
	  ExtUtils::MakeMaker                6.98        0
	  Test::Exception                    0.35        0
	  Test::More                     1.001008        0
	  Test::ZeroCopy                    0.110        0

Perl module toolchain versions installed:
	Module Name                        Have
	CPANPLUS                         0.9152
	CPANPLUS::Dist::Build              0.78
	Cwd                                3.47
	ExtUtils::CBuilder             0.280220
	ExtUtils::Command                  1.17
	ExtUtils::Install                  2.04
	ExtUtils::MakeMaker                6.98
	ExtUtils::Manifest                 1.68
	ExtUtils::ParseXS                  3.24
	File::Spec                         3.47
	Module::Build                    0.4210
	Pod::Parser                        1.51
	Pod::Simple                        3.20
	Test::Harness                      3.33
	Test::More                     1.001008
	version                          0.9909

******************************** NOTE ********************************
The comments above are created mechanically, possibly without manual
checking by the sender.  As there are many people performing automatic
tests on each upload to CPAN, it is likely that you will receive
identical messages about the same problem.

If you believe that the message is mistaken, please reply to the first
one with correction and/or additional informations, and do not take
it personally.  We appreciate your patience. :)
**********************************************************************

Additional comments:


This report was machine-generated by CPANPLUS::Dist::YACSmoke 0.90.
Powered by minismokebox version 0.58

------------------------------
ENVIRONMENT AND OTHER CONTEXT
------------------------------

Environment variables:

    AUTOMATED_TESTING = 1
    NONINTERACTIVE_TESTING = 1
    PATH = /home/cpan/bin:/bin:/sbin:/usr/bin:/usr/sbin:/usr/X11R7/bin:/usr/X11R6/bin:/usr/pkg/bin:/usr/pkg/sbin:/usr/games:/usr/local/bin:/usr/local/sbin
    PERL5LIB = :/home/cpan/pit/thr/conf/perl-5.16.3/.cpanplus/5.16.3/build/Sub-Uplevel-0.24/blib/lib:/home/cpan/pit/thr/conf/perl-5.16.3/.cpanplus/5.16.3/build/Sub-Uplevel-0.24/blib/arch:/home/cpan/pit/thr/conf/perl-5.16.3/.cpanplus/5.16.3/build/Test-Exception-0.35/blib/lib:/home/cpan/pit/thr/conf/perl-5.16.3/.cpanplus/5.16.3/build/Test-Exception-0.35/blib/arch:/home/cpan/pit/thr/conf/perl-5.16.3/.cpanplus/5.16.3/build/String-Slice-0.01/blib/lib:/home/cpan/pit/thr/conf/perl-5.16.3/.cpanplus/5.16.3/build/String-Slice-0.01/blib/arch:/home/cpan/pit/thr/conf/perl-5.16.3/.cpanplus/5.16.3/build/Test-ZeroCopy-0.110/blib/lib:/home/cpan/pit/thr/conf/perl-5.16.3/.cpanplus/5.16.3/build/Test-ZeroCopy-0.110/blib/arch:/home/cpan/pit/thr/conf/perl-5.16.3/.cpanplus/5.16.3/build/LMDB_File-0.07_4/blib/lib:/home/cpan/pit/thr/conf/perl-5.16.3/.cpanplus/5.16.3/build/LMDB_File-0.07_4/blib/arch
    PERL5_CPANPLUS_IS_RUNNING = 6863
    PERL5_CPANPLUS_IS_VERSION = 0.9152
    PERL5_MINISMOKEBOX = 0.58
    PERL5_YACSMOKE_BASE = /home/cpan/pit/thr/conf/perl-5.16.3
    PERL_EXTUTILS_AUTOINSTALL = --defaultdeps
    PERL_MM_USE_DEFAULT = 1
    SHELL = /usr/pkg/bin/bash
    TERM = screen

Perl special variables (and OS-specific diagnostics, for MSWin32):

    Perl: $^X = /home/cpan/pit/thr/perl-5.16.3/bin/perl
    UID:  $<  = 1002
    EUID: $>  = 1002
    GID:  $(  = 100 100
    EGID: $)  = 100 100


-------------------------------


--

Summary of my perl5 (revision 5 version 16 subversion 3) configuration:
   
  Platform:
    osname=netbsd, osvers=6.1.4, archname=amd64-netbsd-thread-multi
    uname='netbsd naboo.bingosnet.co.uk 6.1.4 netbsd 6.1.4 (generic) amd64 '
    config_args='-des -Dprefix=/home/cpan/pit/thr/perl-5.16.3 -Dusethreads'
    hint=recommended, useposix=true, d_sigaction=define
    useithreads=define, usemultiplicity=define
    useperlio=define, d_sfio=undef, uselargefiles=define, usesocks=undef
    use64bitint=define, use64bitall=define, uselongdouble=undef
    usemymalloc=n, bincompat5005=undef
  Compiler:
    cc='cc', ccflags ='-fno-strict-aliasing -pipe -fstack-protector -I/usr/pkg/include',
    optimize='-O',
    cppflags='-fno-strict-aliasing -pipe -fstack-protector -I/usr/pkg/include'
    ccversion='', gccversion='4.5.3', gccosandvers=''
    intsize=4, longsize=8, ptrsize=8, doublesize=8, byteorder=12345678
    d_longlong=define, longlongsize=8, d_longdbl=define, longdblsize=16
    ivtype='long', ivsize=8, nvtype='double', nvsize=8, Off_t='off_t', lseeksize=8
    alignbytes=8, prototype=define
  Linker and Libraries:
    ld='cc', ldflags =' -Wl,-rpath,/usr/pkg/lib -Wl,-rpath,/usr/local/lib -fstack-protector -L/usr/pkg/lib'
    libpth=/usr/pkg/lib /lib /usr/lib
    libs=-lgdbm -lm -lcrypt -lutil -lc -lposix -lpthread
    perllibs=-lm -lcrypt -lutil -lc -lposix -lpthread
    libc=/lib/libc.so, so=so, useshrplib=false, libperl=libperl.a
    gnulibc_version=''
  Dynamic Linking:
    dlsrc=dl_dlopen.xs, dlext=so, d_dlsymun=undef, ccdlflags='-Wl,-E '
    cccdlflags='-DPIC -fPIC ', lddlflags='--whole-archive -shared  -L/usr/pkg/lib -fstack-protector'


Characteristics of this binary (from libperl): 
  Compile-time options: HAS_TIMES MULTIPLICITY PERLIO_LAYERS
                        PERL_DONT_CREATE_GVSV PERL_IMPLICIT_CONTEXT
                        PERL_MALLOC_WRAP PERL_PRESERVE_IVUV USE_64_BIT_ALL
                        USE_64_BIT_INT USE_ITHREADS USE_LARGE_FILES
                        USE_LOCALE USE_LOCALE_COLLATE USE_LOCALE_CTYPE
                        USE_LOCALE_NUMERIC USE_PERLIO USE_PERL_ATOF
                        USE_REENTRANT_API
  Built under netbsd
  Compiled at May  9 2014 22:07:34
  %ENV:
    PERL5LIB=":/home/cpan/pit/thr/conf/perl-5.16.3/.cpanplus/5.16.3/build/Sub-Uplevel-0.24/blib/lib:/home/cpan/pit/thr/conf/perl-5.16.3/.cpanplus/5.16.3/build/Sub-Uplevel-0.24/blib/arch:/home/cpan/pit/thr/conf/perl-5.16.3/.cpanplus/5.16.3/build/Test-Exception-0.35/blib/lib:/home/cpan/pit/thr/conf/perl-5.16.3/.cpanplus/5.16.3/build/Test-Exception-0.35/blib/arch:/home/cpan/pit/thr/conf/perl-5.16.3/.cpanplus/5.16.3/build/String-Slice-0.01/blib/lib:/home/cpan/pit/thr/conf/perl-5.16.3/.cpanplus/5.16.3/build/String-Slice-0.01/blib/arch:/home/cpan/pit/thr/conf/perl-5.16.3/.cpanplus/5.16.3/build/Test-ZeroCopy-0.110/blib/lib:/home/cpan/pit/thr/conf/perl-5.16.3/.cpanplus/5.16.3/build/Test-ZeroCopy-0.110/blib/arch:/home/cpan/pit/thr/conf/perl-5.16.3/.cpanplus/5.16.3/build/LMDB_File-0.07_4/blib/lib:/home/cpan/pit/thr/conf/perl-5.16.3/.cpanplus/5.16.3/build/LMDB_File-0.07_4/blib/arch"
    PERL5_CPANPLUS_IS_RUNNING="6863"
    PERL5_CPANPLUS_IS_VERSION="0.9152"
    PERL5_MINISMOKEBOX="0.58"
    PERL5_YACSMOKE_BASE="/home/cpan/pit/thr/conf/perl-5.16.3"
    PERL_EXTUTILS_AUTOINSTALL="--defaultdeps"
    PERL_MM_USE_DEFAULT="1"
  @INC:
    /home/cpan/pit/thr/conf/perl-5.16.3/.cpanplus/5.16.3/build/Sub-Uplevel-0.24/blib/lib
    /home/cpan/pit/thr/conf/perl-5.16.3/.cpanplus/5.16.3/build/Sub-Uplevel-0.24/blib/arch
    /home/cpan/pit/thr/conf/perl-5.16.3/.cpanplus/5.16.3/build/Test-Exception-0.35/blib/lib
    /home/cpan/pit/thr/conf/perl-5.16.3/.cpanplus/5.16.3/build/Test-Exception-0.35/blib/arch
    /home/cpan/pit/thr/conf/perl-5.16.3/.cpanplus/5.16.3/build/String-Slice-0.01/blib/lib
    /home/cpan/pit/thr/conf/perl-5.16.3/.cpanplus/5.16.3/build/String-Slice-0.01/blib/arch
    /home/cpan/pit/thr/conf/perl-5.16.3/.cpanplus/5.16.3/build/Test-ZeroCopy-0.110/blib/lib
    /home/cpan/pit/thr/conf/perl-5.16.3/.cpanplus/5.16.3/build/Test-ZeroCopy-0.110/blib/arch
    /home/cpan/pit/thr/conf/perl-5.16.3/.cpanplus/5.16.3/build/LMDB_File-0.07_4/blib/lib
    /home/cpan/pit/thr/conf/perl-5.16.3/.cpanplus/5.16.3/build/LMDB_File-0.07_4/blib/arch
    /home/cpan/pit/thr/perl-5.16.3/lib/site_perl/5.16.3/amd64-netbsd-thread-multi
    /home/cpan/pit/thr/perl-5.16.3/lib/site_perl/5.16.3
    /home/cpan/pit/thr/perl-5.16.3/lib/5.16.3/amd64-netbsd-thread-multi
    /home/cpan/pit/thr/perl-5.16.3/lib/5.16.3
    .