Tapper-Remote v5.0.0 Perl 5 v5.18.4 amd64-freebsd

Status
Pass
From
Slaven Rezić (SREZIC)
Dist
Tapper-Remote v5.0.0
Platform
Perl 5 v5.18.4 amd64-freebsd
Date
2018-09-19 14:55:26
ID
0b2ed2d6-bc1c-11e8-b5b1-99b36d643a78
This distribution has been tested as part of the CPAN Testers
project, supporting the Perl programming language.  See
http://wiki.cpantesters.org/ for more information or email
questions to cpan-testers-discuss@perl.org


--
Dear Tapper Team,

This is a computer-generated report for Tapper-Remote-5.0.0
on perl 5.18.4, created by CPAN-Reporter-1.2018.

Thank you for uploading your work to CPAN.  Congratulations!
All tests were successful.

Sections of this report:

    * Tester comments
    * Program output
    * Prerequisites
    * Environment and other context

------------------------------
TESTER COMMENTS
------------------------------

Additional comments from tester:

none provided

------------------------------
PROGRAM OUTPUT
------------------------------

Output from '/usr/bin/make test':

PERL_DL_NONLAZY=1 "/usr/perl5.18.4p/bin/perl5.18.4" "-MExtUtils::Command::MM" "-MTest::Harness" "-e" "undef *Test::Harness::Switches; test_harness(0, 'blib/lib', 'blib/arch')" t/*.t
t/00-load.t ................... ok
t/author-eol.t ................ skipped: these tests are for testing by the author
t/author-no-tabs.t ............ skipped: these tests are for testing by the author
t/author-pod-syntax.t ......... skipped: these tests are for testing by the author
t/release-pod-coverage.t ...... skipped: these tests are for release candidate testing
t/tapper-remote-config-prc.t .. ok
readline() on closed filehandle $FH at /home/cpansand/.cpan/build/2018091923/Tapper-Remote-5.0.0-1/blib/lib/Tapper/Remote/Config.pm line 23.
Use of uninitialized value $cmd_line in pattern match (m//) at /home/cpansand/.cpan/build/2018091923/Tapper-Remote-5.0.0-1/blib/lib/Tapper/Remote/Config.pm line 25.
Use of uninitialized value $cmd_line in pattern match (m//) at /home/cpansand/.cpan/build/2018091923/Tapper-Remote-5.0.0-1/blib/lib/Tapper/Remote/Config.pm line 28.
t/tapper-remote-config.t ...... ok
# /var/tmp/cpansmoker-1023/2018091923/BBoYYxHa_S
t/tapper-remote-net.t ......... ok
All tests successful.
Files=8, Tests=14,  2 wallclock secs ( 0.02 usr  0.02 sys +  1.15 cusr  0.35 csys =  1.54 CPU)
Result: PASS

------------------------------
PREREQUISITES
------------------------------

Prerequisite modules loaded:

requires:

    Module              Need Have    
    ------------------- ---- --------
    Getopt::Long        0    2.5     
    IO::Socket::INET    0    1.39    
    Moose               0    2.2011  
    Moose::Role         0    2.2011  
    Net::TFTP           0    0.1901  
    Socket              0    2.027   
    strict              0    1.07    
    Sys::Hostname       0    1.17    
    Tapper::Base        0    5.0.0   
    URI::Escape         0    3.31    
    warnings            0    1.18    
    YAML::Syck          0    1.30    

build_requires:

    Module              Need Have    
    ------------------- ---- --------
    ExtUtils::MakeMaker 0    7.34    
    File::Temp          0    0.2306  
    Log::Log4perl       0    1.49    
    POSIX               0    1.32    
    Test::MockModule    0    0.15    
    Test::More          0    1.302136

configure_requires:

    Module              Need Have    
    ------------------- ---- --------
    ExtUtils::MakeMaker 0    7.34    


------------------------------
ENVIRONMENT AND OTHER CONTEXT
------------------------------

Environment variables:

    PATH = /usr/local/bin:/usr/bin:/bin:/usr/local/sbin:/usr/sbin:/sbin:/home/cpansand/bin/sh:/home/cpansand/bin:/usr/games:/home/cpansand/devel:/home/eserte/src/srezic-misc/scripts
    PERL5LIB = /home/cpansand/.cpan/build/2018091923/Net-TFTP-0.1901-1/blib/arch:/home/cpansand/.cpan/build/2018091923/Net-TFTP-0.1901-1/blib/lib:/home/cpansand/.cpan/build/2018091923/Tapper-Config-5.0.3-1/blib/arch:/home/cpansand/.cpan/build/2018091923/Tapper-Config-5.0.3-1/blib/lib:/home/cpansand/.cpan/build/2018091923/Tapper-Base-5.0.0-1/blib/arch:/home/cpansand/.cpan/build/2018091923/Tapper-Base-5.0.0-1/blib/lib:/home/cpansand/.cpan/build/2018091923/LockFile-Simple-0.208-1/blib/arch:/home/cpansand/.cpan/build/2018091923/LockFile-Simple-0.208-1/blib/lib:/home/cpansand/.cpan/build/2018091923/MooseX-Log-Log4perl-0.47-0/blib/arch:/home/cpansand/.cpan/build/2018091923/MooseX-Log-Log4perl-0.47-0/blib/lib
    PERL5OPT = 
    PERL5_CPANPLUS_IS_RUNNING = 11488
    PERL5_CPAN_IS_RUNNING = 11488
    PERL5_CPAN_IS_RUNNING_IN_RECURSION = 10550,11488
    PERL_BATCH = yes
    PERL_CANARY_STABILITY_NOPROMPT = 1
    PERL_CPAN_REPORTER_CONFIG = /var/tmp/cpansmoker-1023/2018091923/cpanreporter_000_config.ini
    PERL_EXTUTILS_AUTOINSTALL = --defaultdeps
    SHELL = /bin/sh
    TMPDIR = /var/tmp/cpansmoker-1023/2018091923

Perl special variables (and OS-specific diagnostics, for MSWin32):

    $^X = /usr/perl5.18.4p/bin/perl5.18.4
    $UID/$EUID = 1023 / 1023
    $GID = 1023 1023
    $EGID = 1023 1023

Perl module toolchain versions installed:

    Module              Have    
    ------------------- --------
    CPAN                2.16    
    CPAN::Meta          2.150010
    Cwd                 3.74    
    ExtUtils::CBuilder  0.280230
    ExtUtils::Command   7.34    
    ExtUtils::Install   2.06    
    ExtUtils::MakeMaker 7.34    
    ExtUtils::Manifest  1.70    
    ExtUtils::ParseXS   3.35    
    File::Spec          3.74    
    JSON                2.97001 
    JSON::PP            2.94    
    Module::Build       0.4224  
    Module::Signature   0.81    
    Parse::CPAN::Meta   2.150010
    Test::Harness       3.42    
    Test::More          1.302136
    YAML                1.26    
    YAML::Syck          1.30    
    version             0.9924  


--

Summary of my perl5 (revision 5 version 18 subversion 4) configuration:
   
  Platform:
    osname=freebsd, osvers=11.1-stable, archname=amd64-freebsd
    uname='freebsd ali3.bbbike.org 11.1-stable freebsd 11.1-stable #0 b7ba9aef7e5(stable11): wed oct 11 00:23:27 utc 2017 root@ali3.bbbike.org:usrobjhomeprojectsfreebsdsysgeneric amd64 '
    config_args='-ds -e -Dprefix=/usr/perl5.18.4p -Dcf_email=srezic@cpan.org -Doptimize=-O2 -pipe'
    hint=recommended, useposix=true, d_sigaction=define
    useithreads=undef, usemultiplicity=undef
    useperlio=define, d_sfio=undef, uselargefiles=define, usesocks=undef
    use64bitint=define, use64bitall=define, uselongdouble=undef
    usemymalloc=n, bincompat5005=undef
  Compiler:
    cc='cc', ccflags ='-DHAS_FPSETMASK -DHAS_FLOATINGPOINT_H -fno-strict-aliasing -pipe -fstack-protector -I/usr/local/include',
    optimize='-O2 -pipe',
    cppflags='-DHAS_FPSETMASK -DHAS_FLOATINGPOINT_H -fno-strict-aliasing -pipe -fstack-protector -I/usr/local/include'
    ccversion='', gccversion='4.2.1 Compatible FreeBSD Clang 5.0.0 (tags/RELEASE_500/final 312559)', gccosandvers=''
    intsize=4, longsize=8, ptrsize=8, doublesize=8, byteorder=12345678
    d_longlong=define, longlongsize=8, d_longdbl=define, longdblsize=16
    ivtype='long', ivsize=8, nvtype='double', nvsize=8, Off_t='off_t', lseeksize=8
    alignbytes=8, prototype=define
  Linker and Libraries:
    ld='cc', ldflags ='-pthread -Wl,-E  -fstack-protector -L/usr/local/lib'
    libpth=/usr/lib /usr/local/lib
    libs=-lgdbm -lm -lcrypt -lutil -lc
    perllibs=-lm -lcrypt -lutil -lc
    libc=, so=so, useshrplib=false, libperl=libperl.a
    gnulibc_version=''
  Dynamic Linking:
    dlsrc=dl_dlopen.xs, dlext=so, d_dlsymun=undef, ccdlflags=' '
    cccdlflags='-DPIC -fPIC', lddlflags='-shared  -L/usr/local/lib -fstack-protector'


Characteristics of this binary (from libperl): 
  Compile-time options: HAS_TIMES PERLIO_LAYERS PERL_DONT_CREATE_GVSV
                        PERL_HASH_FUNC_ONE_AT_A_TIME_HARD PERL_MALLOC_WRAP
                        PERL_PRESERVE_IVUV PERL_SAWAMPERSAND USE_64_BIT_ALL
                        USE_64_BIT_INT USE_LARGE_FILES USE_LOCALE
                        USE_LOCALE_COLLATE USE_LOCALE_CTYPE
                        USE_LOCALE_NUMERIC USE_PERLIO USE_PERL_ATOF
  Built under freebsd
  Compiled at Oct 19 2017 14:17:00
  %ENV:
    PERL5LIB="/home/cpansand/.cpan/build/2018091923/Net-TFTP-0.1901-1/blib/arch:/home/cpansand/.cpan/build/2018091923/Net-TFTP-0.1901-1/blib/lib:/home/cpansand/.cpan/build/2018091923/Tapper-Config-5.0.3-1/blib/arch:/home/cpansand/.cpan/build/2018091923/Tapper-Config-5.0.3-1/blib/lib:/home/cpansand/.cpan/build/2018091923/Tapper-Base-5.0.0-1/blib/arch:/home/cpansand/.cpan/build/2018091923/Tapper-Base-5.0.0-1/blib/lib:/home/cpansand/.cpan/build/2018091923/LockFile-Simple-0.208-1/blib/arch:/home/cpansand/.cpan/build/2018091923/LockFile-Simple-0.208-1/blib/lib:/home/cpansand/.cpan/build/2018091923/MooseX-Log-Log4perl-0.47-0/blib/arch:/home/cpansand/.cpan/build/2018091923/MooseX-Log-Log4perl-0.47-0/blib/lib"
    PERL5OPT=""
    PERL5_CPANPLUS_IS_RUNNING="11488"
    PERL5_CPAN_IS_RUNNING="11488"
    PERL5_CPAN_IS_RUNNING_IN_RECURSION="10550,11488"
    PERL_BATCH="yes"
    PERL_CANARY_STABILITY_NOPROMPT="1"
    PERL_CPAN_REPORTER_CONFIG="/var/tmp/cpansmoker-1023/2018091923/cpanreporter_000_config.ini"
    PERL_EXTUTILS_AUTOINSTALL="--defaultdeps"
  @INC:
    /home/cpansand/.cpan/build/2018091923/Net-TFTP-0.1901-1/blib/arch
    /home/cpansand/.cpan/build/2018091923/Net-TFTP-0.1901-1/blib/lib
    /home/cpansand/.cpan/build/2018091923/Tapper-Config-5.0.3-1/blib/arch
    /home/cpansand/.cpan/build/2018091923/Tapper-Config-5.0.3-1/blib/lib
    /home/cpansand/.cpan/build/2018091923/Tapper-Base-5.0.0-1/blib/arch
    /home/cpansand/.cpan/build/2018091923/Tapper-Base-5.0.0-1/blib/lib
    /home/cpansand/.cpan/build/2018091923/LockFile-Simple-0.208-1/blib/arch
    /home/cpansand/.cpan/build/2018091923/LockFile-Simple-0.208-1/blib/lib
    /home/cpansand/.cpan/build/2018091923/MooseX-Log-Log4perl-0.47-0/blib/arch
    /home/cpansand/.cpan/build/2018091923/MooseX-Log-Log4perl-0.47-0/blib/lib
    /usr/perl5.18.4p/lib/site_perl/5.18.4/amd64-freebsd
    /usr/perl5.18.4p/lib/site_perl/5.18.4
    /usr/perl5.18.4p/lib/5.18.4/amd64-freebsd
    /usr/perl5.18.4p/lib/5.18.4
    .