Redis-Fast v0.37 Perl 5 v5.38.3 x86_64-linux-quadmath

Status
Pass
From
Andreas J. König (ANDK)
Dist
Redis-Fast v0.37
Platform
Perl 5 v5.38.3 x86_64-linux-quadmath
Date
2025-06-14 08:39:11
ID
0b3dedb6-48fb-11f0-a07b-fbf4b9272f16
This distribution has been tested as part of the CPAN Testers
project, supporting the Perl programming language.  See
http://wiki.cpantesters.org/ for more information or email
questions to cpan-testers-discuss@perl.org


--
Dear Shogo Ichinose,

This is a computer-generated report for Redis-Fast-0.37
on perl 5.38.3, created by CPAN-Reporter-1.2020.

Thank you for uploading your work to CPAN.  Congratulations!
All tests were successful.

Sections of this report:

    * Tester comments
    * Program output
    * Prerequisites
    * Environment and other context

------------------------------
TESTER COMMENTS
------------------------------

Additional comments from tester:

this report is from an automated smoke testing program
and was not reviewed by a human for accuracy

------------------------------
PROGRAM OUTPUT
------------------------------

Output from './Build test':

t/01-basic.t ........................... ok
t/02-responses.t ....................... ok
    # parent waiting for child 3539753...
    # child is ready to test, signal parent to kill our server
    # parent killed pub/sub redis server, signal child to proceed
    # parent waiting for child 3539759...
    # now, check wait_for_messages(), should die...
    # CHILD: reconnected (with a 10s timeout)
    # CHILD: is ready to test, signal parent to restart our server
    # PARENT: killed pub/sub redis server, signal child to proceed
    # CHILD: launch wait_for_messages(2), with reconnect...
    # CHILD: reconnected (with a 10s timeout)
    # PARENT: has relaunched the server...
    # CHILD: after 2 sec, nothing yet, retrying
    # CHILD: launch wait_for_messages(2), with reconnect...
    # CHILD: after 2 sec, nothing yet, retrying
    # CHILD: launch wait_for_messages(2), with reconnect...
    # PARENT: waiting for child 3539765...
    # CHILD: child received the message
t/03-pubsub.t .......................... ok
# undefServer closed the connection
t/04-pipeline-issue117.t ............... ok
t/04-pipeline.t ........................ ok
t/05-nonblock.t ........................ skipped: not needed, tested by hiredis
t/06-on-connect.t ...................... ok
t/07-reconnect-on-error.t .............. ok
t/07-reconnect-without-auto-connect.t .. ok
    # Sleeping 11 seconds, waiting for Redis to timeout...
    # Sleeping 11 seconds, waiting for Redis to timeout...
    # Sleeping 11 seconds, waiting for Redis to timeout...
t/07-reconnect.t ....................... ok
t/08-unix-socket.t ..................... skipped: Define ENV TEST_REDIS_SERVER_SOCK_PATH to test UNIX socket support
t/09-env-redis-server.t ................ ok
t/10-tie-list.t ........................ ok
t/11-timeout.t ......................... ok
t/20-tie-hash.t ........................ ok
t/30-scripts.t ......................... ok
t/42-client_cmds.t ..................... ok
t/44-no-unicode-bug.t .................. ok
t/50-fork_safe.t ....................... ok
t/51-leak.t ............................ ok
t/53-blpop.t ........................... ok
t/53-blpop_and_timeout.t ............... ok
t/53-deep-recursion.t .................. ok
t/53-fail-to-connect.t ................. ok
t/53-password.t ........................ ok
    # 4558954.19484888
t/53-signal.t .......................... ok
t/53-timeout-length.t .................. ok
# redis address : 127.0.0.1:42933
# sentinel address: 127.0.0.1:44325
# sentinel2 address: 127.0.0.1:40613
# wait 3 sec for the sentinels and the master to gossip
# shutting down sentinel2
# shutting down sentinel
# shutting down redis
t/60-sentinel.t ........................ ok
All tests successful.
Files=28, Tests=325, 148 wallclock secs ( 0.15 usr  0.06 sys +  8.62 cusr  2.53 csys = 11.36 CPU)
Result: PASS

------------------------------
PREREQUISITES
------------------------------

Prerequisite modules loaded:

requires:

    Module                Need     Have    
    --------------------- -------- --------
    perl                  5.014000 5.038003
    Time::HiRes           1.77     1.9775  
    Try::Tiny             0        0.32    

build_requires:

    Module                Need     Have    
    --------------------- -------- --------
    Digest::SHA           0        6.04    
    ExtUtils::CBuilder    0        0.280238
    File::Temp            0        0.2311  
    Parallel::ForkManager 0        2.03    
    Test::Deep            0        1.204   
    Test::Fatal           0        0.017   
    Test::LeakTrace       0        0.17    
    Test::More            0.98     1.302209
    Test::SharedFork      0        0.35    
    Test::TCP             0        2.22    
    Test::UNIXSock        0        0.4     

configure_requires:

    Module                Need     Have    
    --------------------- -------- --------
    File::Which           0        1.27    
    Module::Build         0.4005   0.4234  
    Module::Build::XSUtil 0.02     0.19    


------------------------------
ENVIRONMENT AND OTHER CONTEXT
------------------------------

Environment variables:

    AUTOMATED_TESTING = 1
    LANG = en_US.UTF-8
    LANGUAGE = en_US:en
    PATH = /home/sand/bin:/usr/local/bin:/usr/bin:/bin:/usr/games:/usr/local/perl/bin:/usr/X11/bin:/sbin:/usr/sbin
    PERL5LIB = 
    PERL5OPT = 
    PERL5_CPANPLUS_IS_RUNNING = 3535725
    PERL5_CPAN_IS_RUNNING = 3535725
    PERL_CANARY_STABILITY_NOPROMPT = 1
    PERL_MM_USE_DEFAULT = 1
    PERL_USE_UNSAFE_INC = 1
    SHELL = /usr/bin/zsh
    TERM = screen

Perl special variables (and OS-specific diagnostics, for MSWin32):

    $^X = /home/sand/src/perl/repoperls/installed-perls/host/k93msid/v5.38.3/ec94/bin/perl
    $UID/$EUID = 1005 / 1005
    $GID = 1005 1005
    $EGID = 1005 1005

Perl module toolchain versions installed:

    Module              Have    
    ------------------- --------
    CPAN                2.38    
    CPAN::Meta          2.150010
    Cwd                 3.89    
    ExtUtils::CBuilder  0.280238
    ExtUtils::Command   7.74    
    ExtUtils::Install   2.22    
    ExtUtils::MakeMaker 7.74    
    ExtUtils::Manifest  1.75    
    ExtUtils::ParseXS   3.51    
    File::Spec          3.88    
    JSON                4.10    
    JSON::PP            4.16    
    Module::Build       0.4234  
    Module::Signature   0.89    
    Parse::CPAN::Meta   2.150010
    Test2               1.302209
    Test::Harness       3.52    
    Test::More          1.302209
    YAML                1.31    
    YAML::Syck          1.34    
    version             0.9933  


--

Summary of my perl5 (revision 5 version 38 subversion 3) configuration:
  Commit id: 06697759559c52236e296a256776b1222f228163
  Platform:
    osname=linux
    osvers=6.8.12-amd64
    archname=x86_64-linux-quadmath
    uname='linux k93msid 6.8.12-amd64 #1 smp preempt_dynamic debian 6.8.12-1 (2024-05-31) x86_64 gnulinux '
    config_args='-Dprefix=/home/sand/src/perl/repoperls/installed-perls/host/k93msid/v5.38.3/ec94 -Dmyhostname=k93msid -Dinstallusrbinperl=n -Uversiononly -Dusedevel -des -Ui_db -Dlibswanted=cl pthread socket inet nsl gdbm dbm malloc dl ld sun m crypt sec util c cposix posix ucb BSD gdbm_compat -Uuseithreads -Uuselongdouble -DEBUGGING=both -Dusequadmath'
    hint=recommended
    useposix=true
    d_sigaction=define
    useithreads=undef
    usemultiplicity=undef
    use64bitint=define
    use64bitall=define
    uselongdouble=undef
    usemymalloc=n
    default_inc_excludes_dot=define
  Compiler:
    cc='cc'
    ccflags ='-fwrapv -DDEBUGGING -fno-strict-aliasing -pipe -fstack-protector-strong -I/usr/local/include -D_LARGEFILE_SOURCE -D_FILE_OFFSET_BITS=64 -D_FORTIFY_SOURCE=2'
    optimize='-O2 -g'
    cppflags='-fwrapv -DDEBUGGING -fno-strict-aliasing -pipe -fstack-protector-strong -I/usr/local/include'
    ccversion=''
    gccversion='13.3.0'
    gccosandvers=''
    intsize=4
    longsize=8
    ptrsize=8
    doublesize=8
    byteorder=12345678
    doublekind=3
    d_longlong=define
    longlongsize=8
    d_longdbl=define
    longdblsize=16
    longdblkind=3
    ivtype='long'
    ivsize=8
    nvtype='__float128'
    nvsize=16
    Off_t='off_t'
    lseeksize=8
    alignbytes=16
    prototype=define
  Linker and Libraries:
    ld='cc'
    ldflags =' -fstack-protector-strong -L/usr/local/lib'
    libpth=/usr/local/lib /usr/lib/x86_64-linux-gnu /usr/lib /usr/lib64
    libs=-lpthread -ldl -lm -lcrypt -lutil -lc -lquadmath
    perllibs=-lpthread -ldl -lm -lcrypt -lutil -lc -lquadmath
    libc=/lib/x86_64-linux-gnu/libc.so.6
    so=so
    useshrplib=false
    libperl=libperl.a
    gnulibc_version='2.38'
  Dynamic Linking:
    dlsrc=dl_dlopen.xs
    dlext=so
    d_dlsymun=undef
    ccdlflags='-Wl,-E'
    cccdlflags='-fPIC'
    lddlflags='-shared -O2 -g -L/usr/local/lib -fstack-protector-strong'


Characteristics of this binary (from libperl): 
  Compile-time options:
    DEBUGGING
    HAS_LONG_DOUBLE
    HAS_STRTOLD
    HAS_TIMES
    PERLIO_LAYERS
    PERL_COPY_ON_WRITE
    PERL_DONT_CREATE_GVSV
    PERL_HASH_FUNC_SIPHASH13
    PERL_HASH_USE_SBOX32
    PERL_MALLOC_WRAP
    PERL_OP_PARENT
    PERL_PRESERVE_IVUV
    PERL_USE_DEVEL
    PERL_USE_SAFE_PUTENV
    USE_64_BIT_ALL
    USE_64_BIT_INT
    USE_LARGE_FILES
    USE_LOCALE
    USE_LOCALE_COLLATE
    USE_LOCALE_CTYPE
    USE_LOCALE_NUMERIC
    USE_LOCALE_TIME
    USE_PERLIO
    USE_PERL_ATOF
    USE_QUADMATH
  Built under linux
  Compiled at Jan 20 2025 14:03:55
  %ENV:
    PERL5LIB=""
    PERL5OPT=""
    PERL5_CPANPLUS_IS_RUNNING="3535725"
    PERL5_CPAN_IS_RUNNING="3535725"
    PERL_CANARY_STABILITY_NOPROMPT="1"
    PERL_MM_USE_DEFAULT="1"
    PERL_USE_UNSAFE_INC="1"
  @INC:
    /home/sand/src/perl/repoperls/installed-perls/host/k93msid/v5.38.3/ec94/lib/site_perl/5.38.3/x86_64-linux-quadmath
    /home/sand/src/perl/repoperls/installed-perls/host/k93msid/v5.38.3/ec94/lib/site_perl/5.38.3
    /home/sand/src/perl/repoperls/installed-perls/host/k93msid/v5.38.3/ec94/lib/5.38.3/x86_64-linux-quadmath
    /home/sand/src/perl/repoperls/installed-perls/host/k93msid/v5.38.3/ec94/lib/5.38.3
    .