Astro-Catalog v4.37 Perl 5 v5.22.2 x86_64-linux

Status
Pass
From
Slaven Rezić
Dist
Astro-Catalog v4.37
Platform
Perl 5 v5.22.2 x86_64-linux
Date
2023-04-19 03:41:18
ID
0b6c637a-de64-11ed-828a-46ed6d8775ea
This distribution has been tested as part of the CPAN Testers
project, supporting the Perl programming language.  See
http://wiki.cpantesters.org/ for more information or email
questions to cpan-testers-discuss@perl.org


--
Dear Graham Bell,

This is a computer-generated report for Astro-Catalog-4.37
on perl 5.22.2, created by CPAN-Reporter-1.2018.

Thank you for uploading your work to CPAN.  Congratulations!
All tests were successful.

Sections of this report:

    * Tester comments
    * Program output
    * Prerequisites
    * Environment and other context

------------------------------
TESTER COMMENTS
------------------------------

Additional comments from tester:

none provided

------------------------------
PROGRAM OUTPUT
------------------------------

Output from './Build test':

# Astro::Catalog::IO::LCOGTFITSTable can not locate Astro/FITS/CFITSIO.pm
# Astro::Catalog::IO::FITSTable can not locate Astro/FITS/CFITSIO.pm
# Astro::Catalog::IO::VEX can not locate Astro/VEX.pm
# Astro::Catalog::IO::VOTable can not locate Astro/VO/VOTable/Document.pm
t/1_compile.t ..... ok
t/2_astrom.t ...... ok
t/2_cluster.t ..... ok
t/2_findoff.t ..... ok
t/2_fitstable.t ... skipped: Tests require Astro::FITS::CFITSIO
t/2_gaiapick.t .... ok
t/2_jcmt.t ........ ok
t/2_jcmt_loose.t .. ok
t/2_northstar.t ... ok
t/2_ritmatch.t .... ok
t/2_sextractor.t .. ok
t/2_simple.t ...... ok
t/2_stl.t ......... ok
t/2_tst.t ......... ok
t/2_ukirtbs.t ..... ok
t/2_votable.t ..... skipped: Astro::VO::VOTable not installed
t/2_xy.t .......... ok
t/3_catalog.t ..... ok
t/3_item.t ........ ok
t/3_morphology.t .. ok
t/3_star.t ........ ok
t/4_cmc.t ......... ok
Unable to find plausible coordinate in string '------ ------ ------' at /home/cpansand/.cpan/build/2023041905/Astro-Coords-0.21-1/blib/lib/Astro/Coords/Equatorial.pm line 149.
Unable to find plausible coordinate in string '------ ----- ----' at /home/cpansand/.cpan/build/2023041905/Astro-Coords-0.21-1/blib/lib/Astro/Coords/Equatorial.pm line 151.
# Cannot connect to ESO GSC: Coordinates must be an Astro::Coords object at /home/cpansand/.cpan/build/2023041905/Astro-Catalog-4.37-1/blib/lib/Astro/Catalog/Query/GSC.pm line 205.
t/4_gsc.t ......... ok
# Error 500: Failed to establish network connection using url http://scully.harvard.edu/~cgi/MPCheck.COM?mot=h&which=pos&month=3&decl=-14+02+00&sort=d&TextArea=&limit=20&type=p&needed=f&tmot=s&radius=300&oc=500&ra=07+13+42&day=1.87&year=2004&ps=n at t/4_mpc.t line 99.
t/4_mpc.t ......... ok
# Cannot connect to Sesame: Service description 'http://cdsws.u-strasbg.fr/axis/services/Sesame?wsdl' can't be loaded: 500 Can't connect to cdsws.u-strasbg.fr:80
# Cannot connect to Sesame: Service description 'http://cdsws.u-strasbg.fr/axis/services/Sesame?wsdl' can't be loaded: 500 Can't connect to cdsws.u-strasbg.fr:80
t/4_sesame.t ...... ok
# Can not construct Skycat client: unable to find a remote service named gsc@eso at t/4_skycat_gsc.t line 107.
t/4_skycat_gsc.t .. ok
# Cannot connect to USNO-A2: Error 404: Failed to establish network connection using url http://archive.eso.org/skycat/servers/usnoa_res?magfaint=100&magbright=0&sort=ra&nout=2000&object=HT Cas&radmax=1&format=1 at t/4_usnoa2.t line 152.
t/4_usnoa2.t ...... ok
All tests successful.
Files=27, Tests=3453,  7 wallclock secs ( 0.15 usr  0.03 sys +  4.84 cusr  0.98 csys =  6.00 CPU)
Result: PASS

------------------------------
PREREQUISITES
------------------------------

Prerequisite modules loaded:

requires:

    Module                    Need Have    
    ------------------------- ---- --------
    Astro::Coords             0.12 0.21    
    Astro::Flux               0.01 0.01    
    Astro::Telescope          0.5  0.71    
    Carp                      1.01 1.38    
    Class::Struct             0.63 0.65    
    Data::Dumper              2.12 2.161   
    DateTime                  0    1.36    
    DateTime::Format::ISO8601 0    0.08    
    File::Spec                0.84 3.62    
    File::Temp                0.14 0.2304  
    LWP                       5.53 6.15    
    Misc::Quality             0.01 0.01    
    Net::Domain               2.13 3.10    
    Number::Uncertainty       0.01 1.4     
    Pod::Usage                1.14 1.69    
    Scalar::Util              1.14 1.45    
    SOAP::Lite                0    1.20    
    Time::Piece               1.08 1.31    

build_requires:

    Module                    Need Have    
    ------------------------- ---- --------
    Test::More                0    1.302052

configure_requires:

    Module                    Need Have    
    ------------------------- ---- --------
    Module::Build             0.3  0.4220  


------------------------------
ENVIRONMENT AND OTHER CONTEXT
------------------------------

Environment variables:

    LANG = en_US.UTF-8
    LANGUAGE = en_US:en
    LC_ALL = en_US.UTF-8
    PATH = /usr/local/bin:/usr/bin:/bin:/usr/local/sbin:/usr/sbin:/sbin:/home/cpansand/bin/linux-gnu:/home/cpansand/bin/sh:/home/cpansand/bin:/usr/games:/home/cpansand/devel:/home/eserte/src/srezic-misc/scripts
    PERL5LIB = /home/cpansand/.cpan/build/2023041905/Astro-Flux-0.01-1/blib/arch:/home/cpansand/.cpan/build/2023041905/Astro-Flux-0.01-1/blib/lib:/home/cpansand/.cpan/build/2023041905/Number-Uncertainty-0.1-1/blib/arch:/home/cpansand/.cpan/build/2023041905/Number-Uncertainty-0.1-1/blib/lib:/home/cpansand/.cpan/build/2023041905/Misc-Quality-0.1-1/blib/arch:/home/cpansand/.cpan/build/2023041905/Misc-Quality-0.1-1/blib/lib:/home/cpansand/.cpan/build/2023041905/Astro-WaveBand-0.10-1/blib/arch:/home/cpansand/.cpan/build/2023041905/Astro-WaveBand-0.10-1/blib/lib:/home/cpansand/.cpan/build/2023041905/Astro-Coords-0.21-1/blib/arch:/home/cpansand/.cpan/build/2023041905/Astro-Coords-0.21-1/blib/lib:/home/cpansand/.cpan/build/2023041905/Astro-Telescope-0.71-1/blib/arch:/home/cpansand/.cpan/build/2023041905/Astro-Telescope-0.71-1/blib/lib:/home/cpansand/.cpan/build/2023041905/Astro-PAL-1.09-1/blib/arch:/home/cpansand/.cpan/build/2023041905/Astro-PAL-1.09-1/blib/lib
    PERL5OPT = 
    PERL5_CPANPLUS_IS_RUNNING = 9948
    PERL5_CPAN_IS_RUNNING = 9948
    PERL5_CPAN_IS_RUNNING_IN_RECURSION = 8026,9948
    PERLDOC = -MPod::Perldoc::ToTextOverstrike
    PERL_BATCH = yes
    PERL_CANARY_STABILITY_NOPROMPT = 1
    PERL_CPAN_REPORTER_CONFIG = /var/tmp/cpansmoker-1023/2023041905/cpanreporter_000_config.ini
    PERL_EXTUTILS_AUTOINSTALL = --defaultdeps
    PERL_USE_UNSAFE_INC = 1
    SHELL = /bin/zsh
    TERM = screen
    TMPDIR = /var/tmp/cpansmoker-1023/2023041905

Perl special variables (and OS-specific diagnostics, for MSWin32):

    $^X = /opt/perl-5.22.2/bin/perl
    $UID/$EUID = 1023 / 1023
    $GID = 1023 1023
    $EGID = 1023 1023

Perl module toolchain versions installed:

    Module              Have    
    ------------------- --------
    CPAN                2.16    
    CPAN::Meta          2.150010
    Cwd                 3.62    
    ExtUtils::CBuilder  0.280221
    ExtUtils::Command   7.24    
    ExtUtils::Install   2.04    
    ExtUtils::MakeMaker 7.24    
    ExtUtils::Manifest  1.70    
    ExtUtils::ParseXS   3.28    
    File::Spec          3.62    
    JSON                2.90    
    JSON::PP            2.27300 
    Module::Build       0.4220  
    Module::Signature   0.81    
    Parse::CPAN::Meta   2.150010
    Test::Harness       3.35    
    Test::More          1.302052
    YAML                1.17    
    YAML::Syck          1.29    
    version             0.9917  


--

Summary of my perl5 (revision 5 version 22 subversion 2) configuration:
   
  Platform:
    osname=linux, osvers=3.2.0-4-amd64, archname=x86_64-linux
    uname='linux cvrsnica-wheezy 3.2.0-4-amd64 #1 smp debian 3.2.54-2 x86_64 gnulinux '
    config_args='-ds -e -Dprefix=/opt/perl-5.22.2 -Dcf_email=srezic@cpan.org'
    hint=recommended, useposix=true, d_sigaction=define
    useithreads=undef, usemultiplicity=undef
    use64bitint=define, use64bitall=define, uselongdouble=undef
    usemymalloc=n, bincompat5005=undef
  Compiler:
    cc='cc', ccflags ='-fwrapv -fno-strict-aliasing -pipe -fstack-protector -I/usr/local/include -D_LARGEFILE_SOURCE -D_FILE_OFFSET_BITS=64 -D_FORTIFY_SOURCE=2',
    optimize='-O2',
    cppflags='-fwrapv -fno-strict-aliasing -pipe -fstack-protector -I/usr/local/include'
    ccversion='', gccversion='4.7.2', gccosandvers=''
    intsize=4, longsize=8, ptrsize=8, doublesize=8, byteorder=12345678, doublekind=3
    d_longlong=define, longlongsize=8, d_longdbl=define, longdblsize=16, longdblkind=3
    ivtype='long', ivsize=8, nvtype='double', nvsize=8, Off_t='off_t', lseeksize=8
    alignbytes=8, prototype=define
  Linker and Libraries:
    ld='cc', ldflags =' -fstack-protector -L/usr/local/lib'
    libpth=/usr/local/lib /usr/lib/gcc/x86_64-linux-gnu/4.7/include-fixed /usr/include/x86_64-linux-gnu /usr/lib /lib/x86_64-linux-gnu /lib/../lib /usr/lib/x86_64-linux-gnu /usr/lib/../lib /lib
    libs=-lpthread -lnsl -ldb -ldl -lm -lcrypt -lutil -lc
    perllibs=-lpthread -lnsl -ldl -lm -lcrypt -lutil -lc
    libc=libc-2.13.so, so=so, useshrplib=false, libperl=libperl.a
    gnulibc_version='2.13'
  Dynamic Linking:
    dlsrc=dl_dlopen.xs, dlext=so, d_dlsymun=undef, ccdlflags='-Wl,-E'
    cccdlflags='-fPIC', lddlflags='-shared -O2 -L/usr/local/lib -fstack-protector'


Characteristics of this binary (from libperl): 
  Compile-time options: HAS_TIMES PERLIO_LAYERS PERL_DONT_CREATE_GVSV
                        PERL_HASH_FUNC_ONE_AT_A_TIME_HARD PERL_MALLOC_WRAP
                        PERL_NEW_COPY_ON_WRITE PERL_PRESERVE_IVUV
                        USE_64_BIT_ALL USE_64_BIT_INT USE_LARGE_FILES
                        USE_LOCALE USE_LOCALE_COLLATE USE_LOCALE_CTYPE
                        USE_LOCALE_NUMERIC USE_LOCALE_TIME USE_PERLIO
                        USE_PERL_ATOF
  Built under linux
  Compiled at May 29 2016 23:41:57
  %ENV:
    PERL5LIB="/home/cpansand/.cpan/build/2023041905/Astro-Flux-0.01-1/blib/arch:/home/cpansand/.cpan/build/2023041905/Astro-Flux-0.01-1/blib/lib:/home/cpansand/.cpan/build/2023041905/Number-Uncertainty-0.1-1/blib/arch:/home/cpansand/.cpan/build/2023041905/Number-Uncertainty-0.1-1/blib/lib:/home/cpansand/.cpan/build/2023041905/Misc-Quality-0.1-1/blib/arch:/home/cpansand/.cpan/build/2023041905/Misc-Quality-0.1-1/blib/lib:/home/cpansand/.cpan/build/2023041905/Astro-WaveBand-0.10-1/blib/arch:/home/cpansand/.cpan/build/2023041905/Astro-WaveBand-0.10-1/blib/lib:/home/cpansand/.cpan/build/2023041905/Astro-Coords-0.21-1/blib/arch:/home/cpansand/.cpan/build/2023041905/Astro-Coords-0.21-1/blib/lib:/home/cpansand/.cpan/build/2023041905/Astro-Telescope-0.71-1/blib/arch:/home/cpansand/.cpan/build/2023041905/Astro-Telescope-0.71-1/blib/lib:/home/cpansand/.cpan/build/2023041905/Astro-PAL-1.09-1/blib/arch:/home/cpansand/.cpan/build/2023041905/Astro-PAL-1.09-1/blib/lib"
    PERL5OPT=""
    PERL5_CPANPLUS_IS_RUNNING="9948"
    PERL5_CPAN_IS_RUNNING="9948"
    PERL5_CPAN_IS_RUNNING_IN_RECURSION="8026,9948"
    PERLDOC="-MPod::Perldoc::ToTextOverstrike"
    PERL_BATCH="yes"
    PERL_CANARY_STABILITY_NOPROMPT="1"
    PERL_CPAN_REPORTER_CONFIG="/var/tmp/cpansmoker-1023/2023041905/cpanreporter_000_config.ini"
    PERL_EXTUTILS_AUTOINSTALL="--defaultdeps"
    PERL_USE_UNSAFE_INC="1"
  @INC:
    /home/cpansand/.cpan/build/2023041905/Astro-Flux-0.01-1/blib/arch
    /home/cpansand/.cpan/build/2023041905/Astro-Flux-0.01-1/blib/lib
    /home/cpansand/.cpan/build/2023041905/Number-Uncertainty-0.1-1/blib/arch
    /home/cpansand/.cpan/build/2023041905/Number-Uncertainty-0.1-1/blib/lib
    /home/cpansand/.cpan/build/2023041905/Misc-Quality-0.1-1/blib/arch
    /home/cpansand/.cpan/build/2023041905/Misc-Quality-0.1-1/blib/lib
    /home/cpansand/.cpan/build/2023041905/Astro-WaveBand-0.10-1/blib/arch
    /home/cpansand/.cpan/build/2023041905/Astro-WaveBand-0.10-1/blib/lib
    /home/cpansand/.cpan/build/2023041905/Astro-Coords-0.21-1/blib/arch
    /home/cpansand/.cpan/build/2023041905/Astro-Coords-0.21-1/blib/lib
    /home/cpansand/.cpan/build/2023041905/Astro-Telescope-0.71-1/blib/arch
    /home/cpansand/.cpan/build/2023041905/Astro-Telescope-0.71-1/blib/lib
    /home/cpansand/.cpan/build/2023041905/Astro-PAL-1.09-1/blib/arch
    /home/cpansand/.cpan/build/2023041905/Astro-PAL-1.09-1/blib/lib
    /opt/perl-5.22.2/lib/site_perl/5.22.2/x86_64-linux
    /opt/perl-5.22.2/lib/site_perl/5.22.2
    /opt/perl-5.22.2/lib/5.22.2/x86_64-linux
    /opt/perl-5.22.2/lib/5.22.2
    .