DBD-SQLite v1.76 Perl 5 v5.38.2 x86_64-linux-thread-multi
- Status
- Pass
- From
- Slaven Rezić
- Dist
-
DBD-SQLite v1.76
- Platform
- Perl 5 v5.38.2 x86_64-linux-thread-multi
- Date
- 2024-11-07 22:38:44
- ID
- 0b72f1e4-9d59-11ef-94e6-38406e8775ea
This distribution has been tested as part of the CPAN Testers
project, supporting the Perl programming language. See
http://wiki.cpantesters.org/ for more information or email
questions to cpan-testers-discuss@perl.org
--
Dear Kenichi Ishigaki,
This is a computer-generated report for DBD-SQLite-1.76
on perl 5.38.2, created by CPAN-Reporter-1.2020.
Thank you for uploading your work to CPAN. Congratulations!
All tests were successful.
Sections of this report:
* Tester comments
* Program output
* Prerequisites
* Environment and other context
------------------------------
TESTER COMMENTS
------------------------------
Additional comments from tester:
none provided
------------------------------
PROGRAM OUTPUT
------------------------------
Output from '/usr/bin/make test':
"/usr/bin/perl" -MExtUtils::Command::MM -e 'cp_nonempty' -- SQLite.bs blib/arch/auto/DBD/SQLite/SQLite.bs 644
PERL_DL_NONLAZY=1 "/usr/bin/perl" "-MExtUtils::Command::MM" "-MTest::Harness" "-e" "undef *Test::Harness::Switches; test_harness(0, 'blib/lib', 'blib/arch')" t/*.t t/*/*.t
# $DBI::VERSION=1.643
# Compile Options:
# ATOMIC_INTRINSICS=1
# COMPILER=gcc-13.2.1 20240316 (Red Hat 13.2.1-7)
# DEFAULT_AUTOVACUUM
# DEFAULT_CACHE_SIZE=-2000
# DEFAULT_FILE_FORMAT=4
# DEFAULT_JOURNAL_SIZE_LIMIT=-1
# DEFAULT_MMAP_SIZE=0
# DEFAULT_PAGE_SIZE=4096
# DEFAULT_PCACHE_INITSZ=20
# DEFAULT_RECURSIVE_TRIGGERS
# DEFAULT_SECTOR_SIZE=4096
# DEFAULT_SYNCHRONOUS=2
# DEFAULT_WAL_AUTOCHECKPOINT=1000
# DEFAULT_WAL_SYNCHRONOUS=2
# DEFAULT_WORKER_THREADS=0
# DIRECT_OVERFLOW_READ
# ENABLE_COLUMN_METADATA
# ENABLE_FTS3
# ENABLE_FTS3_PARENTHESIS
# ENABLE_FTS4
# ENABLE_FTS5
# ENABLE_MATH_FUNCTIONS
# ENABLE_RTREE
# MALLOC_SOFT_LIMIT=1024
# MAX_ATTACHED=10
# MAX_COLUMN=2000
# MAX_COMPOUND_SELECT=500
# MAX_DEFAULT_PAGE_SIZE=8192
# MAX_EXPR_DEPTH=1000
# MAX_FUNCTION_ARG=127
# MAX_LENGTH=1000000000
# MAX_LIKE_PATTERN_LENGTH=50000
# MAX_MMAP_SIZE=0x7fff0000
# MAX_PAGE_COUNT=0xfffffffe
# MAX_PAGE_SIZE=65536
# MAX_SQL_LENGTH=1000000000
# MAX_TRIGGER_DEPTH=1000
# MAX_VARIABLE_NUMBER=32766
# MAX_VDBE_OP=250000000
# MAX_WORKER_THREADS=8
# MUTEX_PTHREADS
# SYSTEM_MALLOC
# TEMP_STORE=1
# THREADSAFE=1
t/01_compile.t ........................................ ok
# sqlite_version=3.46.1
t/02_logon.t .......................................... ok
t/03_create_table.t ................................... ok
t/04_insert.t ......................................... ok
t/05_select.t ......................................... ok
t/06_tran.t ........................................... ok
t/07_error.t .......................................... ok
t/08_busy.t ........................................... ok
t/09_create_function.t ................................ ok
t/10_create_aggregate.t ............................... ok
t/11_get_info.t ....................................... ok
t/12_unicode.t ........................................ ok
t/13_create_collation.t ............................... ok
t/14_progress_handler.t ............................... ok
t/15_ak_dbd.t ......................................... ok
t/16_column_info.t .................................... ok
t/17_createdrop.t ..................................... ok
t/18_insertfetch.t .................................... ok
t/19_bindparam.t ...................................... ok
t/20_blobs.t .......................................... ok
t/21_blobtext.t ....................................... ok
t/22_listfields.t ..................................... ok
t/23_nulls.t .......................................... ok
t/24_numrows.t ........................................ ok
t/25_chopblanks.t ..................................... ok
t/26_commit.t ......................................... ok
t/27_metadata.t ....................................... ok
t/28_schemachange.t ................................... ok
t/30_auto_rollback.t .................................. ok
t/31_bind_weird_number_param.t ........................ ok
t/32_inactive_error.t ................................. ok
t/33_non_latin_path.t ................................. ok
t/34_online_backup.t .................................. ok
t/35_table_info.t ..................................... ok
t/36_hooks.t .......................................... ok
t/37_regexp.t ......................................... ok
t/38_empty_statement.t ................................ ok
t/39_foreign_keys.t ................................... ok
t/40_multiple_statements.t ............................ ok
t/41_placeholders.t ................................... ok
t/42_primary_key_info.t ............................... ok
t/43_fts3.t ........................................... ok
t/44_rtree.t .......................................... ok
t/45_savepoints.t ..................................... ok
t/46_mod_perl.t ....................................... skipped: requires APR::Table
t/47_execute.t ........................................ ok
t/48_bind_param_is_sticky.t ........................... ok
t/49_trace_and_profile.t .............................. ok
t/50_foreign_key_info.t ............................... ok
t/51_table_column_metadata.t .......................... ok
t/52_db_filename.t .................................... ok
t/53_status.t ......................................... ok
t/54_literal_txn.t .................................... ok
t/55_statistics_info.t ................................ ok
t/56_open_flags.t ..................................... ok
t/57_uri_filename.t ................................... ok
t/58_see_if_its_a_number_and_explicit_binding.t ....... ok
t/59_extended_result_codes.t .......................... skipped: this test is for Win32 only
t/60_readonly.t ....................................... ok
t/61_strlike.t ........................................ ok
t/62_regexp_multibyte_char_class.t .................... ok
t/63_param_values.t ................................... ok
t/64_limit.t .......................................... ok
t/65_db_config.t ...................................... ok
t/66_get_autocommit.t ................................. ok
t/cookbook_variance.t ................................. ok
t/rt_106151_outermost_savepoint.t ..................... ok
t/rt_106950_extra_warnings_with_savepoints.t .......... ok
t/rt_115465_column_info_with_spaces.t ................. ok
t/rt_124227_index_regression.t ........................ ok
t/rt_15186_prepcached.t ............................... ok
t/rt_21406_auto_finish.t .............................. ok
t/rt_25371_asymmetric_unicode.t ....................... ok
t/rt_25460_numeric_aggregate.t ........................ ok
t/rt_25924_user_defined_func_unicode.t ................ ok
t/rt_26775_distinct.t ................................. ok
t/rt_27553_prepared_cache_and_analyze.t ............... ok
t/rt_29058_group_by.t ................................. ok
t/rt_29629_sqlite_where_length.t ...................... ok
t/rt_31324_full_names.t ............................... ok
t/rt_32889_prepare_cached_reexecute.t ................. ok
t/rt_36836_duplicate_key.t ............................ ok
t/rt_36838_unique_and_bus_error.t ..................... ok
t/rt_40594_nullable.t ................................. ok
t/rt_48393_debug_panic_with_commit.t .................. skipped: set $ENV{TEST_DBD_SQLITE_WITH_DEBUGGER} to enable this test
t/rt_50503_fts3.t ..................................... ok
t/rt_52573_manual_exclusive_lock.t .................... ok
t/rt_53235_icu_compatibility.t ........................ skipped: requires SQLite ICU plugin to be enabled
t/rt_62370_diconnected_handles_operation.t ............ ok
t/rt_64177_ping_wipes_out_the_errstr.t ................ ok
t/rt_67581_bind_params_mismatch.t ..................... ok
t/rt_71311_bind_col_and_unicode.t ..................... ok
t/rt_73159_fts_tokenizer_segfault.t ................... ok
t/rt_73787_exponential_buffer_overflow.t .............. ok
t/rt_76395_int_overflow.t ............................. ok
t/rt_77724_primary_key_with_a_whitespace.t ............ ok
t/rt_78833_utf8_flag_for_column_names.t ............... ok
t/rt_81536_multi_column_primary_key_info.t ............ ok
t/rt_88228_sqlite_3_8_0_crash.t ....................... ok
t/rt_96050_db_filename_for_a_closed_database.t ........ ok
t/rt_96877_unicode_statements.t ....................... ok
t/rt_96878_fts_contentless_table.t .................... ok
t/rt_97598_crash_on_disconnect_with_virtual_tables.t .. ok
t/virtual_table/00_base.t ............................. ok
t/virtual_table/01_destroy.t .......................... ok
t/virtual_table/02_find_function.t .................... ok
t/virtual_table/10_filecontent.t ...................... ok
t/virtual_table/11_filecontent_fulltext.t ............. ok
t/virtual_table/20_perldata.t ......................... ok
t/virtual_table/21_perldata_charinfo.t ................ ok
t/virtual_table/rt_124941.t ........................... ok
t/virtual_table/rt_99748.t ............................ ok
t/virtual_table/unknown_op.t .......................... ok
All tests successful.
Files=113, Tests=3863, 18 wallclock secs ( 0.44 usr 0.19 sys + 7.67 cusr 2.25 csys = 10.55 CPU)
Result: PASS
------------------------------
PREREQUISITES
------------------------------
Prerequisite modules loaded:
requires:
Module Need Have
------------------- ----- --------
DBI 1.57 1.643
File::Spec 0.82 3.88
perl 5.006 5.038002
Test::More 0.88 1.302195
Tie::Hash 0 1.06
build_requires:
Module Need Have
------------------- ----- --------
ExtUtils::MakeMaker 0 7.70
configure_requires:
Module Need Have
------------------- ----- --------
DBI 1.57 1.643
ExtUtils::MakeMaker 6.48 7.70
File::Spec 0.82 3.88
------------------------------
ENVIRONMENT AND OTHER CONTEXT
------------------------------
Environment variables:
LANG = en_US.UTF-8
PATH = /usr/local/bin:/usr/bin:/bin:/usr/local/sbin:/usr/sbin:/sbin:/home/cpansand/bin/linux-gnu:/home/cpansand/bin/sh:/home/cpansand/bin:/usr/games:/home/cpansand/devel:/home/eserte/src/srezic-misc/scripts
PERL5LIB = /home/cpansand/.cpan/build/2024110715/DBD-CSV-0.60-0/blib/arch:/home/cpansand/.cpan/build/2024110715/DBD-CSV-0.60-0/blib/lib:/home/cpansand/.cpan/build/2024110715/Text-CSV_XS-1.56-0/blib/arch:/home/cpansand/.cpan/build/2024110715/Text-CSV_XS-1.56-0/blib/lib:/home/cpansand/.cpan/build/2024110715/SQL-Statement-1.414-0/blib/arch:/home/cpansand/.cpan/build/2024110715/SQL-Statement-1.414-0/blib/lib:/home/cpansand/.cpan/build/2024110715/Text-Soundex-3.05-0/blib/arch:/home/cpansand/.cpan/build/2024110715/Text-Soundex-3.05-0/blib/lib:/home/cpansand/.cpan/build/2024110715/Test-Deep-1.204-0/blib/arch:/home/cpansand/.cpan/build/2024110715/Test-Deep-1.204-0/blib/lib:/home/cpansand/.cpan/build/2024110715/Module-Runtime-0.016-0/blib/arch:/home/cpansand/.cpan/build/2024110715/Module-Runtime-0.016-0/blib/lib:/home/cpansand/.cpan/build/2024110715/Math-Base-Convert-0.11-0/blib/arch:/home/cpansand/.cpan/build/2024110715/Math-Base-Convert-0.11-0/blib/lib
PERL5OPT =
PERL5_CPANPLUS_IS_RUNNING = 2561250
PERL5_CPAN_IS_RUNNING = 2561250
PERL5_CPAN_IS_RUNNING_IN_RECURSION = 2561185,2561250
PERLDOC = -MPod::Perldoc::ToTextOverstrike
PERL_BATCH = yes
PERL_CANARY_STABILITY_NOPROMPT = 1
PERL_CPAN_REPORTER_CONFIG = /var/tmp/cpansmoker-1023/2024110715/cpanreporter_000_config.ini
PERL_EXTUTILS_AUTOINSTALL = --defaultdeps
PERL_USE_UNSAFE_INC = 1
SHELL = /usr/bin/zsh
TERM = screen
TMPDIR = /var/tmp/cpansmoker-1023/2024110715
Perl special variables (and OS-specific diagnostics, for MSWin32):
$^X = /usr/bin/perl
$UID/$EUID = 1023 / 1023
$GID = 1023 1023
$EGID = 1023 1023
Perl module toolchain versions installed:
Module Have
------------------- --------
CPAN 2.36
CPAN::Meta 2.150010
Cwd 3.89
ExtUtils::CBuilder 0.280238
ExtUtils::Command 7.70
ExtUtils::Install 2.22
ExtUtils::MakeMaker 7.70
ExtUtils::Manifest 1.75
ExtUtils::ParseXS 3.51
File::Spec 3.88
JSON n/a
JSON::PP 4.16
Module::Build 0.4234
Module::Signature 0.88
Parse::CPAN::Meta 2.150010
Test2 1.302195
Test::Harness 3.48
Test::More 1.302195
YAML n/a
YAML::Syck 1.34
version 0.9930
--
Summary of my perl5 (revision 5 version 38 subversion 2) configuration:
Platform:
osname=linux
osvers=6.5.10-200.fc38.x86_64
archname=x86_64-linux-thread-multi
uname='linux 071d0054338b4d9581badd27a2b84703 6.5.10-200.fc38.x86_64 #1 smp preempt_dynamic thu nov 2 19:59:55 utc 2023 x86_64 gnulinux '
config_args='-des -Doptimize=none -Dccflags=-O2 -flto=auto -ffat-lto-objects -fexceptions -g -grecord-gcc-switches -pipe -Wall -Wno-complain-wrong-lang -Werror=format-security -Wp,-U_FORTIFY_SOURCE,-D_FORTIFY_SOURCE=3 -Wp,-D_GLIBCXX_ASSERTIONS -specs=/usr/lib/rpm/redhat/redhat-hardened-cc1 -fstack-protector-strong -specs=/usr/lib/rpm/redhat/redhat-annobin-cc1 -m64 -mtune=generic -fasynchronous-unwind-tables -fstack-clash-protection -fcf-protection -fno-omit-frame-pointer -mno-omit-leaf-frame-pointer -Dldflags=-Wl,-z,relro -Wl,--as-needed -Wl,-z,now -specs=/usr/lib/rpm/redhat/redhat-hardened-ld -specs=/usr/lib/rpm/redhat/redhat-annobin-cc1 -Wl,--build-id=sha1 -Dccdlflags=-Wl,--enable-new-dtags -Wl,-z,relro -Wl,--as-needed -Wl,-z,now -specs=/usr/lib/rpm/redhat/redhat-hardened-ld -specs=/usr/lib/rpm/redhat/redhat-annobin-cc1 -Wl,--build-id=sha1 -Dlddlflags=-shared -Wl,-z,relro -Wl,--as-needed -Wl,-z,now -specs=/usr/lib/rpm/redhat/redhat-hardened-ld -specs=/usr/lib/rpm/redhat/redhat-annobin-cc1 -Wl,--build-id=sha1 -Dshrpdir=/usr/lib64 -DDEBUGGING=-g -Dversion=5.38.2 -Dmyhostname=localhost -Dperladmin=root@localhost -Dcc=gcc -Dcf_by=Red Hat, Inc. -Dprefix=/usr -Dvendorprefix=/usr -Dsiteprefix=/usr/local -Dsitelib=/usr/local/share/perl5/5.38 -Dsitearch=/usr/local/lib64/perl5/5.38 -Dprivlib=/usr/share/perl5 -Dvendorlib=/usr/share/perl5/vendor_perl -Darchlib=/usr/lib64/perl5 -Dvendorarch=/usr/lib64/perl5/vendor_perl -Darchname=x86_64-linux-thread-multi -Dlibpth=/usr/local/lib64 /lib64 /usr/lib64 -Duseshrplib -Dusethreads -Duseithreads -Dusedtrace=/usr/bin/dtrace -Duselargefiles -Dd_semctl_semun -Di_db -Ui_ndbm -Di_gdbm -Di_shadow -Di_syslog -Dman3ext=3pm -Duseperlio -Dinstallusrbinperl=n -Ubincompat5005 -Uversiononly -Dpager=/usr/bin/less -isr -Dd_gethostent_r_proto -Ud_endhostent_r_proto -Ud_sethostent_r_proto -Ud_endprotoent_r_proto -Ud_setprotoent_r_proto -Ud_endservent_r_proto -Ud_setservent_r_proto -Dscriptdir=/usr/bin -Dusesitecustomize -Duse64bitint'
hint=recommended
useposix=true
d_sigaction=define
useithreads=define
usemultiplicity=define
use64bitint=define
use64bitall=define
uselongdouble=undef
usemymalloc=n
default_inc_excludes_dot=define
Compiler:
cc='gcc'
ccflags ='-D_REENTRANT -D_GNU_SOURCE -O2 -flto=auto -ffat-lto-objects -fexceptions -g -grecord-gcc-switches -pipe -Wall -Wno-complain-wrong-lang -Werror=format-security -Wp,-U_FORTIFY_SOURCE,-D_FORTIFY_SOURCE=3 -Wp,-D_GLIBCXX_ASSERTIONS -specs=/usr/lib/rpm/redhat/redhat-hardened-cc1 -fstack-protector-strong -specs=/usr/lib/rpm/redhat/redhat-annobin-cc1 -m64 -mtune=generic -fasynchronous-unwind-tables -fstack-clash-protection -fcf-protection -fno-omit-frame-pointer -mno-omit-leaf-frame-pointer -fwrapv -fno-strict-aliasing -I/usr/local/include -D_LARGEFILE_SOURCE -D_FILE_OFFSET_BITS=64'
optimize=' -g'
cppflags='-D_REENTRANT -D_GNU_SOURCE -O2 -flto=auto -ffat-lto-objects -fexceptions -g -grecord-gcc-switches -pipe -Wall -Wno-complain-wrong-lang -Werror=format-security -Wp,-U_FORTIFY_SOURCE,-D_FORTIFY_SOURCE=3 -Wp,-D_GLIBCXX_ASSERTIONS -specs=/usr/lib/rpm/redhat/redhat-hardened-cc1 -fstack-protector-strong -specs=/usr/lib/rpm/redhat/redhat-annobin-cc1 -m64 -mtune=generic -fasynchronous-unwind-tables -fstack-clash-protection -fcf-protection -fno-omit-frame-pointer -mno-omit-leaf-frame-pointer -fwrapv -fno-strict-aliasing -I/usr/local/include'
ccversion=''
gccversion='13.2.1 20231011 (Red Hat 13.2.1-4)'
gccosandvers=''
intsize=4
longsize=8
ptrsize=8
doublesize=8
byteorder=12345678
doublekind=3
d_longlong=define
longlongsize=8
d_longdbl=define
longdblsize=16
longdblkind=3
ivtype='long'
ivsize=8
nvtype='double'
nvsize=8
Off_t='off_t'
lseeksize=8
alignbytes=8
prototype=define
Linker and Libraries:
ld='gcc'
ldflags ='-Wl,-z,relro -Wl,--as-needed -Wl,-z,now -specs=/usr/lib/rpm/redhat/redhat-hardened-ld -specs=/usr/lib/rpm/redhat/redhat-annobin-cc1 -Wl,--build-id=sha1 -fstack-protector-strong -L/usr/local/lib'
libpth=/usr/local/lib64 /lib64 /usr/lib64 /usr/local/lib /usr/lib
libs=-lpthread -lresolv -lgdbm -ldb -ldl -lm -lcrypt -lutil -lc -lgdbm_compat
perllibs=-lpthread -lresolv -ldl -lm -lcrypt -lutil -lc
libc=/lib/../lib64/libc.so.6
so=so
useshrplib=true
libperl=libperl.so
gnulibc_version='2.38'
Dynamic Linking:
dlsrc=dl_dlopen.xs
dlext=so
d_dlsymun=undef
ccdlflags='-Wl,--enable-new-dtags -Wl,-z,relro -Wl,--as-needed -Wl,-z,now -specs=/usr/lib/rpm/redhat/redhat-hardened-ld -specs=/usr/lib/rpm/redhat/redhat-annobin-cc1 -Wl,--build-id=sha1 '
cccdlflags='-fPIC'
lddlflags='-lpthread -shared -Wl,-z,relro -Wl,--as-needed -Wl,-z,now -specs=/usr/lib/rpm/redhat/redhat-hardened-ld -specs=/usr/lib/rpm/redhat/redhat-annobin-cc1 -Wl,--build-id=sha1 -L/usr/local/lib -fstack-protector-strong'
Characteristics of this binary (from libperl):
Compile-time options:
HAS_LONG_DOUBLE
HAS_STRTOLD
HAS_TIMES
MULTIPLICITY
PERLIO_LAYERS
PERL_COPY_ON_WRITE
PERL_DONT_CREATE_GVSV
PERL_HASH_FUNC_SIPHASH13
PERL_HASH_USE_SBOX32
PERL_MALLOC_WRAP
PERL_OP_PARENT
PERL_PRESERVE_IVUV
PERL_USE_SAFE_PUTENV
USE_64_BIT_ALL
USE_64_BIT_INT
USE_ITHREADS
USE_LARGE_FILES
USE_LOCALE
USE_LOCALE_COLLATE
USE_LOCALE_CTYPE
USE_LOCALE_NUMERIC
USE_LOCALE_TIME
USE_PERLIO
USE_PERL_ATOF
USE_REENTRANT_API
USE_SITECUSTOMIZE
USE_THREAD_SAFE_LOCALE
Locally applied patches:
Fedora Patch1: Removes date check, Fedora/RHEL specific
Fedora Patch2: support for libdir64
Fedora Patch3: use libresolv instead of libbind
Fedora Patch4: USE_MM_LD_RUN_PATH
Fedora Patch5: Provide MM::maybe_command independently (bug #1129443)
Fedora Patch6: Dont run one io test due to random builder failures
Fedora Patch8: Define SONAME for libperl.so
Fedora Patch9: Install libperl.so to -Dshrpdir value
Fedora Patch10: Make *DBM_File desctructors thread-safe (RT#61912)
Fedora Patch11: Replace EU::MakeMaker dependency with EU::MM::Utils in IPC::Cmd (bug #1129443)
Fedora Patch12: Link XS modules to pthread library to fix linking with -z defs
Fedora Patch13: Pass the correct CFLAGS to dtrace
Fedora Patch200: Link XS modules to libperl.so with EU::CBuilder on Linux
Fedora Patch201: Link XS modules to libperl.so with EU::MM on Linux
Fedora Patch202: Add definition of OPTIMIZE to .ph files
Built under linux
Compiled at Nov 30 2023 00:00:00
%ENV:
PERL5LIB="/home/cpansand/.cpan/build/2024110715/DBD-CSV-0.60-0/blib/arch:/home/cpansand/.cpan/build/2024110715/DBD-CSV-0.60-0/blib/lib:/home/cpansand/.cpan/build/2024110715/Text-CSV_XS-1.56-0/blib/arch:/home/cpansand/.cpan/build/2024110715/Text-CSV_XS-1.56-0/blib/lib:/home/cpansand/.cpan/build/2024110715/SQL-Statement-1.414-0/blib/arch:/home/cpansand/.cpan/build/2024110715/SQL-Statement-1.414-0/blib/lib:/home/cpansand/.cpan/build/2024110715/Text-Soundex-3.05-0/blib/arch:/home/cpansand/.cpan/build/2024110715/Text-Soundex-3.05-0/blib/lib:/home/cpansand/.cpan/build/2024110715/Test-Deep-1.204-0/blib/arch:/home/cpansand/.cpan/build/2024110715/Test-Deep-1.204-0/blib/lib:/home/cpansand/.cpan/build/2024110715/Module-Runtime-0.016-0/blib/arch:/home/cpansand/.cpan/build/2024110715/Module-Runtime-0.016-0/blib/lib:/home/cpansand/.cpan/build/2024110715/Math-Base-Convert-0.11-0/blib/arch:/home/cpansand/.cpan/build/2024110715/Math-Base-Convert-0.11-0/blib/lib"
PERL5OPT=""
PERL5_CPANPLUS_IS_RUNNING="2561250"
PERL5_CPAN_IS_RUNNING="2561250"
PERL5_CPAN_IS_RUNNING_IN_RECURSION="2561185,2561250"
PERLDOC="-MPod::Perldoc::ToTextOverstrike"
PERL_BATCH="yes"
PERL_CANARY_STABILITY_NOPROMPT="1"
PERL_CPAN_REPORTER_CONFIG="/var/tmp/cpansmoker-1023/2024110715/cpanreporter_000_config.ini"
PERL_EXTUTILS_AUTOINSTALL="--defaultdeps"
PERL_USE_UNSAFE_INC="1"
@INC:
/home/cpansand/.cpan/build/2024110715/DBD-CSV-0.60-0/blib/arch
/home/cpansand/.cpan/build/2024110715/DBD-CSV-0.60-0/blib/lib
/home/cpansand/.cpan/build/2024110715/Text-CSV_XS-1.56-0/blib/arch
/home/cpansand/.cpan/build/2024110715/Text-CSV_XS-1.56-0/blib/lib
/home/cpansand/.cpan/build/2024110715/SQL-Statement-1.414-0/blib/arch
/home/cpansand/.cpan/build/2024110715/SQL-Statement-1.414-0/blib/lib
/home/cpansand/.cpan/build/2024110715/Text-Soundex-3.05-0/blib/arch
/home/cpansand/.cpan/build/2024110715/Text-Soundex-3.05-0/blib/lib
/home/cpansand/.cpan/build/2024110715/Test-Deep-1.204-0/blib/arch
/home/cpansand/.cpan/build/2024110715/Test-Deep-1.204-0/blib/lib
/home/cpansand/.cpan/build/2024110715/Module-Runtime-0.016-0/blib/arch
/home/cpansand/.cpan/build/2024110715/Module-Runtime-0.016-0/blib/lib
/home/cpansand/.cpan/build/2024110715/Math-Base-Convert-0.11-0/blib/arch
/home/cpansand/.cpan/build/2024110715/Math-Base-Convert-0.11-0/blib/lib
/usr/local/lib64/perl5/5.38
/usr/local/share/perl5/5.38
/usr/lib64/perl5/vendor_perl
/usr/share/perl5/vendor_perl
/usr/lib64/perl5
/usr/share/perl5
.