Back
From: metabase:user:320bfe00-2aae-11df-837a-5e0a49663a4f
Subject: PASS Data-Collector-0.15 v5.21.7 GNU/Linux
Date: 2014-12-13T08:43:00Z
This distribution has been tested as part of the CPAN Testers
project, supporting the Perl programming language. See
http://wiki.cpantesters.org/ for more information or email
questions to cpan-testers-discuss@perl.org
--
Dear Sawyer X,
This is a computer-generated report for Data-Collector-0.15
on perl 5.21.7, created by CPAN-Reporter-1.2011.
Thank you for uploading your work to CPAN. Congratulations!
All tests were successful.
Sections of this report:
* Tester comments
* Program output
* Prerequisites
* Environment and other context
------------------------------
TESTER COMMENTS
------------------------------
Additional comments from tester:
this report is from an automated smoke testing program
and was not reviewed by a human for accuracy
------------------------------
PROGRAM OUTPUT
------------------------------
Output from './Build test':
t/00-compile.t ........................ ok
# Testing Data::Collector 0.15, Perl 5.021007, /tmp/basesmoker-reloperl-vEu_/bin/perl
t/00-load.t ........................... ok
t/collector/collect.t ................. ok
t/collector/nonexistent_engine.t ...... ok
t/collector/nonexistent_serializer.t .. ok
t/engine/basic.t ...................... ok
t/engine/openssh.t .................... ok
t/engine/subclassing.t ................ ok
t/info/base.t ......................... ok
t/info/reserved_keys.t ................ ok
t/release-pod-syntax.t ................ skipped: these tests are for release candidate testing
t/serializers/json.t .................. ok
All tests successful.
Files=12, Tests=72, 6 wallclock secs ( 0.04 usr 0.01 sys + 5.33 cusr 0.30 csys = 5.68 CPU)
Result: PASS
------------------------------
PREREQUISITES
------------------------------
Prerequisite modules loaded:
requires:
Module Need Have
-------------------------- ------ ------------
Carp 0 1.34
Class::Load 0 0.22
Data::Dumper 0 2.155
File::HomeDir 0 1.00
File::Spec 0 3.53
indirect 0 0.33
IPC::System::Simple 0 1.25
JSON 0 2.90
List::MoreUtils 0 0.33
List::Util 0 1.41
Module::Pluggable::Object 0 5.1
Moose 0 2.1403
Moose::Role 0 2.1403
MooseX::Getopt::Dashes 0 0.65
MooseX::SimpleConfig 0 0.11
MooseX::Types::Path::Class 0 0.06
MooseX::Types::Set::Object 0 0.04
namespace::autoclean 0 0.22
Net::OpenSSH 0 0.62
Set::Object 0 1.34
strictures 1 1.005005
YAML 0 1.13
build_requires:
Module Need Have
-------------------------- ------ ------------
File::Find 0 1.29
File::Temp 0 0.2304
Module::Build 0.3601 0.4210
strict 0 1.09
Sub::Override 0 0.09
Test::Fatal 0 0.014
Test::More 0 1.301001_084
warnings 0 1.29
configure_requires:
Module Need Have
-------------------------- ------ ------------
ExtUtils::MakeMaker 6.30 7.04
Module::Build 0.3601 0.4210
------------------------------
ENVIRONMENT AND OTHER CONTEXT
------------------------------
Environment variables:
AUTOMATED_TESTING = 1
LANG = en_US.UTF-8
LANGUAGE = en_US:en
PATH = /home/sand/bin:/usr/local/bin:/usr/bin:/bin:/usr/games:/usr/local/perl/bin:/usr/X11/bin:/sbin:/usr/sbin
PERL5LIB = /tmp/loop_over_bdir-29103-N0khLA/FusionInventory-Agent-2.3.13-zuJiBe/blib/arch:/tmp/loop_over_bdir-29103-N0khLA/FusionInventory-Agent-2.3.13-zuJiBe/blib/lib
PERL5OPT =
PERL5_CPANPLUS_IS_RUNNING = 3229
PERL5_CPAN_IS_RUNNING = 3229
PERL_MM_USE_DEFAULT = 1
SHELL = /usr/bin/zsh
TERM = screen
Perl special variables (and OS-specific diagnostics, for MSWin32):
$^X = /tmp/basesmoker-reloperl-vEu_/bin/perl
$UID/$EUID = 1005 / 1005
$GID = 1005 1005
$EGID = 1005 1005
Perl module toolchain versions installed:
Module Have
------------------- ------------
CPAN 2.05
CPAN::Meta 2.143240
Cwd 3.54
ExtUtils::CBuilder 0.280220
ExtUtils::Command 1.18
ExtUtils::Install 2.04
ExtUtils::MakeMaker 7.04
ExtUtils::Manifest 1.69
ExtUtils::ParseXS 3.27
File::Spec 3.53
JSON 2.90
JSON::PP 2.27300
Module::Build 0.4210
Module::Signature 0.73
Parse::CPAN::Meta 1.4414
Test::Harness 3.34
Test::More 1.301001_084
YAML 1.13
YAML::Syck 1.28
version 0.9909
--
Summary of my perl5 (revision 5 version 21 subversion 7) configuration:
Commit id: 3503e8484ba6399e51aec16d01278970f6a0ebe5
Platform:
osname=linux, osvers=3.16.0-4-amd64, archname=x86_64-linux-thread-multi-ld
uname='linux k83 3.16.0-4-amd64 #1 smp debian 3.16.7-2 (2014-11-06) x86_64 gnulinux '
config_args='-Dprefix=/home/sand/src/perl/repoperls/installed-perls/perl/v5.21.6-455-g3503e84/a2da -Dmyhostname=k83 -Dinstallusrbinperl=n -Uversiononly -Dusedevel -des -Ui_db -Duseithreads -Duselongdouble -DDEBUGGING=-g'
hint=recommended, useposix=true, d_sigaction=define
useithreads=define, usemultiplicity=define
use64bitint=define, use64bitall=define, uselongdouble=define
usemymalloc=n, bincompat5005=undef
Compiler:
cc='cc', ccflags ='-D_REENTRANT -D_GNU_SOURCE -fwrapv -fno-strict-aliasing -pipe -fstack-protector-strong -I/usr/local/include -D_LARGEFILE_SOURCE -D_FILE_OFFSET_BITS=64 -D_FORTIFY_SOURCE=2',
optimize='-O2 -g',
cppflags='-D_REENTRANT -D_GNU_SOURCE -fwrapv -fno-strict-aliasing -pipe -fstack-protector-strong -I/usr/local/include'
ccversion='', gccversion='4.9.2', gccosandvers=''
intsize=4, longsize=8, ptrsize=8, doublesize=8, byteorder=12345678, doublekind=3
d_longlong=define, longlongsize=8, d_longdbl=define, longdblsize=16, longdblkind=3
ivtype='long', ivsize=8, nvtype='long double', nvsize=16, Off_t='off_t', lseeksize=8
alignbytes=16, prototype=define
Linker and Libraries:
ld='cc', ldflags =' -fstack-protector-strong -L/usr/local/lib'
libpth=/usr/local/lib /usr/lib/gcc/x86_64-linux-gnu/4.9/include-fixed /usr/include/x86_64-linux-gnu /usr/lib /lib/x86_64-linux-gnu /lib/../lib /usr/lib/x86_64-linux-gnu /usr/lib/../lib /lib
libs=-lnsl -lgdbm -ldb -ldl -lm -lcrypt -lutil -lc -lpthread -lgdbm_compat
perllibs=-lnsl -ldl -lm -lcrypt -lutil -lc -lpthread
libc=libc-2.19.so, so=so, useshrplib=false, libperl=libperl.a
gnulibc_version='2.19'
Dynamic Linking:
dlsrc=dl_dlopen.xs, dlext=so, d_dlsymun=undef, ccdlflags='-Wl,-E'
cccdlflags='-fPIC', lddlflags='-shared -O2 -g -L/usr/local/lib -fstack-protector-strong'
Characteristics of this binary (from libperl):
Compile-time options: HAS_TIMES MULTIPLICITY PERLIO_LAYERS
PERL_DONT_CREATE_GVSV
PERL_HASH_FUNC_ONE_AT_A_TIME_HARD
PERL_IMPLICIT_CONTEXT PERL_MALLOC_WRAP
PERL_NEW_COPY_ON_WRITE PERL_PRESERVE_IVUV
PERL_USE_DEVEL USE_64_BIT_ALL USE_64_BIT_INT
USE_ITHREADS USE_LARGE_FILES USE_LOCALE
USE_LOCALE_COLLATE USE_LOCALE_CTYPE
USE_LOCALE_NUMERIC USE_LOCALE_TIME USE_LONG_DOUBLE
USE_PERLIO USE_PERL_ATOF USE_REENTRANT_API
Built under linux
Compiled at Dec 12 2014 14:50:03
%ENV:
PERL5LIB="/tmp/loop_over_bdir-29103-N0khLA/FusionInventory-Agent-2.3.13-zuJiBe/blib/arch:/tmp/loop_over_bdir-29103-N0khLA/FusionInventory-Agent-2.3.13-zuJiBe/blib/lib"
PERL5OPT=""
PERL5_CPANPLUS_IS_RUNNING="3229"
PERL5_CPAN_IS_RUNNING="3229"
PERL_MM_USE_DEFAULT="1"
@INC:
/tmp/loop_over_bdir-29103-N0khLA/FusionInventory-Agent-2.3.13-zuJiBe/blib/arch
/tmp/loop_over_bdir-29103-N0khLA/FusionInventory-Agent-2.3.13-zuJiBe/blib/lib
/home/sand/src/perl/repoperls/installed-perls/perl/v5.21.6-455-g3503e84/a2da/lib/site_perl/5.21.7/x86_64-linux-thread-multi-ld
/home/sand/src/perl/repoperls/installed-perls/perl/v5.21.6-455-g3503e84/a2da/lib/site_perl/5.21.7
/home/sand/src/perl/repoperls/installed-perls/perl/v5.21.6-455-g3503e84/a2da/lib/5.21.7/x86_64-linux-thread-multi-ld
/home/sand/src/perl/repoperls/installed-perls/perl/v5.21.6-455-g3503e84/a2da/lib/5.21.7
.