MooseX-WithCache v0.01007 Perl 5 v5.22.4 x86_64-linux-thread-multi-ld

Status
Pass
From
Andreas J. König (ANDK)
Dist
MooseX-WithCache v0.01007
Platform
Perl 5 v5.22.4 x86_64-linux-thread-multi-ld
Date
2017-09-08 00:38:34
ID
0b8e1b72-942e-11e7-a2e0-4d0e7fc6e50c
This distribution has been tested as part of the CPAN Testers
project, supporting the Perl programming language.  See
http://wiki.cpantesters.org/ for more information or email
questions to cpan-testers-discuss@perl.org


--
Dear Robin Clarke,

This is a computer-generated report for MooseX-WithCache-0.01007
on perl 5.22.4, created by CPAN-Reporter-1.2018.

Thank you for uploading your work to CPAN.  Congratulations!
All tests were successful.

Sections of this report:

    * Tester comments
    * Program output
    * Prerequisites
    * Environment and other context

------------------------------
TESTER COMMENTS
------------------------------

Additional comments from tester:

this report is from an automated smoke testing program
and was not reviewed by a human for accuracy

------------------------------
PROGRAM OUTPUT
------------------------------

Output from '/usr/bin/make test':

PERL_DL_NONLAZY=1 "/tmp/basesmoker-reloperl-foly/bin/perl" "-MExtUtils::Command::MM" "-MTest::Harness" "-e" "undef *Test::Harness::Switches; test_harness(0, 'inc', 'blib/lib', 'blib/arch')" t/*.t t/*/*.t
t/00_compile.t ....... ok
t/02_memcached.t ..... skipped: no memcached server found
must specify either 'datastore' hashref or 'global' flag at /home/sand/src/perl/repoperls/installed-perls/host/k93x64sid/v5.22.4/721c/lib/site_perl/5.22.4/CHI/Driver/Memory.pm line 34.
	CHI::Driver::Memory::BUILD(CHI::Driver::Memory__WITH__CHI::Driver::Role::Universal=HASH(0x556a11d31a00), HASH(0x556a11da8280)) called at (eval 298) line 508
	CHI::Driver::Memory__WITH__CHI::Driver::Role::Universal::new("CHI::Driver::Memory__WITH__CHI::Driver::Role::Universal", "chi_root_class", "CHI", "driver_class", "CHI::Driver::Memory") called at (eval 297) line 56
	CHI::Driver::Memory::new("CHI::Driver::Memory__WITH__CHI::Driver::Role::Universal", "chi_root_class", "CHI", "driver_class", "CHI::Driver::Memory") called at /home/sand/src/perl/repoperls/installed-perls/host/k93x64sid/v5.22.4/721c/lib/site_perl/5.22.4/CHI.pm line 151
	CHI::new("CHI", "driver", "Memory") called at t/03_chi.t line 29
t/03_chi.t ........... ok
t/04_fastmmap.t ...... ok
t/05_filecache.t ..... ok
t/99_pod-coverage.t .. skipped: Enable TEST_POD environment variable to test POD
t/99_pod.t ........... skipped: Enable TEST_POD environment variable to test POD
All tests successful.
Files=7, Tests=43,  2 wallclock secs ( 0.03 usr  0.04 sys +  1.64 cusr  0.24 csys =  1.95 CPU)
Result: PASS

------------------------------
PREREQUISITES
------------------------------

Prerequisite modules loaded:

requires:

    Module                      Need  Have    
    --------------------------- ----- --------
    Cache::FileCache            0     0       
    Cache::Memcached            0     1.30    
    Data::Dumper                0     2.161   
    Digest::MD5                 0     2.54    
    Moose                       0.59  2.2006  
    MooseX::Role::Parameterized 0     1.10    
    perl                        5.008 5.022004

build_requires:

    Module                      Need  Have    
    --------------------------- ----- --------
    ExtUtils::MakeMaker         6.42  7.30    
    IO::Socket::INET            0     1.35    
    Test::Exception             0     0.43    
    Test::More                  0     1.302086

configure_requires:

    Module                      Need  Have    
    --------------------------- ----- --------
    ExtUtils::MakeMaker         6.42  7.30    


------------------------------
ENVIRONMENT AND OTHER CONTEXT
------------------------------

Environment variables:

    AUTOMATED_TESTING = 1
    LANG = en_US.UTF-8
    PATH = /home/sand/bin:/usr/local/bin:/usr/bin:/bin:/usr/games:/usr/local/perl/bin:/usr/X11/bin:/sbin:/usr/sbin
    PERL5LIB = 
    PERL5OPT = 
    PERL5_CPANPLUS_IS_RUNNING = 2548
    PERL5_CPAN_IS_RUNNING = 2548
    PERL_CANARY_STABILITY_NOPROMPT = 1
    PERL_MM_USE_DEFAULT = 1
    PERL_USE_UNSAFE_INC = 1
    SHELL = /usr/bin/zsh
    TERM = screen

Perl special variables (and OS-specific diagnostics, for MSWin32):

    $^X = /tmp/basesmoker-reloperl-foly/bin/perl
    $UID/$EUID = 1005 / 1005
    $GID = 1005 1005
    $EGID = 1005 1005

Perl module toolchain versions installed:

    Module              Have      
    ------------------- ----------
    CPAN                2.18      
    CPAN::Meta          2.150010  
    Cwd                 3.62      
    ExtUtils::CBuilder  0.280226  
    ExtUtils::Command   7.30      
    ExtUtils::Install   2.06      
    ExtUtils::MakeMaker 7.30      
    ExtUtils::Manifest  1.70      
    ExtUtils::ParseXS   3.35      
    File::Spec          3.62      
    JSON                2.94      
    JSON::PP            2.27300_01
    Module::Build       0.4224    
    Module::Signature   0.81      
    Parse::CPAN::Meta   2.150010  
    Test::Harness       3.39      
    Test::More          1.302086  
    YAML                1.23      
    YAML::Syck          1.30      
    version             0.9918    


--

Summary of my perl5 (revision 5 version 22 subversion 4) configuration:
  Commit id: a26666a1317770d8a2228ac3657ba58020c3511f
  Platform:
    osname=linux, osvers=4.12.0-1-amd64, archname=x86_64-linux-thread-multi-ld
    uname='linux k93x64sid 4.12.0-1-amd64 #1 smp debian 4.12.6-1 (2017-08-12) x86_64 gnulinux '
    config_args='-Dprefix=/home/sand/src/perl/repoperls/installed-perls/host/k93x64sid/v5.22.4/721c -Dmyhostname=k93x64sid -Dinstallusrbinperl=n -Uversiononly -Dusedevel -des -Ui_db -Dlibswanted=cl pthread socket inet nsl gdbm dbm malloc dl ld sun m crypt sec util c cposix posix ucb BSD gdbm_compat -Duseithreads -Duselongdouble'
    hint=recommended, useposix=true, d_sigaction=define
    useithreads=define, usemultiplicity=define
    use64bitint=define, use64bitall=define, uselongdouble=define
    usemymalloc=n, bincompat5005=undef
  Compiler:
    cc='cc', ccflags ='-D_REENTRANT -D_GNU_SOURCE -fwrapv -fno-strict-aliasing -pipe -fstack-protector-strong -I/usr/local/include -D_LARGEFILE_SOURCE -D_FILE_OFFSET_BITS=64',
    optimize='-O2',
    cppflags='-D_REENTRANT -D_GNU_SOURCE -fwrapv -fno-strict-aliasing -pipe -fstack-protector-strong -I/usr/local/include'
    ccversion='', gccversion='7.2.0', gccosandvers=''
    intsize=4, longsize=8, ptrsize=8, doublesize=8, byteorder=12345678, doublekind=3
    d_longlong=define, longlongsize=8, d_longdbl=define, longdblsize=16, longdblkind=3
    ivtype='long', ivsize=8, nvtype='long double', nvsize=16, Off_t='off_t', lseeksize=8
    alignbytes=16, prototype=define
  Linker and Libraries:
    ld='cc', ldflags =' -fstack-protector-strong -L/usr/local/lib'
    libpth=/usr/local/lib /usr/lib/gcc/x86_64-linux-gnu/7/include-fixed /usr/include/x86_64-linux-gnu /usr/lib /lib/x86_64-linux-gnu /lib/../lib /usr/lib/x86_64-linux-gnu /usr/lib/../lib /lib
    libs=-lpthread -lnsl -ldl -lm -lcrypt -lutil -lc
    perllibs=-lpthread -lnsl -ldl -lm -lcrypt -lutil -lc
    libc=libc-2.24.so, so=so, useshrplib=false, libperl=libperl.a
    gnulibc_version='2.24'
  Dynamic Linking:
    dlsrc=dl_dlopen.xs, dlext=so, d_dlsymun=undef, ccdlflags='-Wl,-E'
    cccdlflags='-fPIC', lddlflags='-shared -O2 -L/usr/local/lib -fstack-protector-strong'


Characteristics of this binary (from libperl): 
  Compile-time options: HAS_TIMES MULTIPLICITY PERLIO_LAYERS
                        PERL_DONT_CREATE_GVSV
                        PERL_HASH_FUNC_ONE_AT_A_TIME_HARD
                        PERL_IMPLICIT_CONTEXT PERL_MALLOC_WRAP
                        PERL_NEW_COPY_ON_WRITE PERL_PRESERVE_IVUV
                        PERL_USE_DEVEL USE_64_BIT_ALL USE_64_BIT_INT
                        USE_ITHREADS USE_LARGE_FILES USE_LOCALE
                        USE_LOCALE_COLLATE USE_LOCALE_CTYPE
                        USE_LOCALE_NUMERIC USE_LOCALE_TIME USE_LONG_DOUBLE
                        USE_PERLIO USE_PERL_ATOF USE_REENTRANT_API
  Built under linux
  Compiled at Sep  7 2017 07:17:18
  %ENV:
    PERL5LIB=""
    PERL5OPT=""
    PERL5_CPANPLUS_IS_RUNNING="2548"
    PERL5_CPAN_IS_RUNNING="2548"
    PERL_CANARY_STABILITY_NOPROMPT="1"
    PERL_MM_USE_DEFAULT="1"
    PERL_USE_UNSAFE_INC="1"
  @INC:
    /home/sand/src/perl/repoperls/installed-perls/host/k93x64sid/v5.22.4/721c/lib/site_perl/5.22.4/x86_64-linux-thread-multi-ld
    /home/sand/src/perl/repoperls/installed-perls/host/k93x64sid/v5.22.4/721c/lib/site_perl/5.22.4
    /home/sand/src/perl/repoperls/installed-perls/host/k93x64sid/v5.22.4/721c/lib/5.22.4/x86_64-linux-thread-multi-ld
    /home/sand/src/perl/repoperls/installed-perls/host/k93x64sid/v5.22.4/721c/lib/5.22.4
    .