REST-Cypher v0.0.4 Perl 5 v5.24.1 x86_64-linux
- Status
- Pass
- From
- Slaven Rezić (SREZIC)
- Dist
-
REST-Cypher v0.0.4
- Platform
- Perl 5 v5.24.1 x86_64-linux
- Date
- 2018-02-23 15:05:54
- ID
- 0ba08896-18ab-11e8-8a02-d04d9748427c
This distribution has been tested as part of the CPAN Testers
project, supporting the Perl programming language. See
http://wiki.cpantesters.org/ for more information or email
questions to cpan-testers-discuss@perl.org
--
Dear Chisel,
This is a computer-generated report for REST-Cypher-0.0.4
on perl 5.24.1, created by CPAN-Reporter-1.2018.
Thank you for uploading your work to CPAN. Congratulations!
All tests were successful.
Sections of this report:
* Tester comments
* Program output
* Prerequisites
* Environment and other context
------------------------------
TESTER COMMENTS
------------------------------
Additional comments from tester:
none provided
------------------------------
PROGRAM OUTPUT
------------------------------
Output from '/usr/bin/make test':
PERL_DL_NONLAZY=1 "/opt/perl-5.24.1/bin/perl" "-MExtUtils::Command::MM" "-MTest::Harness" "-e" "undef *Test::Harness::Switches; test_harness(0, 'blib/lib', 'blib/arch')" t/*.t
t/00-load.t ................ ok
t/00.agent.t ............... skipped: PERL_CYPHER_NEO4J_ADDRESS needs a value
caught error: bless({
error => {
as_string => "500 Can't connect to some.other.server:7474 (Name or service not known)\nContent-Type: text/plain\nClient-Date: Fri, 23 Feb 2018 15:03:55 GMT\nClient-Warning: Internal response\n\nCan't connect to some.other.server:7474 (Name or service not known)\n\nName or service not known at /opt/perl-5.24.1/lib/site_perl/5.24.1/LWP/Protocol/http.pm line 50.\n",
code => 500,
message => "Can't connect to some.other.server:7474 (Name or service not known)",
},
previous_exception => "",
response => bless({
_content => "Can't connect to some.other.server:7474 (Name or service not known)\n\nName or service not known at /opt/perl-5.24.1/lib/site_perl/5.24.1/LWP/Protocol/http.pm line 50.\n",
_headers => bless({
"::std_case" => {
"client-date" => "Client-Date",
"client-warning" => "Client-Warning",
},
"client-date" => "Fri, 23 Feb 2018 15:03:55 GMT",
"client-warning" => "Internal response",
"content-type" => "text/plain",
}, "HTTP::Headers"),
_msg => "Can't connect to some.other.server:7474 (Name or service not known)",
_rc => 500,
_request => bless({
_content => "{\"params\":null,\"query\":\"MATCH (n:Foo) RETURN count(n)\"}",
_headers => bless({
"authorization" => "Basic bmVvNGo6bmVvNGo=",
"content-length" => 55,
"content-type" => "application/json",
"user-agent" => "REST::Cypher::Agent/0.0.0",
}, "HTTP::Headers"),
_method => "POST",
_uri => bless(do{\(my $o = "http://some.other.server:7474/db/data/cypher")}, "URI::http"),
}, "HTTP::Request"),
}, "HTTP::Response"),
}, "REST::Cypher::Exception::Response") at t/00.cypher.t line 75.
t/00.cypher.t .............. ok
t/author-no-breakpoints.t .. skipped: these tests are for testing by the author
t/author-no-tabs.t ......... skipped: these tests are for testing by the author
t/release-kwalitee.t ....... skipped: these tests are for release candidate testing
t/release-pod-coverage.t ... skipped: these tests are for release candidate testing
t/release-pod-syntax.t ..... skipped: these tests are for release candidate testing
All tests successful.
Files=8, Tests=12, 1 wallclock secs ( 0.03 usr 0.02 sys + 0.70 cusr 0.15 csys = 0.90 CPU)
Result: PASS
------------------------------
PREREQUISITES
------------------------------
Prerequisite modules loaded:
requires:
Module Need Have
---------------------------- ---- --------
JSON::Any 0 1.39
LWP::UserAgent 0 6.32
Moo 0 2.003004
MooseX::Params::Validate 0 0.21
MooX::Types::MooseLike::Base 0 0.29
overload 0 1.26
strict 0 1.11
Throwable 0 0.200013
warnings 0 1.36
build_requires:
Module Need Have
---------------------------- ---- --------
Data::Dump 0 1.23
ExtUtils::MakeMaker 0 7.32
FindBin::libs 0 v2.12.01
HTTP::Status 0 6.14
Pod::Coverage::TrustPod 0 0.100003
Test::Kwalitee 0 1.27
Test::Most 0 0.35
Test::NoTabs 0 2.00
Test::Pod 0 1.51
Test::Pod::Coverage 0 1.10
Test::UseAllModules 0 0.17
Try::Tiny 0 0.30
configure_requires:
Module Need Have
---------------------------- ---- --------
ExtUtils::MakeMaker 0 7.32
------------------------------
ENVIRONMENT AND OTHER CONTEXT
------------------------------
Environment variables:
LANG = en_US.UTF-8
PATH = /usr/local/bin:/usr/bin:/bin:/usr/local/sbin:/usr/sbin:/sbin:/home/cpansand/bin/linux-gnu:/home/cpansand/bin/sh:/home/cpansand/bin:/usr/games:/home/cpansand/devel:/home/eserte/src/srezic-misc/scripts
PERL5LIB = /home/cpansand/.cpan/build/2018022315/Perl-Critic-Policy-logicLAB-RequireVersionFormat-0.08-0/blib/arch:/home/cpansand/.cpan/build/2018022315/Perl-Critic-Policy-logicLAB-RequireVersionFormat-0.08-0/blib/lib:/home/cpansand/.cpan/build/2018022315/Perl-Critic-Policy-logicLAB-RequireSheBang-0.07-0/blib/arch:/home/cpansand/.cpan/build/2018022315/Perl-Critic-Policy-logicLAB-RequireSheBang-0.07-0/blib/lib:/home/cpansand/.cpan/build/2018022315/Perl-Critic-Policy-logicLAB-RequireParamsValidate-0.03-0/blib/arch:/home/cpansand/.cpan/build/2018022315/Perl-Critic-Policy-logicLAB-RequireParamsValidate-0.03-0/blib/lib:/home/cpansand/.cpan/build/2018022315/Perl-Critic-Policy-logicLAB-RequirePackageNamePattern-0.05-0/blib/arch:/home/cpansand/.cpan/build/2018022315/Perl-Critic-Policy-logicLAB-RequirePackageNamePattern-0.05-0/blib/lib:/home/cpansand/.cpan/build/2018022315/Text-Template-1.50-0/blib/arch:/home/cpansand/.cpan/build/2018022315/Text-Template-1.50-0/blib/lib
PERL5OPT =
PERL5_CPANPLUS_IS_RUNNING = 19296
PERL5_CPAN_IS_RUNNING = 19296
PERL5_CPAN_IS_RUNNING_IN_RECURSION = 14308,19296
PERLDOC = -MPod::Perldoc::ToTextOverstrike
PERL_BATCH = yes
PERL_CANARY_STABILITY_NOPROMPT = 1
PERL_CPAN_REPORTER_CONFIG = /var/tmp/cpansmoker-1023/2018022306/cpanreporter_001_config.ini
PERL_EXTUTILS_AUTOINSTALL = --defaultdeps
SHELL = /usr/bin/zsh
TERM = screen
TMPDIR = /var/tmp/cpansmoker-1023/2018022306
Perl special variables (and OS-specific diagnostics, for MSWin32):
$^X = /opt/perl-5.24.1/bin/perl
$UID/$EUID = 1023 / 1023
$GID = 1023 1023
$EGID = 1023 1023
Perl module toolchain versions installed:
Module Have
------------------- --------
CPAN 2.16
CPAN::Meta 2.150010
Cwd 3.63_01
ExtUtils::CBuilder 0.280230
ExtUtils::Command 7.32
ExtUtils::Install 2.06
ExtUtils::MakeMaker 7.32
ExtUtils::Manifest 1.70
ExtUtils::ParseXS 3.31
File::Spec 3.63_01
JSON 2.97001
JSON::PP 2.95
Module::Build 0.4224
Module::Signature 0.81
Parse::CPAN::Meta 2.150010
Test::Harness 3.39
Test::More 1.302125
YAML 1.24
YAML::Syck 1.30
version 0.9916
--
Summary of my perl5 (revision 5 version 24 subversion 1) configuration:
Platform:
osname=linux, osvers=4.4.0-81-generic, archname=x86_64-linux
uname='linux ubuntu16 4.4.0-81-generic #104-ubuntu smp wed jun 14 08:17:06 utc 2017 x86_64 x86_64 x86_64 gnulinux '
config_args='-ds -e -Dprefix=/opt/perl-5.24.1 -Dcf_email=srezic@cpan.org'
hint=recommended, useposix=true, d_sigaction=define
useithreads=undef, usemultiplicity=undef
use64bitint=define, use64bitall=define, uselongdouble=undef
usemymalloc=n, bincompat5005=undef
Compiler:
cc='cc', ccflags ='-fwrapv -fno-strict-aliasing -pipe -fstack-protector-strong -I/usr/local/include -D_LARGEFILE_SOURCE -D_FILE_OFFSET_BITS=64',
optimize='-O2',
cppflags='-fwrapv -fno-strict-aliasing -pipe -fstack-protector-strong -I/usr/local/include'
ccversion='', gccversion='5.4.0 20160609', gccosandvers=''
intsize=4, longsize=8, ptrsize=8, doublesize=8, byteorder=12345678, doublekind=3
d_longlong=define, longlongsize=8, d_longdbl=define, longdblsize=16, longdblkind=3
ivtype='long', ivsize=8, nvtype='double', nvsize=8, Off_t='off_t', lseeksize=8
alignbytes=8, prototype=define
Linker and Libraries:
ld='cc', ldflags =' -fstack-protector-strong -L/usr/local/lib'
libpth=/usr/local/lib /usr/lib/gcc/x86_64-linux-gnu/5/include-fixed /usr/include/x86_64-linux-gnu /usr/lib /lib/x86_64-linux-gnu /lib/../lib /usr/lib/x86_64-linux-gnu /usr/lib/../lib /lib
libs=-lpthread -lnsl -lgdbm -ldb -ldl -lm -lcrypt -lutil -lc -lgdbm_compat
perllibs=-lpthread -lnsl -ldl -lm -lcrypt -lutil -lc
libc=libc-2.23.so, so=so, useshrplib=false, libperl=libperl.a
gnulibc_version='2.23'
Dynamic Linking:
dlsrc=dl_dlopen.xs, dlext=so, d_dlsymun=undef, ccdlflags='-Wl,-E'
cccdlflags='-fPIC', lddlflags='-shared -O2 -L/usr/local/lib -fstack-protector-strong'
Characteristics of this binary (from libperl):
Compile-time options: HAS_TIMES PERLIO_LAYERS PERL_COPY_ON_WRITE
PERL_DONT_CREATE_GVSV
PERL_HASH_FUNC_ONE_AT_A_TIME_HARD PERL_MALLOC_WRAP
PERL_PRESERVE_IVUV USE_64_BIT_ALL USE_64_BIT_INT
USE_LARGE_FILES USE_LOCALE USE_LOCALE_COLLATE
USE_LOCALE_CTYPE USE_LOCALE_NUMERIC USE_LOCALE_TIME
USE_PERLIO USE_PERL_ATOF
Built under linux
Compiled at Jun 21 2017 05:36:18
%ENV:
PERL5LIB="/home/cpansand/.cpan/build/2018022315/Perl-Critic-Policy-logicLAB-RequireVersionFormat-0.08-0/blib/arch:/home/cpansand/.cpan/build/2018022315/Perl-Critic-Policy-logicLAB-RequireVersionFormat-0.08-0/blib/lib:/home/cpansand/.cpan/build/2018022315/Perl-Critic-Policy-logicLAB-RequireSheBang-0.07-0/blib/arch:/home/cpansand/.cpan/build/2018022315/Perl-Critic-Policy-logicLAB-RequireSheBang-0.07-0/blib/lib:/home/cpansand/.cpan/build/2018022315/Perl-Critic-Policy-logicLAB-RequireParamsValidate-0.03-0/blib/arch:/home/cpansand/.cpan/build/2018022315/Perl-Critic-Policy-logicLAB-RequireParamsValidate-0.03-0/blib/lib:/home/cpansand/.cpan/build/2018022315/Perl-Critic-Policy-logicLAB-RequirePackageNamePattern-0.05-0/blib/arch:/home/cpansand/.cpan/build/2018022315/Perl-Critic-Policy-logicLAB-RequirePackageNamePattern-0.05-0/blib/lib:/home/cpansand/.cpan/build/2018022315/Text-Template-1.50-0/blib/arch:/home/cpansand/.cpan/build/2018022315/Text-Template-1.50-0/blib/lib"
PERL5OPT=""
PERL5_CPANPLUS_IS_RUNNING="19296"
PERL5_CPAN_IS_RUNNING="19296"
PERL5_CPAN_IS_RUNNING_IN_RECURSION="14308,19296"
PERLDOC="-MPod::Perldoc::ToTextOverstrike"
PERL_BATCH="yes"
PERL_CANARY_STABILITY_NOPROMPT="1"
PERL_CPAN_REPORTER_CONFIG="/var/tmp/cpansmoker-1023/2018022306/cpanreporter_001_config.ini"
PERL_EXTUTILS_AUTOINSTALL="--defaultdeps"
@INC:
/home/cpansand/.cpan/build/2018022315/Perl-Critic-Policy-logicLAB-RequireVersionFormat-0.08-0/blib/arch
/home/cpansand/.cpan/build/2018022315/Perl-Critic-Policy-logicLAB-RequireVersionFormat-0.08-0/blib/lib
/home/cpansand/.cpan/build/2018022315/Perl-Critic-Policy-logicLAB-RequireSheBang-0.07-0/blib/arch
/home/cpansand/.cpan/build/2018022315/Perl-Critic-Policy-logicLAB-RequireSheBang-0.07-0/blib/lib
/home/cpansand/.cpan/build/2018022315/Perl-Critic-Policy-logicLAB-RequireParamsValidate-0.03-0/blib/arch
/home/cpansand/.cpan/build/2018022315/Perl-Critic-Policy-logicLAB-RequireParamsValidate-0.03-0/blib/lib
/home/cpansand/.cpan/build/2018022315/Perl-Critic-Policy-logicLAB-RequirePackageNamePattern-0.05-0/blib/arch
/home/cpansand/.cpan/build/2018022315/Perl-Critic-Policy-logicLAB-RequirePackageNamePattern-0.05-0/blib/lib
/home/cpansand/.cpan/build/2018022315/Text-Template-1.50-0/blib/arch
/home/cpansand/.cpan/build/2018022315/Text-Template-1.50-0/blib/lib
/opt/perl-5.24.1/lib/site_perl/5.24.1/x86_64-linux
/opt/perl-5.24.1/lib/site_perl/5.24.1
/opt/perl-5.24.1/lib/5.24.1/x86_64-linux
/opt/perl-5.24.1/lib/5.24.1
.