Report for PLUTO-0.30

Back
From: metabase:user:320bfe00-2aae-11df-837a-5e0a49663a4f
Subject: PASS PLUTO-0.30 v5.19.9 GNU/Linux
Date: 2014-01-22T14:11:11Z

This distribution has been tested as part of the CPAN Testers
project, supporting the Perl programming language.  See
http://wiki.cpantesters.org/ for more information or email
questions to cpan-testers-discuss@perl.org


--
Dear Edward Kawas,

This is a computer-generated report for PLUTO-0.30
on perl 5.19.9, created by CPAN-Reporter-1.2010.

Thank you for uploading your work to CPAN.  Congratulations!
All tests were successful.

Sections of this report:

    * Tester comments
    * Program output
    * Prerequisites
    * Environment and other context

------------------------------
TESTER COMMENTS
------------------------------

Additional comments from tester:

this report is from an automated smoke testing program
and was not reviewed by a human for accuracy

------------------------------
PROGRAM OUTPUT
------------------------------

Output from '/usr/bin/make test':

PERL_DL_NONLAZY=1 /tmp/basesmoker-reloperl-P75O/bin/perl "-MExtUtils::Command::MM" "-MTest::Harness" "-e" "undef *Test::Harness::Switches; test_harness(0, 'inc', 'blib/lib', 'blib/arch')" t/00_base.t t/10_nodes.t t/20_statements.t t/30_graph.t t/31_graph_memory.t t/40_parser.t t/41_parser_ntriples.t t/42_parser_xml.t t/43_parser_n3.t t/50_db.t t/60_jena.t t/61_jena_sql.t t/70_query.t t/71_query_simple.t t/72_query_rdql.t t/80_ontology.t t/81_ontology_rdfs.t t/81b_ontology_rdfs.t t/82_ontology_jena.t t/85_jena_graph_system.t
t/00_base.t ............... ok
t/10_nodes.t .............. ok
t/20_statements.t ......... ok
t/30_graph.t .............. ok
t/31_graph_memory.t ....... ok
t/40_parser.t ............. ok
t/41_parser_ntriples.t .... ok
Subroutine XML::Namespace::rdf redefined at /home/sand/src/perl/repoperls/installed-perls/perl/v5.19.8-10-g568d025/9980/lib/site_perl/5.19.9/XML/Namespace.pm line 54.
Subroutine XML::Namespace::rdf redefined at /home/sand/src/perl/repoperls/installed-perls/perl/v5.19.8-10-g568d025/9980/lib/site_perl/5.19.9/XML/Namespace.pm line 54.
Please download the latest approved test cases and place them in t/rdf.
See http://www.w3.org/2000/10/rdf-tests/rdfcore/latest_Approved.zip
t/42_parser_xml.t ......... ok
t/43_parser_n3.t .......... ok
t/50_db.t ................. ok
t/60_jena.t ............... ok
t/61_jena_sql.t ........... ok
t/70_query.t .............. ok
t/71_query_simple.t ....... ok
Use of uninitialized value in substr at /home/sand/src/perl/repoperls/installed-perls/perl/v5.19.8-10-g568d025/9980/lib/site_perl/5.19.9/Class/ParamParser.pm line 353.
Subroutine XML::Namespace::rdf redefined at /home/sand/src/perl/repoperls/installed-perls/perl/v5.19.8-10-g568d025/9980/lib/site_perl/5.19.9/XML/Namespace.pm line 54.
Subroutine XML::Namespace::rdf redefined at /home/sand/src/perl/repoperls/installed-perls/perl/v5.19.8-10-g568d025/9980/lib/site_perl/5.19.9/XML/Namespace.pm line 54.
t/72_query_rdql.t ......... ok
t/80_ontology.t ........... ok
Subroutine XML::Namespace::rdf redefined at /home/sand/src/perl/repoperls/installed-perls/perl/v5.19.8-10-g568d025/9980/lib/site_perl/5.19.9/XML/Namespace.pm line 54.
Subroutine XML::Namespace::rdf redefined at /home/sand/src/perl/repoperls/installed-perls/perl/v5.19.8-10-g568d025/9980/lib/site_perl/5.19.9/XML/Namespace.pm line 54.
Subroutine XML::Namespace::rdfs redefined at /home/sand/src/perl/repoperls/installed-perls/perl/v5.19.8-10-g568d025/9980/lib/site_perl/5.19.9/XML/Namespace.pm line 54.
Subroutine XML::Namespace::rdf redefined at /home/sand/src/perl/repoperls/installed-perls/perl/v5.19.8-10-g568d025/9980/lib/site_perl/5.19.9/XML/Namespace.pm line 54.
Odd number of elements in hash assignment at /tmp/loop_over_bdir-7692-lSo8EO/PLUTO-0.30-42mGks/blib/lib/ODO/RDFS/Resource.pm line 24.
Odd number of elements in hash assignment at /tmp/loop_over_bdir-7692-lSo8EO/PLUTO-0.30-42mGks/blib/lib/ODO/RDFS/Class.pm line 24.
Odd number of elements in hash assignment at /tmp/loop_over_bdir-7692-lSo8EO/PLUTO-0.30-42mGks/blib/lib/ODO/RDFS/Resource.pm line 24.
Odd number of elements in hash assignment at (eval 74) line 34.
Odd number of elements in hash assignment at (eval 60) line 34.
Odd number of elements in hash assignment at (eval 109) line 34.
Odd number of elements in hash assignment at /tmp/loop_over_bdir-7692-lSo8EO/PLUTO-0.30-42mGks/blib/lib/ODO/RDFS/Container.pm line 24.
Odd number of elements in hash assignment at /tmp/loop_over_bdir-7692-lSo8EO/PLUTO-0.30-42mGks/blib/lib/ODO/RDFS/Resource.pm line 24.
Odd number of elements in hash assignment at (eval 74) line 34.
Odd number of elements in hash assignment at (eval 60) line 34.
Odd number of elements in hash assignment at (eval 109) line 34.
Odd number of elements in hash assignment at /tmp/loop_over_bdir-7692-lSo8EO/PLUTO-0.30-42mGks/blib/lib/ODO/RDFS/Container.pm line 24.
Odd number of elements in hash assignment at /tmp/loop_over_bdir-7692-lSo8EO/PLUTO-0.30-42mGks/blib/lib/ODO/RDFS/Resource.pm line 24.
t/81_ontology_rdfs.t ...... ok
Subroutine XML::Namespace::rdf redefined at /home/sand/src/perl/repoperls/installed-perls/perl/v5.19.8-10-g568d025/9980/lib/site_perl/5.19.9/XML/Namespace.pm line 54.
Subroutine XML::Namespace::rdf redefined at /home/sand/src/perl/repoperls/installed-perls/perl/v5.19.8-10-g568d025/9980/lib/site_perl/5.19.9/XML/Namespace.pm line 54.
Subroutine XML::Namespace::rdfs redefined at /home/sand/src/perl/repoperls/installed-perls/perl/v5.19.8-10-g568d025/9980/lib/site_perl/5.19.9/XML/Namespace.pm line 54.
Subroutine XML::Namespace::rdf redefined at /home/sand/src/perl/repoperls/installed-perls/perl/v5.19.8-10-g568d025/9980/lib/site_perl/5.19.9/XML/Namespace.pm line 54.
Odd number of elements in hash assignment at /tmp/loop_over_bdir-7692-lSo8EO/PLUTO-0.30-42mGks/blib/lib/ODO/RDFS/Resource.pm line 24.
Odd number of elements in hash assignment at /tmp/loop_over_bdir-7692-lSo8EO/PLUTO-0.30-42mGks/blib/lib/ODO/RDFS/Class.pm line 24.
Odd number of elements in hash assignment at /tmp/loop_over_bdir-7692-lSo8EO/PLUTO-0.30-42mGks/blib/lib/ODO/RDFS/Resource.pm line 24.
Odd number of elements in hash assignment at (eval 72) line 34.
Odd number of elements in hash assignment at (eval 65) line 34.
Odd number of elements in hash assignment at (eval 114) line 34.
Odd number of elements in hash assignment at /tmp/loop_over_bdir-7692-lSo8EO/PLUTO-0.30-42mGks/blib/lib/ODO/RDFS/Container.pm line 24.
Odd number of elements in hash assignment at /tmp/loop_over_bdir-7692-lSo8EO/PLUTO-0.30-42mGks/blib/lib/ODO/RDFS/Resource.pm line 24.
Odd number of elements in hash assignment at (eval 72) line 34.
Odd number of elements in hash assignment at (eval 65) line 34.
Odd number of elements in hash assignment at (eval 114) line 34.
Odd number of elements in hash assignment at /tmp/loop_over_bdir-7692-lSo8EO/PLUTO-0.30-42mGks/blib/lib/ODO/RDFS/Container.pm line 24.
Odd number of elements in hash assignment at /tmp/loop_over_bdir-7692-lSo8EO/PLUTO-0.30-42mGks/blib/lib/ODO/RDFS/Resource.pm line 24.
t/81b_ontology_rdfs.t ..... ok
t/82_ontology_jena.t ...... ok
t/85_jena_graph_system.t .. skipped: Ignored because of problems installing DBD::mysql
All tests successful.
Files=20, Tests=192,  2 wallclock secs ( 0.08 usr  0.02 sys +  2.22 cusr  0.15 csys =  2.47 CPU)
Result: PASS

------------------------------
PREREQUISITES
------------------------------

Prerequisite modules loaded:

requires:

    Module                    Need   Have    
    ------------------------- ------ --------
    Aspect                    0.10   1.04    
    Class::Accessor           0.25   0.34    
    Class::Base               0.02   0.05    
    Class::Interfaces         0.04   0.04    
    Class::ISA                0.32   0.36    
    Class::ParamParser        1.041  1.041   
    Digest::MD5               2.34   2.53    
    Error                     0.17   0.17021 
    Exception::Class          1.22   1.37    
    Exception::Class::DBI     0.94   1.01    
    Module::Load              0.10   0.28    
    Module::Load::Conditional 0.38   0.60    
    Params::Check             0.23   0.38    
    Parse::RecDescent         1.93   1.967009
    SQL::Library              v0.0.3 0.0.5   
    Template                  2.15   2.25    
    Time::HiRes               1.20   1.9726  
    URI                       1.35   1.60    
    XML::LibXML               1.70   2.0108  
    XML::Namespace            0.02   0.02    
    XML::RegExp               0.02   0.04    
    XML::SAX                  0.96   0.99    

build_requires:

    Module                    Need   Have    
    ------------------------- ------ --------
    ExtUtils::MakeMaker       6.42   6.86    

configure_requires:

    Module                    Need   Have    
    ------------------------- ------ --------
    ExtUtils::MakeMaker       6.42   6.86    


------------------------------
ENVIRONMENT AND OTHER CONTEXT
------------------------------

Environment variables:

    AUTOMATED_TESTING = 1
    LANG = en_US.UTF-8
    LANGUAGE = en_US:en
    PATH = /usr/lib/ccache:/home/sand/bin:/usr/local/bin:/usr/bin:/bin:/usr/bin/X11:/usr/games:/usr/local/perl/bin:/usr/X11/bin:/sbin:/usr/sbin
    PERL5LIB = /tmp/loop_over_bdir-7692-lSo8EO/FusionInventory-Agent-2.3.5-4Yyljy/blib/arch:/tmp/loop_over_bdir-7692-lSo8EO/FusionInventory-Agent-2.3.5-4Yyljy/blib/lib
    PERL5OPT = 
    PERL5_CPANPLUS_IS_RUNNING = 15699
    PERL5_CPAN_IS_RUNNING = 15699
    PERL_MM_USE_DEFAULT = 1
    SHELL = /usr/bin/zsh
    TERM = screen

Perl special variables (and OS-specific diagnostics, for MSWin32):

    $^X = /tmp/basesmoker-reloperl-P75O/bin/perl
    $UID/$EUID = 1005 / 1005
    $GID = 1005 1005
    $EGID = 1005 1005

Perl module toolchain versions installed:

    Module              Have    
    ------------------- --------
    CPAN                2.00    
    CPAN::Meta          2.133380
    Cwd                 3.45    
    ExtUtils::CBuilder  0.280213
    ExtUtils::Command   1.18    
    ExtUtils::Install   1.61    
    ExtUtils::MakeMaker 6.86    
    ExtUtils::Manifest  1.63    
    ExtUtils::ParseXS   3.23    
    File::Spec          3.45    
    JSON                2.90    
    JSON::PP            2.27203 
    Module::Build       0.4204  
    Module::Signature   0.73    
    Parse::CPAN::Meta   1.4409  
    Test::Harness       3.30    
    Test::More          1.001002
    YAML                0.88    
    YAML::Syck          1.27    
    version             0.9907  


--

Summary of my perl5 (revision 5 version 19 subversion 9) configuration:
  Commit id: 568d025de1c93424654d2796e7e1a59b8f4aeb58
  Platform:
    osname=linux, osvers=3.12-1-amd64, archname=x86_64-linux-thread-multi
    uname='linux k83 3.12-1-amd64 #1 smp debian 3.12.6-2 (2013-12-29) x86_64 gnulinux '
    config_args='-Dprefix=/home/sand/src/perl/repoperls/installed-perls/perl/v5.19.8-10-g568d025/9980 -Dmyhostname=k83 -Dinstallusrbinperl=n -Uversiononly -Dusedevel -des -Ui_db -Duseithreads -Uuselongdouble -DDEBUGGING=-g'
    hint=recommended, useposix=true, d_sigaction=define
    useithreads=define, usemultiplicity=define
    use64bitint=define, use64bitall=define, uselongdouble=undef
    usemymalloc=n, bincompat5005=undef
  Compiler:
    cc='cc', ccflags ='-D_REENTRANT -D_GNU_SOURCE -fno-strict-aliasing -pipe -fstack-protector -I/usr/local/include -D_LARGEFILE_SOURCE -D_FILE_OFFSET_BITS=64',
    optimize='-O2 -g',
    cppflags='-D_REENTRANT -D_GNU_SOURCE -fno-strict-aliasing -pipe -fstack-protector -I/usr/local/include'
    ccversion='', gccversion='4.8.2', gccosandvers=''
    intsize=4, longsize=8, ptrsize=8, doublesize=8, byteorder=12345678
    d_longlong=define, longlongsize=8, d_longdbl=define, longdblsize=16
    ivtype='long', ivsize=8, nvtype='double', nvsize=8, Off_t='off_t', lseeksize=8
    alignbytes=8, prototype=define
  Linker and Libraries:
    ld='cc', ldflags =' -fstack-protector -L/usr/local/lib'
    libpth=/usr/local/lib /usr/lib/gcc/x86_64-linux-gnu/4.8/include-fixed /usr/include/x86_64-linux-gnu /usr/lib /lib/x86_64-linux-gnu /lib/../lib /usr/lib/x86_64-linux-gnu /usr/lib/../lib /lib
    libs=-lnsl -lgdbm -ldb -ldl -lm -lcrypt -lutil -lpthread -lc -lgdbm_compat
    perllibs=-lnsl -ldl -lm -lcrypt -lutil -lpthread -lc
    libc=, so=so, useshrplib=false, libperl=libperl.a
    gnulibc_version='2.17'
  Dynamic Linking:
    dlsrc=dl_dlopen.xs, dlext=so, d_dlsymun=undef, ccdlflags='-Wl,-E'
    cccdlflags='-fPIC', lddlflags='-shared -O2 -g -L/usr/local/lib -fstack-protector'


Characteristics of this binary (from libperl): 
  Compile-time options: HAS_TIMES MULTIPLICITY PERLIO_LAYERS
                        PERL_DONT_CREATE_GVSV
                        PERL_HASH_FUNC_ONE_AT_A_TIME_HARD
                        PERL_IMPLICIT_CONTEXT PERL_MALLOC_WRAP
                        PERL_NEW_COPY_ON_WRITE PERL_PRESERVE_IVUV
                        PERL_USE_DEVEL USE_64_BIT_ALL USE_64_BIT_INT
                        USE_ITHREADS USE_LARGE_FILES USE_LOCALE
                        USE_LOCALE_COLLATE USE_LOCALE_CTYPE
                        USE_LOCALE_NUMERIC USE_PERLIO USE_PERL_ATOF
                        USE_REENTRANT_API
  Built under linux
  Compiled at Jan 21 2014 16:52:52
  %ENV:
    PERL5LIB="/tmp/loop_over_bdir-7692-lSo8EO/FusionInventory-Agent-2.3.5-4Yyljy/blib/arch:/tmp/loop_over_bdir-7692-lSo8EO/FusionInventory-Agent-2.3.5-4Yyljy/blib/lib"
    PERL5OPT=""
    PERL5_CPANPLUS_IS_RUNNING="15699"
    PERL5_CPAN_IS_RUNNING="15699"
    PERL_MM_USE_DEFAULT="1"
  @INC:
    /tmp/loop_over_bdir-7692-lSo8EO/FusionInventory-Agent-2.3.5-4Yyljy/blib/arch
    /tmp/loop_over_bdir-7692-lSo8EO/FusionInventory-Agent-2.3.5-4Yyljy/blib/lib
    /home/sand/src/perl/repoperls/installed-perls/perl/v5.19.8-10-g568d025/9980/lib/site_perl/5.19.9/x86_64-linux-thread-multi
    /home/sand/src/perl/repoperls/installed-perls/perl/v5.19.8-10-g568d025/9980/lib/site_perl/5.19.9
    /home/sand/src/perl/repoperls/installed-perls/perl/v5.19.8-10-g568d025/9980/lib/5.19.9/x86_64-linux-thread-multi
    /home/sand/src/perl/repoperls/installed-perls/perl/v5.19.8-10-g568d025/9980/lib/5.19.9
    .