Promise-XS v0.20 Perl 5 v5.32.0 i686-linux-ld
- Status
- Pass
- From
- David Cantrell (DCANTRELL)
- Dist
-
Promise-XS v0.20
- Platform
- Perl 5 v5.32.0 i686-linux-ld
- Date
- 2023-04-13 14:18:22
- ID
- 0bcb6562-da06-11ed-9e7a-bda290f229d2
This distribution has been tested as part of the CPAN Testers
project, supporting the Perl programming language. See
http://wiki.cpantesters.org/ for more information or email
questions to cpan-testers-discuss@perl.org
--
Dear Felipe Gasper,
This is a computer-generated report for Promise-XS-0.20
on perl 5.32.0, created by CPAN-Reporter-1.2018.
Thank you for uploading your work to CPAN. Congratulations!
All tests were successful.
Sections of this report:
* Tester comments
* Program output
* Prerequisites
* Environment and other context
------------------------------
TESTER COMMENTS
------------------------------
Additional comments from tester:
this report is from an automated smoke testing program
and was not reviewed by a human for accuracy
------------------------------
PROGRAM OUTPUT
------------------------------
Output from '/usr/bin/make test':
"/home/david/cpantesting/perl-5.32.0-longdouble/bin/perl" -MExtUtils::Command::MM -e 'cp_nonempty' -- XS.bs blib/arch/auto/Promise/XS/XS.bs 644
PERL_DL_NONLAZY=1 "/home/david/cpantesting/perl-5.32.0-longdouble/bin/perl" "-MExtUtils::Command::MM" "-MTest::Harness" "-e" "undef *Test::Harness::Switches; test_harness(0, 'blib/lib', 'blib/arch')" t/*.t
t/alias.t ........................ ok
t/anyevent.t ..................... skipped: Can't locate AnyEvent.pm in @INC (you may need to install the AnyEvent module) (@INC contains: /home/david/cpantesting/perl-5.32.0-longdouble/.cpan/build/Promise-XS-0.20-0/blib/lib /home/david/cpantesting/perl-5.32.0-longdouble/.cpan/build/Promise-XS-0.20-0/blib/arch /home/david/cpantesting/perl-5.32.0-longdouble/lib/site_perl/5.32.0/i686-linux-ld /home/david/cpantesting/perl-5.32.0-longdouble/lib/site_perl/5.32.0 /home/david/cpantesting/perl-5.32.0-longdouble/lib/5.32.0/i686-linux-ld /home/david/cpantesting/perl-5.32.0-longdouble/lib/5.32.0) at t/anyevent.t line 7.
t/aplus.t ........................ skipped: Can't locate AnyEvent.pm in @INC (you may need to install the AnyEvent module) (@INC contains: /home/david/cpantesting/perl-5.32.0-longdouble/.cpan/build/Promise-XS-0.20-0/blib/lib /home/david/cpantesting/perl-5.32.0-longdouble/.cpan/build/Promise-XS-0.20-0/blib/arch /home/david/cpantesting/perl-5.32.0-longdouble/lib/site_perl/5.32.0/i686-linux-ld /home/david/cpantesting/perl-5.32.0-longdouble/lib/site_perl/5.32.0 /home/david/cpantesting/perl-5.32.0-longdouble/lib/5.32.0/i686-linux-ld /home/david/cpantesting/perl-5.32.0-longdouble/lib/5.32.0) at t/aplus.t line 6.
t/async_await.t .................. skipped: CanâÂÂt run test: Can't locate Test/Future/AsyncAwait/Awaitable.pm in @INC (you may need to install the Test::Future::AsyncAwait::Awaitable module) (@INC contains: /home/david/cpantesting/perl-5.32.0-longdouble/.cpan/build/Promise-XS-0.20-0/blib/lib /home/david/cpantesting/perl-5.32.0-longdouble/.cpan/build/Promise-XS-0.20-0/blib/arch /home/david/cpantesting/perl-5.32.0-longdouble/lib/site_perl/5.32.0/i686-linux-ld /home/david/cpantesting/perl-5.32.0-longdouble/lib/site_perl/5.32.0 /home/david/cpantesting/perl-5.32.0-longdouble/lib/5.32.0/i686-linux-ld /home/david/cpantesting/perl-5.32.0-longdouble/lib/5.32.0) at (eval 8) line 1.
t/async_await__several_awaits.t .. skipped: CanâÂÂt run test: Can't locate Test/Future/AsyncAwait/Awaitable.pm in @INC (you may need to install the Test::Future::AsyncAwait::Awaitable module) (@INC contains: /home/david/cpantesting/perl-5.32.0-longdouble/.cpan/build/Promise-XS-0.20-0/blib/lib /home/david/cpantesting/perl-5.32.0-longdouble/.cpan/build/Promise-XS-0.20-0/blib/arch /home/david/cpantesting/perl-5.32.0-longdouble/lib/site_perl/5.32.0/i686-linux-ld /home/david/cpantesting/perl-5.32.0-longdouble/lib/site_perl/5.32.0 /home/david/cpantesting/perl-5.32.0-longdouble/lib/5.32.0/i686-linux-ld /home/david/cpantesting/perl-5.32.0-longdouble/lib/5.32.0) at (eval 8) line 1.
t/async_await__simple.t .......... ok
t/async_await_hold_ref.t ......... skipped: No Future::AsyncAwait
t/async_await_version.t .......... skipped: CanâÂÂt run test: Can't locate Test/Future/AsyncAwait/Awaitable.pm in @INC (you may need to install the Test::Future::AsyncAwait::Awaitable module) (@INC contains: /home/david/cpantesting/perl-5.32.0-longdouble/.cpan/build/Promise-XS-0.20-0/blib/lib /home/david/cpantesting/perl-5.32.0-longdouble/.cpan/build/Promise-XS-0.20-0/blib/arch /home/david/cpantesting/perl-5.32.0-longdouble/lib/site_perl/5.32.0/i686-linux-ld /home/david/cpantesting/perl-5.32.0-longdouble/lib/site_perl/5.32.0 /home/david/cpantesting/perl-5.32.0-longdouble/lib/5.32.0/i686-linux-ld /home/david/cpantesting/perl-5.32.0-longdouble/lib/5.32.0) at (eval 8) line 1.
t/await_wait__anyevent.t ......... skipped: CanâÂÂt run test: Can't locate AnyEvent.pm in @INC (you may need to install the AnyEvent module) (@INC contains: /home/david/cpantesting/perl-5.32.0-longdouble/.cpan/build/Promise-XS-0.20-0/t/lib /home/david/cpantesting/perl-5.32.0-longdouble/.cpan/build/Promise-XS-0.20-0/blib/lib /home/david/cpantesting/perl-5.32.0-longdouble/.cpan/build/Promise-XS-0.20-0/blib/arch /home/david/cpantesting/perl-5.32.0-longdouble/lib/site_perl/5.32.0/i686-linux-ld /home/david/cpantesting/perl-5.32.0-longdouble/lib/site_perl/5.32.0 /home/david/cpantesting/perl-5.32.0-longdouble/lib/5.32.0/i686-linux-ld /home/david/cpantesting/perl-5.32.0-longdouble/lib/5.32.0) at (eval 8) line 1.
t/await_wait__ioasync.t .......... ok
t/await_wait__mojo.t ............. ok
t/detect_memory_leaks.t .......... ok
t/finally.t ...................... ok
t/infinite_recursion.t ........... ok
# IO::Async::Loop 0.802
t/ioasync.t ...................... ok
# Mojolicious 9.31
t/mojo.t ......................... ok
t/multi_return.t ................. ok
t/no_leak_stashed_ref.t .......... ok
t/oserror.t ...................... ok
t/promise_all_race.t ............. ok
t/reject_undef.t ................. ok
t/subclass.t ..................... ok
t/sync.t ......................... ok
t/unhandled_rejection.t .......... ok
t/XSPromises.t ................... skipped: Can't locate AnyEvent.pm in @INC (you may need to install the AnyEvent module) (@INC contains: /home/david/cpantesting/perl-5.32.0-longdouble/.cpan/build/Promise-XS-0.20-0/blib/lib /home/david/cpantesting/perl-5.32.0-longdouble/.cpan/build/Promise-XS-0.20-0/blib/arch /home/david/cpantesting/perl-5.32.0-longdouble/lib/site_perl/5.32.0/i686-linux-ld /home/david/cpantesting/perl-5.32.0-longdouble/lib/site_perl/5.32.0 /home/david/cpantesting/perl-5.32.0-longdouble/lib/5.32.0/i686-linux-ld /home/david/cpantesting/perl-5.32.0-longdouble/lib/5.32.0) at t/XSPromises.t line 6.
All tests successful.
Files=25, Tests=68, 19 wallclock secs ( 0.15 usr 0.08 sys + 5.55 cusr 0.60 csys = 6.38 CPU)
Result: PASS
------------------------------
PREREQUISITES
------------------------------
Prerequisite modules loaded:
build_requires:
Module Need Have
----------------------------- ---- --------
ExtUtils::MakeMaker 0 7.44
File::Temp 0 0.2309
Test::Deep 0 1.130
Test::FailWarnings 0 0.008
Test::More 0 1.302194
configure_requires:
Module Need Have
----------------------------- ---- --------
ExtUtils::MakeMaker::CPANfile 0.09 0.09
------------------------------
ENVIRONMENT AND OTHER CONTEXT
------------------------------
Environment variables:
AUTOMATED_TESTING = 1
LANG = en_GB.UTF-8
LANGUAGE = en_GB:en
LC_TERMINAL = iTerm2
LC_TERMINAL_VERSION = 3.4.19
NONINTERACTIVE_TESTING = 1
PATH = /home/david/.cargo/bin:/home/david/perl5/perlbrew/bin:/home/david/perl5/perlbrew/perls/perl-5.32.0/bin:/home/david/bin:/usr/local/bin:/usr/bin:/bin:/usr/local/games:/usr/games
PERL = 5.32.0-longdouble
PERL5LIB =
PERL5OPT =
PERL5_CPANPLUS_IS_RUNNING = 13163
PERL5_CPAN_IS_RUNNING = 13163
PERLBREW_HOME = /home/david/.perlbrew
PERLBREW_MANPATH = /home/david/perl5/perlbrew/perls/perl-5.32.0/man
PERLBREW_PATH = /home/david/perl5/perlbrew/bin:/home/david/perl5/perlbrew/perls/perl-5.32.0/bin
PERLBREW_PERL = perl-5.32.0
PERLBREW_ROOT = /home/david/perl5/perlbrew
PERLBREW_SHELLRC_VERSION = 0.89
PERLBREW_VERSION = 0.89
PERLVER = 5.32.0-longdouble
PERL_INLINE_DIRECTORY = /home/david/.Inline-5.32.0-longdouble
PERL_MM_USE_DEFAULT = 1
PERL_USE_UNSAFE_INC = 0
SHELL = /bin/bash
TERM = screen
Perl special variables (and OS-specific diagnostics, for MSWin32):
$^X = /home/david/cpantesting/perl-5.32.0-longdouble/bin/perl
$UID/$EUID = 1000 / 1000
$GID = 1000 24 25 27 29 30 44 46 109 1000
$EGID = 1000 24 25 27 29 30 44 46 109 1000
Perl module toolchain versions installed:
Module Have
------------------- --------
CPAN 2.27
CPAN::Meta 2.150010
Cwd 3.78
ExtUtils::CBuilder 0.280234
ExtUtils::Command 7.44
ExtUtils::Install 2.14
ExtUtils::MakeMaker 7.44
ExtUtils::Manifest 1.72
ExtUtils::ParseXS 3.40
File::Spec 3.78
JSON 4.10
JSON::PP 4.04
Module::Build 0.4232
Module::Signature n/a
Parse::CPAN::Meta 2.150010
Test::Harness 3.42
Test::More 1.302194
YAML 1.30
YAML::Syck n/a
version 0.9924
--
Summary of my perl5 (revision 5 version 32 subversion 0) configuration:
Platform:
osname=linux
osvers=5.10.0-11-686-pae
archname=i686-linux-ld
uname='linux cpantesting-linux-32bit-utm 5.10.0-11-686-pae #1 smp debian 5.10.92-1 (2022-01-18) i686 gnulinux '
config_args='-de -Dprefix=/home/david/cpantesting/perl-5.32.0-longdouble -Duselongdouble'
hint=recommended
useposix=true
d_sigaction=define
useithreads=undef
usemultiplicity=undef
use64bitint=undef
use64bitall=undef
uselongdouble=define
usemymalloc=n
default_inc_excludes_dot=define
bincompat5005=undef
Compiler:
cc='cc'
ccflags ='-fwrapv -fno-strict-aliasing -pipe -fstack-protector-strong -I/usr/local/include -D_LARGEFILE_SOURCE -D_FILE_OFFSET_BITS=64 -D_FORTIFY_SOURCE=2'
optimize='-O2'
cppflags='-fwrapv -fno-strict-aliasing -pipe -fstack-protector-strong -I/usr/local/include'
ccversion=''
gccversion='10.2.1 20210110'
gccosandvers=''
intsize=4
longsize=4
ptrsize=4
doublesize=8
byteorder=1234
doublekind=3
d_longlong=define
longlongsize=8
d_longdbl=define
longdblsize=12
longdblkind=3
ivtype='long'
ivsize=4
nvtype='long double'
nvsize=12
Off_t='off_t'
lseeksize=8
alignbytes=4
prototype=define
Linker and Libraries:
ld='cc'
ldflags =' -fstack-protector-strong -L/usr/local/lib'
libpth=/usr/local/lib /usr/include/i386-linux-gnu /usr/lib /lib/i386-linux-gnu /lib/../lib /usr/lib/i386-linux-gnu /usr/lib/../lib /lib /lib64 /usr/lib64
libs=-lpthread -lnsl -ldl -lm -lcrypt -lutil -lc
perllibs=-lpthread -lnsl -ldl -lm -lcrypt -lutil -lc
libc=libc-2.31.so
so=so
useshrplib=false
libperl=libperl.a
gnulibc_version='2.31'
Dynamic Linking:
dlsrc=dl_dlopen.xs
dlext=so
d_dlsymun=undef
ccdlflags='-Wl,-E'
cccdlflags='-fPIC'
lddlflags='-shared -O2 -L/usr/local/lib -fstack-protector-strong'
Characteristics of this binary (from libperl):
Compile-time options:
HAS_TIMES
PERLIO_LAYERS
PERL_COPY_ON_WRITE
PERL_DONT_CREATE_GVSV
PERL_MALLOC_WRAP
PERL_OP_PARENT
PERL_PRESERVE_IVUV
USE_LARGE_FILES
USE_LOCALE
USE_LOCALE_COLLATE
USE_LOCALE_CTYPE
USE_LOCALE_NUMERIC
USE_LOCALE_TIME
USE_LONG_DOUBLE
USE_PERLIO
USE_PERL_ATOF
Built under linux
Compiled at Feb 7 2022 23:46:16
%ENV:
PERL="5.32.0-longdouble"
PERL5LIB=""
PERL5OPT=""
PERL5_CPANPLUS_IS_RUNNING="13163"
PERL5_CPAN_IS_RUNNING="13163"
PERLBREW_HOME="/home/david/.perlbrew"
PERLBREW_MANPATH="/home/david/perl5/perlbrew/perls/perl-5.32.0/man"
PERLBREW_PATH="/home/david/perl5/perlbrew/bin:/home/david/perl5/perlbrew/perls/perl-5.32.0/bin"
PERLBREW_PERL="perl-5.32.0"
PERLBREW_ROOT="/home/david/perl5/perlbrew"
PERLBREW_SHELLRC_VERSION="0.89"
PERLBREW_VERSION="0.89"
PERLVER="5.32.0-longdouble"
PERL_INLINE_DIRECTORY="/home/david/.Inline-5.32.0-longdouble"
PERL_MM_USE_DEFAULT="1"
PERL_USE_UNSAFE_INC="0"
@INC:
/home/david/cpantesting/perl-5.32.0-longdouble/lib/site_perl/5.32.0/i686-linux-ld
/home/david/cpantesting/perl-5.32.0-longdouble/lib/site_perl/5.32.0
/home/david/cpantesting/perl-5.32.0-longdouble/lib/5.32.0/i686-linux-ld
/home/david/cpantesting/perl-5.32.0-longdouble/lib/5.32.0