Role-REST-Client v0.23 Perl 5 v5.30.0 x86_64-linux

Status
Pass
From
Slaven Rezić (SREZIC)
Dist
Role-REST-Client v0.23
Platform
Perl 5 v5.30.0 x86_64-linux
Date
2020-01-12 11:09:48
ID
0bd923d2-352c-11ea-82b5-c93b1f24ea8f
This distribution has been tested as part of the CPAN Testers
project, supporting the Perl programming language.  See
http://wiki.cpantesters.org/ for more information or email
questions to cpan-testers-discuss@perl.org


--
Dear Kaare Rasmussen,

This is a computer-generated report for Role-REST-Client-0.23
on perl 5.30.0, created by CPAN-Reporter-1.2018.

Thank you for uploading your work to CPAN.  Congratulations!
All tests were successful.

Sections of this report:

    * Tester comments
    * Program output
    * Prerequisites
    * Environment and other context

------------------------------
TESTER COMMENTS
------------------------------

Additional comments from tester:

none provided

------------------------------
PROGRAM OUTPUT
------------------------------

Output from './Build test':

t/boilerplate.t .................. ok
t/compile.t ...................... ok
t/conditional_deserialization.t .. ok
t/pod.t .......................... ok
t/response.t ..................... ok
t/rest.t ......................... ok
t/serializer.t ................... ok
All tests successful.
Files=7, Tests=93,  1 wallclock secs ( 0.02 usr  0.05 sys +  1.09 cusr  0.40 csys =  1.56 CPU)
Result: PASS

------------------------------
PREREQUISITES
------------------------------

Prerequisite modules loaded:

requires:

    Module                        Need     Have    
    ----------------------------- -------- --------
    Carp                          0        1.50    
    Data::Dumper                  0        2.174   
    Data::Serializer::Raw         0        0.02    
    HTTP::Headers                 0        6.18    
    HTTP::Message                 0        6.18    
    HTTP::Response                0        6.18    
    HTTP::Status                  0        6.18    
    HTTP::Thin                    0        0.006   
    HTTP::Tiny                    0        0.076   
    Moo                           1.003000 2.003006
    Moo::Role                     0        2.003006
    MooX::HandlesVia              0.001004 0.001008
    Try::Tiny                     0        0.30    
    Type::Tiny                    0.024    1.008002
    Types::Standard               0        1.008002
    URI::Escape::XS               0.11     0.14    

build_requires:

    Module                        Need     Have    
    ----------------------------- -------- --------
    Data::Serializer::JSON        0        0.04    
    Data::Serializer::XML::Simple 0        0.03    
    Data::Serializer::YAML        0        0.02    
    File::Find                    0        1.36    
    File::Temp                    0        0.2309  
    HTTP::Request                 0        6.18    
    HTTP::Thin                    0        0.006   
    JSON                          2.00     4.02    
    Module::Build                 0.28     0.4229  
    Moose                         0        2.2012  
    parent                        0        0.237   
    Plack::Component              0        0       
    Plack::Request                0        1.0047  
    Plack::Runner                 0        0       
    strict                        0        1.11    
    Test::Deep                    0        1.128   
    Test::Exception               0        0.43    
    Test::More                    0.88     1.302170
    Test::TCP                     0        2.22    
    Test::Warnings                0        0.028   
    utf8                          0        1.22    
    warnings                      0        1.44    
    XML::Simple                   0        2.25    
    YAML                          0        1.29    

configure_requires:

    Module                        Need     Have    
    ----------------------------- -------- --------
    ExtUtils::MakeMaker           0        7.42    
    Module::Build                 0.28     0.4229  


------------------------------
ENVIRONMENT AND OTHER CONTEXT
------------------------------

Environment variables:

    LANG = C
    PATH = /usr/local/bin:/usr/bin:/bin:/usr/local/sbin:/usr/sbin:/sbin:/home/cpansand/bin/linux-gnu:/home/cpansand/bin/sh:/home/cpansand/bin:/usr/games:/home/cpansand/devel:/home/eserte/src/srezic-misc/scripts
    PERL5LIB = 
    PERL5OPT = 
    PERL5_CPANPLUS_IS_RUNNING = 5795
    PERL5_CPAN_IS_RUNNING = 5795
    PERL5_CPAN_IS_RUNNING_IN_RECURSION = 5124,5795
    PERLDOC = -MPod::Perldoc::ToTextOverstrike
    PERL_BATCH = yes
    PERL_CANARY_STABILITY_NOPROMPT = 1
    PERL_CPAN_REPORTER_CONFIG = /var/tmp/cpansmoker-1023/2020011210/cpanreporter_000_config.ini
    PERL_EXTUTILS_AUTOINSTALL = --defaultdeps
    PERL_USE_UNSAFE_INC = 1
    SHELL = /usr/bin/zsh
    TERM = screen
    TMPDIR = /var/tmp/cpansmoker-1023/2020011210

Perl special variables (and OS-specific diagnostics, for MSWin32):

    $^X = /opt/perl-5.30.0/bin/perl
    $UID/$EUID = 1023 / 1023
    $GID = 1023 1023
    $EGID = 1023 1023

Perl module toolchain versions installed:

    Module              Have    
    ------------------- --------
    CPAN                2.27    
    CPAN::Meta          2.150010
    Cwd                 3.78    
    ExtUtils::CBuilder  0.280231
    ExtUtils::Command   7.42    
    ExtUtils::Install   2.14    
    ExtUtils::MakeMaker 7.42    
    ExtUtils::Manifest  1.72    
    ExtUtils::ParseXS   3.40    
    File::Spec          3.78    
    JSON                4.02    
    JSON::PP            4.04    
    Module::Build       0.4229  
    Module::Signature   n/a     
    Parse::CPAN::Meta   2.150010
    Test::Harness       3.42    
    Test::More          1.302170
    YAML                1.29    
    YAML::Syck          1.31    
    version             0.9924  


--

Summary of my perl5 (revision 5 version 30 subversion 0) configuration:
   
  Platform:
    osname=linux
    osvers=4.19.0-5-amd64
    archname=x86_64-linux
    uname='linux debian10 4.19.0-5-amd64 #1 smp debian 4.19.37-5+deb10u1 (2019-07-19) x86_64 gnulinux '
    config_args='-ds -e -Dprefix=/opt/perl-5.30.0 -Dcf_email=srezic@cpan.org'
    hint=recommended
    useposix=true
    d_sigaction=define
    useithreads=undef
    usemultiplicity=undef
    use64bitint=define
    use64bitall=define
    uselongdouble=undef
    usemymalloc=n
    default_inc_excludes_dot=define
    bincompat5005=undef
  Compiler:
    cc='cc'
    ccflags ='-fwrapv -fno-strict-aliasing -pipe -fstack-protector-strong -I/usr/local/include -D_LARGEFILE_SOURCE -D_FILE_OFFSET_BITS=64 -D_FORTIFY_SOURCE=2'
    optimize='-O2'
    cppflags='-fwrapv -fno-strict-aliasing -pipe -fstack-protector-strong -I/usr/local/include'
    ccversion=''
    gccversion='8.3.0'
    gccosandvers=''
    intsize=4
    longsize=8
    ptrsize=8
    doublesize=8
    byteorder=12345678
    doublekind=3
    d_longlong=define
    longlongsize=8
    d_longdbl=define
    longdblsize=16
    longdblkind=3
    ivtype='long'
    ivsize=8
    nvtype='double'
    nvsize=8
    Off_t='off_t'
    lseeksize=8
    alignbytes=8
    prototype=define
  Linker and Libraries:
    ld='cc'
    ldflags =' -fstack-protector-strong -L/usr/local/lib'
    libpth=/usr/local/lib /usr/lib/gcc/x86_64-linux-gnu/8/include-fixed /usr/include/x86_64-linux-gnu /usr/lib /lib/x86_64-linux-gnu /lib/../lib /usr/lib/x86_64-linux-gnu /usr/lib/../lib /lib
    libs=-lpthread -lnsl -ldb -ldl -lm -lcrypt -lutil -lc
    perllibs=-lpthread -lnsl -ldl -lm -lcrypt -lutil -lc
    libc=libc-2.28.so
    so=so
    useshrplib=false
    libperl=libperl.a
    gnulibc_version='2.28'
  Dynamic Linking:
    dlsrc=dl_dlopen.xs
    dlext=so
    d_dlsymun=undef
    ccdlflags='-Wl,-E'
    cccdlflags='-fPIC'
    lddlflags='-shared -O2 -L/usr/local/lib -fstack-protector-strong'


Characteristics of this binary (from libperl): 
  Compile-time options:
    HAS_TIMES
    PERLIO_LAYERS
    PERL_COPY_ON_WRITE
    PERL_DONT_CREATE_GVSV
    PERL_MALLOC_WRAP
    PERL_OP_PARENT
    PERL_PRESERVE_IVUV
    USE_64_BIT_ALL
    USE_64_BIT_INT
    USE_LARGE_FILES
    USE_LOCALE
    USE_LOCALE_COLLATE
    USE_LOCALE_CTYPE
    USE_LOCALE_NUMERIC
    USE_LOCALE_TIME
    USE_PERLIO
    USE_PERL_ATOF
  Built under linux
  Compiled at Aug  6 2019 17:26:31
  %ENV:
    PERL5LIB=""
    PERL5OPT=""
    PERL5_CPANPLUS_IS_RUNNING="5795"
    PERL5_CPAN_IS_RUNNING="5795"
    PERL5_CPAN_IS_RUNNING_IN_RECURSION="5124,5795"
    PERLDOC="-MPod::Perldoc::ToTextOverstrike"
    PERL_BATCH="yes"
    PERL_CANARY_STABILITY_NOPROMPT="1"
    PERL_CPAN_REPORTER_CONFIG="/var/tmp/cpansmoker-1023/2020011210/cpanreporter_000_config.ini"
    PERL_EXTUTILS_AUTOINSTALL="--defaultdeps"
    PERL_USE_UNSAFE_INC="1"
  @INC:
    /opt/perl-5.30.0/lib/site_perl/5.30.0/x86_64-linux
    /opt/perl-5.30.0/lib/site_perl/5.30.0
    /opt/perl-5.30.0/lib/5.30.0/x86_64-linux
    /opt/perl-5.30.0/lib/5.30.0
    .