Unicode-UTF8 v0.62 Perl 5 v5.24.1 i686-linux-thread-multi-ld
- Status
- Pass
- From
- Chris Williams (BINGOS)
- Dist
-
Unicode-UTF8 v0.62
- Platform
- Perl 5 v5.24.1 i686-linux-thread-multi-ld
- Date
- 2022-01-15 03:13:01
- ID
- 0c560a2e-75b1-11ec-bc66-57723b537541
This distribution has been tested as part of the CPAN Testers
project, supporting the Perl programming language. See
http://wiki.cpantesters.org/ for more information or email
questions to cpan-testers-discuss@perl.org
--
Dear Christian Hansen,
This is a computer-generated error report created automatically by
CPANPLUS, version 0.9914. Testers personal comments may appear
at the end of this report.
Thank you for uploading your work to CPAN. Congratulations!
All tests were successful.
TEST RESULTS:
Below is the error stack from stage 'make test':
"/home/cpan/pit/thr-ld/perl-5.24.1/bin/perl" "-Iinc" -MExtUtils::Command::MM -e 'cp_nonempty' -- UTF8.bs blib/arch/auto/Unicode/UTF8/UTF8.bs 644
PERL_DL_NONLAZY=1 "/home/cpan/pit/thr-ld/perl-5.24.1/bin/perl" "-MExtUtils::Command::MM" "-MTest::Harness" "-e" "undef *Test::Harness::Switches; test_harness(0, 'inc', 'blib/lib', 'blib/arch')" t/*.t t/*/*.t
# Unicode::UTF8 0.62, Perl 5.024001, /home/cpan/pit/thr-ld/perl-5.24.1/bin/perl
t/000_load.t ............... ok
t/010_basic.t .............. ok
t/030_native.t ............. ok
t/040_wide_characters.t .... ok
t/045_replacement.t ........ ok
t/050_noncharacters.t ...... ok
t/060_surrogates.t ......... ok
Use of code point 0x80000000 is deprecated; the permissible max is 0x7FFFFFFF at t/080_super.t line 28.
Use of code point 0x80000000 is deprecated; the permissible max is 0x7FFFFFFF in subroutine entry at t/080_super.t line 32.
Use of code point 0x80400000 is deprecated; the permissible max is 0x7FFFFFFF at t/080_super.t line 28.
Use of code point 0x80400000 is deprecated; the permissible max is 0x7FFFFFFF in subroutine entry at t/080_super.t line 32.
Use of code point 0x80800000 is deprecated; the permissible max is 0x7FFFFFFF at t/080_super.t line 28.
Use of code point 0x80800000 is deprecated; the permissible max is 0x7FFFFFFF in subroutine entry at t/080_super.t line 32.
Use of code point 0x80C00000 is deprecated; the permissible max is 0x7FFFFFFF at t/080_super.t line 28.
Use of code point 0x80C00000 is deprecated; the permissible max is 0x7FFFFFFF in subroutine entry at t/080_super.t line 32.
Use of code point 0x81000000 is deprecated; the permissible max is 0x7FFFFFFF at t/080_super.t line 28.
Use of code point 0x81000000 is deprecated; the permissible max is 0x7FFFFFFF in subroutine entry at t/080_super.t line 32.
Use of code point 0x81400000 is deprecated; the permissible max is 0x7FFFFFFF at t/080_super.t line 28.
Use of code point 0x81400000 is deprecated; the permissible max is 0x7FFFFFFF in subroutine entry at t/080_super.t line 32.
Use of code point 0x81800000 is deprecated; the permissible max is 0x7FFFFFFF at t/080_super.t line 28.
Use of code point 0x81800000 is deprecated; the permissible max is 0x7FFFFFFF in subroutine entry at t/080_super.t line 32.
Use of code point 0x81C00000 is deprecated; the permissible max is 0x7FFFFFFF at t/080_super.t line 28.
Use of code point 0x81C00000 is deprecated; the permissible max is 0x7FFFFFFF in subroutine entry at t/080_super.t line 32.
Use of code point 0x82000000 is deprecated; the permissible max is 0x7FFFFFFF at t/080_super.t line 28.
Use of code point 0x82000000 is deprecated; the permissible max is 0x7FFFFFFF in subroutine entry at t/080_super.t line 32.
Use of code point 0x82400000 is deprecated; the permissible max is 0x7FFFFFFF at t/080_super.t line 28.
Use of code point 0x82400000 is deprecated; the permissible max is 0x7FFFFFFF in subroutine entry at t/080_super.t line 32.
Use of code point 0x82800000 is deprecated; the permissible max is 0x7FFFFFFF at t/080_super.t line 28.
Use of code point 0x82800000 is deprecated; the permissible max is 0x7FFFFFFF in subroutine entry at t/080_super.t line 32.
Use of code point 0x82C00000 is deprecated; the permissible max is 0x7FFFFFFF at t/080_super.t line 28.
Use of code point 0x82C00000 is deprecated; the permissible max is 0x7FFFFFFF in subroutine entry at t/080_super.t line 32.
Use of code point 0x83000000 is deprecated; the permissible max is 0x7FFFFFFF at t/080_super.t line 28.
Use of code point 0x83000000 is deprecated; the permissible max is 0x7FFFFFFF in subroutine entry at t/080_super.t line 32.
Use of code point 0x83400000 is deprecated; the permissible max is 0x7FFFFFFF at t/080_super.t line 28.
Use of code point 0x83400000 is deprecated; the permissible max is 0x7FFFFFFF in subroutine entry at t/080_super.t line 32.
Use of code point 0x83800000 is deprecated; the permissible max is 0x7FFFFFFF at t/080_super.t line 28.
Use of code point 0x83800000 is deprecated; the permissible max is 0x7FFFFFFF in subroutine entry at t/080_super.t line 32.
Use of code point 0x83C00000 is deprecated; the permissible max is 0x7FFFFFFF at t/080_super.t line 28.
Use of code point 0x83C00000 is deprecated; the permissible max is 0x7FFFFFFF in subroutine entry at t/080_super.t line 32.
Use of code point 0x84000000 is deprecated; the permissible max is 0x7FFFFFFF at t/080_super.t line 28.
Use of code point 0x84000000 is deprecated; the permissible max is 0x7FFFFFFF in subroutine entry at t/080_super.t line 32.
Use of code point 0x84400000 is deprecated; the permissible max is 0x7FFFFFFF at t/080_super.t line 28.
Use of code point 0x84400000 is deprecated; the permissible max is 0x7FFFFFFF in subroutine entry at t/080_super.t line 32.
Use of code point 0x84800000 is deprecated; the permissible max is 0x7FFFFFFF at t/080_super.t line 28.
Use of code point 0x84800000 is deprecated; the permissible max is 0x7FFFFFFF in subroutine entry at t/080_super.t line 32.
Use of code point 0x84C00000 is deprecated; the permissible max is 0x7FFFFFFF at t/080_super.t line 28.
Use of code point 0x84C00000 is deprecated; the permissible max is 0x7FFFFFFF in subroutine entry at t/080_super.t line 32.
Use of code point 0x85000000 is deprecated; the permissible max is 0x7FFFFFFF at t/080_super.t line 28.
Use of code point 0x85000000 is deprecated; the permissible max is 0x7FFFFFFF in subroutine entry at t/080_super.t line 32.
Use of code point 0x85400000 is deprecated; the permissible max is 0x7FFFFFFF at t/080_super.t line 28.
Use of code point 0x85400000 is deprecated; the permissible max is 0x7FFFFFFF in subroutine entry at t/080_super.t line 32.
Use of code point 0x85800000 is deprecated; the permissible max is 0x7FFFFFFF at t/080_super.t line 28.
Use of code point 0x85800000 is deprecated; the permissible max is 0x7FFFFFFF in subroutine entry at t/080_super.t line 32.
Use of code point 0x85C00000 is deprecated; the permissible max is 0x7FFFFFFF at t/080_super.t line 28.
Use of code point 0x85C00000 is deprecated; the permissible max is 0x7FFFFFFF in subroutine entry at t/080_super.t line 32.
Use of code point 0x86000000 is deprecated; the permissible max is 0x7FFFFFFF at t/080_super.t line 28.
Use of code point 0x86000000 is deprecated; the permissible max is 0x7FFFFFFF in subroutine entry at t/080_super.t line 32.
Use of code point 0x86400000 is deprecated; the permissible max is 0x7FFFFFFF at t/080_super.t line 28.
Use of code point 0x86400000 is deprecated; the permissible max is 0x7FFFFFFF in subroutine entry at t/080_super.t line 32.
Use of code point 0x86800000 is deprecated; the permissible max is 0x7FFFFFFF at t/080_super.t line 28.
Use of code point 0x86800000 is deprecated; the permissible max is 0x7FFFFFFF in subroutine entry at t/080_super.t line 32.
Use of code point 0x86C00000 is deprecated; the permissible max is 0x7FFFFFFF at t/080_super.t line 28.
Use of code point 0x86C00000 is deprecated; the permissible max is 0x7FFFFFFF in subroutine entry at t/080_super.t line 32.
Use of code point 0x87000000 is deprecated; the permissible max is 0x7FFFFFFF at t/080_super.t line 28.
Use of code point 0x87000000 is deprecated; the permissible max is 0x7FFFFFFF in subroutine entry at t/080_super.t line 32.
Use of code point 0x87400000 is deprecated; the permissible max is 0x7FFFFFFF at t/080_super.t line 28.
Use of code point 0x87400000 is deprecated; the permissible max is 0x7FFFFFFF in subroutine entry at t/080_super.t line 32.
Use of code point 0x87800000 is deprecated; the permissible max is 0x7FFFFFFF at t/080_super.t line 28.
Use of code point 0x87800000 is deprecated; the permissible max is 0x7FFFFFFF in subroutine entry at t/080_super.t line 32.
Use of code point 0x87C00000 is deprecated; the permissible max is 0x7FFFFFFF at t/080_super.t line 28.
Use of code point 0x87C00000 is deprecated; the permissible max is 0x7FFFFFFF in subroutine entry at t/080_super.t line 32.
Use of code point 0x88000000 is deprecated; the permissible max is 0x7FFFFFFF at t/080_super.t line 28.
Use of code point 0x88000000 is deprecated; the permissible max is 0x7FFFFFFF in subroutine entry at t/080_super.t line 32.
Use of code point 0x88400000 is deprecated; the permissible max is 0x7FFFFFFF at t/080_super.t line 28.
Use of code point 0x88400000 is deprecated; the permissible max is 0x7FFFFFFF in subroutine entry at t/080_super.t line 32.
Use of code point 0x88800000 is deprecated; the permissible max is 0x7FFFFFFF at t/080_super.t line 28.
Use of code point 0x88800000 is deprecated; the permissible max is 0x7FFFFFFF in subroutine entry at t/080_super.t line 32.
Use of code point 0x88C00000 is deprecated; the permissible max is 0x7FFFFFFF at t/080_super.t line 28.
Use of code point 0x88C00000 is deprecated; the permissible max is 0x7FFFFFFF in subroutine entry at t/080_super.t line 32.
Use of code point 0x89000000 is deprecated; the permissible max is 0x7FFFFFFF at t/080_super.t line 28.
Use of code point 0x89000000 is deprecated; the permissible max is 0x7FFFFFFF in subroutine entry at t/080_super.t line 32.
Use of code point 0x89400000 is deprecated; the permissible max is 0x7FFFFFFF at t/080_super.t line 28.
Use of code point 0x89400000 is deprecated; the permissible max is 0x7FFFFFFF in subroutine entry at t/080_super.t line 32.
Use of code point 0x89800000 is deprecated; the permissible max is 0x7FFFFFFF at t/080_super.t line 28.
Use of code point 0x89800000 is deprecated; the permissible max is 0x7FFFFFFF in subroutine entry at t/080_super.t line 32.
Use of code point 0x89C00000 is deprecated; the permissible max is 0x7FFFFFFF at t/080_super.t line 28.
Use of code point 0x89C00000 is deprecated; the permissible max is 0x7FFFFFFF in subroutine entry at t/080_super.t line 32.
Use of code point 0x8A000000 is deprecated; the permissible max is 0x7FFFFFFF at t/080_super.t line 28.
Use of code point 0x8A000000 is deprecated; the permissible max is 0x7FFFFFFF in subroutine entry at t/080_super.t line 32.
Use of code point 0x8A400000 is deprecated; the permissible max is 0x7FFFFFFF at t/080_super.t line 28.
Use of code point 0x8A400000 is deprecated; the permissible max is 0x7FFFFFFF in subroutine entry at t/080_super.t line 32.
Use of code point 0x8A800000 is deprecated; the permissible max is 0x7FFFFFFF at t/080_super.t line 28.
Use of code point 0x8A800000 is deprecated; the permissible max is 0x7FFFFFFF in subroutine entry at t/080_super.t line 32.
Use of code point 0x8AC00000 is deprecated; the permissible max is 0x7FFFFFFF at t/080_super.t line 28.
Use of code point 0x8AC00000 is deprecated; the permissible max is 0x7FFFFFFF in subroutine entry at t/080_super.t line 32.
Use of code point 0x8B000000 is deprecated; the permissible max is 0x7FFFFFFF at t/080_super.t line 28.
Use of code point 0x8B000000 is deprecated; the permissible max is 0x7FFFFFFF in subroutine entry at t/080_super.t line 32.
Use of code point 0x8B400000 is deprecated; the permissible max is 0x7FFFFFFF at t/080_super.t line 28.
Use of code point 0x8B400000 is deprecated; the permissible max is 0x7FFFFFFF in subroutine entry at t/080_super.t line 32.
Use of code point 0x8B800000 is deprecated; the permissible max is 0x7FFFFFFF at t/080_super.t line 28.
Use of code point 0x8B800000 is deprecated; the permissible max is 0x7FFFFFFF in subroutine entry at t/080_super.t line 32.
Use of code point 0x8BC00000 is deprecated; the permissible max is 0x7FFFFFFF at t/080_super.t line 28.
Use of code point 0x8BC00000 is deprecated; the permissible max is 0x7FFFFFFF in subroutine entry at t/080_super.t line 32.
Use of code point 0x8C000000 is deprecated; the permissible max is 0x7FFFFFFF at t/080_super.t line 28.
Use of code point 0x8C000000 is deprecated; the permissible max is 0x7FFFFFFF in subroutine entry at t/080_super.t line 32.
Use of code point 0x8C400000 is deprecated; the permissible max is 0x7FFFFFFF at t/080_super.t line 28.
Use of code point 0x8C400000 is deprecated; the permissible max is 0x7FFFFFFF in subroutine entry at t/080_super.t line 32.
Use of code point 0x8C800000 is deprecated; the permissible max is 0x7FFFFFFF at t/080_super.t line 28.
Use of code point 0x8C800000 is deprecated; the permissible max is 0x7FFFFFFF in subroutine entry at t/080_super.t line 32.
Use of code point 0x8CC00000 is deprecated; the permissible max is 0x7FFFFFFF at t/080_super.t line 28.
Use of code point 0x8CC00000 is deprecated; the permissible max is 0x7FFFFFFF in subroutine entry at t/080_super.t line 32.
Use of code point 0x8D000000 is deprecated; the permissible max is 0x7FFFFFFF at t/080_super.t line 28.
Use of code point 0x8D000000 is deprecated; the permissible max is 0x7FFFFFFF in subroutine entry at t/080_super.t line 32.
Use of code point 0x8D400000 is deprecated; the permissible max is 0x7FFFFFFF at t/080_super.t line 28.
Use of code point 0x8D400000 is deprecated; the permissible max is 0x7FFFFFFF in subroutine entry at t/080_super.t line 32.
Use of code point 0x8D800000 is deprecated; the permissible max is 0x7FFFFFFF at t/080_super.t line 28.
Use of code point 0x8D800000 is deprecated; the permissible max is 0x7FFFFFFF in subroutine entry at t/080_super.t line 32.
Use of code point 0x8DC00000 is deprecated; the permissible max is 0x7FFFFFFF at t/080_super.t line 28.
Use of code point 0x8DC00000 is deprecated; the permissible max is 0x7FFFFFFF in subroutine entry at t/080_super.t line 32.
Use of code point 0x8E000000 is deprecated; the permissible max is 0x7FFFFFFF at t/080_super.t line 28.
Use of code point 0x8E000000 is deprecated; the permissible max is 0x7FFFFFFF in subroutine entry at t/080_super.t line 32.
Use of code point 0x8E400000 is deprecated; the permissible max is 0x7FFFFFFF at t/080_super.t line 28.
Use of code point 0x8E400000 is deprecated; the permissible max is 0x7FFFFFFF in subroutine entry at t/080_super.t line 32.
Use of code point 0x8E800000 is deprecated; the permissible max is 0x7FFFFFFF at t/080_super.t line 28.
Use of code point 0x8E800000 is deprecated; the permissible max is 0x7FFFFFFF in subroutine entry at t/080_super.t line 32.
Use of code point 0x8EC00000 is deprecated; the permissible max is 0x7FFFFFFF at t/080_super.t line 28.
Use of code point 0x8EC00000 is deprecated; the permissible max is 0x7FFFFFFF in subroutine entry at t/080_super.t line 32.
Use of code point 0x8F000000 is deprecated; the permissible max is 0x7FFFFFFF at t/080_super.t line 28.
Use of code point 0x8F000000 is deprecated; the permissible max is 0x7FFFFFFF in subroutine entry at t/080_super.t line 32.
Use of code point 0x8F400000 is deprecated; the permissible max is 0x7FFFFFFF at t/080_super.t line 28.
Use of code point 0x8F400000 is deprecated; the permissible max is 0x7FFFFFFF in subroutine entry at t/080_super.t line 32.
Use of code point 0x8F800000 is deprecated; the permissible max is 0x7FFFFFFF at t/080_super.t line 28.
Use of code point 0x8F800000 is deprecated; the permissible max is 0x7FFFFFFF in subroutine entry at t/080_super.t line 32.
Use of code point 0x8FC00000 is deprecated; the permissible max is 0x7FFFFFFF at t/080_super.t line 28.
Use of code point 0x8FC00000 is deprecated; the permissible max is 0x7FFFFFFF in subroutine entry at t/080_super.t line 32.
Use of code point 0x90000000 is deprecated; the permissible max is 0x7FFFFFFF at t/080_super.t line 28.
Use of code point 0x90000000 is deprecated; the permissible max is 0x7FFFFFFF in subroutine entry at t/080_super.t line 32.
Use of code point 0x90400000 is deprecated; the permissible max is 0x7FFFFFFF at t/080_super.t line 28.
Use of code point 0x90400000 is deprecated; the permissible max is 0x7FFFFFFF in subroutine entry at t/080_super.t line 32.
Use of code point 0x90800000 is deprecated; the permissible max is 0x7FFFFFFF at t/080_super.t line 28.
Use of code point 0x90800000 is deprecated; the permissible max is 0x7FFFFFFF in subroutine entry at t/080_super.t line 32.
Use of code point 0x90C00000 is deprecated; the permissible max is 0x7FFFFFFF at t/080_super.t line 28.
Use of code point 0x90C00000 is deprecated; the permissible max is 0x7FFFFFFF in subroutine entry at t/080_super.t line 32.
Use of code point 0x91000000 is deprecated; the permissible max is 0x7FFFFFFF at t/080_super.t line 28.
Use of code point 0x91000000 is deprecated; the permissible max is 0x7FFFFFFF in subroutine entry at t/080_super.t line 32.
Use of code point 0x91400000 is deprecated; the permissible max is 0x7FFFFFFF at t/080_super.t line 28.
Use of code point 0x91400000 is deprecated; the permissible max is 0x7FFFFFFF in subroutine entry at t/080_super.t line 32.
Use of code point 0x91800000 is deprecated; the permissible max is 0x7FFFFFFF at t/080_super.t line 28.
Use of code point 0x91800000 is deprecated; the permissible max is 0x7FFFFFFF in subroutine entry at t/080_super.t line 32.
Use of code point 0x91C00000 is deprecated; the permissible max is 0x7FFFFFFF at t/080_super.t line 28.
Use of code point 0x91C00000 is deprecated; the permissible max is 0x7FFFFFFF in subroutine entry at t/080_super.t line 32.
Use of code point 0x92000000 is deprecated; the permissible max is 0x7FFFFFFF at t/080_super.t line 28.
Use of code point 0x92000000 is deprecated; the permissible max is 0x7FFFFFFF in subroutine entry at t/080_super.t line 32.
Use of code point 0x92400000 is deprecated; the permissible max is 0x7FFFFFFF at t/080_super.t line 28.
Use of code point 0x92400000 is deprecated; the permissible max is 0x7FFFFFFF in subroutine entry at t/080_super.t line 32.
Use of code point 0x92800000 is deprecated; the permissible max is 0x7FFFFFFF at t/080_super.t line 28.
Use of code point 0x92800000 is deprecated; the permissible max is 0x7FFFFFFF in subroutine entry at t/080_super.t line 32.
Use of code point 0x92C00000 is deprecated; the permissible max is 0x7FFFFFFF at t/080_super.t line 28.
Use of code point 0x92C00000 is deprecated; the permissible max is 0x7FFFFFFF in subroutine entry at t/080_super.t line 32.
Use of code point 0x93000000 is deprecated; the permissible max is 0x7FFFFFFF at t/080_super.t line 28.
Use of code point 0x93000000 is deprecated; the permissible max is 0x7FFFFFFF in subroutine entry at t/080_super.t line 32.
Use of code point 0x93400000 is deprecated; the permissible max is 0x7FFFFFFF at t/080_super.t line 28.
Use of code point 0x93400000 is deprecated; the permissible max is 0x7FFFFFFF in subroutine entry at t/080_super.t line 32.
Use of code point 0x93800000 is deprecated; the permissible max is 0x7FFFFFFF at t/080_super.t line 28.
Use of code point 0x93800000 is deprecated; the permissible max is 0x7FFFFFFF in subroutine entry at t/080_super.t line 32.
Use of code point 0x93C00000 is deprecated; the permissible max is 0x7FFFFFFF at t/080_super.t line 28.
Use of code point 0x93C00000 is deprecated; the permissible max is 0x7FFFFFFF in subroutine entry at t/080_super.t line 32.
Use of code point 0x94000000 is deprecated; the permissible max is 0x7FFFFFFF at t/080_super.t line 28.
Use of code point 0x94000000 is deprecated; the permissible max is 0x7FFFFFFF in subroutine entry at t/080_super.t line 32.
Use of code point 0x94400000 is deprecated; the permissible max is 0x7FFFFFFF at t/080_super.t line 28.
Use of code point 0x94400000 is deprecated; the permissible max is 0x7FFFFFFF in subroutine entry at t/080_super.t line 32.
Use of code point 0x94800000 is deprecated; the permissible max is 0x7FFFFFFF at t/080_super.t line 28.
Use of code point 0x94800000 is deprecated; the permissible max is 0x7FFFFFFF in subroutine entry at t/080_super.t line 32.
Use of code point 0x94C00000 is deprecated; the permissible max is 0x7FFFFFFF at t/080_super.t line 28.
Use of code point 0x94C00000 is deprecated; the permissible max is 0x7FFFFFFF in subroutine entry at t/080_super.t line 32.
Use of code point 0x95000000 is deprecated; the permissible max is 0x7FFFFFFF at t/080_super.t line 28.
Use of code point 0x95000000 is deprecated; the permissible max is 0x7FFFFFFF in subroutine entry at t/080_super.t line 32.
Use of code point 0x95400000 is deprecated; the permissible max is 0x7FFFFFFF at t/080_super.t line 28.
Use of code point 0x95400000 is deprecated; the permissible max is 0x7FFFFFFF in subroutine entry at t/080_super.t line 32.
Use of code point 0x95800000 is deprecated; the permissible max is 0x7FFFFFFF at t/080_super.t line 28.
Use of code point 0x95800000 is deprecated; the permissible max is 0x7FFFFFFF in subroutine entry at t/080_super.t line 32.
Use of code point 0x95C00000 is deprecated; the permissible max is 0x7FFFFFFF at t/080_super.t line 28.
Use of code point 0x95C00000 is deprecated; the permissible max is 0x7FFFFFFF in subroutine entry at t/080_super.t line 32.
Use of code point 0x96000000 is deprecated; the permissible max is 0x7FFFFFFF at t/080_super.t line 28.
Use of code point 0x96000000 is deprecated; the permissible max is 0x7FFFFFFF in subroutine entry at t/080_super.t line 32.
Use of code point 0x96400000 is deprecated; the permissible max is 0x7FFFFFFF at t/080_super.t line 28.
Use of code point 0x96400000 is deprecated; the permissible max is 0x7FFFFFFF in subroutine entry at t/080_super.t line 32.
Use of code point 0x96800000 is deprecated; the permissible max is 0x7FFFFFFF at t/080_super.t line 28.
Use of code point 0x96800000 is deprecated; the permissible max is 0x7FFFFFFF in subroutine entry at t/080_super.t line 32.
Use of code point 0x96C00000 is deprecated; the permissible max is 0x7FFFFFFF at t/080_super.t line 28.
Use of code point 0x96C00000 is deprecated; the permissible max is 0x7FFFFFFF in subroutine entry at t/080_super.t line 32.
Use of code point 0x97000000 is deprecated; the permissible max is 0x7FFFFFFF at t/080_super.t line 28.
Use of code point 0x97000000 is deprecated; the permissible max is 0x7FFFFFFF in subroutine entry at t/080_super.t line 32.
Use of code point 0x97400000 is deprecated; the permissible max is 0x7FFFFFFF at t/080_super.t line 28.
Use of code point 0x97400000 is deprecated; the permissible max is 0x7FFFFFFF in subroutine entry at t/080_super.t line 32.
Use of code point 0x97800000 is deprecated; the permissible max is 0x7FFFFFFF at t/080_super.t line 28.
Use of code point 0x97800000 is deprecated; the permissible max is 0x7FFFFFFF in subroutine entry at t/080_super.t line 32.
Use of code point 0x97C00000 is deprecated; the permissible max is 0x7FFFFFFF at t/080_super.t line 28.
Use of code point 0x97C00000 is deprecated; the permissible max is 0x7FFFFFFF in subroutine entry at t/080_super.t line 32.
Use of code point 0x98000000 is deprecated; the permissible max is 0x7FFFFFFF at t/080_super.t line 28.
Use of code point 0x98000000 is deprecated; the permissible max is 0x7FFFFFFF in subroutine entry at t/080_super.t line 32.
Use of code point 0x98400000 is deprecated; the permissible max is 0x7FFFFFFF at t/080_super.t line 28.
Use of code point 0x98400000 is deprecated; the permissible max is 0x7FFFFFFF in subroutine entry at t/080_super.t line 32.
Use of code point 0x98800000 is deprecated; the permissible max is 0x7FFFFFFF at t/080_super.t line 28.
Use of code point 0x98800000 is deprecated; the permissible max is 0x7FFFFFFF in subroutine entry at t/080_super.t line 32.
Use of code point 0x98C00000 is deprecated; the permissible max is 0x7FFFFFFF at t/080_super.t line 28.
Use of code point 0x98C00000 is deprecated; the permissible max is 0x7FFFFFFF in subroutine entry at t/080_super.t line 32.
Use of code point 0x99000000 is deprecated; the permissible max is 0x7FFFFFFF at t/080_super.t line 28.
Use of code point 0x99000000 is deprecated; the permissible max is 0x7FFFFFFF in subroutine entry at t/080_super.t line 32.
Use of code point 0x99400000 is deprecated; the permissible max is 0x7FFFFFFF at t/080_super.t line 28.
Use of code point 0x99400000 is deprecated; the permissible max is 0x7FFFFFFF in subroutine entry at t/080_super.t line 32.
Use of code point 0x99800000 is deprecated; the permissible max is 0x7FFFFFFF at t/080_super.t line 28.
Use of code point 0x99800000 is deprecated; the permissible max is 0x7FFFFFFF in subroutine entry at t/080_super.t line 32.
Use of code point 0x99C00000 is deprecated; the permissible max is 0x7FFFFFFF at t/080_super.t line 28.
Use of code point 0x99C00000 is deprecated; the permissible max is 0x7FFFFFFF in subroutine entry at t/080_super.t line 32.
Use of code point 0x9A000000 is deprecated; the permissible max is 0x7FFFFFFF at t/080_super.t line 28.
Use of code point 0x9A000000 is deprecated; the permissible max is 0x7FFFFFFF in subroutine entry at t/080_super.t line 32.
Use of code point 0x9A400000 is deprecated; the permissible max is 0x7FFFFFFF at t/080_super.t line 28.
Use of code point 0x9A400000 is deprecated; the permissible max is 0x7FFFFFFF in subroutine entry at t/080_super.t line 32.
Use of code point 0x9A800000 is deprecated; the permissible max is 0x7FFFFFFF at t/080_super.t line 28.
Use of code point 0x9A800000 is deprecated; the permissible max is 0x7FFFFFFF in subroutine entry at t/080_super.t line 32.
Use of code point 0x9AC00000 is deprecated; the permissible max is 0x7FFFFFFF at t/080_super.t line 28.
Use of code point 0x9AC00000 is deprecated; the permissible max is 0x7FFFFFFF in subroutine entry at t/080_super.t line 32.
Use of code point 0x9B000000 is deprecated; the permissible max is 0x7FFFFFFF at t/080_super.t line 28.
Use of code point 0x9B000000 is deprecated; the permissible max is 0x7FFFFFFF in subroutine entry at t/080_super.t line 32.
Use of code point 0x9B400000 is deprecated; the permissible max is 0x7FFFFFFF at t/080_super.t line 28.
Use of code point 0x9B400000 is deprecated; the permissible max is 0x7FFFFFFF in subroutine entry at t/080_super.t line 32.
Use of code point 0x9B800000 is deprecated; the permissible max is 0x7FFFFFFF at t/080_super.t line 28.
Use of code point 0x9B800000 is deprecated; the permissible max is 0x7FFFFFFF in subroutine entry at t/080_super.t line 32.
Use of code point 0x9BC00000 is deprecated; the permissible max is 0x7FFFFFFF at t/080_super.t line 28.
Use of code point 0x9BC00000 is deprecated; the permissible max is 0x7FFFFFFF in subroutine entry at t/080_super.t line 32.
Use of code point 0x9C000000 is deprecated; the permissible max is 0x7FFFFFFF at t/080_super.t line 28.
Use of code point 0x9C000000 is deprecated; the permissible max is 0x7FFFFFFF in subroutine entry at t/080_super.t line 32.
Use of code point 0x9C400000 is deprecated; the permissible max is 0x7FFFFFFF at t/080_super.t line 28.
Use of code point 0x9C400000 is deprecated; the permissible max is 0x7FFFFFFF in subroutine entry at t/080_super.t line 32.
Use of code point 0x9C800000 is deprecated; the permissible max is 0x7FFFFFFF at t/080_super.t line 28.
Use of code point 0x9C800000 is deprecated; the permissible max is 0x7FFFFFFF in subroutine entry at t/080_super.t line 32.
Use of code point 0x9CC00000 is deprecated; the permissible max is 0x7FFFFFFF at t/080_super.t line 28.
Use of code point 0x9CC00000 is deprecated; the permissible max is 0x7FFFFFFF in subroutine entry at t/080_super.t line 32.
Use of code point 0x9D000000 is deprecated; the permissible max is 0x7FFFFFFF at t/080_super.t line 28.
Use of code point 0x9D000000 is deprecated; the permissible max is 0x7FFFFFFF in subroutine entry at t/080_super.t line 32.
Use of code point 0x9D400000 is deprecated; the permissible max is 0x7FFFFFFF at t/080_super.t line 28.
Use of code point 0x9D400000 is deprecated; the permissible max is 0x7FFFFFFF in subroutine entry at t/080_super.t line 32.
Use of code point 0x9D800000 is deprecated; the permissible max is 0x7FFFFFFF at t/080_super.t line 28.
Use of code point 0x9D800000 is deprecated; the permissible max is 0x7FFFFFFF in subroutine entry at t/080_super.t line 32.
Use of code point 0x9DC00000 is deprecated; the permissible max is 0x7FFFFFFF at t/080_super.t line 28.
Use of code point 0x9DC00000 is deprecated; the permissible max is 0x7FFFFFFF in subroutine entry at t/080_super.t line 32.
Use of code point 0x9E000000 is deprecated; the permissible max is 0x7FFFFFFF at t/080_super.t line 28.
Use of code point 0x9E000000 is deprecated; the permissible max is 0x7FFFFFFF in subroutine entry at t/080_super.t line 32.
Use of code point 0x9E400000 is deprecated; the permissible max is 0x7FFFFFFF at t/080_super.t line 28.
Use of code point 0x9E400000 is deprecated; the permissible max is 0x7FFFFFFF in subroutine entry at t/080_super.t line 32.
Use of code point 0x9E800000 is deprecated; the permissible max is 0x7FFFFFFF at t/080_super.t line 28.
Use of code point 0x9E800000 is deprecated; the permissible max is 0x7FFFFFFF in subroutine entry at t/080_super.t line 32.
Use of code point 0x9EC00000 is deprecated; the permissible max is 0x7FFFFFFF at t/080_super.t line 28.
Use of code point 0x9EC00000 is deprecated; the permissible max is 0x7FFFFFFF in subroutine entry at t/080_super.t line 32.
Use of code point 0x9F000000 is deprecated; the permissible max is 0x7FFFFFFF at t/080_super.t line 28.
Use of code point 0x9F000000 is deprecated; the permissible max is 0x7FFFFFFF in subroutine entry at t/080_super.t line 32.
Use of code point 0x9F400000 is deprecated; the permissible max is 0x7FFFFFFF at t/080_super.t line 28.
Use of code point 0x9F400000 is deprecated; the permissible max is 0x7FFFFFFF in subroutine entry at t/080_super.t line 32.
Use of code point 0x9F800000 is deprecated; the permissible max is 0x7FFFFFFF at t/080_super.t line 28.
Use of code point 0x9F800000 is deprecated; the permissible max is 0x7FFFFFFF in subroutine entry at t/080_super.t line 32.
Use of code point 0x9FC00000 is deprecated; the permissible max is 0x7FFFFFFF at t/080_super.t line 28.
Use of code point 0x9FC00000 is deprecated; the permissible max is 0x7FFFFFFF in subroutine entry at t/080_super.t line 32.
Use of code point 0xA0000000 is deprecated; the permissible max is 0x7FFFFFFF at t/080_super.t line 28.
Use of code point 0xA0000000 is deprecated; the permissible max is 0x7FFFFFFF in subroutine entry at t/080_super.t line 32.
Use of code point 0xA0400000 is deprecated; the permissible max is 0x7FFFFFFF at t/080_super.t line 28.
Use of code point 0xA0400000 is deprecated; the permissible max is 0x7FFFFFFF in subroutine entry at t/080_super.t line 32.
Use of code point 0xA0800000 is deprecated; the permissible max is 0x7FFFFFFF at t/080_super.t line 28.
Use of code point 0xA0800000 is deprecated; the permissible max is 0x7FFFFFFF in subroutine entry at t/080_super.t line 32.
Use of code point 0xA0C00000 is deprecated; the permissible max is 0x7FFFFFFF at t/080_super.t line 28.
Use of code point 0xA0C00000 is deprecated; the permissible max is 0x7FFFFFFF in subroutine entry at t/080_super.t line 32.
Use of code point 0xA1000000 is deprecated; the permissible max is 0x7FFFFFFF at t/080_super.t line 28.
Use of code point 0xA1000000 is deprecated; the permissible max is 0x7FFFFFFF in subroutine entry at t/080_super.t line 32.
Use of code point 0xA1400000 is deprecated; the permissible max is 0x7FFFFFFF at t/080_super.t line 28.
Use of code point 0xA1400000 is deprecated; the permissible max is 0x7FFFFFFF in subroutine entry at t/080_super.t line 32.
Use of code point 0xA1800000 is deprecated; the permissible max is 0x7FFFFFFF at t/080_super.t line 28.
Use of code point 0xA1800000 is deprecated; the permissible max is 0x7FFFFFFF in subroutine entry at t/080_super.t line 32.
Use of code point 0xA1C00000 is deprecated; the permissible max is 0x7FFFFFFF at t/080_super.t line 28.
Use of code point 0xA1C00000 is deprecated; the permissible max is 0x7FFFFFFF in subroutine entry at t/080_super.t line 32.
Use of code point 0xA2000000 is deprecated; the permissible max is 0x7FFFFFFF at t/080_super.t line 28.
Use of code point 0xA2000000 is deprecated; the permissible max is 0x7FFFFFFF in subroutine entry at t/080_super.t line 32.
Use of code point 0xA2400000 is deprecated; the permissible max is 0x7FFFFFFF at t/080_super.t line 28.
Use of code point 0xA2400000 is deprecated; the permissible max is 0x7FFFFFFF in subroutine entry at t/080_super.t line 32.
Use of code point 0xA2800000 is deprecated; the permissible max is 0x7FFFFFFF at t/080_super.t line 28.
Use of code point 0xA2800000 is deprecated; the permissible max is 0x7FFFFFFF in subroutine entry at t/080_super.t line 32.
Use of code point 0xA2C00000 is deprecated; the permissible max is 0x7FFFFFFF at t/080_super.t line 28.
Use of code point 0xA2C00000 is deprecated; the permissible max is 0x7FFFFFFF in subroutine entry at t/080_super.t line 32.
Use of code point 0xA3000000 is deprecated; the permissible max is 0x7FFFFFFF at t/080_super.t line 28.
Use of code point 0xA3000000 is deprecated; the permissible max is 0x7FFFFFFF in subroutine entry at t/080_super.t line 32.
Use of code point 0xA3400000 is deprecated; the permissible max is 0x7FFFFFFF at t/080_super.t line 28.
Use of code point 0xA3400000 is deprecated; the permissible max is 0x7FFFFFFF in subroutine entry at t/080_super.t line 32.
Use of code point 0xA3800000 is deprecated; the permissible max is 0x7FFFFFFF at t/080_super.t line 28.
Use of code point 0xA3800000 is deprecated; the permissible max is 0x7FFFFFFF in subroutine entry at t/080_super.t line 32.
Use of code point 0xA3C00000 is deprecated; the permissible max is 0x7FFFFFFF at t/080_super.t line 28.
Use of code point 0xA3C00000 is deprecated; the permissible max is 0x7FFFFFFF in subroutine entry at t/080_super.t line 32.
Use of code point 0xA4000000 is deprecated; the permissible max is 0x7FFFFFFF at t/080_super.t line 28.
Use of code point 0xA4000000 is deprecated; the permissible max is 0x7FFFFFFF in subroutine entry at t/080_super.t line 32.
Use of code point 0xA4400000 is deprecated; the permissible max is 0x7FFFFFFF at t/080_super.t line 28.
Use of code point 0xA4400000 is deprecated; the permissible max is 0x7FFFFFFF in subroutine entry at t/080_super.t line 32.
Use of code point 0xA4800000 is deprecated; the permissible max is 0x7FFFFFFF at t/080_super.t line 28.
Use of code point 0xA4800000 is deprecated; the permissible max is 0x7FFFFFFF in subroutine entry at t/080_super.t line 32.
Use of code point 0xA4C00000 is deprecated; the permissible max is 0x7FFFFFFF at t/080_super.t line 28.
Use of code point 0xA4C00000 is deprecated; the permissible max is 0x7FFFFFFF in subroutine entry at t/080_super.t line 32.
Use of code point 0xA5000000 is deprecated; the permissible max is 0x7FFFFFFF at t/080_super.t line 28.
Use of code point 0xA5000000 is deprecated; the permissible max is 0x7FFFFFFF in subroutine entry at t/080_super.t line 32.
Use of code point 0xA5400000 is deprecated; the permissible max is 0x7FFFFFFF at t/080_super.t line 28.
Use of code point 0xA5400000 is deprecated; the permissible max is 0x7FFFFFFF in subroutine entry at t/080_super.t line 32.
Use of code point 0xA5800000 is deprecated; the permissible max is 0x7FFFFFFF at t/080_super.t line 28.
Use of code point 0xA5800000 is deprecated; the permissible max is 0x7FFFFFFF in subroutine entry at t/080_super.t line 32.
Use of code point 0xA5C00000 is deprecated; the permissible max is 0x7FFFFFFF at t/080_super.t line 28.
Use of code point 0xA5C00000 is deprecated; the permissible max is 0x7FFFFFFF in subroutine entry at t/080_super.t line 32.
Use of code point 0xA6000000 is deprecated; the permissible max is 0x7FFFFFFF at t/080_super.t line 28.
Use of code point 0xA6000000 is deprecated; the permissible max is 0x7FFFFFFF in subroutine entry at t/080_super.t line 32.
Use of code point 0xA6400000 is deprecated; the permissible max is 0x7FFFFFFF at t/080_super.t line 28.
Use of code point 0xA6400000 is deprecated; the permissible max is 0x7FFFFFFF in subroutine entry at t/080_super.t line 32.
Use of code point 0xA6800000 is deprecated; the permissible max is 0x7FFFFFFF at t/080_super.t line 28.
Use of code point 0xA6800000 is deprecated; the permissible max is 0x7FFFFFFF in subroutine entry at t/080_super.t line 32.
Use of code point 0xA6C00000 is deprecated; the permissible max is 0x7FFFFFFF at t/080_super.t line 28.
Use of code point 0xA6C00000 is deprecated; the permissible max is 0x7FFFFFFF in subroutine entry at t/080_super.t line 32.
Use of code point 0xA7000000 is deprecated; the permissible max is 0x7FFFFFFF at t/080_super.t line 28.
Use of code point 0xA7000000 is deprecated; the permissible max is 0x7FFFFFFF in subroutine entry at t/080_super.t line 32.
Use of code point 0xA7400000 is deprecated; the permissible max is 0x7FFFFFFF at t/080_super.t line 28.
Use of code point 0xA7400000 is deprecated; the permissible max is 0x7FFFFFFF in subroutine entry at t/080_super.t line 32.
Use of code point 0xA7800000 is deprecated; the permissible max is 0x7FFFFFFF at t/080_super.t line 28.
Use of code point 0xA7800000 is deprecated; the permissible max is 0x7FFFFFFF in subroutine entry at t/080_super.t line 32.
Use of code point 0xA7C00000 is deprecated; the permissible max is 0x7FFFFFFF at t/080_super.t line 28.
Use of code point 0xA7C00000 is deprecated; the permissible max is 0x7FFFFFFF in subroutine entry at t/080_super.t line 32.
Use of code point 0xA8000000 is deprecated; the permissible max is 0x7FFFFFFF at t/080_super.t line 28.
Use of code point 0xA8000000 is deprecated; the permissible max is 0x7FFFFFFF in subroutine entry at t/080_super.t line 32.
Use of code point 0xA8400000 is deprecated; the permissible max is 0x7FFFFFFF at t/080_super.t line 28.
Use of code point 0xA8400000 is deprecated; the permissible max is 0x7FFFFFFF in subroutine entry at t/080_super.t line 32.
Use of code point 0xA8800000 is deprecated; the permissible max is 0x7FFFFFFF at t/080_super.t line 28.
Use of code point 0xA8800000 is deprecated; the permissible max is 0x7FFFFFFF in subroutine entry at t/080_super.t line 32.
Use of code point 0xA8C00000 is deprecated; the permissible max is 0x7FFFFFFF at t/080_super.t line 28.
Use of code point 0xA8C00000 is deprecated; the permissible max is 0x7FFFFFFF in subroutine entry at t/080_super.t line 32.
Use of code point 0xA9000000 is deprecated; the permissible max is 0x7FFFFFFF at t/080_super.t line 28.
Use of code point 0xA9000000 is deprecated; the permissible max is 0x7FFFFFFF in subroutine entry at t/080_super.t line 32.
Use of code point 0xA9400000 is deprecated; the permissible max is 0x7FFFFFFF at t/080_super.t line 28.
Use of code point 0xA9400000 is deprecated; the permissible max is 0x7FFFFFFF in subroutine entry at t/080_super.t line 32.
Use of code point 0xA9800000 is deprecated; the permissible max is 0x7FFFFFFF at t/080_super.t line 28.
Use of code point 0xA9800000 is deprecated; the permissible max is 0x7FFFFFFF in subroutine entry at t/080_super.t line 32.
Use of code point 0xA9C00000 is deprecated; the permissible max is 0x7FFFFFFF at t/080_super.t line 28.
Use of code point 0xA9C00000 is deprecated; the permissible max is 0x7FFFFFFF in subroutine entry at t/080_super.t line 32.
Use of code point 0xAA000000 is deprecated; the permissible max is 0x7FFFFFFF at t/080_super.t line 28.
Use of code point 0xAA000000 is deprecated; the permissible max is 0x7FFFFFFF in subroutine entry at t/080_super.t line 32.
Use of code point 0xAA400000 is deprecated; the permissible max is 0x7FFFFFFF at t/080_super.t line 28.
Use of code point 0xAA400000 is deprecated; the permissible max is 0x7FFFFFFF in subroutine entry at t/080_super.t line 32.
Use of code point 0xAA800000 is deprecated; the permissible max is 0x7FFFFFFF at t/080_super.t line 28.
Use of code point 0xAA800000 is deprecated; the permissible max is 0x7FFFFFFF in subroutine entry at t/080_super.t line 32.
Use of code point 0xAAC00000 is deprecated; the permissible max is 0x7FFFFFFF at t/080_super.t line 28.
Use of code point 0xAAC00000 is deprecated; the permissible max is 0x7FFFFFFF in subroutine entry at t/080_super.t line 32.
Use of code point 0xAB000000 is deprecated; the permissible max is 0x7FFFFFFF at t/080_super.t line 28.
Use of code point 0xAB000000 is deprecated; the permissible max is 0x7FFFFFFF in subroutine entry at t/080_super.t line 32.
Use of code point 0xAB400000 is deprecated; the permissible max is 0x7FFFFFFF at t/080_super.t line 28.
Use of code point 0xAB400000 is deprecated; the permissible max is 0x7FFFFFFF in subroutine entry at t/080_super.t line 32.
Use of code point 0xAB800000 is deprecated; the permissible max is 0x7FFFFFFF at t/080_super.t line 28.
Use of code point 0xAB800000 is deprecated; the permissible max is 0x7FFFFFFF in subroutine entry at t/080_super.t line 32.
Use of code point 0xABC00000 is deprecated; the permissible max is 0x7FFFFFFF at t/080_super.t line 28.
Use of code point 0xABC00000 is deprecated; the permissible max is 0x7FFFFFFF in subroutine entry at t/080_super.t line 32.
Use of code point 0xAC000000 is deprecated; the permissible max is 0x7FFFFFFF at t/080_super.t line 28.
Use of code point 0xAC000000 is deprecated; the permissible max is 0x7FFFFFFF in subroutine entry at t/080_super.t line 32.
Use of code point 0xAC400000 is deprecated; the permissible max is 0x7FFFFFFF at t/080_super.t line 28.
Use of code point 0xAC400000 is deprecated; the permissible max is 0x7FFFFFFF in subroutine entry at t/080_super.t line 32.
Use of code point 0xAC800000 is deprecated; the permissible max is 0x7FFFFFFF at t/080_super.t line 28.
Use of code point 0xAC800000 is deprecated; the permissible max is 0x7FFFFFFF in subroutine entry at t/080_super.t line 32.
Use of code point 0xACC00000 is deprecated; the permissible max is 0x7FFFFFFF at t/080_super.t line 28.
Use of code point 0xACC00000 is deprecated; the permissible max is 0x7FFFFFFF in subroutine entry at t/080_super.t line 32.
Use of code point 0xAD000000 is deprecated; the permissible max is 0x7FFFFFFF at t/080_super.t line 28.
Use of code point 0xAD000000 is deprecated; the permissible max is 0x7FFFFFFF in subroutine entry at t/080_super.t line 32.
Use of code point 0xAD400000 is deprecated; the permissible max is 0x7FFFFFFF at t/080_super.t line 28.
Use of code point 0xAD400000 is deprecated; the permissible max is 0x7FFFFFFF in subroutine entry at t/080_super.t line 32.
Use of code point 0xAD800000 is deprecated; the permissible max is 0x7FFFFFFF at t/080_super.t line 28.
Use of code point 0xAD800000 is deprecated; the permissible max is 0x7FFFFFFF in subroutine entry at t/080_super.t line 32.
Use of code point 0xADC00000 is deprecated; the permissible max is 0x7FFFFFFF at t/080_super.t line 28.
Use of code point 0xADC00000 is deprecated; the permissible max is 0x7FFFFFFF in subroutine entry at t/080_super.t line 32.
Use of code point 0xAE000000 is deprecated; the permissible max is 0x7FFFFFFF at t/080_super.t line 28.
Use of code point 0xAE000000 is deprecated; the permissible max is 0x7FFFFFFF in subroutine entry at t/080_super.t line 32.
Use of code point 0xAE400000 is deprecated; the permissible max is 0x7FFFFFFF at t/080_super.t line 28.
Use of code point 0xAE400000 is deprecated; the permissible max is 0x7FFFFFFF in subroutine entry at t/080_super.t line 32.
Use of code point 0xAE800000 is deprecated; the permissible max is 0x7FFFFFFF at t/080_super.t line 28.
Use of code point 0xAE800000 is deprecated; the permissible max is 0x7FFFFFFF in subroutine entry at t/080_super.t line 32.
Use of code point 0xAEC00000 is deprecated; the permissible max is 0x7FFFFFFF at t/080_super.t line 28.
Use of code point 0xAEC00000 is deprecated; the permissible max is 0x7FFFFFFF in subroutine entry at t/080_super.t line 32.
Use of code point 0xAF000000 is deprecated; the permissible max is 0x7FFFFFFF at t/080_super.t line 28.
Use of code point 0xAF000000 is deprecated; the permissible max is 0x7FFFFFFF in subroutine entry at t/080_super.t line 32.
Use of code point 0xAF400000 is deprecated; the permissible max is 0x7FFFFFFF at t/080_super.t line 28.
Use of code point 0xAF400000 is deprecated; the permissible max is 0x7FFFFFFF in subroutine entry at t/080_super.t line 32.
Use of code point 0xAF800000 is deprecated; the permissible max is 0x7FFFFFFF at t/080_super.t line 28.
Use of code point 0xAF800000 is deprecated; the permissible max is 0x7FFFFFFF in subroutine entry at t/080_super.t line 32.
Use of code point 0xAFC00000 is deprecated; the permissible max is 0x7FFFFFFF at t/080_super.t line 28.
Use of code point 0xAFC00000 is deprecated; the permissible max is 0x7FFFFFFF in subroutine entry at t/080_super.t line 32.
Use of code point 0xB0000000 is deprecated; the permissible max is 0x7FFFFFFF at t/080_super.t line 28.
Use of code point 0xB0000000 is deprecated; the permissible max is 0x7FFFFFFF in subroutine entry at t/080_super.t line 32.
Use of code point 0xB0400000 is deprecated; the permissible max is 0x7FFFFFFF at t/080_super.t line 28.
Use of code point 0xB0400000 is deprecated; the permissible max is 0x7FFFFFFF in subroutine entry at t/080_super.t line 32.
Use of code point 0xB0800000 is deprecated; the permissible max is 0x7FFFFFFF at t/080_super.t line 28.
Use of code point 0xB0800000 is deprecated; the permissible max is 0x7FFFFFFF in subroutine entry at t/080_super.t line 32.
Use of code point 0xB0C00000 is deprecated; the permissible max is 0x7FFFFFFF at t/080_super.t line 28.
Use of code point 0xB0C00000 is deprecated; the permissible max is 0x7FFFFFFF in subroutine entry at t/080_super.t line 32.
Use of code point 0xB1000000 is deprecated; the permissible max is 0x7FFFFFFF at t/080_super.t line 28.
Use of code point 0xB1000000 is deprecated; the permissible max is 0x7FFFFFFF in subroutine entry at t/080_super.t line 32.
Use of code point 0xB1400000 is deprecated; the permissible max is 0x7FFFFFFF at t/080_super.t line 28.
Use of code point 0xB1400000 is deprecated; the permissible max is 0x7FFFFFFF in subroutine entry at t/080_super.t line 32.
Use of code point 0xB1800000 is deprecated; the permissible max is 0x7FFFFFFF at t/080_super.t line 28.
Use of code point 0xB1800000 is deprecated; the permissible max is 0x7FFFFFFF in subroutine entry at t/080_super.t line 32.
Use of code point 0xB1C00000 is deprecated; the permissible max is 0x7FFFFFFF at t/080_super.t line 28.
Use of code point 0xB1C00000 is deprecated; the permissible max is 0x7FFFFFFF in subroutine entry at t/080_super.t line 32.
Use of code point 0xB2000000 is deprecated; the permissible max is 0x7FFFFFFF at t/080_super.t line 28.
Use of code point 0xB2000000 is deprecated; the permissible max is 0x7FFFFFFF in subroutine entry at t/080_super.t line 32.
Use of code point 0xB2400000 is deprecated; the permissible max is 0x7FFFFFFF at t/080_super.t line 28.
Use of code point 0xB2400000 is deprecated; the permissible max is 0x7FFFFFFF in subroutine entry at t/080_super.t line 32.
Use of code point 0xB2800000 is deprecated; the permissible max is 0x7FFFFFFF at t/080_super.t line 28.
Use of code point 0xB2800000 is deprecated; the permissible max is 0x7FFFFFFF in subroutine entry at t/080_super.t line 32.
Use of code point 0xB2C00000 is deprecated; the permissible max is 0x7FFFFFFF at t/080_super.t line 28.
Use of code point 0xB2C00000 is deprecated; the permissible max is 0x7FFFFFFF in subroutine entry at t/080_super.t line 32.
Use of code point 0xB3000000 is deprecated; the permissible max is 0x7FFFFFFF at t/080_super.t line 28.
Use of code point 0xB3000000 is deprecated; the permissible max is 0x7FFFFFFF in subroutine entry at t/080_super.t line 32.
Use of code point 0xB3400000 is deprecated; the permissible max is 0x7FFFFFFF at t/080_super.t line 28.
Use of code point 0xB3400000 is deprecated; the permissible max is 0x7FFFFFFF in subroutine entry at t/080_super.t line 32.
Use of code point 0xB3800000 is deprecated; the permissible max is 0x7FFFFFFF at t/080_super.t line 28.
Use of code point 0xB3800000 is deprecated; the permissible max is 0x7FFFFFFF in subroutine entry at t/080_super.t line 32.
Use of code point 0xB3C00000 is deprecated; the permissible max is 0x7FFFFFFF at t/080_super.t line 28.
Use of code point 0xB3C00000 is deprecated; the permissible max is 0x7FFFFFFF in subroutine entry at t/080_super.t line 32.
Use of code point 0xB4000000 is deprecated; the permissible max is 0x7FFFFFFF at t/080_super.t line 28.
Use of code point 0xB4000000 is deprecated; the permissible max is 0x7FFFFFFF in subroutine entry at t/080_super.t line 32.
Use of code point 0xB4400000 is deprecated; the permissible max is 0x7FFFFFFF at t/080_super.t line 28.
Use of code point 0xB4400000 is deprecated; the permissible max is 0x7FFFFFFF in subroutine entry at t/080_super.t line 32.
Use of code point 0xB4800000 is deprecated; the permissible max is 0x7FFFFFFF at t/080_super.t line 28.
Use of code point 0xB4800000 is deprecated; the permissible max is 0x7FFFFFFF in subroutine entry at t/080_super.t line 32.
Use of code point 0xB4C00000 is deprecated; the permissible max is 0x7FFFFFFF at t/080_super.t line 28.
Use of code point 0xB4C00000 is deprecated; the permissible max is 0x7FFFFFFF in subroutine entry at t/080_super.t line 32.
Use of code point 0xB5000000 is deprecated; the permissible max is 0x7FFFFFFF at t/080_super.t line 28.
Use of code point 0xB5000000 is deprecated; the permissible max is 0x7FFFFFFF in subroutine entry at t/080_super.t line 32.
Use of code point 0xB5400000 is deprecated; the permissible max is 0x7FFFFFFF at t/080_super.t line 28.
Use of code point 0xB5400000 is deprecated; the permissible max is 0x7FFFFFFF in subroutine entry at t/080_super.t line 32.
Use of code point 0xB5800000 is deprecated; the permissible max is 0x7FFFFFFF at t/080_super.t line 28.
Use of code point 0xB5800000 is deprecated; the permissible max is 0x7FFFFFFF in subroutine entry at t/080_super.t line 32.
Use of code point 0xB5C00000 is deprecated; the permissible max is 0x7FFFFFFF at t/080_super.t line 28.
Use of code point 0xB5C00000 is deprecated; the permissible max is 0x7FFFFFFF in subroutine entry at t/080_super.t line 32.
Use of code point 0xB6000000 is deprecated; the permissible max is 0x7FFFFFFF at t/080_super.t line 28.
Use of code point 0xB6000000 is deprecated; the permissible max is 0x7FFFFFFF in subroutine entry at t/080_super.t line 32.
Use of code point 0xB6400000 is deprecated; the permissible max is 0x7FFFFFFF at t/080_super.t line 28.
Use of code point 0xB6400000 is deprecated; the permissible max is 0x7FFFFFFF in subroutine entry at t/080_super.t line 32.
Use of code point 0xB6800000 is deprecated; the permissible max is 0x7FFFFFFF at t/080_super.t line 28.
Use of code point 0xB6800000 is deprecated; the permissible max is 0x7FFFFFFF in subroutine entry at t/080_super.t line 32.
Use of code point 0xB6C00000 is deprecated; the permissible max is 0x7FFFFFFF at t/080_super.t line 28.
Use of code point 0xB6C00000 is deprecated; the permissible max is 0x7FFFFFFF in subroutine entry at t/080_super.t line 32.
Use of code point 0xB7000000 is deprecated; the permissible max is 0x7FFFFFFF at t/080_super.t line 28.
Use of code point 0xB7000000 is deprecated; the permissible max is 0x7FFFFFFF in subroutine entry at t/080_super.t line 32.
Use of code point 0xB7400000 is deprecated; the permissible max is 0x7FFFFFFF at t/080_super.t line 28.
Use of code point 0xB7400000 is deprecated; the permissible max is 0x7FFFFFFF in subroutine entry at t/080_super.t line 32.
Use of code point 0xB7800000 is deprecated; the permissible max is 0x7FFFFFFF at t/080_super.t line 28.
Use of code point 0xB7800000 is deprecated; the permissible max is 0x7FFFFFFF in subroutine entry at t/080_super.t line 32.
Use of code point 0xB7C00000 is deprecated; the permissible max is 0x7FFFFFFF at t/080_super.t line 28.
Use of code point 0xB7C00000 is deprecated; the permissible max is 0x7FFFFFFF in subroutine entry at t/080_super.t line 32.
Use of code point 0xB8000000 is deprecated; the permissible max is 0x7FFFFFFF at t/080_super.t line 28.
Use of code point 0xB8000000 is deprecated; the permissible max is 0x7FFFFFFF in subroutine entry at t/080_super.t line 32.
Use of code point 0xB8400000 is deprecated; the permissible max is 0x7FFFFFFF at t/080_super.t line 28.
Use of code point 0xB8400000 is deprecated; the permissible max is 0x7FFFFFFF in subroutine entry at t/080_super.t line 32.
Use of code point 0xB8800000 is deprecated; the permissible max is 0x7FFFFFFF at t/080_super.t line 28.
Use of code point 0xB8800000 is deprecated; the permissible max is 0x7FFFFFFF in subroutine entry at t/080_super.t line 32.
Use of code point 0xB8C00000 is deprecated; the permissible max is 0x7FFFFFFF at t/080_super.t line 28.
Use of code point 0xB8C00000 is deprecated; the permissible max is 0x7FFFFFFF in subroutine entry at t/080_super.t line 32.
Use of code point 0xB9000000 is deprecated; the permissible max is 0x7FFFFFFF at t/080_super.t line 28.
Use of code point 0xB9000000 is deprecated; the permissible max is 0x7FFFFFFF in subroutine entry at t/080_super.t line 32.
Use of code point 0xB9400000 is deprecated; the permissible max is 0x7FFFFFFF at t/080_super.t line 28.
Use of code point 0xB9400000 is deprecated; the permissible max is 0x7FFFFFFF in subroutine entry at t/080_super.t line 32.
Use of code point 0xB9800000 is deprecated; the permissible max is 0x7FFFFFFF at t/080_super.t line 28.
Use of code point 0xB9800000 is deprecated; the permissible max is 0x7FFFFFFF in subroutine entry at t/080_super.t line 32.
Use of code point 0xB9C00000 is deprecated; the permissible max is 0x7FFFFFFF at t/080_super.t line 28.
Use of code point 0xB9C00000 is deprecated; the permissible max is 0x7FFFFFFF in subroutine entry at t/080_super.t line 32.
Use of code point 0xBA000000 is deprecated; the permissible max is 0x7FFFFFFF at t/080_super.t line 28.
Use of code point 0xBA000000 is deprecated; the permissible max is 0x7FFFFFFF in subroutine entry at t/080_super.t line 32.
Use of code point 0xBA400000 is deprecated; the permissible max is 0x7FFFFFFF at t/080_super.t line 28.
Use of code point 0xBA400000 is deprecated; the permissible max is 0x7FFFFFFF in subroutine entry at t/080_super.t line 32.
Use of code point 0xBA800000 is deprecated; the permissible max is 0x7FFFFFFF at t/080_super.t line 28.
Use of code point 0xBA800000 is deprecated; the permissible max is 0x7FFFFFFF in subroutine entry at t/080_super.t line 32.
Use of code point 0xBAC00000 is deprecated; the permissible max is 0x7FFFFFFF at t/080_super.t line 28.
Use of code point 0xBAC00000 is deprecated; the permissible max is 0x7FFFFFFF in subroutine entry at t/080_super.t line 32.
Use of code point 0xBB000000 is deprecated; the permissible max is 0x7FFFFFFF at t/080_super.t line 28.
Use of code point 0xBB000000 is deprecated; the permissible max is 0x7FFFFFFF in subroutine entry at t/080_super.t line 32.
Use of code point 0xBB400000 is deprecated; the permissible max is 0x7FFFFFFF at t/080_super.t line 28.
Use of code point 0xBB400000 is deprecated; the permissible max is 0x7FFFFFFF in subroutine entry at t/080_super.t line 32.
Use of code point 0xBB800000 is deprecated; the permissible max is 0x7FFFFFFF at t/080_super.t line 28.
Use of code point 0xBB800000 is deprecated; the permissible max is 0x7FFFFFFF in subroutine entry at t/080_super.t line 32.
Use of code point 0xBBC00000 is deprecated; the permissible max is 0x7FFFFFFF at t/080_super.t line 28.
Use of code point 0xBBC00000 is deprecated; the permissible max is 0x7FFFFFFF in subroutine entry at t/080_super.t line 32.
Use of code point 0xBC000000 is deprecated; the permissible max is 0x7FFFFFFF at t/080_super.t line 28.
Use of code point 0xBC000000 is deprecated; the permissible max is 0x7FFFFFFF in subroutine entry at t/080_super.t line 32.
Use of code point 0xBC400000 is deprecated; the permissible max is 0x7FFFFFFF at t/080_super.t line 28.
Use of code point 0xBC400000 is deprecated; the permissible max is 0x7FFFFFFF in subroutine entry at t/080_super.t line 32.
Use of code point 0xBC800000 is deprecated; the permissible max is 0x7FFFFFFF at t/080_super.t line 28.
Use of code point 0xBC800000 is deprecated; the permissible max is 0x7FFFFFFF in subroutine entry at t/080_super.t line 32.
Use of code point 0xBCC00000 is deprecated; the permissible max is 0x7FFFFFFF at t/080_super.t line 28.
Use of code point 0xBCC00000 is deprecated; the permissible max is 0x7FFFFFFF in subroutine entry at t/080_super.t line 32.
Use of code point 0xBD000000 is deprecated; the permissible max is 0x7FFFFFFF at t/080_super.t line 28.
Use of code point 0xBD000000 is deprecated; the permissible max is 0x7FFFFFFF in subroutine entry at t/080_super.t line 32.
Use of code point 0xBD400000 is deprecated; the permissible max is 0x7FFFFFFF at t/080_super.t line 28.
Use of code point 0xBD400000 is deprecated; the permissible max is 0x7FFFFFFF in subroutine entry at t/080_super.t line 32.
Use of code point 0xBD800000 is deprecated; the permissible max is 0x7FFFFFFF at t/080_super.t line 28.
Use of code point 0xBD800000 is deprecated; the permissible max is 0x7FFFFFFF in subroutine entry at t/080_super.t line 32.
Use of code point 0xBDC00000 is deprecated; the permissible max is 0x7FFFFFFF at t/080_super.t line 28.
Use of code point 0xBDC00000 is deprecated; the permissible max is 0x7FFFFFFF in subroutine entry at t/080_super.t line 32.
Use of code point 0xBE000000 is deprecated; the permissible max is 0x7FFFFFFF at t/080_super.t line 28.
Use of code point 0xBE000000 is deprecated; the permissible max is 0x7FFFFFFF in subroutine entry at t/080_super.t line 32.
Use of code point 0xBE400000 is deprecated; the permissible max is 0x7FFFFFFF at t/080_super.t line 28.
Use of code point 0xBE400000 is deprecated; the permissible max is 0x7FFFFFFF in subroutine entry at t/080_super.t line 32.
Use of code point 0xBE800000 is deprecated; the permissible max is 0x7FFFFFFF at t/080_super.t line 28.
Use of code point 0xBE800000 is deprecated; the permissible max is 0x7FFFFFFF in subroutine entry at t/080_super.t line 32.
Use of code point 0xBEC00000 is deprecated; the permissible max is 0x7FFFFFFF at t/080_super.t line 28.
Use of code point 0xBEC00000 is deprecated; the permissible max is 0x7FFFFFFF in subroutine entry at t/080_super.t line 32.
Use of code point 0xBF000000 is deprecated; the permissible max is 0x7FFFFFFF at t/080_super.t line 28.
Use of code point 0xBF000000 is deprecated; the permissible max is 0x7FFFFFFF in subroutine entry at t/080_super.t line 32.
Use of code point 0xBF400000 is deprecated; the permissible max is 0x7FFFFFFF at t/080_super.t line 28.
Use of code point 0xBF400000 is deprecated; the permissible max is 0x7FFFFFFF in subroutine entry at t/080_super.t line 32.
Use of code point 0xBF800000 is deprecated; the permissible max is 0x7FFFFFFF at t/080_super.t line 28.
Use of code point 0xBF800000 is deprecated; the permissible max is 0x7FFFFFFF in subroutine entry at t/080_super.t line 32.
Use of code point 0xBFC00000 is deprecated; the permissible max is 0x7FFFFFFF at t/080_super.t line 28.
Use of code point 0xBFC00000 is deprecated; the permissible max is 0x7FFFFFFF in subroutine entry at t/080_super.t line 32.
Use of code point 0xC0000000 is deprecated; the permissible max is 0x7FFFFFFF at t/080_super.t line 28.
Use of code point 0xC0000000 is deprecated; the permissible max is 0x7FFFFFFF in subroutine entry at t/080_super.t line 32.
Use of code point 0xC0400000 is deprecated; the permissible max is 0x7FFFFFFF at t/080_super.t line 28.
Use of code point 0xC0400000 is deprecated; the permissible max is 0x7FFFFFFF in subroutine entry at t/080_super.t line 32.
Use of code point 0xC0800000 is deprecated; the permissible max is 0x7FFFFFFF at t/080_super.t line 28.
Use of code point 0xC0800000 is deprecated; the permissible max is 0x7FFFFFFF in subroutine entry at t/080_super.t line 32.
Use of code point 0xC0C00000 is deprecated; the permissible max is 0x7FFFFFFF at t/080_super.t line 28.
Use of code point 0xC0C00000 is deprecated; the permissible max is 0x7FFFFFFF in subroutine entry at t/080_super.t line 32.
Use of code point 0xC1000000 is deprecated; the permissible max is 0x7FFFFFFF at t/080_super.t line 28.
Use of code point 0xC1000000 is deprecated; the permissible max is 0x7FFFFFFF in subroutine entry at t/080_super.t line 32.
Use of code point 0xC1400000 is deprecated; the permissible max is 0x7FFFFFFF at t/080_super.t line 28.
Use of code point 0xC1400000 is deprecated; the permissible max is 0x7FFFFFFF in subroutine entry at t/080_super.t line 32.
Use of code point 0xC1800000 is deprecated; the permissible max is 0x7FFFFFFF at t/080_super.t line 28.
Use of code point 0xC1800000 is deprecated; the permissible max is 0x7FFFFFFF in subroutine entry at t/080_super.t line 32.
Use of code point 0xC1C00000 is deprecated; the permissible max is 0x7FFFFFFF at t/080_super.t line 28.
Use of code point 0xC1C00000 is deprecated; the permissible max is 0x7FFFFFFF in subroutine entry at t/080_super.t line 32.
Use of code point 0xC2000000 is deprecated; the permissible max is 0x7FFFFFFF at t/080_super.t line 28.
Use of code point 0xC2000000 is deprecated; the permissible max is 0x7FFFFFFF in subroutine entry at t/080_super.t line 32.
Use of code point 0xC2400000 is deprecated; the permissible max is 0x7FFFFFFF at t/080_super.t line 28.
Use of code point 0xC2400000 is deprecated; the permissible max is 0x7FFFFFFF in subroutine entry at t/080_super.t line 32.
Use of code point 0xC2800000 is deprecated; the permissible max is 0x7FFFFFFF at t/080_super.t line 28.
Use of code point 0xC2800000 is deprecated; the permissible max is 0x7FFFFFFF in subroutine entry at t/080_super.t line 32.
Use of code point 0xC2C00000 is deprecated; the permissible max is 0x7FFFFFFF at t/080_super.t line 28.
Use of code point 0xC2C00000 is deprecated; the permissible max is 0x7FFFFFFF in subroutine entry at t/080_super.t line 32.
Use of code point 0xC3000000 is deprecated; the permissible max is 0x7FFFFFFF at t/080_super.t line 28.
Use of code point 0xC3000000 is deprecated; the permissible max is 0x7FFFFFFF in subroutine entry at t/080_super.t line 32.
Use of code point 0xC3400000 is deprecated; the permissible max is 0x7FFFFFFF at t/080_super.t line 28.
Use of code point 0xC3400000 is deprecated; the permissible max is 0x7FFFFFFF in subroutine entry at t/080_super.t line 32.
Use of code point 0xC3800000 is deprecated; the permissible max is 0x7FFFFFFF at t/080_super.t line 28.
Use of code point 0xC3800000 is deprecated; the permissible max is 0x7FFFFFFF in subroutine entry at t/080_super.t line 32.
Use of code point 0xC3C00000 is deprecated; the permissible max is 0x7FFFFFFF at t/080_super.t line 28.
Use of code point 0xC3C00000 is deprecated; the permissible max is 0x7FFFFFFF in subroutine entry at t/080_super.t line 32.
Use of code point 0xC4000000 is deprecated; the permissible max is 0x7FFFFFFF at t/080_super.t line 28.
Use of code point 0xC4000000 is deprecated; the permissible max is 0x7FFFFFFF in subroutine entry at t/080_super.t line 32.
Use of code point 0xC4400000 is deprecated; the permissible max is 0x7FFFFFFF at t/080_super.t line 28.
Use of code point 0xC4400000 is deprecated; the permissible max is 0x7FFFFFFF in subroutine entry at t/080_super.t line 32.
Use of code point 0xC4800000 is deprecated; the permissible max is 0x7FFFFFFF at t/080_super.t line 28.
Use of code point 0xC4800000 is deprecated; the permissible max is 0x7FFFFFFF in subroutine entry at t/080_super.t line 32.
Use of code point 0xC4C00000 is deprecated; the permissible max is 0x7FFFFFFF at t/080_super.t line 28.
Use of code point 0xC4C00000 is deprecated; the permissible max is 0x7FFFFFFF in subroutine entry at t/080_super.t line 32.
Use of code point 0xC5000000 is deprecated; the permissible max is 0x7FFFFFFF at t/080_super.t line 28.
Use of code point 0xC5000000 is deprecated; the permissible max is 0x7FFFFFFF in subroutine entry at t/080_super.t line 32.
Use of code point 0xC5400000 is deprecated; the permissible max is 0x7FFFFFFF at t/080_super.t line 28.
Use of code point 0xC5400000 is deprecated; the permissible max is 0x7FFFFFFF in subroutine entry at t/080_super.t line 32.
Use of code point 0xC5800000 is deprecated; the permissible max is 0x7FFFFFFF at t/080_super.t line 28.
Use of code point 0xC5800000 is deprecated; the permissible max is 0x7FFFFFFF in subroutine entry at t/080_super.t line 32.
Use of code point 0xC5C00000 is deprecated; the permissible max is 0x7FFFFFFF at t/080_super.t line 28.
Use of code point 0xC5C00000 is deprecated; the permissible max is 0x7FFFFFFF in subroutine entry at t/080_super.t line 32.
Use of code point 0xC6000000 is deprecated; the permissible max is 0x7FFFFFFF at t/080_super.t line 28.
Use of code point 0xC6000000 is deprecated; the permissible max is 0x7FFFFFFF in subroutine entry at t/080_super.t line 32.
Use of code point 0xC6400000 is deprecated; the permissible max is 0x7FFFFFFF at t/080_super.t line 28.
Use of code point 0xC6400000 is deprecated; the permissible max is 0x7FFFFFFF in subroutine entry at t/080_super.t line 32.
Use of code point 0xC6800000 is deprecated; the permissible max is 0x7FFFFFFF at t/080_super.t line 28.
Use of code point 0xC6800000 is deprecated; the permissible max is 0x7FFFFFFF in subroutine entry at t/080_super.t line 32.
Use of code point 0xC6C00000 is deprecated; the permissible max is 0x7FFFFFFF at t/080_super.t line 28.
Use of code point 0xC6C00000 is deprecated; the permissible max is 0x7FFFFFFF in subroutine entry at t/080_super.t line 32.
Use of code point 0xC7000000 is deprecated; the permissible max is 0x7FFFFFFF at t/080_super.t line 28.
Use of code point 0xC7000000 is deprecated; the permissible max is 0x7FFFFFFF in subroutine entry at t/080_super.t line 32.
Use of code point 0xC7400000 is deprecated; the permissible max is 0x7FFFFFFF at t/080_super.t line 28.
Use of code point 0xC7400000 is deprecated; the permissible max is 0x7FFFFFFF in subroutine entry at t/080_super.t line 32.
Use of code point 0xC7800000 is deprecated; the permissible max is 0x7FFFFFFF at t/080_super.t line 28.
Use of code point 0xC7800000 is deprecated; the permissible max is 0x7FFFFFFF in subroutine entry at t/080_super.t line 32.
Use of code point 0xC7C00000 is deprecated; the permissible max is 0x7FFFFFFF at t/080_super.t line 28.
Use of code point 0xC7C00000 is deprecated; the permissible max is 0x7FFFFFFF in subroutine entry at t/080_super.t line 32.
Use of code point 0xC8000000 is deprecated; the permissible max is 0x7FFFFFFF at t/080_super.t line 28.
Use of code point 0xC8000000 is deprecated; the permissible max is 0x7FFFFFFF in subroutine entry at t/080_super.t line 32.
Use of code point 0xC8400000 is deprecated; the permissible max is 0x7FFFFFFF at t/080_super.t line 28.
Use of code point 0xC8400000 is deprecated; the permissible max is 0x7FFFFFFF in subroutine entry at t/080_super.t line 32.
Use of code point 0xC8800000 is deprecated; the permissible max is 0x7FFFFFFF at t/080_super.t line 28.
Use of code point 0xC8800000 is deprecated; the permissible max is 0x7FFFFFFF in subroutine entry at t/080_super.t line 32.
Use of code point 0xC8C00000 is deprecated; the permissible max is 0x7FFFFFFF at t/080_super.t line 28.
Use of code point 0xC8C00000 is deprecated; the permissible max is 0x7FFFFFFF in subroutine entry at t/080_super.t line 32.
Use of code point 0xC9000000 is deprecated; the permissible max is 0x7FFFFFFF at t/080_super.t line 28.
Use of code point 0xC9000000 is deprecated; the permissible max is 0x7FFFFFFF in subroutine entry at t/080_super.t line 32.
Use of code point 0xC9400000 is deprecated; the permissible max is 0x7FFFFFFF at t/080_super.t line 28.
Use of code point 0xC9400000 is deprecated; the permissible max is 0x7FFFFFFF in subroutine entry at t/080_super.t line 32.
Use of code point 0xC9800000 is deprecated; the permissible max is 0x7FFFFFFF at t/080_super.t line 28.
Use of code point 0xC9800000 is deprecated; the permissible max is 0x7FFFFFFF in subroutine entry at t/080_super.t line 32.
Use of code point 0xC9C00000 is deprecated; the permissible max is 0x7FFFFFFF at t/080_super.t line 28.
Use of code point 0xC9C00000 is deprecated; the permissible max is 0x7FFFFFFF in subroutine entry at t/080_super.t line 32.
Use of code point 0xCA000000 is deprecated; the permissible max is 0x7FFFFFFF at t/080_super.t line 28.
Use of code point 0xCA000000 is deprecated; the permissible max is 0x7FFFFFFF in subroutine entry at t/080_super.t line 32.
Use of code point 0xCA400000 is deprecated; the permissible max is 0x7FFFFFFF at t/080_super.t line 28.
Use of code point 0xCA400000 is deprecated; the permissible max is 0x7FFFFFFF in subroutine entry at t/080_super.t line 32.
Use of code point 0xCA800000 is deprecated; the permissible max is 0x7FFFFFFF at t/080_super.t line 28.
Use of code point 0xCA800000 is deprecated; the permissible max is 0x7FFFFFFF in subroutine entry at t/080_super.t line 32.
Use of code point 0xCAC00000 is deprecated; the permissible max is 0x7FFFFFFF at t/080_super.t line 28.
Use of code point 0xCAC00000 is deprecated; the permissible max is 0x7FFFFFFF in subroutine entry at t/080_super.t line 32.
Use of code point 0xCB000000 is deprecated; the permissible max is 0x7FFFFFFF at t/080_super.t line 28.
Use of code point 0xCB000000 is deprecated; the permissible max is 0x7FFFFFFF in subroutine entry at t/080_super.t line 32.
Use of code point 0xCB400000 is deprecated; the permissible max is 0x7FFFFFFF at t/080_super.t line 28.
Use of code point 0xCB400000 is deprecated; the permissible max is 0x7FFFFFFF in subroutine entry at t/080_super.t line 32.
Use of code point 0xCB800000 is deprecated; the permissible max is 0x7FFFFFFF at t/080_super.t line 28.
Use of code point 0xCB800000 is deprecated; the permissible max is 0x7FFFFFFF in subroutine entry at t/080_super.t line 32.
Use of code point 0xCBC00000 is deprecated; the permissible max is 0x7FFFFFFF at t/080_super.t line 28.
Use of code point 0xCBC00000 is deprecated; the permissible max is 0x7FFFFFFF in subroutine entry at t/080_super.t line 32.
Use of code point 0xCC000000 is deprecated; the permissible max is 0x7FFFFFFF at t/080_super.t line 28.
Use of code point 0xCC000000 is deprecated; the permissible max is 0x7FFFFFFF in subroutine entry at t/080_super.t line 32.
Use of code point 0xCC400000 is deprecated; the permissible max is 0x7FFFFFFF at t/080_super.t line 28.
Use of code point 0xCC400000 is deprecated; the permissible max is 0x7FFFFFFF in subroutine entry at t/080_super.t line 32.
Use of code point 0xCC800000 is deprecated; the permissible max is 0x7FFFFFFF at t/080_super.t line 28.
Use of code point 0xCC800000 is deprecated; the permissible max is 0x7FFFFFFF in subroutine entry at t/080_super.t line 32.
Use of code point 0xCCC00000 is deprecated; the permissible max is 0x7FFFFFFF at t/080_super.t line 28.
Use of code point 0xCCC00000 is deprecated; the permissible max is 0x7FFFFFFF in subroutine entry at t/080_super.t line 32.
Use of code point 0xCD000000 is deprecated; the permissible max is 0x7FFFFFFF at t/080_super.t line 28.
Use of code point 0xCD000000 is deprecated; the permissible max is 0x7FFFFFFF in subroutine entry at t/080_super.t line 32.
Use of code point 0xCD400000 is deprecated; the permissible max is 0x7FFFFFFF at t/080_super.t line 28.
Use of code point 0xCD400000 is deprecated; the permissible max is 0x7FFFFFFF in subroutine entry at t/080_super.t line 32.
Use of code point 0xCD800000 is deprecated; the permissible max is 0x7FFFFFFF at t/080_super.t line 28.
Use of code point 0xCD800000 is deprecated; the permissible max is 0x7FFFFFFF in subroutine entry at t/080_super.t line 32.
Use of code point 0xCDC00000 is deprecated; the permissible max is 0x7FFFFFFF at t/080_super.t line 28.
Use of code point 0xCDC00000 is deprecated; the permissible max is 0x7FFFFFFF in subroutine entry at t/080_super.t line 32.
Use of code point 0xCE000000 is deprecated; the permissible max is 0x7FFFFFFF at t/080_super.t line 28.
Use of code point 0xCE000000 is deprecated; the permissible max is 0x7FFFFFFF in subroutine entry at t/080_super.t line 32.
Use of code point 0xCE400000 is deprecated; the permissible max is 0x7FFFFFFF at t/080_super.t line 28.
Use of code point 0xCE400000 is deprecated; the permissible max is 0x7FFFFFFF in subroutine entry at t/080_super.t line 32.
Use of code point 0xCE800000 is deprecated; the permissible max is 0x7FFFFFFF at t/080_super.t line 28.
Use of code point 0xCE800000 is deprecated; the permissible max is 0x7FFFFFFF in subroutine entry at t/080_super.t line 32.
Use of code point 0xCEC00000 is deprecated; the permissible max is 0x7FFFFFFF at t/080_super.t line 28.
Use of code point 0xCEC00000 is deprecated; the permissible max is 0x7FFFFFFF in subroutine entry at t/080_super.t line 32.
Use of code point 0xCF000000 is deprecated; the permissible max is 0x7FFFFFFF at t/080_super.t line 28.
Use of code point 0xCF000000 is deprecated; the permissible max is 0x7FFFFFFF in subroutine entry at t/080_super.t line 32.
Use of code point 0xCF400000 is deprecated; the permissible max is 0x7FFFFFFF at t/080_super.t line 28.
Use of code point 0xCF400000 is deprecated; the permissible max is 0x7FFFFFFF in subroutine entry at t/080_super.t line 32.
Use of code point 0xCF800000 is deprecated; the permissible max is 0x7FFFFFFF at t/080_super.t line 28.
Use of code point 0xCF800000 is deprecated; the permissible max is 0x7FFFFFFF in subroutine entry at t/080_super.t line 32.
Use of code point 0xCFC00000 is deprecated; the permissible max is 0x7FFFFFFF at t/080_super.t line 28.
Use of code point 0xCFC00000 is deprecated; the permissible max is 0x7FFFFFFF in subroutine entry at t/080_super.t line 32.
Use of code point 0xD0000000 is deprecated; the permissible max is 0x7FFFFFFF at t/080_super.t line 28.
Use of code point 0xD0000000 is deprecated; the permissible max is 0x7FFFFFFF in subroutine entry at t/080_super.t line 32.
Use of code point 0xD0400000 is deprecated; the permissible max is 0x7FFFFFFF at t/080_super.t line 28.
Use of code point 0xD0400000 is deprecated; the permissible max is 0x7FFFFFFF in subroutine entry at t/080_super.t line 32.
Use of code point 0xD0800000 is deprecated; the permissible max is 0x7FFFFFFF at t/080_super.t line 28.
Use of code point 0xD0800000 is deprecated; the permissible max is 0x7FFFFFFF in subroutine entry at t/080_super.t line 32.
Use of code point 0xD0C00000 is deprecated; the permissible max is 0x7FFFFFFF at t/080_super.t line 28.
Use of code point 0xD0C00000 is deprecated; the permissible max is 0x7FFFFFFF in subroutine entry at t/080_super.t line 32.
Use of code point 0xD1000000 is deprecated; the permissible max is 0x7FFFFFFF at t/080_super.t line 28.
Use of code point 0xD1000000 is deprecated; the permissible max is 0x7FFFFFFF in subroutine entry at t/080_super.t line 32.
Use of code point 0xD1400000 is deprecated; the permissible max is 0x7FFFFFFF at t/080_super.t line 28.
Use of code point 0xD1400000 is deprecated; the permissible max is 0x7FFFFFFF in subroutine entry at t/080_super.t line 32.
Use of code point 0xD1800000 is deprecated; the permissible max is 0x7FFFFFFF at t/080_super.t line 28.
Use of code point 0xD1800000 is deprecated; the permissible max is 0x7FFFFFFF in subroutine entry at t/080_super.t line 32.
Use of code point 0xD1C00000 is deprecated; the permissible max is 0x7FFFFFFF at t/080_super.t line 28.
Use of code point 0xD1C00000 is deprecated; the permissible max is 0x7FFFFFFF in subroutine entry at t/080_super.t line 32.
Use of code point 0xD2000000 is deprecated; the permissible max is 0x7FFFFFFF at t/080_super.t line 28.
Use of code point 0xD2000000 is deprecated; the permissible max is 0x7FFFFFFF in subroutine entry at t/080_super.t line 32.
Use of code point 0xD2400000 is deprecated; the permissible max is 0x7FFFFFFF at t/080_super.t line 28.
Use of code point 0xD2400000 is deprecated; the permissible max is 0x7FFFFFFF in subroutine entry at t/080_super.t line 32.
Use of code point 0xD2800000 is deprecated; the permissible max is 0x7FFFFFFF at t/080_super.t line 28.
Use of code point 0xD2800000 is deprecated; the permissible max is 0x7FFFFFFF in subroutine entry at t/080_super.t line 32.
Use of code point 0xD2C00000 is deprecated; the permissible max is 0x7FFFFFFF at t/080_super.t line 28.
Use of code point 0xD2C00000 is deprecated; the permissible max is 0x7FFFFFFF in subroutine entry at t/080_super.t line 32.
Use of code point 0xD3000000 is deprecated; the permissible max is 0x7FFFFFFF at t/080_super.t line 28.
Use of code point 0xD3000000 is deprecated; the permissible max is 0x7FFFFFFF in subroutine entry at t/080_super.t line 32.
Use of code point 0xD3400000 is deprecated; the permissible max is 0x7FFFFFFF at t/080_super.t line 28.
Use of code point 0xD3400000 is deprecated; the permissible max is 0x7FFFFFFF in subroutine entry at t/080_super.t line 32.
Use of code point 0xD3800000 is deprecated; the permissible max is 0x7FFFFFFF at t/080_super.t line 28.
Use of code point 0xD3800000 is deprecated; the permissible max is 0x7FFFFFFF in subroutine entry at t/080_super.t line 32.
Use of code point 0xD3C00000 is deprecated; the permissible max is 0x7FFFFFFF at t/080_super.t line 28.
Use of code point 0xD3C00000 is deprecated; the permissible max is 0x7FFFFFFF in subroutine entry at t/080_super.t line 32.
Use of code point 0xD4000000 is deprecated; the permissible max is 0x7FFFFFFF at t/080_super.t line 28.
Use of code point 0xD4000000 is deprecated; the permissible max is 0x7FFFFFFF in subroutine entry at t/080_super.t line 32.
Use of code point 0xD4400000 is deprecated; the permissible max is 0x7FFFFFFF at t/080_super.t line 28.
Use of code point 0xD4400000 is deprecated; the permissible max is 0x7FFFFFFF in subroutine entry at t/080_super.t line 32.
Use of code point 0xD4800000 is deprecated; the permissible max is 0x7FFFFFFF at t/080_super.t line 28.
Use of code point 0xD4800000 is deprecated; the permissible max is 0x7FFFFFFF in subroutine entry at t/080_super.t line 32.
Use of code point 0xD4C00000 is deprecated; the permissible max is 0x7FFFFFFF at t/080_super.t line 28.
Use of code point 0xD4C00000 is deprecated; the permissible max is 0x7FFFFFFF in subroutine entry at t/080_super.t line 32.
Use of code point 0xD5000000 is deprecated; the permissible max is 0x7FFFFFFF at t/080_super.t line 28.
Use of code point 0xD5000000 is deprecated; the permissible max is 0x7FFFFFFF in subroutine entry at t/080_super.t line 32.
Use of code point 0xD5400000 is deprecated; the permissible max is 0x7FFFFFFF at t/080_super.t line 28.
Use of code point 0xD5400000 is deprecated; the permissible max is 0x7FFFFFFF in subroutine entry at t/080_super.t line 32.
Use of code point 0xD5800000 is deprecated; the permissible max is 0x7FFFFFFF at t/080_super.t line 28.
Use of code point 0xD5800000 is deprecated; the permissible max is 0x7FFFFFFF in subroutine entry at t/080_super.t line 32.
Use of code point 0xD5C00000 is deprecated; the permissible max is 0x7FFFFFFF at t/080_super.t line 28.
Use of code point 0xD5C00000 is deprecated; the permissible max is 0x7FFFFFFF in subroutine entry at t/080_super.t line 32.
Use of code point 0xD6000000 is deprecated; the permissible max is 0x7FFFFFFF at t/080_super.t line 28.
Use of code point 0xD6000000 is deprecated; the permissible max is 0x7FFFFFFF in subroutine entry at t/080_super.t line 32.
Use of code point 0xD6400000 is deprecated; the permissible max is 0x7FFFFFFF at t/080_super.t line 28.
Use of code point 0xD6400000 is deprecated; the permissible max is 0x7FFFFFFF in subroutine entry at t/080_super.t line 32.
Use of code point 0xD6800000 is deprecated; the permissible max is 0x7FFFFFFF at t/080_super.t line 28.
Use of code point 0xD6800000 is deprecated; the permissible max is 0x7FFFFFFF in subroutine entry at t/080_super.t line 32.
Use of code point 0xD6C00000 is deprecated; the permissible max is 0x7FFFFFFF at t/080_super.t line 28.
Use of code point 0xD6C00000 is deprecated; the permissible max is 0x7FFFFFFF in subroutine entry at t/080_super.t line 32.
Use of code point 0xD7000000 is deprecated; the permissible max is 0x7FFFFFFF at t/080_super.t line 28.
Use of code point 0xD7000000 is deprecated; the permissible max is 0x7FFFFFFF in subroutine entry at t/080_super.t line 32.
Use of code point 0xD7400000 is deprecated; the permissible max is 0x7FFFFFFF at t/080_super.t line 28.
Use of code point 0xD7400000 is deprecated; the permissible max is 0x7FFFFFFF in subroutine entry at t/080_super.t line 32.
Use of code point 0xD7800000 is deprecated; the permissible max is 0x7FFFFFFF at t/080_super.t line 28.
Use of code point 0xD7800000 is deprecated; the permissible max is 0x7FFFFFFF in subroutine entry at t/080_super.t line 32.
Use of code point 0xD7C00000 is deprecated; the permissible max is 0x7FFFFFFF at t/080_super.t line 28.
Use of code point 0xD7C00000 is deprecated; the permissible max is 0x7FFFFFFF in subroutine entry at t/080_super.t line 32.
Use of code point 0xD8000000 is deprecated; the permissible max is 0x7FFFFFFF at t/080_super.t line 28.
Use of code point 0xD8000000 is deprecated; the permissible max is 0x7FFFFFFF in subroutine entry at t/080_super.t line 32.
Use of code point 0xD8400000 is deprecated; the permissible max is 0x7FFFFFFF at t/080_super.t line 28.
Use of code point 0xD8400000 is deprecated; the permissible max is 0x7FFFFFFF in subroutine entry at t/080_super.t line 32.
Use of code point 0xD8800000 is deprecated; the permissible max is 0x7FFFFFFF at t/080_super.t line 28.
Use of code point 0xD8800000 is deprecated; the permissible max is 0x7FFFFFFF in subroutine entry at t/080_super.t line 32.
Use of code point 0xD8C00000 is deprecated; the permissible max is 0x7FFFFFFF at t/080_super.t line 28.
Use of code point 0xD8C00000 is deprecated; the permissible max is 0x7FFFFFFF in subroutine entry at t/080_super.t line 32.
Use of code point 0xD9000000 is deprecated; the permissible max is 0x7FFFFFFF at t/080_super.t line 28.
Use of code point 0xD9000000 is deprecated; the permissible max is 0x7FFFFFFF in subroutine entry at t/080_super.t line 32.
Use of code point 0xD9400000 is deprecated; the permissible max is 0x7FFFFFFF at t/080_super.t line 28.
Use of code point 0xD9400000 is deprecated; the permissible max is 0x7FFFFFFF in subroutine entry at t/080_super.t line 32.
Use of code point 0xD9800000 is deprecated; the permissible max is 0x7FFFFFFF at t/080_super.t line 28.
Use of code point 0xD9800000 is deprecated; the permissible max is 0x7FFFFFFF in subroutine entry at t/080_super.t line 32.
Use of code point 0xD9C00000 is deprecated; the permissible max is 0x7FFFFFFF at t/080_super.t line 28.
Use of code point 0xD9C00000 is deprecated; the permissible max is 0x7FFFFFFF in subroutine entry at t/080_super.t line 32.
Use of code point 0xDA000000 is deprecated; the permissible max is 0x7FFFFFFF at t/080_super.t line 28.
Use of code point 0xDA000000 is deprecated; the permissible max is 0x7FFFFFFF in subroutine entry at t/080_super.t line 32.
Use of code point 0xDA400000 is deprecated; the permissible max is 0x7FFFFFFF at t/080_super.t line 28.
Use of code point 0xDA400000 is deprecated; the permissible max is 0x7FFFFFFF in subroutine entry at t/080_super.t line 32.
Use of code point 0xDA800000 is deprecated; the permissible max is 0x7FFFFFFF at t/080_super.t line 28.
Use of code point 0xDA800000 is deprecated; the permissible max is 0x7FFFFFFF in subroutine entry at t/080_super.t line 32.
Use of code point 0xDAC00000 is deprecated; the permissible max is 0x7FFFFFFF at t/080_super.t line 28.
Use of code point 0xDAC00000 is deprecated; the permissible max is 0x7FFFFFFF in subroutine entry at t/080_super.t line 32.
Use of code point 0xDB000000 is deprecated; the permissible max is 0x7FFFFFFF at t/080_super.t line 28.
Use of code point 0xDB000000 is deprecated; the permissible max is 0x7FFFFFFF in subroutine entry at t/080_super.t line 32.
Use of code point 0xDB400000 is deprecated; the permissible max is 0x7FFFFFFF at t/080_super.t line 28.
Use of code point 0xDB400000 is deprecated; the permissible max is 0x7FFFFFFF in subroutine entry at t/080_super.t line 32.
Use of code point 0xDB800000 is deprecated; the permissible max is 0x7FFFFFFF at t/080_super.t line 28.
Use of code point 0xDB800000 is deprecated; the permissible max is 0x7FFFFFFF in subroutine entry at t/080_super.t line 32.
Use of code point 0xDBC00000 is deprecated; the permissible max is 0x7FFFFFFF at t/080_super.t line 28.
Use of code point 0xDBC00000 is deprecated; the permissible max is 0x7FFFFFFF in subroutine entry at t/080_super.t line 32.
Use of code point 0xDC000000 is deprecated; the permissible max is 0x7FFFFFFF at t/080_super.t line 28.
Use of code point 0xDC000000 is deprecated; the permissible max is 0x7FFFFFFF in subroutine entry at t/080_super.t line 32.
Use of code point 0xDC400000 is deprecated; the permissible max is 0x7FFFFFFF at t/080_super.t line 28.
Use of code point 0xDC400000 is deprecated; the permissible max is 0x7FFFFFFF in subroutine entry at t/080_super.t line 32.
Use of code point 0xDC800000 is deprecated; the permissible max is 0x7FFFFFFF at t/080_super.t line 28.
Use of code point 0xDC800000 is deprecated; the permissible max is 0x7FFFFFFF in subroutine entry at t/080_super.t line 32.
Use of code point 0xDCC00000 is deprecated; the permissible max is 0x7FFFFFFF at t/080_super.t line 28.
Use of code point 0xDCC00000 is deprecated; the permissible max is 0x7FFFFFFF in subroutine entry at t/080_super.t line 32.
Use of code point 0xDD000000 is deprecated; the permissible max is 0x7FFFFFFF at t/080_super.t line 28.
Use of code point 0xDD000000 is deprecated; the permissible max is 0x7FFFFFFF in subroutine entry at t/080_super.t line 32.
Use of code point 0xDD400000 is deprecated; the permissible max is 0x7FFFFFFF at t/080_super.t line 28.
Use of code point 0xDD400000 is deprecated; the permissible max is 0x7FFFFFFF in subroutine entry at t/080_super.t line 32.
Use of code point 0xDD800000 is deprecated; the permissible max is 0x7FFFFFFF at t/080_super.t line 28.
Use of code point 0xDD800000 is deprecated; the permissible max is 0x7FFFFFFF in subroutine entry at t/080_super.t line 32.
Use of code point 0xDDC00000 is deprecated; the permissible max is 0x7FFFFFFF at t/080_super.t line 28.
Use of code point 0xDDC00000 is deprecated; the permissible max is 0x7FFFFFFF in subroutine entry at t/080_super.t line 32.
Use of code point 0xDE000000 is deprecated; the permissible max is 0x7FFFFFFF at t/080_super.t line 28.
Use of code point 0xDE000000 is deprecated; the permissible max is 0x7FFFFFFF in subroutine entry at t/080_super.t line 32.
Use of code point 0xDE400000 is deprecated; the permissible max is 0x7FFFFFFF at t/080_super.t line 28.
Use of code point 0xDE400000 is deprecated; the permissible max is 0x7FFFFFFF in subroutine entry at t/080_super.t line 32.
Use of code point 0xDE800000 is deprecated; the permissible max is 0x7FFFFFFF at t/080_super.t line 28.
Use of code point 0xDE800000 is deprecated; the permissible max is 0x7FFFFFFF in subroutine entry at t/080_super.t line 32.
Use of code point 0xDEC00000 is deprecated; the permissible max is 0x7FFFFFFF at t/080_super.t line 28.
Use of code point 0xDEC00000 is deprecated; the permissible max is 0x7FFFFFFF in subroutine entry at t/080_super.t line 32.
Use of code point 0xDF000000 is deprecated; the permissible max is 0x7FFFFFFF at t/080_super.t line 28.
Use of code point 0xDF000000 is deprecated; the permissible max is 0x7FFFFFFF in subroutine entry at t/080_super.t line 32.
Use of code point 0xDF400000 is deprecated; the permissible max is 0x7FFFFFFF at t/080_super.t line 28.
Use of code point 0xDF400000 is deprecated; the permissible max is 0x7FFFFFFF in subroutine entry at t/080_super.t line 32.
Use of code point 0xDF800000 is deprecated; the permissible max is 0x7FFFFFFF at t/080_super.t line 28.
Use of code point 0xDF800000 is deprecated; the permissible max is 0x7FFFFFFF in subroutine entry at t/080_super.t line 32.
Use of code point 0xDFC00000 is deprecated; the permissible max is 0x7FFFFFFF at t/080_super.t line 28.
Use of code point 0xDFC00000 is deprecated; the permissible max is 0x7FFFFFFF in subroutine entry at t/080_super.t line 32.
Use of code point 0xE0000000 is deprecated; the permissible max is 0x7FFFFFFF at t/080_super.t line 28.
Use of code point 0xE0000000 is deprecated; the permissible max is 0x7FFFFFFF in subroutine entry at t/080_super.t line 32.
Use of code point 0xE0400000 is deprecated; the permissible max is 0x7FFFFFFF at t/080_super.t line 28.
Use of code point 0xE0400000 is deprecated; the permissible max is 0x7FFFFFFF in subroutine entry at t/080_super.t line 32.
Use of code point 0xE0800000 is deprecated; the permissible max is 0x7FFFFFFF at t/080_super.t line 28.
Use of code point 0xE0800000 is deprecated; the permissible max is 0x7FFFFFFF in subroutine entry at t/080_super.t line 32.
Use of code point 0xE0C00000 is deprecated; the permissible max is 0x7FFFFFFF at t/080_super.t line 28.
Use of code point 0xE0C00000 is deprecated; the permissible max is 0x7FFFFFFF in subroutine entry at t/080_super.t line 32.
Use of code point 0xE1000000 is deprecated; the permissible max is 0x7FFFFFFF at t/080_super.t line 28.
Use of code point 0xE1000000 is deprecated; the permissible max is 0x7FFFFFFF in subroutine entry at t/080_super.t line 32.
Use of code point 0xE1400000 is deprecated; the permissible max is 0x7FFFFFFF at t/080_super.t line 28.
Use of code point 0xE1400000 is deprecated; the permissible max is 0x7FFFFFFF in subroutine entry at t/080_super.t line 32.
Use of code point 0xE1800000 is deprecated; the permissible max is 0x7FFFFFFF at t/080_super.t line 28.
Use of code point 0xE1800000 is deprecated; the permissible max is 0x7FFFFFFF in subroutine entry at t/080_super.t line 32.
Use of code point 0xE1C00000 is deprecated; the permissible max is 0x7FFFFFFF at t/080_super.t line 28.
Use of code point 0xE1C00000 is deprecated; the permissible max is 0x7FFFFFFF in subroutine entry at t/080_super.t line 32.
Use of code point 0xE2000000 is deprecated; the permissible max is 0x7FFFFFFF at t/080_super.t line 28.
Use of code point 0xE2000000 is deprecated; the permissible max is 0x7FFFFFFF in subroutine entry at t/080_super.t line 32.
Use of code point 0xE2400000 is deprecated; the permissible max is 0x7FFFFFFF at t/080_super.t line 28.
Use of code point 0xE2400000 is deprecated; the permissible max is 0x7FFFFFFF in subroutine entry at t/080_super.t line 32.
Use of code point 0xE2800000 is deprecated; the permissible max is 0x7FFFFFFF at t/080_super.t line 28.
Use of code point 0xE2800000 is deprecated; the permissible max is 0x7FFFFFFF in subroutine entry at t/080_super.t line 32.
Use of code point 0xE2C00000 is deprecated; the permissible max is 0x7FFFFFFF at t/080_super.t line 28.
Use of code point 0xE2C00000 is deprecated; the permissible max is 0x7FFFFFFF in subroutine entry at t/080_super.t line 32.
Use of code point 0xE3000000 is deprecated; the permissible max is 0x7FFFFFFF at t/080_super.t line 28.
Use of code point 0xE3000000 is deprecated; the permissible max is 0x7FFFFFFF in subroutine entry at t/080_super.t line 32.
Use of code point 0xE3400000 is deprecated; the permissible max is 0x7FFFFFFF at t/080_super.t line 28.
Use of code point 0xE3400000 is deprecated; the permissible max is 0x7FFFFFFF in subroutine entry at t/080_super.t line 32.
Use of code point 0xE3800000 is deprecated; the permissible max is 0x7FFFFFFF at t/080_super.t line 28.
Use of code point 0xE3800000 is deprecated; the permissible max is 0x7FFFFFFF in subroutine entry at t/080_super.t line 32.
Use of code point 0xE3C00000 is deprecated; the permissible max is 0x7FFFFFFF at t/080_super.t line 28.
Use of code point 0xE3C00000 is deprecated; the permissible max is 0x7FFFFFFF in subroutine entry at t/080_super.t line 32.
Use of code point 0xE4000000 is deprecated; the permissible max is 0x7FFFFFFF at t/080_super.t line 28.
Use of code point 0xE4000000 is deprecated; the permissible max is 0x7FFFFFFF in subroutine entry at t/080_super.t line 32.
Use of code point 0xE4400000 is deprecated; the permissible max is 0x7FFFFFFF at t/080_super.t line 28.
Use of code point 0xE4400000 is deprecated; the permissible max is 0x7FFFFFFF in subroutine entry at t/080_super.t line 32.
Use of code point 0xE4800000 is deprecated; the permissible max is 0x7FFFFFFF at t/080_super.t line 28.
Use of code point 0xE4800000 is deprecated; the permissible max is 0x7FFFFFFF in subroutine entry at t/080_super.t line 32.
Use of code point 0xE4C00000 is deprecated; the permissible max is 0x7FFFFFFF at t/080_super.t line 28.
Use of code point 0xE4C00000 is deprecated; the permissible max is 0x7FFFFFFF in subroutine entry at t/080_super.t line 32.
Use of code point 0xE5000000 is deprecated; the permissible max is 0x7FFFFFFF at t/080_super.t line 28.
Use of code point 0xE5000000 is deprecated; the permissible max is 0x7FFFFFFF in subroutine entry at t/080_super.t line 32.
Use of code point 0xE5400000 is deprecated; the permissible max is 0x7FFFFFFF at t/080_super.t line 28.
Use of code point 0xE5400000 is deprecated; the permissible max is 0x7FFFFFFF in subroutine entry at t/080_super.t line 32.
Use of code point 0xE5800000 is deprecated; the permissible max is 0x7FFFFFFF at t/080_super.t line 28.
Use of code point 0xE5800000 is deprecated; the permissible max is 0x7FFFFFFF in subroutine entry at t/080_super.t line 32.
Use of code point 0xE5C00000 is deprecated; the permissible max is 0x7FFFFFFF at t/080_super.t line 28.
Use of code point 0xE5C00000 is deprecated; the permissible max is 0x7FFFFFFF in subroutine entry at t/080_super.t line 32.
Use of code point 0xE6000000 is deprecated; the permissible max is 0x7FFFFFFF at t/080_super.t line 28.
Use of code point 0xE6000000 is deprecated; the permissible max is 0x7FFFFFFF in subroutine entry at t/080_super.t line 32.
Use of code point 0xE6400000 is deprecated; the permissible max is 0x7FFFFFFF at t/080_super.t line 28.
Use of code point 0xE6400000 is deprecated; the permissible max is 0x7FFFFFFF in subroutine entry at t/080_super.t line 32.
Use of code point 0xE6800000 is deprecated; the permissible max is 0x7FFFFFFF at t/080_super.t line 28.
Use of code point 0xE6800000 is deprecated; the permissible max is 0x7FFFFFFF in subroutine entry at t/080_super.t line 32.
Use of code point 0xE6C00000 is deprecated; the permissible max is 0x7FFFFFFF at t/080_super.t line 28.
Use of code point 0xE6C00000 is deprecated; the permissible max is 0x7FFFFFFF in subroutine entry at t/080_super.t line 32.
Use of code point 0xE7000000 is deprecated; the permissible max is 0x7FFFFFFF at t/080_super.t line 28.
Use of code point 0xE7000000 is deprecated; the permissible max is 0x7FFFFFFF in subroutine entry at t/080_super.t line 32.
Use of code point 0xE7400000 is deprecated; the permissible max is 0x7FFFFFFF at t/080_super.t line 28.
Use of code point 0xE7400000 is deprecated; the permissible max is 0x7FFFFFFF in subroutine entry at t/080_super.t line 32.
Use of code point 0xE7800000 is deprecated; the permissible max is 0x7FFFFFFF at t/080_super.t line 28.
Use of code point 0xE7800000 is deprecated; the permissible max is 0x7FFFFFFF in subroutine entry at t/080_super.t line 32.
Use of code point 0xE7C00000 is deprecated; the permissible max is 0x7FFFFFFF at t/080_super.t line 28.
Use of code point 0xE7C00000 is deprecated; the permissible max is 0x7FFFFFFF in subroutine entry at t/080_super.t line 32.
Use of code point 0xE8000000 is deprecated; the permissible max is 0x7FFFFFFF at t/080_super.t line 28.
Use of code point 0xE8000000 is deprecated; the permissible max is 0x7FFFFFFF in subroutine entry at t/080_super.t line 32.
Use of code point 0xE8400000 is deprecated; the permissible max is 0x7FFFFFFF at t/080_super.t line 28.
Use of code point 0xE8400000 is deprecated; the permissible max is 0x7FFFFFFF in subroutine entry at t/080_super.t line 32.
Use of code point 0xE8800000 is deprecated; the permissible max is 0x7FFFFFFF at t/080_super.t line 28.
Use of code point 0xE8800000 is deprecated; the permissible max is 0x7FFFFFFF in subroutine entry at t/080_super.t line 32.
Use of code point 0xE8C00000 is deprecated; the permissible max is 0x7FFFFFFF at t/080_super.t line 28.
Use of code point 0xE8C00000 is deprecated; the permissible max is 0x7FFFFFFF in subroutine entry at t/080_super.t line 32.
Use of code point 0xE9000000 is deprecated; the permissible max is 0x7FFFFFFF at t/080_super.t line 28.
Use of code point 0xE9000000 is deprecated; the permissible max is 0x7FFFFFFF in subroutine entry at t/080_super.t line 32.
Use of code point 0xE9400000 is deprecated; the permissible max is 0x7FFFFFFF at t/080_super.t line 28.
Use of code point 0xE9400000 is deprecated; the permissible max is 0x7FFFFFFF in subroutine entry at t/080_super.t line 32.
Use of code point 0xE9800000 is deprecated; the permissible max is 0x7FFFFFFF at t/080_super.t line 28.
Use of code point 0xE9800000 is deprecated; the permissible max is 0x7FFFFFFF in subroutine entry at t/080_super.t line 32.
Use of code point 0xE9C00000 is deprecated; the permissible max is 0x7FFFFFFF at t/080_super.t line 28.
Use of code point 0xE9C00000 is deprecated; the permissible max is 0x7FFFFFFF in subroutine entry at t/080_super.t line 32.
Use of code point 0xEA000000 is deprecated; the permissible max is 0x7FFFFFFF at t/080_super.t line 28.
Use of code point 0xEA000000 is deprecated; the permissible max is 0x7FFFFFFF in subroutine entry at t/080_super.t line 32.
Use of code point 0xEA400000 is deprecated; the permissible max is 0x7FFFFFFF at t/080_super.t line 28.
Use of code point 0xEA400000 is deprecated; the permissible max is 0x7FFFFFFF in subroutine entry at t/080_super.t line 32.
Use of code point 0xEA800000 is deprecated; the permissible max is 0x7FFFFFFF at t/080_super.t line 28.
Use of code point 0xEA800000 is deprecated; the permissible max is 0x7FFFFFFF in subroutine entry at t/080_super.t line 32.
Use of code point 0xEAC00000 is deprecated; the permissible max is 0x7FFFFFFF at t/080_super.t line 28.
Use of code point 0xEAC00000 is deprecated; the permissible max is 0x7FFFFFFF in subroutine entry at t/080_super.t line 32.
Use of code point 0xEB000000 is deprecated; the permissible max is 0x7FFFFFFF at t/080_super.t line 28.
Use of code point 0xEB000000 is deprecated; the permissible max is 0x7FFFFFFF in subroutine entry at t/080_super.t line 32.
Use of code point 0xEB400000 is deprecated; the permissible max is 0x7FFFFFFF at t/080_super.t line 28.
Use of code point 0xEB400000 is deprecated; the permissible max is 0x7FFFFFFF in subroutine entry at t/080_super.t line 32.
Use of code point 0xEB800000 is deprecated; the permissible max is 0x7FFFFFFF at t/080_super.t line 28.
Use of code point 0xEB800000 is deprecated; the permissible max is 0x7FFFFFFF in subroutine entry at t/080_super.t line 32.
Use of code point 0xEBC00000 is deprecated; the permissible max is 0x7FFFFFFF at t/080_super.t line 28.
Use of code point 0xEBC00000 is deprecated; the permissible max is 0x7FFFFFFF in subroutine entry at t/080_super.t line 32.
Use of code point 0xEC000000 is deprecated; the permissible max is 0x7FFFFFFF at t/080_super.t line 28.
Use of code point 0xEC000000 is deprecated; the permissible max is 0x7FFFFFFF in subroutine entry at t/080_super.t line 32.
Use of code point 0xEC400000 is deprecated; the permissible max is 0x7FFFFFFF at t/080_super.t line 28.
Use of code point 0xEC400000 is deprecated; the permissible max is 0x7FFFFFFF in subroutine entry at t/080_super.t line 32.
Use of code point 0xEC800000 is deprecated; the permissible max is 0x7FFFFFFF at t/080_super.t line 28.
Use of code point 0xEC800000 is deprecated; the permissible max is 0x7FFFFFFF in subroutine entry at t/080_super.t line 32.
Use of code point 0xECC00000 is deprecated; the permissible max is 0x7FFFFFFF at t/080_super.t line 28.
Use of code point 0xECC00000 is deprecated; the permissible max is 0x7FFFFFFF in subroutine entry at t/080_super.t line 32.
Use of code point 0xED000000 is deprecated; the permissible max is 0x7FFFFFFF at t/080_super.t line 28.
Use of code point 0xED000000 is deprecated; the permissible max is 0x7FFFFFFF in subroutine entry at t/080_super.t line 32.
Use of code point 0xED400000 is deprecated; the permissible max is 0x7FFFFFFF at t/080_super.t line 28.
Use of code point 0xED400000 is deprecated; the permissible max is 0x7FFFFFFF in subroutine entry at t/080_super.t line 32.
Use of code point 0xED800000 is deprecated; the permissible max is 0x7FFFFFFF at t/080_super.t line 28.
Use of code point 0xED800000 is deprecated; the permissible max is 0x7FFFFFFF in subroutine entry at t/080_super.t line 32.
Use of code point 0xEDC00000 is deprecated; the permissible max is 0x7FFFFFFF at t/080_super.t line 28.
Use of code point 0xEDC00000 is deprecated; the permissible max is 0x7FFFFFFF in subroutine entry at t/080_super.t line 32.
Use of code point 0xEE000000 is deprecated; the permissible max is 0x7FFFFFFF at t/080_super.t line 28.
Use of code point 0xEE000000 is deprecated; the permissible max is 0x7FFFFFFF in subroutine entry at t/080_super.t line 32.
Use of code point 0xEE400000 is deprecated; the permissible max is 0x7FFFFFFF at t/080_super.t line 28.
Use of code point 0xEE400000 is deprecated; the permissible max is 0x7FFFFFFF in subroutine entry at t/080_super.t line 32.
Use of code point 0xEE800000 is deprecated; the permissible max is 0x7FFFFFFF at t/080_super.t line 28.
Use of code point 0xEE800000 is deprecated; the permissible max is 0x7FFFFFFF in subroutine entry at t/080_super.t line 32.
Use of code point 0xEEC00000 is deprecated; the permissible max is 0x7FFFFFFF at t/080_super.t line 28.
Use of code point 0xEEC00000 is deprecated; the permissible max is 0x7FFFFFFF in subroutine entry at t/080_super.t line 32.
Use of code point 0xEF000000 is deprecated; the permissible max is 0x7FFFFFFF at t/080_super.t line 28.
Use of code point 0xEF000000 is deprecated; the permissible max is 0x7FFFFFFF in subroutine entry at t/080_super.t line 32.
Use of code point 0xEF400000 is deprecated; the permissible max is 0x7FFFFFFF at t/080_super.t line 28.
Use of code point 0xEF400000 is deprecated; the permissible max is 0x7FFFFFFF in subroutine entry at t/080_super.t line 32.
Use of code point 0xEF800000 is deprecated; the permissible max is 0x7FFFFFFF at t/080_super.t line 28.
Use of code point 0xEF800000 is deprecated; the permissible max is 0x7FFFFFFF in subroutine entry at t/080_super.t line 32.
Use of code point 0xEFC00000 is deprecated; the permissible max is 0x7FFFFFFF at t/080_super.t line 28.
Use of code point 0xEFC00000 is deprecated; the permissible max is 0x7FFFFFFF in subroutine entry at t/080_super.t line 32.
Use of code point 0xF0000000 is deprecated; the permissible max is 0x7FFFFFFF at t/080_super.t line 28.
Use of code point 0xF0000000 is deprecated; the permissible max is 0x7FFFFFFF in subroutine entry at t/080_super.t line 32.
Use of code point 0xF0400000 is deprecated; the permissible max is 0x7FFFFFFF at t/080_super.t line 28.
Use of code point 0xF0400000 is deprecated; the permissible max is 0x7FFFFFFF in subroutine entry at t/080_super.t line 32.
Use of code point 0xF0800000 is deprecated; the permissible max is 0x7FFFFFFF at t/080_super.t line 28.
Use of code point 0xF0800000 is deprecated; the permissible max is 0x7FFFFFFF in subroutine entry at t/080_super.t line 32.
Use of code point 0xF0C00000 is deprecated; the permissible max is 0x7FFFFFFF at t/080_super.t line 28.
Use of code point 0xF0C00000 is deprecated; the permissible max is 0x7FFFFFFF in subroutine entry at t/080_super.t line 32.
Use of code point 0xF1000000 is deprecated; the permissible max is 0x7FFFFFFF at t/080_super.t line 28.
Use of code point 0xF1000000 is deprecated; the permissible max is 0x7FFFFFFF in subroutine entry at t/080_super.t line 32.
Use of code point 0xF1400000 is deprecated; the permissible max is 0x7FFFFFFF at t/080_super.t line 28.
Use of code point 0xF1400000 is deprecated; the permissible max is 0x7FFFFFFF in subroutine entry at t/080_super.t line 32.
Use of code point 0xF1800000 is deprecated; the permissible max is 0x7FFFFFFF at t/080_super.t line 28.
Use of code point 0xF1800000 is deprecated; the permissible max is 0x7FFFFFFF in subroutine entry at t/080_super.t line 32.
Use of code point 0xF1C00000 is deprecated; the permissible max is 0x7FFFFFFF at t/080_super.t line 28.
Use of code point 0xF1C00000 is deprecated; the permissible max is 0x7FFFFFFF in subroutine entry at t/080_super.t line 32.
Use of code point 0xF2000000 is deprecated; the permissible max is 0x7FFFFFFF at t/080_super.t line 28.
Use of code point 0xF2000000 is deprecated; the permissible max is 0x7FFFFFFF in subroutine entry at t/080_super.t line 32.
Use of code point 0xF2400000 is deprecated; the permissible max is 0x7FFFFFFF at t/080_super.t line 28.
Use of code point 0xF2400000 is deprecated; the permissible max is 0x7FFFFFFF in subroutine entry at t/080_super.t line 32.
Use of code point 0xF2800000 is deprecated; the permissible max is 0x7FFFFFFF at t/080_super.t line 28.
Use of code point 0xF2800000 is deprecated; the permissible max is 0x7FFFFFFF in subroutine entry at t/080_super.t line 32.
Use of code point 0xF2C00000 is deprecated; the permissible max is 0x7FFFFFFF at t/080_super.t line 28.
Use of code point 0xF2C00000 is deprecated; the permissible max is 0x7FFFFFFF in subroutine entry at t/080_super.t line 32.
Use of code point 0xF3000000 is deprecated; the permissible max is 0x7FFFFFFF at t/080_super.t line 28.
Use of code point 0xF3000000 is deprecated; the permissible max is 0x7FFFFFFF in subroutine entry at t/080_super.t line 32.
Use of code point 0xF3400000 is deprecated; the permissible max is 0x7FFFFFFF at t/080_super.t line 28.
Use of code point 0xF3400000 is deprecated; the permissible max is 0x7FFFFFFF in subroutine entry at t/080_super.t line 32.
Use of code point 0xF3800000 is deprecated; the permissible max is 0x7FFFFFFF at t/080_super.t line 28.
Use of code point 0xF3800000 is deprecated; the permissible max is 0x7FFFFFFF in subroutine entry at t/080_super.t line 32.
Use of code point 0xF3C00000 is deprecated; the permissible max is 0x7FFFFFFF at t/080_super.t line 28.
Use of code point 0xF3C00000 is deprecated; the permissible max is 0x7FFFFFFF in subroutine entry at t/080_super.t line 32.
Use of code point 0xF4000000 is deprecated; the permissible max is 0x7FFFFFFF at t/080_super.t line 28.
Use of code point 0xF4000000 is deprecated; the permissible max is 0x7FFFFFFF in subroutine entry at t/080_super.t line 32.
Use of code point 0xF4400000 is deprecated; the permissible max is 0x7FFFFFFF at t/080_super.t line 28.
Use of code point 0xF4400000 is deprecated; the permissible max is 0x7FFFFFFF in subroutine entry at t/080_super.t line 32.
Use of code point 0xF4800000 is deprecated; the permissible max is 0x7FFFFFFF at t/080_super.t line 28.
Use of code point 0xF4800000 is deprecated; the permissible max is 0x7FFFFFFF in subroutine entry at t/080_super.t line 32.
Use of code point 0xF4C00000 is deprecated; the permissible max is 0x7FFFFFFF at t/080_super.t line 28.
Use of code point 0xF4C00000 is deprecated; the permissible max is 0x7FFFFFFF in subroutine entry at t/080_super.t line 32.
Use of code point 0xF5000000 is deprecated; the permissible max is 0x7FFFFFFF at t/080_super.t line 28.
Use of code point 0xF5000000 is deprecated; the permissible max is 0x7FFFFFFF in subroutine entry at t/080_super.t line 32.
Use of code point 0xF5400000 is deprecated; the permissible max is 0x7FFFFFFF at t/080_super.t line 28.
Use of code point 0xF5400000 is deprecated; the permissible max is 0x7FFFFFFF in subroutine entry at t/080_super.t line 32.
Use of code point 0xF5800000 is deprecated; the permissible max is 0x7FFFFFFF at t/080_super.t line 28.
Use of code point 0xF5800000 is deprecated; the permissible max is 0x7FFFFFFF in subroutine entry at t/080_super.t line 32.
Use of code point 0xF5C00000 is deprecated; the permissible max is 0x7FFFFFFF at t/080_super.t line 28.
Use of code point 0xF5C00000 is deprecated; the permissible max is 0x7FFFFFFF in subroutine entry at t/080_super.t line 32.
Use of code point 0xF6000000 is deprecated; the permissible max is 0x7FFFFFFF at t/080_super.t line 28.
Use of code point 0xF6000000 is deprecated; the permissible max is 0x7FFFFFFF in subroutine entry at t/080_super.t line 32.
Use of code point 0xF6400000 is deprecated; the permissible max is 0x7FFFFFFF at t/080_super.t line 28.
Use of code point 0xF6400000 is deprecated; the permissible max is 0x7FFFFFFF in subroutine entry at t/080_super.t line 32.
Use of code point 0xF6800000 is deprecated; the permissible max is 0x7FFFFFFF at t/080_super.t line 28.
Use of code point 0xF6800000 is deprecated; the permissible max is 0x7FFFFFFF in subroutine entry at t/080_super.t line 32.
Use of code point 0xF6C00000 is deprecated; the permissible max is 0x7FFFFFFF at t/080_super.t line 28.
Use of code point 0xF6C00000 is deprecated; the permissible max is 0x7FFFFFFF in subroutine entry at t/080_super.t line 32.
Use of code point 0xF7000000 is deprecated; the permissible max is 0x7FFFFFFF at t/080_super.t line 28.
Use of code point 0xF7000000 is deprecated; the permissible max is 0x7FFFFFFF in subroutine entry at t/080_super.t line 32.
Use of code point 0xF7400000 is deprecated; the permissible max is 0x7FFFFFFF at t/080_super.t line 28.
Use of code point 0xF7400000 is deprecated; the permissible max is 0x7FFFFFFF in subroutine entry at t/080_super.t line 32.
Use of code point 0xF7800000 is deprecated; the permissible max is 0x7FFFFFFF at t/080_super.t line 28.
Use of code point 0xF7800000 is deprecated; the permissible max is 0x7FFFFFFF in subroutine entry at t/080_super.t line 32.
Use of code point 0xF7C00000 is deprecated; the permissible max is 0x7FFFFFFF at t/080_super.t line 28.
Use of code point 0xF7C00000 is deprecated; the permissible max is 0x7FFFFFFF in subroutine entry at t/080_super.t line 32.
Use of code point 0xF8000000 is deprecated; the permissible max is 0x7FFFFFFF at t/080_super.t line 28.
Use of code point 0xF8000000 is deprecated; the permissible max is 0x7FFFFFFF in subroutine entry at t/080_super.t line 32.
Use of code point 0xF8400000 is deprecated; the permissible max is 0x7FFFFFFF at t/080_super.t line 28.
Use of code point 0xF8400000 is deprecated; the permissible max is 0x7FFFFFFF in subroutine entry at t/080_super.t line 32.
Use of code point 0xF8800000 is deprecated; the permissible max is 0x7FFFFFFF at t/080_super.t line 28.
Use of code point 0xF8800000 is deprecated; the permissible max is 0x7FFFFFFF in subroutine entry at t/080_super.t line 32.
Use of code point 0xF8C00000 is deprecated; the permissible max is 0x7FFFFFFF at t/080_super.t line 28.
Use of code point 0xF8C00000 is deprecated; the permissible max is 0x7FFFFFFF in subroutine entry at t/080_super.t line 32.
Use of code point 0xF9000000 is deprecated; the permissible max is 0x7FFFFFFF at t/080_super.t line 28.
Use of code point 0xF9000000 is deprecated; the permissible max is 0x7FFFFFFF in subroutine entry at t/080_super.t line 32.
Use of code point 0xF9400000 is deprecated; the permissible max is 0x7FFFFFFF at t/080_super.t line 28.
Use of code point 0xF9400000 is deprecated; the permissible max is 0x7FFFFFFF in subroutine entry at t/080_super.t line 32.
Use of code point 0xF9800000 is deprecated; the permissible max is 0x7FFFFFFF at t/080_super.t line 28.
Use of code point 0xF9800000 is deprecated; the permissible max is 0x7FFFFFFF in subroutine entry at t/080_super.t line 32.
Use of code point 0xF9C00000 is deprecated; the permissible max is 0x7FFFFFFF at t/080_super.t line 28.
Use of code point 0xF9C00000 is deprecated; the permissible max is 0x7FFFFFFF in subroutine entry at t/080_super.t line 32.
Use of code point 0xFA000000 is deprecated; the permissible max is 0x7FFFFFFF at t/080_super.t line 28.
Use of code point 0xFA000000 is deprecated; the permissible max is 0x7FFFFFFF in subroutine entry at t/080_super.t line 32.
Use of code point 0xFA400000 is deprecated; the permissible max is 0x7FFFFFFF at t/080_super.t line 28.
Use of code point 0xFA400000 is deprecated; the permissible max is 0x7FFFFFFF in subroutine entry at t/080_super.t line 32.
Use of code point 0xFA800000 is deprecated; the permissible max is 0x7FFFFFFF at t/080_super.t line 28.
Use of code point 0xFA800000 is deprecated; the permissible max is 0x7FFFFFFF in subroutine entry at t/080_super.t line 32.
Use of code point 0xFAC00000 is deprecated; the permissible max is 0x7FFFFFFF at t/080_super.t line 28.
Use of code point 0xFAC00000 is deprecated; the permissible max is 0x7FFFFFFF in subroutine entry at t/080_super.t line 32.
Use of code point 0xFB000000 is deprecated; the permissible max is 0x7FFFFFFF at t/080_super.t line 28.
Use of code point 0xFB000000 is deprecated; the permissible max is 0x7FFFFFFF in subroutine entry at t/080_super.t line 32.
Use of code point 0xFB400000 is deprecated; the permissible max is 0x7FFFFFFF at t/080_super.t line 28.
Use of code point 0xFB400000 is deprecated; the permissible max is 0x7FFFFFFF in subroutine entry at t/080_super.t line 32.
Use of code point 0xFB800000 is deprecated; the permissible max is 0x7FFFFFFF at t/080_super.t line 28.
Use of code point 0xFB800000 is deprecated; the permissible max is 0x7FFFFFFF in subroutine entry at t/080_super.t line 32.
Use of code point 0xFBC00000 is deprecated; the permissible max is 0x7FFFFFFF at t/080_super.t line 28.
Use of code point 0xFBC00000 is deprecated; the permissible max is 0x7FFFFFFF in subroutine entry at t/080_super.t line 32.
Use of code point 0xFC000000 is deprecated; the permissible max is 0x7FFFFFFF at t/080_super.t line 28.
Use of code point 0xFC000000 is deprecated; the permissible max is 0x7FFFFFFF in subroutine entry at t/080_super.t line 32.
Use of code point 0xFC400000 is deprecated; the permissible max is 0x7FFFFFFF at t/080_super.t line 28.
Use of code point 0xFC400000 is deprecated; the permissible max is 0x7FFFFFFF in subroutine entry at t/080_super.t line 32.
Use of code point 0xFC800000 is deprecated; the permissible max is 0x7FFFFFFF at t/080_super.t line 28.
Use of code point 0xFC800000 is deprecated; the permissible max is 0x7FFFFFFF in subroutine entry at t/080_super.t line 32.
Use of code point 0xFCC00000 is deprecated; the permissible max is 0x7FFFFFFF at t/080_super.t line 28.
Use of code point 0xFCC00000 is deprecated; the permissible max is 0x7FFFFFFF in subroutine entry at t/080_super.t line 32.
Use of code point 0xFD000000 is deprecated; the permissible max is 0x7FFFFFFF at t/080_super.t line 28.
Use of code point 0xFD000000 is deprecated; the permissible max is 0x7FFFFFFF in subroutine entry at t/080_super.t line 32.
Use of code point 0xFD400000 is deprecated; the permissible max is 0x7FFFFFFF at t/080_super.t line 28.
Use of code point 0xFD400000 is deprecated; the permissible max is 0x7FFFFFFF in subroutine entry at t/080_super.t line 32.
Use of code point 0xFD800000 is deprecated; the permissible max is 0x7FFFFFFF at t/080_super.t line 28.
Use of code point 0xFD800000 is deprecated; the permissible max is 0x7FFFFFFF in subroutine entry at t/080_super.t line 32.
Use of code point 0xFDC00000 is deprecated; the permissible max is 0x7FFFFFFF at t/080_super.t line 28.
Use of code point 0xFDC00000 is deprecated; the permissible max is 0x7FFFFFFF in subroutine entry at t/080_super.t line 32.
Use of code point 0xFE000000 is deprecated; the permissible max is 0x7FFFFFFF at t/080_super.t line 28.
Use of code point 0xFE000000 is deprecated; the permissible max is 0x7FFFFFFF in subroutine entry at t/080_super.t line 32.
Use of code point 0xFE400000 is deprecated; the permissible max is 0x7FFFFFFF at t/080_super.t line 28.
Use of code point 0xFE400000 is deprecated; the permissible max is 0x7FFFFFFF in subroutine entry at t/080_super.t line 32.
Use of code point 0xFE800000 is deprecated; the permissible max is 0x7FFFFFFF at t/080_super.t line 28.
Use of code point 0xFE800000 is deprecated; the permissible max is 0x7FFFFFFF in subroutine entry at t/080_super.t line 32.
Use of code point 0xFEC00000 is deprecated; the permissible max is 0x7FFFFFFF at t/080_super.t line 28.
Use of code point 0xFEC00000 is deprecated; the permissible max is 0x7FFFFFFF in subroutine entry at t/080_super.t line 32.
Use of code point 0xFF000000 is deprecated; the permissible max is 0x7FFFFFFF at t/080_super.t line 28.
Use of code point 0xFF000000 is deprecated; the permissible max is 0x7FFFFFFF in subroutine entry at t/080_super.t line 32.
Use of code point 0xFF400000 is deprecated; the permissible max is 0x7FFFFFFF at t/080_super.t line 28.
Use of code point 0xFF400000 is deprecated; the permissible max is 0x7FFFFFFF in subroutine entry at t/080_super.t line 32.
Use of code point 0xFF800000 is deprecated; the permissible max is 0x7FFFFFFF at t/080_super.t line 28.
Use of code point 0xFF800000 is deprecated; the permissible max is 0x7FFFFFFF in subroutine entry at t/080_super.t line 32.
Use of code point 0xFFC00000 is deprecated; the permissible max is 0x7FFFFFFF at t/080_super.t line 28.
Use of code point 0xFFC00000 is deprecated; the permissible max is 0x7FFFFFFF in subroutine entry at t/080_super.t line 32.
t/080_super.t .............. ok
t/090_non_shortest_form.t .. ok
t/100_incomplete.t ......... ok
t/120_fallback.t ........... ok
t/150_subwarnings.t ........ ok
t/170_steal.t .............. ok
t/200_leaks.t .............. skipped: Test::LeakTrace 0.10 is required for this test
t/210_tainted.t ............ skipped: Taint::Runtime 0.03 is required for this test
t/220_magic.t .............. skipped: Variable::Magic is required for this test
t/999_pod.t ................ skipped: Test::Pod 1.00 required for this test
All tests successful.
Files=17, Tests=12018, 3 wallclock secs ( 0.84 usr 0.04 sys + 2.08 cusr 0.15 csys = 3.11 CPU)
Result: PASS
PREREQUISITES:
Here is a list of prerequisites you specified and versions we
managed to load:
Module Name Have Want
Carp 1.40 0
Encode 2.80_01 1.9801
Exporter 5.72 0
ExtUtils::MakeMaker 7.62 6.59
Test::Fatal 0.016 0.006
Test::More 1.302188 0.47
XSLoader 0.22 0
Perl module toolchain versions installed:
Module Name Have
CPANPLUS 0.9914
CPANPLUS::Dist::Build 0.90
Cwd 3.75
ExtUtils::CBuilder 0.280236
ExtUtils::Command 7.62
ExtUtils::Install 2.20
ExtUtils::MakeMaker 7.62
ExtUtils::Manifest 1.73
ExtUtils::ParseXS 3.35
File::Spec 3.75
Module::Build 0.4231
Pod::Parser 1.63
Pod::Simple 3.32
Test2 1.302188
Test::Harness 3.42
Test::More 1.302188
version 0.9929
******************************** NOTE ********************************
The comments above are created mechanically, possibly without manual
checking by the sender. As there are many people performing automatic
tests on each upload to CPAN, it is likely that you will receive
identical messages about the same problem.
If you believe that the message is mistaken, please reply to the first
one with correction and/or additional informations, and do not take
it personally. We appreciate your patience. :)
**********************************************************************
Additional comments:
This report was machine-generated by CPANPLUS::Dist::YACSmoke 1.08.
Powered by minismokebox version 0.68
CPANPLUS is prefering Build.PL
------------------------------
ENVIRONMENT AND OTHER CONTEXT
------------------------------
Environment variables:
AUTOMATED_TESTING = 1
LANG = en_GB.UTF-8
LANGUAGE = en_GB:en
NONINTERACTIVE_TESTING = 1
PATH = /usr/local/bin:/usr/bin:/bin:/usr/local/games:/usr/games
PERL5LIB = /home/cpan/pit/jail/QGNLqgaDr1/lib/perl5:/home/cpan/pit/thr-ld/conf/perl-5.24.1/.cpanplus/5.24.1/build/D8AAvYj9Xa/Unicode-UTF8-0.62/blib/lib:/home/cpan/pit/thr-ld/conf/perl-5.24.1/.cpanplus/5.24.1/build/D8AAvYj9Xa/Unicode-UTF8-0.62/blib/arch
PERL5_CPANPLUS_IS_RUNNING = 25767
PERL5_CPANPLUS_IS_VERSION = 0.9914
PERL5_MINISMOKEBOX = 0.68
PERL5_YACSMOKE_BASE = /home/cpan/pit/thr-ld/conf/perl-5.24.1
PERL_EXTUTILS_AUTOINSTALL = --defaultdeps
PERL_LOCAL_LIB_ROOT = /home/cpan/pit/jail/QGNLqgaDr1
PERL_MB_OPT = --install_base "/home/cpan/pit/jail/QGNLqgaDr1"
PERL_MM_OPT = INSTALL_BASE=/home/cpan/pit/jail/QGNLqgaDr1
PERL_MM_USE_DEFAULT = 1
PERL_USE_UNSAFE_INC = 1
SHELL = /bin/bash
TERM = screen
Perl special variables (and OS-specific diagnostics, for MSWin32):
Perl: $^X = /home/cpan/pit/thr-ld/perl-5.24.1/bin/perl
UID: $< = 1001
EUID: $> = 1001
GID: $( = 1001 1001
EGID: $) = 1001 1001
-------------------------------
--
Summary of my perl5 (revision 5 version 24 subversion 1) configuration:
Platform:
osname=linux, osvers=4.19.0-16-686, archname=i686-linux-thread-multi-ld
uname='linux dagobah 4.19.0-16-686 #1 smp debian 4.19.181-1 (2021-03-19) i686 gnulinux '
config_args='-des -Dprefix=/home/cpan/pit/thr-ld/perl-5.24.1 -Dusethreads -Duselongdouble'
hint=recommended, useposix=true, d_sigaction=define
useithreads=define, usemultiplicity=define
use64bitint=undef, use64bitall=undef, uselongdouble=define
usemymalloc=n, bincompat5005=undef
Compiler:
cc='cc', ccflags ='-D_REENTRANT -D_GNU_SOURCE -fwrapv -fno-strict-aliasing -pipe -fstack-protector-strong -I/usr/local/include -D_LARGEFILE_SOURCE -D_FILE_OFFSET_BITS=64 -D_FORTIFY_SOURCE=2',
optimize='-O2',
cppflags='-D_REENTRANT -D_GNU_SOURCE -fwrapv -fno-strict-aliasing -pipe -fstack-protector-strong -I/usr/local/include'
ccversion='', gccversion='8.3.0', gccosandvers=''
intsize=4, longsize=4, ptrsize=4, doublesize=8, byteorder=1234, doublekind=3
d_longlong=define, longlongsize=8, d_longdbl=define, longdblsize=12, longdblkind=3
ivtype='long', ivsize=4, nvtype='long double', nvsize=12, Off_t='off_t', lseeksize=8
alignbytes=4, prototype=define
Linker and Libraries:
ld='cc', ldflags =' -fstack-protector-strong -L/usr/local/lib'
libpth=/usr/local/lib /usr/lib/gcc/i686-linux-gnu/8/include-fixed /usr/include/i386-linux-gnu /usr/lib /lib/i386-linux-gnu /lib/../lib /usr/lib/i386-linux-gnu /usr/lib/../lib /lib /lib64 /usr/lib64
libs=-lpthread -lnsl -lgdbm -ldl -lm -lcrypt -lutil -lc
perllibs=-lpthread -lnsl -ldl -lm -lcrypt -lutil -lc
libc=libc-2.28.so, so=so, useshrplib=false, libperl=libperl.a
gnulibc_version='2.28'
Dynamic Linking:
dlsrc=dl_dlopen.xs, dlext=so, d_dlsymun=undef, ccdlflags='-Wl,-E'
cccdlflags='-fPIC', lddlflags='-shared -O2 -L/usr/local/lib -fstack-protector-strong'
Characteristics of this binary (from libperl):
Compile-time options: HAS_TIMES MULTIPLICITY PERLIO_LAYERS
PERL_COPY_ON_WRITE PERL_DONT_CREATE_GVSV
PERL_HASH_FUNC_ONE_AT_A_TIME_HARD
PERL_IMPLICIT_CONTEXT PERL_MALLOC_WRAP
PERL_PRESERVE_IVUV USE_ITHREADS USE_LARGE_FILES
USE_LOCALE USE_LOCALE_COLLATE USE_LOCALE_CTYPE
USE_LOCALE_NUMERIC USE_LOCALE_TIME USE_LONG_DOUBLE
USE_PERLIO USE_PERL_ATOF USE_REENTRANT_API
Locally applied patches:
Devel::PatchPerl 2.08
Built under linux
Compiled at Jun 12 2021 22:46:02
%ENV:
PERL5LIB="/home/cpan/pit/jail/QGNLqgaDr1/lib/perl5:/home/cpan/pit/thr-ld/conf/perl-5.24.1/.cpanplus/5.24.1/build/D8AAvYj9Xa/Unicode-UTF8-0.62/blib/lib:/home/cpan/pit/thr-ld/conf/perl-5.24.1/.cpanplus/5.24.1/build/D8AAvYj9Xa/Unicode-UTF8-0.62/blib/arch"
PERL5_CPANPLUS_IS_RUNNING="25767"
PERL5_CPANPLUS_IS_VERSION="0.9914"
PERL5_MINISMOKEBOX="0.68"
PERL5_YACSMOKE_BASE="/home/cpan/pit/thr-ld/conf/perl-5.24.1"
PERL_EXTUTILS_AUTOINSTALL="--defaultdeps"
PERL_LOCAL_LIB_ROOT="/home/cpan/pit/jail/QGNLqgaDr1"
PERL_MB_OPT="--install_base "/home/cpan/pit/jail/QGNLqgaDr1""
PERL_MM_OPT="INSTALL_BASE=/home/cpan/pit/jail/QGNLqgaDr1"
PERL_MM_USE_DEFAULT="1"
PERL_USE_UNSAFE_INC="1"
@INC:
/home/cpan/pit/jail/QGNLqgaDr1/lib/perl5/5.24.1/i686-linux-thread-multi-ld
/home/cpan/pit/jail/QGNLqgaDr1/lib/perl5/5.24.1
/home/cpan/pit/jail/QGNLqgaDr1/lib/perl5/i686-linux-thread-multi-ld
/home/cpan/pit/jail/QGNLqgaDr1/lib/perl5
/home/cpan/pit/thr-ld/conf/perl-5.24.1/.cpanplus/5.24.1/build/D8AAvYj9Xa/Unicode-UTF8-0.62/blib/lib
/home/cpan/pit/thr-ld/conf/perl-5.24.1/.cpanplus/5.24.1/build/D8AAvYj9Xa/Unicode-UTF8-0.62/blib/arch
/home/cpan/pit/thr-ld/perl-5.24.1/lib/site_perl/5.24.1/i686-linux-thread-multi-ld
/home/cpan/pit/thr-ld/perl-5.24.1/lib/site_perl/5.24.1
/home/cpan/pit/thr-ld/perl-5.24.1/lib/5.24.1/i686-linux-thread-multi-ld
/home/cpan/pit/thr-ld/perl-5.24.1/lib/5.24.1
.