Back
From: metabase:user:a0e144f2-373b-11e6-8edd-c6848980b093
Subject: PASS Dancer-Plugin-Preprocess-Markdown-0.021 v5.26.0 GNU/Linux
Date: 2017-03-30T23:17:31Z
This distribution has been tested as part of the CPAN Testers
project, supporting the Perl programming language. See
http://wiki.cpantesters.org/ for more information or email
questions to cpan-testers-discuss@perl.org
--
Dear Michal Wojciechowski,
This is a computer-generated report for Dancer-Plugin-Preprocess-Markdown-0.021
on perl 5.26.0, created by CPAN-Reporter-1.2018.
Thank you for uploading your work to CPAN. Congratulations!
All tests were successful.
Sections of this report:
* Tester comments
* Program output
* Prerequisites
* Environment and other context
------------------------------
TESTER COMMENTS
------------------------------
Additional comments from tester:
this report is from an automated smoke testing program
and was not reviewed by a human for accuracy
------------------------------
PROGRAM OUTPUT
------------------------------
Output from '/usr/bin/make test':
PERL_DL_NONLAZY=1 "/home/cpan1/install/bin/perl" "-MExtUtils::Command::MM" "-MTest::Harness" "-e" "undef *Test::Harness::Switches; test_harness(0, 'blib/lib', 'blib/arch')" t/*.t t/10_settings/01_layout/*.t
#
# Versions for all modules listed in MYMETA.json (including optional ones):
# Version Module
# -------- ------------------------
# 2.150010 CPAN::Meta
# 2.140 CPAN::Meta::Requirements
# 3.62 Cwd
# 1.3301 Dancer
# 1.3301 Dancer::Plugin
# 1.3301 Dancer::Test
# 7.24 ExtUtils::MakeMaker
# 3.62 File::Spec
# 3.62 File::Spec::Functions
# 0.2304 File::Temp
# 1.35 IO::Handle
# 1.20 IPC::Open3
# 1.47 List::Util
# 1.302078 Test::More
# 1.000031 Text::Markdown
# 1.11 strict
# 1.37 warnings
t/00-report-prereqs.t ............. ok
t/10_settings/01_layout/layout.t .. ok
t/00-compile.t .................... ok
All tests successful.
Files=3, Tests=6, 0 wallclock secs ( 0.03 usr 0.00 sys + 0.64 cusr 0.06 csys = 0.73 CPU)
Result: PASS
------------------------------
PREREQUISITES
------------------------------
Prerequisite modules loaded:
requires:
Module Need Have
------------------------ ---- --------
Cwd 0 3.62
Dancer 0 1.3301
Dancer::Plugin 0 1.3301
File::Spec::Functions 0 3.62
strict 0 1.11
Text::Markdown 0 1.000031
warnings 0 1.37
build_requires:
Module Need Have
------------------------ ---- --------
Dancer::Test 0 1.3301
ExtUtils::MakeMaker 0 7.24
File::Spec 0 3.62
File::Temp 0 0.2304
IO::Handle 0 1.35
IPC::Open3 0 1.20
List::Util 0 1.47
Test::More 0 1.302078
configure_requires:
Module Need Have
------------------------ ---- --------
ExtUtils::MakeMaker 6.17 7.24
opt_build_requires:
Module Need Have
------------------------ ---- --------
CPAN::Meta 0 2.150010
CPAN::Meta::Requirements 0 2.140
------------------------------
ENVIRONMENT AND OTHER CONTEXT
------------------------------
Environment variables:
AUTOMATED_TESTING = 1
HARNESS_OPTIONS = j3
LANG = en_US.UTF-8
PATH = /usr/local/bin:/usr/bin:/bin:/usr/local/games:/usr/games
PERL5LIB =
PERL5OPT =
PERL5_CPANPLUS_IS_RUNNING = 3606
PERL5_CPAN_IS_RUNNING = 3606
PERL5_CPAN_IS_RUNNING_IN_RECURSION = 25696,3606
PERL_CR_SMOKER_CURRENT = Dancer-Plugin-Preprocess-Markdown-0.021
PERL_CR_SMOKER_RUNONCE = 1
PERL_EXTUTILS_AUTOINSTALL = --defaultdeps
PERL_MM_USE_DEFAULT = 1
SHELL = /bin/bash
TERM = putty-256color
Perl special variables (and OS-specific diagnostics, for MSWin32):
$^X = /home/cpan1/install/bin/perl
$UID/$EUID = 1002 / 1002
$GID = 1002 1002
$EGID = 1002 1002
Perl module toolchain versions installed:
Module Have
------------------- --------
CPAN 2.16
CPAN::Meta 2.150010
Cwd 3.62
ExtUtils::CBuilder 0.280224
ExtUtils::Command 7.24
ExtUtils::Install 2.04
ExtUtils::MakeMaker 7.24
ExtUtils::Manifest 1.70
ExtUtils::ParseXS 3.30
File::Spec 3.62
JSON 2.91_04
JSON::PP 2.27400
Module::Build 0.4220
Module::Signature 0.81
Parse::CPAN::Meta 2.150010
Test::Harness 3.38
Test::More 1.302078
YAML 1.23
YAML::Syck 1.29
version 0.9917
--
Summary of my perl5 (revision 5 version 26 subversion 0) configuration:
Commit id: 2e3b2a1fba7611d1cd6060a5f07f6a0f91a06b3a
Platform:
osname=linux
osvers=3.16.0-4-amd64
archname=x86_64-linux-thread-multi
uname='linux digitalis 3.16.0-4-amd64 #1 smp debian 3.16.36-1+deb8u2 (2016-10-19) x86_64 gnulinux '
config_args='-Dusedevel -DDEBUGGING -Dusethreads -Dprefix=/home/cpan1/install -Uversiononly -des -Udefault_inc_excludes_dot'
hint=recommended
useposix=true
d_sigaction=define
useithreads=define
usemultiplicity=define
use64bitint=define
use64bitall=define
uselongdouble=undef
usemymalloc=n
default_inc_excludes_dot=undef
bincompat5005=undef
Compiler:
cc='cc'
ccflags ='-D_REENTRANT -D_GNU_SOURCE -fwrapv -DDEBUGGING -fno-strict-aliasing -pipe -fstack-protector-strong -I/usr/local/include -D_LARGEFILE_SOURCE -D_FILE_OFFSET_BITS=64 -D_FORTIFY_SOURCE=2'
optimize='-O2 -g'
cppflags='-D_REENTRANT -D_GNU_SOURCE -fwrapv -DDEBUGGING -fno-strict-aliasing -pipe -fstack-protector-strong -I/usr/local/include'
ccversion=''
gccversion='4.9.2'
gccosandvers=''
intsize=4
longsize=8
ptrsize=8
doublesize=8
byteorder=12345678
doublekind=3
d_longlong=define
longlongsize=8
d_longdbl=define
longdblsize=16
longdblkind=3
ivtype='long'
ivsize=8
nvtype='double'
nvsize=8
Off_t='off_t'
lseeksize=8
alignbytes=8
prototype=define
Linker and Libraries:
ld='cc'
ldflags =' -fstack-protector-strong -L/usr/local/lib'
libpth=/usr/local/lib /usr/lib/gcc/x86_64-linux-gnu/4.9/include-fixed /usr/include/x86_64-linux-gnu /usr/lib /lib/x86_64-linux-gnu /lib/../lib /usr/lib/x86_64-linux-gnu /usr/lib/../lib /lib /lib64 /usr/lib64
libs=-lpthread -lnsl -ldl -lm -lcrypt -lutil -lc
perllibs=-lpthread -lnsl -ldl -lm -lcrypt -lutil -lc
libc=libc-2.19.so
so=so
useshrplib=false
libperl=libperl.a
gnulibc_version='2.19'
Dynamic Linking:
dlsrc=dl_dlopen.xs
dlext=so
d_dlsymun=undef
ccdlflags='-Wl,-E'
cccdlflags='-fPIC'
lddlflags='-shared -O2 -g -L/usr/local/lib -fstack-protector-strong'
Characteristics of this binary (from libperl):
Compile-time options:
DEBUGGING
HAS_TIMES
MULTIPLICITY
PERLIO_LAYERS
PERL_COPY_ON_WRITE
PERL_DONT_CREATE_GVSV
PERL_IMPLICIT_CONTEXT
PERL_MALLOC_WRAP
PERL_OP_PARENT
PERL_PRESERVE_IVUV
PERL_TRACK_MEMPOOL
PERL_USE_DEVEL
USE_64_BIT_ALL
USE_64_BIT_INT
USE_ITHREADS
USE_LARGE_FILES
USE_LOCALE
USE_LOCALE_COLLATE
USE_LOCALE_CTYPE
USE_LOCALE_NUMERIC
USE_LOCALE_TIME
USE_PERLIO
USE_PERL_ATOF
USE_REENTRANT_API
Built under linux
Compiled at Mar 26 2017 22:44:50
%ENV:
PERL5LIB=""
PERL5OPT=""
PERL5_CPANPLUS_IS_RUNNING="3606"
PERL5_CPAN_IS_RUNNING="3606"
PERL5_CPAN_IS_RUNNING_IN_RECURSION="25696,3606"
PERL_CR_SMOKER_CURRENT="Dancer-Plugin-Preprocess-Markdown-0.021"
PERL_CR_SMOKER_RUNONCE="1"
PERL_EXTUTILS_AUTOINSTALL="--defaultdeps"
PERL_MM_USE_DEFAULT="1"
@INC:
/home/cpan1/install/lib/perl5/site_perl/5.26.0/x86_64-linux-thread-multi
/home/cpan1/install/lib/perl5/site_perl/5.26.0
/home/cpan1/install/lib/perl5/5.26.0/x86_64-linux-thread-multi
/home/cpan1/install/lib/perl5/5.26.0
.