MooseX-Types-Structured v0.36 Perl 5 v5.26.0 i386-freebsd-thread-multi

Status
Pass
From
Chris Williams (BINGOS)
Dist
MooseX-Types-Structured v0.36
Platform
Perl 5 v5.26.0 i386-freebsd-thread-multi
Date
2023-07-06 01:25:53
ID
0c967dce-1b9c-11ee-98b0-b3c3213a625c
This distribution has been tested as part of the CPAN Testers
project, supporting the Perl programming language.  See
http://wiki.cpantesters.org/ for more information or email
questions to cpan-testers-discuss@perl.org


--

Dear Karen Etheridge,

This is a computer-generated error report created automatically by
CPANPLUS, version 0.9914. Testers personal comments may appear
at the end of this report.


Thank you for uploading your work to CPAN.  Congratulations!
All tests were successful.

TEST RESULTS:

Below is the error stack from stage 'make test':

t/00-load.t .................... ok
# 
# Versions for all modules listed in MYMETA.json (including optional ones):
# 
# === Configure Requires ===
# 
#     Module               Want  Have
#     ------------------- ----- -----
#     Module::Build::Tiny 0.034 0.046
# 
# === Configure Suggests ===
# 
#     Module      Want       Have
#     -------- ------- ----------
#     JSON::PP 2.27300 2.27400_02
# 
# === Test Requires ===
# 
#     Module               Want     Have
#     -------------------- ---- --------
#     Data::Dumper          any    2.167
#     DateTime              any     1.59
#     File::Spec            any     3.75
#     Module::Metadata      any 1.000033
#     MooseX::Types::Moose  any     0.50
#     Test::Fatal           any    0.017
#     Test::More           0.88 1.302195
#     Test::Needs           any 0.002010
#     strict                any     1.11
#     warnings              any     1.37
# 
# === Test Recommends ===
# 
#     Module         Want     Have
#     ---------- -------- --------
#     CPAN::Meta 2.120900 2.150010
# 
# === Test Suggests ===
# 
#     Module                  Want    Have
#     ----------------------- ---- -------
#     MooseX::Types::DateTime  any missing
# 
# === Runtime Requires ===
# 
#     Module                                        Want   Have
#     -------------------------------------------- ----- ------
#     Devel::PartialDump                            0.13   0.20
#     Moose                                          any 2.2203
#     Moose::Meta::TypeCoercion                      any 2.2203
#     Moose::Meta::TypeConstraint                    any 2.2203
#     Moose::Meta::TypeConstraint::Parameterizable   any 2.2203
#     Moose::Util::TypeConstraints                  1.06 2.2203
#     MooseX::Types                                 0.22   0.50
#     Scalar::Util                                   any   1.63
#     Sub::Exporter                                0.982  0.989
#     if                                             any 0.0606
#     namespace::clean                              0.19   0.27
#     overload                                       any   1.28
# 
# === Other Modules ===
# 
#     Module                     Have
#     -------------------- ----------
#     Dist::CheckConflicts       0.11
#     JSON::PP             2.27400_02
#     Sub::Name                  0.27
#     YAML                    missing
#     autodie                    2.29
# 
t/00-report-prereqs.t .......... ok
t/01-basic.t ................... ok
t/02-tuple.t ................... ok
t/03-dict.t .................... ok
t/04-combined.t ................ ok
t/04-map.t ..................... ok
t/05-advanced.t ................ ok
t/06-api.t ..................... ok
t/07-coerce.t .................. ok
t/08-examples.t ................ skipped: Need MooseX::Types::DateTime
t/09-optional.t ................ ok
t/10-recursion.t ............... ok
t/11-overflow.t ................ ok
t/12-error.t ................... ok
t/13-deeper_error.t ............ ok
t/14-fully-qualified.t ......... ok
t/bug-incorrect-message.t ...... ok
t/bug-is-subtype.t ............. ok
t/bug-mixed-stringy.t .......... ok
t/bug-optional.t ............... ok
t/regressions/01-is_type_of.t .. ok
t/zzz-check-breaks.t ........... ok
All tests successful.
Files=23, Tests=352, 36 wallclock secs ( 0.33 usr  0.23 sys + 30.87 cusr  5.09 csys = 36.52 CPU)
Result: PASS


PREREQUISITES:

Here is a list of prerequisites you specified and versions we
managed to load:

	  Module Name                        Have     Want
	  Data::Dumper                      2.167        0
	  DateTime                           1.59        0
	  Devel::PartialDump                 0.20     0.13
	  File::Spec                         3.75        0
	  Module::Metadata               1.000033        0
	  Moose                            2.2203        0
	  Moose::Meta::TypeCoercion        2.2203        0
	  Moose::Meta::TypeConstraint      2.2203        0
	  Moose::Meta::TypeConstraint::Parameterizable   2.2203        0
	  Moose::Util::TypeConstraints     2.2203     1.06
	  MooseX::Types                      0.50     0.22
	  MooseX::Types::Moose               0.50        0
	  Scalar::Util                       1.63        0
	  Sub::Exporter                     0.989    0.982
	  Test::Fatal                       0.017        0
	  Test::More                     1.302195     0.88
	  Test::Needs                    0.002010        0
	  if                               0.0606        0
	  namespace::clean                   0.27     0.19
	  overload                           1.28        0
	  strict                             1.11        0
	  warnings                           1.37        0

Perl module toolchain versions installed:
	Module Name                        Have
	CPANPLUS                         0.9914
	CPANPLUS::Dist::Build              0.90
	Cwd                                3.75
	ExtUtils::CBuilder             0.280236
	ExtUtils::Command                  7.70
	ExtUtils::Install                  2.22
	ExtUtils::MakeMaker                7.70
	ExtUtils::Manifest                 1.75
	ExtUtils::ParseXS                  3.44
	File::Spec                         3.75
	Module::Build                    0.4234
	Pod::Parser                        1.63
	Pod::Simple                        3.35
	Test2                          1.302195
	Test::Harness                      3.44
	Test::More                     1.302195
	version                          0.9929

******************************** NOTE ********************************
The comments above are created mechanically, possibly without manual
checking by the sender.  As there are many people performing automatic
tests on each upload to CPAN, it is likely that you will receive
identical messages about the same problem.

If you believe that the message is mistaken, please reply to the first
one with correction and/or additional informations, and do not take
it personally.  We appreciate your patience. :)
**********************************************************************

Additional comments:


This report was machine-generated by CPANPLUS::Dist::YACSmoke 1.08.
Powered by minismokebox version 0.68

CPANPLUS is prefering Build.PL

------------------------------
ENVIRONMENT AND OTHER CONTEXT
------------------------------

Environment variables:

    AUTOMATED_TESTING = 1
    LANG = C.UTF-8
    NONINTERACTIVE_TESTING = 1
    PATH = /sbin:/bin:/usr/sbin:/usr/bin:/usr/local/sbin:/usr/local/bin:/home/cpan/bin
    PERL5LIB = /usr/home/cpan/pit/jail/qUJvfD4D6S/lib/perl5:/usr/home/cpan/pit/thr/conf/perl-5.26.0/.cpanplus/5.26.0/build/SUjPYTpZba/MooseX-Types-Structured-0.36/blib/lib:/usr/home/cpan/pit/thr/conf/perl-5.26.0/.cpanplus/5.26.0/build/SUjPYTpZba/MooseX-Types-Structured-0.36/blib/arch
    PERL5_CPANPLUS_IS_RUNNING = 29102
    PERL5_CPANPLUS_IS_VERSION = 0.9914
    PERL5_MINISMOKEBOX = 0.68
    PERL5_YACSMOKE_BASE = /usr/home/cpan/pit/thr/conf/perl-5.26.0
    PERL_EXTUTILS_AUTOINSTALL = --defaultdeps
    PERL_LOCAL_LIB_ROOT = /usr/home/cpan/pit/jail/qUJvfD4D6S
    PERL_MB_OPT = --install_base "/usr/home/cpan/pit/jail/qUJvfD4D6S"
    PERL_MM_OPT = INSTALL_BASE=/usr/home/cpan/pit/jail/qUJvfD4D6S
    PERL_MM_USE_DEFAULT = 1
    PERL_USE_UNSAFE_INC = 1
    SHELL = /usr/local/bin/bash
    TERM = screen

Perl special variables (and OS-specific diagnostics, for MSWin32):

    Perl: $^X = /usr/home/cpan/pit/thr/perl-5.26.0/bin/perl
    UID:  $<  = 1002
    EUID: $>  = 1002
    GID:  $(  = 1002 1002
    EGID: $)  = 1002 1002


-------------------------------


--

Summary of my perl5 (revision 5 version 26 subversion 0) configuration:
   
  Platform:
    osname=freebsd
    osvers=13.2-release
    archname=i386-freebsd-thread-multi
    uname='freebsd fiat 13.2-release freebsd 13.2-release releng13.2-n254617-525ecfdad597 generic i386 '
    config_args='-des -Dprefix=/usr/home/cpan/pit/thr/perl-5.26.0 -Dusethreads'
    hint=recommended
    useposix=true
    d_sigaction=define
    useithreads=define
    usemultiplicity=define
    use64bitint=undef
    use64bitall=undef
    uselongdouble=undef
    usemymalloc=n
    default_inc_excludes_dot=define
    bincompat5005=undef
  Compiler:
    cc='cc'
    ccflags ='-DHAS_FPSETMASK -DHAS_FLOATINGPOINT_H -fno-strict-aliasing -pipe -fstack-protector-strong -I/usr/local/include'
    optimize='-O2'
    cppflags='-DHAS_FPSETMASK -DHAS_FLOATINGPOINT_H -fno-strict-aliasing -pipe -fstack-protector-strong -I/usr/local/include'
    ccversion=''
    gccversion='FreeBSD Clang 14.0.5 (https://github.com/llvm/llvm-project.git llvmorg-14.0.5-0-gc12386ae247c)'
    gccosandvers=''
    intsize=4
    longsize=4
    ptrsize=4
    doublesize=8
    byteorder=1234
    doublekind=3
    d_longlong=define
    longlongsize=8
    d_longdbl=define
    longdblsize=12
    longdblkind=3
    ivtype='long'
    ivsize=4
    nvtype='double'
    nvsize=8
    Off_t='off_t'
    lseeksize=8
    alignbytes=4
    prototype=define
  Linker and Libraries:
    ld='cc'
    ldflags ='-pthread -Wl,-E  -fstack-protector-strong -L/usr/local/lib'
    libpth=/usr/lib /usr/local/lib /usr/lib/clang/14.0.5/lib /usr/lib
    libs=-lpthread -lgdbm -ldl -lm -lcrypt -lutil
    perllibs=-lpthread -ldl -lm -lcrypt -lutil
    libc=
    so=so
    useshrplib=false
    libperl=libperl.a
    gnulibc_version=''
  Dynamic Linking:
    dlsrc=dl_dlopen.xs
    dlext=so
    d_dlsymun=undef
    ccdlflags=' '
    cccdlflags='-DPIC -fPIC'
    lddlflags='-shared  -L/usr/local/lib -fstack-protector-strong'


Characteristics of this binary (from libperl): 
  Compile-time options:
    HAS_TIMES
    MULTIPLICITY
    PERLIO_LAYERS
    PERL_COPY_ON_WRITE
    PERL_DONT_CREATE_GVSV
    PERL_HASH_FUNC_ONE_AT_A_TIME_HARD
    PERL_IMPLICIT_CONTEXT
    PERL_MALLOC_WRAP
    PERL_OP_PARENT
    PERL_PRESERVE_IVUV
    USE_ITHREADS
    USE_LARGE_FILES
    USE_LOCALE
    USE_LOCALE_COLLATE
    USE_LOCALE_CTYPE
    USE_LOCALE_NUMERIC
    USE_LOCALE_TIME
    USE_PERLIO
    USE_PERL_ATOF
    USE_REENTRANT_API
  Locally applied patches:
    Devel::PatchPerl 2.08
  Built under freebsd
  Compiled at May  4 2023 18:24:56
  %ENV:
    PERL5LIB="/usr/home/cpan/pit/jail/qUJvfD4D6S/lib/perl5:/usr/home/cpan/pit/thr/conf/perl-5.26.0/.cpanplus/5.26.0/build/SUjPYTpZba/MooseX-Types-Structured-0.36/blib/lib:/usr/home/cpan/pit/thr/conf/perl-5.26.0/.cpanplus/5.26.0/build/SUjPYTpZba/MooseX-Types-Structured-0.36/blib/arch"
    PERL5_CPANPLUS_IS_RUNNING="29102"
    PERL5_CPANPLUS_IS_VERSION="0.9914"
    PERL5_MINISMOKEBOX="0.68"
    PERL5_YACSMOKE_BASE="/usr/home/cpan/pit/thr/conf/perl-5.26.0"
    PERL_EXTUTILS_AUTOINSTALL="--defaultdeps"
    PERL_LOCAL_LIB_ROOT="/usr/home/cpan/pit/jail/qUJvfD4D6S"
    PERL_MB_OPT="--install_base "/usr/home/cpan/pit/jail/qUJvfD4D6S""
    PERL_MM_OPT="INSTALL_BASE=/usr/home/cpan/pit/jail/qUJvfD4D6S"
    PERL_MM_USE_DEFAULT="1"
    PERL_USE_UNSAFE_INC="1"
  @INC:
    /usr/home/cpan/pit/jail/qUJvfD4D6S/lib/perl5/5.26.0/i386-freebsd-thread-multi
    /usr/home/cpan/pit/jail/qUJvfD4D6S/lib/perl5/5.26.0
    /usr/home/cpan/pit/jail/qUJvfD4D6S/lib/perl5/i386-freebsd-thread-multi
    /usr/home/cpan/pit/jail/qUJvfD4D6S/lib/perl5
    /usr/home/cpan/pit/thr/conf/perl-5.26.0/.cpanplus/5.26.0/build/SUjPYTpZba/MooseX-Types-Structured-0.36/blib/lib
    /usr/home/cpan/pit/thr/conf/perl-5.26.0/.cpanplus/5.26.0/build/SUjPYTpZba/MooseX-Types-Structured-0.36/blib/arch
    /usr/home/cpan/pit/thr/perl-5.26.0/lib/site_perl/5.26.0/i386-freebsd-thread-multi
    /usr/home/cpan/pit/thr/perl-5.26.0/lib/site_perl/5.26.0
    /usr/home/cpan/pit/thr/perl-5.26.0/lib/5.26.0/i386-freebsd-thread-multi
    /usr/home/cpan/pit/thr/perl-5.26.0/lib/5.26.0
    .