Report for Apache-ASP-2.62

Back
From: metabase:user:322078bc-2aae-11df-837a-5e0a49663a4f
Subject: PASS Apache-ASP-2.62 v5.14.1 OpenBSD
Date: 2011-10-05T05:01:13Z

This distribution has been tested as part of the CPAN Testers
project, supporting the Perl programming language.  See
http://wiki.cpantesters.org/ for more information or email
questions to cpan-testers-discuss@perl.org


--

Dear ZETA,

This is a computer-generated error report created automatically by
CPANPLUS, version 0.9111. Testers personal comments may appear
at the end of this report.

MAKE TEST passed: PERL_DL_NONLAZY=1 /home/cpan/pit/64bit/perl-5.14.1/bin/perl "-MExtUtils::Command::MM" "-e" "test_harness(0, 'blib/lib', 'blib/arch')" t/*.t
Use of uninitialized value $rv in lc at /home/cpan/pit/64bit/conf/perl-5.14.1/.cpanplus/5.14.1/build/Apache-ASP-2.62/blib/lib/Apache/ASP.pm line 2018.
Use of uninitialized value $rv in lc at /home/cpan/pit/64bit/conf/perl-5.14.1/.cpanplus/5.14.1/build/Apache-ASP-2.62/blib/lib/Apache/ASP.pm line 2018.
Use of uninitialized value $rv in lc at /home/cpan/pit/64bit/conf/perl-5.14.1/.cpanplus/5.14.1/build/Apache-ASP-2.62/blib/lib/Apache/ASP.pm line 2018.
Use of uninitialized value $rv in lc at /home/cpan/pit/64bit/conf/perl-5.14.1/.cpanplus/5.14.1/build/Apache-ASP-2.62/blib/lib/Apache/ASP.pm line 2018.
Use of uninitialized value $rv in lc at /home/cpan/pit/64bit/conf/perl-5.14.1/.cpanplus/5.14.1/build/Apache-ASP-2.62/blib/lib/Apache/ASP.pm line 2018.
Use of uninitialized value $rv in lc at /home/cpan/pit/64bit/conf/perl-5.14.1/.cpanplus/5.14.1/build/Apache-ASP-2.62/blib/lib/Apache/ASP.pm line 2018.
Use of uninitialized value $rv in lc at /home/cpan/pit/64bit/conf/perl-5.14.1/.cpanplus/5.14.1/build/Apache-ASP-2.62/blib/lib/Apache/ASP.pm line 2018.
Use of uninitialized value $rv in lc at /home/cpan/pit/64bit/conf/perl-5.14.1/.cpanplus/5.14.1/build/Apache-ASP-2.62/blib/lib/Apache/ASP.pm line 2018.
Use of uninitialized value $rv in lc at /home/cpan/pit/64bit/conf/perl-5.14.1/.cpanplus/5.14.1/build/Apache-ASP-2.62/blib/lib/Apache/ASP.pm line 2018.
Use of uninitialized value $rv in lc at /home/cpan/pit/64bit/conf/perl-5.14.1/.cpanplus/5.14.1/build/Apache-ASP-2.62/blib/lib/Apache/ASP.pm line 2018.
Use of uninitialized value $rv in lc at /home/cpan/pit/64bit/conf/perl-5.14.1/.cpanplus/5.14.1/build/Apache-ASP-2.62/blib/lib/Apache/ASP.pm line 2018.
t/application.t .......... ok
Use of uninitialized value $rv in lc at ../blib/lib/Apache/ASP.pm line 2018.
Use of uninitialized value $rv in lc at ../blib/lib/Apache/ASP.pm line 2018.
Use of uninitialized value $rv in lc at ../blib/lib/Apache/ASP.pm line 2018.
Use of uninitialized value $rv in lc at ../blib/lib/Apache/ASP.pm line 2018.
Use of uninitialized value $rv in lc at ../blib/lib/Apache/ASP.pm line 2018.
Use of uninitialized value $rv in lc at ../blib/lib/Apache/ASP.pm line 2018.
Use of uninitialized value $rv in lc at ../blib/lib/Apache/ASP.pm line 2018.
Use of uninitialized value $rv in lc at ../blib/lib/Apache/ASP.pm line 2018.
Use of uninitialized value $rv in lc at ../blib/lib/Apache/ASP.pm line 2018.
Use of uninitialized value $rv in lc at ../blib/lib/Apache/ASP.pm line 2018.
t/asp-perl1.t ............ ok
Use of uninitialized value $rv in lc at ../../blib/lib/Apache/ASP.pm line 2018.
Use of uninitialized value $rv in lc at ../../blib/lib/Apache/ASP.pm line 2018.
Use of uninitialized value $rv in lc at ../../blib/lib/Apache/ASP.pm line 2018.
Use of uninitialized value $rv in lc at ../../blib/lib/Apache/ASP.pm line 2018.
Use of uninitialized value $rv in lc at ../../blib/lib/Apache/ASP.pm line 2018.
Use of uninitialized value $rv in lc at ../../blib/lib/Apache/ASP.pm line 2018.
Use of uninitialized value $rv in lc at ../../blib/lib/Apache/ASP.pm line 2018.
Use of uninitialized value $rv in lc at ../../blib/lib/Apache/ASP.pm line 2018.
Use of uninitialized value $rv in lc at ../../blib/lib/Apache/ASP.pm line 2018.
Use of uninitialized value $rv in lc at ../../blib/lib/Apache/ASP.pm line 2018.
t/asp-perl2.t ............ ok
Use of uninitialized value $rv in lc at /home/cpan/pit/64bit/conf/perl-5.14.1/.cpanplus/5.14.1/build/Apache-ASP-2.62/blib/lib/Apache/ASP.pm line 2018.
Use of uninitialized value $rv in lc at /home/cpan/pit/64bit/conf/perl-5.14.1/.cpanplus/5.14.1/build/Apache-ASP-2.62/blib/lib/Apache/ASP.pm line 2018.
Use of uninitialized value $rv in lc at /home/cpan/pit/64bit/conf/perl-5.14.1/.cpanplus/5.14.1/build/Apache-ASP-2.62/blib/lib/Apache/ASP.pm line 2018.
Use of uninitialized value $rv in lc at /home/cpan/pit/64bit/conf/perl-5.14.1/.cpanplus/5.14.1/build/Apache-ASP-2.62/blib/lib/Apache/ASP.pm line 2018.
Use of uninitialized value $rv in lc at /home/cpan/pit/64bit/conf/perl-5.14.1/.cpanplus/5.14.1/build/Apache-ASP-2.62/blib/lib/Apache/ASP.pm line 2018.
Use of uninitialized value $rv in lc at /home/cpan/pit/64bit/conf/perl-5.14.1/.cpanplus/5.14.1/build/Apache-ASP-2.62/blib/lib/Apache/ASP.pm line 2018.
Use of uninitialized value $rv in lc at /home/cpan/pit/64bit/conf/perl-5.14.1/.cpanplus/5.14.1/build/Apache-ASP-2.62/blib/lib/Apache/ASP.pm line 2018.
Use of uninitialized value $rv in lc at /home/cpan/pit/64bit/conf/perl-5.14.1/.cpanplus/5.14.1/build/Apache-ASP-2.62/blib/lib/Apache/ASP.pm line 2018.
Use of uninitialized value $rv in lc at /home/cpan/pit/64bit/conf/perl-5.14.1/.cpanplus/5.14.1/build/Apache-ASP-2.62/blib/lib/Apache/ASP.pm line 2018.
Use of uninitialized value $rv in lc at /home/cpan/pit/64bit/conf/perl-5.14.1/.cpanplus/5.14.1/build/Apache-ASP-2.62/blib/lib/Apache/ASP.pm line 2018.
Use of uninitialized value $rv in lc at /home/cpan/pit/64bit/conf/perl-5.14.1/.cpanplus/5.14.1/build/Apache-ASP-2.62/blib/lib/Apache/ASP.pm line 2018.
Use of uninitialized value $rv in lc at /home/cpan/pit/64bit/conf/perl-5.14.1/.cpanplus/5.14.1/build/Apache-ASP-2.62/blib/lib/Apache/ASP.pm line 2018.
Use of uninitialized value $rv in lc at /home/cpan/pit/64bit/conf/perl-5.14.1/.cpanplus/5.14.1/build/Apache-ASP-2.62/blib/lib/Apache/ASP.pm line 2018.
Use of uninitialized value $rv in lc at /home/cpan/pit/64bit/conf/perl-5.14.1/.cpanplus/5.14.1/build/Apache-ASP-2.62/blib/lib/Apache/ASP.pm line 2018.
Use of uninitialized value $rv in lc at /home/cpan/pit/64bit/conf/perl-5.14.1/.cpanplus/5.14.1/build/Apache-ASP-2.62/blib/lib/Apache/ASP.pm line 2018.
Use of uninitialized value $rv in lc at /home/cpan/pit/64bit/conf/perl-5.14.1/.cpanplus/5.14.1/build/Apache-ASP-2.62/blib/lib/Apache/ASP.pm line 2018.
Use of uninitialized value $rv in lc at /home/cpan/pit/64bit/conf/perl-5.14.1/.cpanplus/5.14.1/build/Apache-ASP-2.62/blib/lib/Apache/ASP.pm line 2018.
Use of uninitialized value $rv in lc at /home/cpan/pit/64bit/conf/perl-5.14.1/.cpanplus/5.14.1/build/Apache-ASP-2.62/blib/lib/Apache/ASP.pm line 2018.
Use of uninitialized value $rv in lc at /home/cpan/pit/64bit/conf/perl-5.14.1/.cpanplus/5.14.1/build/Apache-ASP-2.62/blib/lib/Apache/ASP.pm line 2018.
Use of uninitialized value $rv in lc at /home/cpan/pit/64bit/conf/perl-5.14.1/.cpanplus/5.14.1/build/Apache-ASP-2.62/blib/lib/Apache/ASP.pm line 2018.
Use of uninitialized value $rv in lc at /home/cpan/pit/64bit/conf/perl-5.14.1/.cpanplus/5.14.1/build/Apache-ASP-2.62/blib/lib/Apache/ASP.pm line 2018.
Use of uninitialized value $rv in lc at /home/cpan/pit/64bit/conf/perl-5.14.1/.cpanplus/5.14.1/build/Apache-ASP-2.62/blib/lib/Apache/ASP.pm line 2018.
t/asp_object.t ........... ok
Use of uninitialized value $rv in lc at /home/cpan/pit/64bit/conf/perl-5.14.1/.cpanplus/5.14.1/build/Apache-ASP-2.62/blib/lib/Apache/ASP.pm line 2018.
Use of uninitialized value $rv in lc at /home/cpan/pit/64bit/conf/perl-5.14.1/.cpanplus/5.14.1/build/Apache-ASP-2.62/blib/lib/Apache/ASP.pm line 2018.
Use of uninitialized value $rv in lc at /home/cpan/pit/64bit/conf/perl-5.14.1/.cpanplus/5.14.1/build/Apache-ASP-2.62/blib/lib/Apache/ASP.pm line 2018.
Use of uninitialized value $rv in lc at /home/cpan/pit/64bit/conf/perl-5.14.1/.cpanplus/5.14.1/build/Apache-ASP-2.62/blib/lib/Apache/ASP.pm line 2018.
Use of uninitialized value $rv in lc at /home/cpan/pit/64bit/conf/perl-5.14.1/.cpanplus/5.14.1/build/Apache-ASP-2.62/blib/lib/Apache/ASP.pm line 2018.
Use of uninitialized value $rv in lc at /home/cpan/pit/64bit/conf/perl-5.14.1/.cpanplus/5.14.1/build/Apache-ASP-2.62/blib/lib/Apache/ASP.pm line 2018.
Use of uninitialized value $rv in lc at /home/cpan/pit/64bit/conf/perl-5.14.1/.cpanplus/5.14.1/build/Apache-ASP-2.62/blib/lib/Apache/ASP.pm line 2018.
Use of uninitialized value $rv in lc at /home/cpan/pit/64bit/conf/perl-5.14.1/.cpanplus/5.14.1/build/Apache-ASP-2.62/blib/lib/Apache/ASP.pm line 2018.
Use of uninitialized value $rv in lc at /home/cpan/pit/64bit/conf/perl-5.14.1/.cpanplus/5.14.1/build/Apache-ASP-2.62/blib/lib/Apache/ASP.pm line 2018.
Use of uninitialized value $rv in lc at /home/cpan/pit/64bit/conf/perl-5.14.1/.cpanplus/5.14.1/build/Apache-ASP-2.62/blib/lib/Apache/ASP.pm line 2018.
t/cache.t ................ ok
Use of uninitialized value $rv in lc at /home/cpan/pit/64bit/conf/perl-5.14.1/.cpanplus/5.14.1/build/Apache-ASP-2.62/blib/lib/Apache/ASP.pm line 2018.
Use of uninitialized value $rv in lc at /home/cpan/pit/64bit/conf/perl-5.14.1/.cpanplus/5.14.1/build/Apache-ASP-2.62/blib/lib/Apache/ASP.pm line 2018.
Use of uninitialized value $rv in lc at /home/cpan/pit/64bit/conf/perl-5.14.1/.cpanplus/5.14.1/build/Apache-ASP-2.62/blib/lib/Apache/ASP.pm line 2018.
Use of uninitialized value $rv in lc at /home/cpan/pit/64bit/conf/perl-5.14.1/.cpanplus/5.14.1/build/Apache-ASP-2.62/blib/lib/Apache/ASP.pm line 2018.
Use of uninitialized value $rv in lc at /home/cpan/pit/64bit/conf/perl-5.14.1/.cpanplus/5.14.1/build/Apache-ASP-2.62/blib/lib/Apache/ASP.pm line 2018.
Use of uninitialized value $rv in lc at /home/cpan/pit/64bit/conf/perl-5.14.1/.cpanplus/5.14.1/build/Apache-ASP-2.62/blib/lib/Apache/ASP.pm line 2018.
Use of uninitialized value $rv in lc at /home/cpan/pit/64bit/conf/perl-5.14.1/.cpanplus/5.14.1/build/Apache-ASP-2.62/blib/lib/Apache/ASP.pm line 2018.
Use of uninitialized value $rv in lc at /home/cpan/pit/64bit/conf/perl-5.14.1/.cpanplus/5.14.1/build/Apache-ASP-2.62/blib/lib/Apache/ASP.pm line 2018.
Use of uninitialized value $rv in lc at /home/cpan/pit/64bit/conf/perl-5.14.1/.cpanplus/5.14.1/build/Apache-ASP-2.62/blib/lib/Apache/ASP.pm line 2018.
Use of uninitialized value $rv in lc at /home/cpan/pit/64bit/conf/perl-5.14.1/.cpanplus/5.14.1/build/Apache-ASP-2.62/blib/lib/Apache/ASP.pm line 2018.
t/cgi_headers.t .......... ok
Use of uninitialized value $rv in lc at /home/cpan/pit/64bit/conf/perl-5.14.1/.cpanplus/5.14.1/build/Apache-ASP-2.62/blib/lib/Apache/ASP.pm line 2018.
Use of uninitialized value $rv in lc at /home/cpan/pit/64bit/conf/perl-5.14.1/.cpanplus/5.14.1/build/Apache-ASP-2.62/blib/lib/Apache/ASP.pm line 2018.
Use of uninitialized value $rv in lc at /home/cpan/pit/64bit/conf/perl-5.14.1/.cpanplus/5.14.1/build/Apache-ASP-2.62/blib/lib/Apache/ASP.pm line 2018.
Use of uninitialized value $rv in lc at /home/cpan/pit/64bit/conf/perl-5.14.1/.cpanplus/5.14.1/build/Apache-ASP-2.62/blib/lib/Apache/ASP.pm line 2018.
Use of uninitialized value $rv in lc at /home/cpan/pit/64bit/conf/perl-5.14.1/.cpanplus/5.14.1/build/Apache-ASP-2.62/blib/lib/Apache/ASP.pm line 2018.
Use of uninitialized value $rv in lc at /home/cpan/pit/64bit/conf/perl-5.14.1/.cpanplus/5.14.1/build/Apache-ASP-2.62/blib/lib/Apache/ASP.pm line 2018.
Use of uninitialized value $rv in lc at /home/cpan/pit/64bit/conf/perl-5.14.1/.cpanplus/5.14.1/build/Apache-ASP-2.62/blib/lib/Apache/ASP.pm line 2018.
Use of uninitialized value $rv in lc at /home/cpan/pit/64bit/conf/perl-5.14.1/.cpanplus/5.14.1/build/Apache-ASP-2.62/blib/lib/Apache/ASP.pm line 2018.
Use of uninitialized value $rv in lc at /home/cpan/pit/64bit/conf/perl-5.14.1/.cpanplus/5.14.1/build/Apache-ASP-2.62/blib/lib/Apache/ASP.pm line 2018.
t/closure.t .............. ok
Use of uninitialized value $rv in lc at /home/cpan/pit/64bit/conf/perl-5.14.1/.cpanplus/5.14.1/build/Apache-ASP-2.62/blib/lib/Apache/ASP.pm line 2018.
Use of uninitialized value $rv in lc at /home/cpan/pit/64bit/conf/perl-5.14.1/.cpanplus/5.14.1/build/Apache-ASP-2.62/blib/lib/Apache/ASP.pm line 2018.
Use of uninitialized value $rv in lc at /home/cpan/pit/64bit/conf/perl-5.14.1/.cpanplus/5.14.1/build/Apache-ASP-2.62/blib/lib/Apache/ASP.pm line 2018.
Use of uninitialized value $rv in lc at /home/cpan/pit/64bit/conf/perl-5.14.1/.cpanplus/5.14.1/build/Apache-ASP-2.62/blib/lib/Apache/ASP.pm line 2018.
Use of uninitialized value $rv in lc at /home/cpan/pit/64bit/conf/perl-5.14.1/.cpanplus/5.14.1/build/Apache-ASP-2.62/blib/lib/Apache/ASP.pm line 2018.
Use of uninitialized value $rv in lc at /home/cpan/pit/64bit/conf/perl-5.14.1/.cpanplus/5.14.1/build/Apache-ASP-2.62/blib/lib/Apache/ASP.pm line 2018.
Use of uninitialized value $rv in lc at /home/cpan/pit/64bit/conf/perl-5.14.1/.cpanplus/5.14.1/build/Apache-ASP-2.62/blib/lib/Apache/ASP.pm line 2018.
Use of uninitialized value $rv in lc at /home/cpan/pit/64bit/conf/perl-5.14.1/.cpanplus/5.14.1/build/Apache-ASP-2.62/blib/lib/Apache/ASP.pm line 2018.
Use of uninitialized value $rv in lc at /home/cpan/pit/64bit/conf/perl-5.14.1/.cpanplus/5.14.1/build/Apache-ASP-2.62/blib/lib/Apache/ASP.pm line 2018.
Use of uninitialized value $rv in lc at /home/cpan/pit/64bit/conf/perl-5.14.1/.cpanplus/5.14.1/build/Apache-ASP-2.62/blib/lib/Apache/ASP.pm line 2018.
Use of uninitialized value $rv in lc at /home/cpan/pit/64bit/conf/perl-5.14.1/.cpanplus/5.14.1/build/Apache-ASP-2.62/blib/lib/Apache/ASP.pm line 2018.
t/collection.t ........... ok
Use of uninitialized value $rv in lc at /home/cpan/pit/64bit/conf/perl-5.14.1/.cpanplus/5.14.1/build/Apache-ASP-2.62/blib/lib/Apache/ASP.pm line 2018.
Use of uninitialized value $rv in lc at /home/cpan/pit/64bit/conf/perl-5.14.1/.cpanplus/5.14.1/build/Apache-ASP-2.62/blib/lib/Apache/ASP.pm line 2018.
Use of uninitialized value $rv in lc at /home/cpan/pit/64bit/conf/perl-5.14.1/.cpanplus/5.14.1/build/Apache-ASP-2.62/blib/lib/Apache/ASP.pm line 2018.
Use of uninitialized value $rv in lc at /home/cpan/pit/64bit/conf/perl-5.14.1/.cpanplus/5.14.1/build/Apache-ASP-2.62/blib/lib/Apache/ASP.pm line 2018.
Use of uninitialized value $rv in lc at /home/cpan/pit/64bit/conf/perl-5.14.1/.cpanplus/5.14.1/build/Apache-ASP-2.62/blib/lib/Apache/ASP.pm line 2018.
Use of uninitialized value $rv in lc at /home/cpan/pit/64bit/conf/perl-5.14.1/.cpanplus/5.14.1/build/Apache-ASP-2.62/blib/lib/Apache/ASP.pm line 2018.
Use of uninitialized value $rv in lc at /home/cpan/pit/64bit/conf/perl-5.14.1/.cpanplus/5.14.1/build/Apache-ASP-2.62/blib/lib/Apache/ASP.pm line 2018.
Use of uninitialized value $rv in lc at /home/cpan/pit/64bit/conf/perl-5.14.1/.cpanplus/5.14.1/build/Apache-ASP-2.62/blib/lib/Apache/ASP.pm line 2018.
Use of uninitialized value $rv in lc at /home/cpan/pit/64bit/conf/perl-5.14.1/.cpanplus/5.14.1/build/Apache-ASP-2.62/blib/lib/Apache/ASP.pm line 2018.
Use of uninitialized value $rv in lc at /home/cpan/pit/64bit/conf/perl-5.14.1/.cpanplus/5.14.1/build/Apache-ASP-2.62/blib/lib/Apache/ASP.pm line 2018.
Use of uninitialized value $rv in lc at /home/cpan/pit/64bit/conf/perl-5.14.1/.cpanplus/5.14.1/build/Apache-ASP-2.62/blib/lib/Apache/ASP.pm line 2018.
t/collectionitem.t ....... ok
Use of uninitialized value $rv in lc at /home/cpan/pit/64bit/conf/perl-5.14.1/.cpanplus/5.14.1/build/Apache-ASP-2.62/blib/lib/Apache/ASP.pm line 2018.
Use of uninitialized value $rv in lc at /home/cpan/pit/64bit/conf/perl-5.14.1/.cpanplus/5.14.1/build/Apache-ASP-2.62/blib/lib/Apache/ASP.pm line 2018.
Use of uninitialized value $rv in lc at /home/cpan/pit/64bit/conf/perl-5.14.1/.cpanplus/5.14.1/build/Apache-ASP-2.62/blib/lib/Apache/ASP.pm line 2018.
Use of uninitialized value $rv in lc at /home/cpan/pit/64bit/conf/perl-5.14.1/.cpanplus/5.14.1/build/Apache-ASP-2.62/blib/lib/Apache/ASP.pm line 2018.
Use of uninitialized value $rv in lc at /home/cpan/pit/64bit/conf/perl-5.14.1/.cpanplus/5.14.1/build/Apache-ASP-2.62/blib/lib/Apache/ASP.pm line 2018.
Use of uninitialized value $rv in lc at /home/cpan/pit/64bit/conf/perl-5.14.1/.cpanplus/5.14.1/build/Apache-ASP-2.62/blib/lib/Apache/ASP.pm line 2018.
Use of uninitialized value $rv in lc at /home/cpan/pit/64bit/conf/perl-5.14.1/.cpanplus/5.14.1/build/Apache-ASP-2.62/blib/lib/Apache/ASP.pm line 2018.
Use of uninitialized value $rv in lc at /home/cpan/pit/64bit/conf/perl-5.14.1/.cpanplus/5.14.1/build/Apache-ASP-2.62/blib/lib/Apache/ASP.pm line 2018.
Use of uninitialized value $rv in lc at /home/cpan/pit/64bit/conf/perl-5.14.1/.cpanplus/5.14.1/build/Apache-ASP-2.62/blib/lib/Apache/ASP.pm line 2018.
Use of uninitialized value $rv in lc at /home/cpan/pit/64bit/conf/perl-5.14.1/.cpanplus/5.14.1/build/Apache-ASP-2.62/blib/lib/Apache/ASP.pm line 2018.
t/cookies.t .............. ok
Use of uninitialized value $rv in lc at /home/cpan/pit/64bit/conf/perl-5.14.1/.cpanplus/5.14.1/build/Apache-ASP-2.62/blib/lib/Apache/ASP.pm line 2018.
Use of uninitialized value $rv in lc at /home/cpan/pit/64bit/conf/perl-5.14.1/.cpanplus/5.14.1/build/Apache-ASP-2.62/blib/lib/Apache/ASP.pm line 2018.
Use of uninitialized value $rv in lc at /home/cpan/pit/64bit/conf/perl-5.14.1/.cpanplus/5.14.1/build/Apache-ASP-2.62/blib/lib/Apache/ASP.pm line 2018.
Use of uninitialized value $rv in lc at /home/cpan/pit/64bit/conf/perl-5.14.1/.cpanplus/5.14.1/build/Apache-ASP-2.62/blib/lib/Apache/ASP.pm line 2018.
Use of uninitialized value $rv in lc at /home/cpan/pit/64bit/conf/perl-5.14.1/.cpanplus/5.14.1/build/Apache-ASP-2.62/blib/lib/Apache/ASP.pm line 2018.
Use of uninitialized value $rv in lc at /home/cpan/pit/64bit/conf/perl-5.14.1/.cpanplus/5.14.1/build/Apache-ASP-2.62/blib/lib/Apache/ASP.pm line 2018.
Use of uninitialized value $rv in lc at /home/cpan/pit/64bit/conf/perl-5.14.1/.cpanplus/5.14.1/build/Apache-ASP-2.62/blib/lib/Apache/ASP.pm line 2018.
Use of uninitialized value $rv in lc at /home/cpan/pit/64bit/conf/perl-5.14.1/.cpanplus/5.14.1/build/Apache-ASP-2.62/blib/lib/Apache/ASP.pm line 2018.
Use of uninitialized value $rv in lc at /home/cpan/pit/64bit/conf/perl-5.14.1/.cpanplus/5.14.1/build/Apache-ASP-2.62/blib/lib/Apache/ASP.pm line 2018.
Use of uninitialized value $rv in lc at /home/cpan/pit/64bit/conf/perl-5.14.1/.cpanplus/5.14.1/build/Apache-ASP-2.62/blib/lib/Apache/ASP.pm line 2018.
Use of uninitialized value $rv in lc at /home/cpan/pit/64bit/conf/perl-5.14.1/.cpanplus/5.14.1/build/Apache-ASP-2.62/blib/lib/Apache/ASP.pm line 2018.
Use of uninitialized value $rv in lc at /home/cpan/pit/64bit/conf/perl-5.14.1/.cpanplus/5.14.1/build/Apache-ASP-2.62/blib/lib/Apache/ASP.pm line 2018.
Use of uninitialized value $rv in lc at /home/cpan/pit/64bit/conf/perl-5.14.1/.cpanplus/5.14.1/build/Apache-ASP-2.62/blib/lib/Apache/ASP.pm line 2018.
Use of uninitialized value $rv in lc at /home/cpan/pit/64bit/conf/perl-5.14.1/.cpanplus/5.14.1/build/Apache-ASP-2.62/blib/lib/Apache/ASP.pm line 2018.
Use of uninitialized value $rv in lc at /home/cpan/pit/64bit/conf/perl-5.14.1/.cpanplus/5.14.1/build/Apache-ASP-2.62/blib/lib/Apache/ASP.pm line 2018.
Use of uninitialized value $rv in lc at /home/cpan/pit/64bit/conf/perl-5.14.1/.cpanplus/5.14.1/build/Apache-ASP-2.62/blib/lib/Apache/ASP.pm line 2018.
Use of uninitialized value $rv in lc at /home/cpan/pit/64bit/conf/perl-5.14.1/.cpanplus/5.14.1/build/Apache-ASP-2.62/blib/lib/Apache/ASP.pm line 2018.
Use of uninitialized value $rv in lc at /home/cpan/pit/64bit/conf/perl-5.14.1/.cpanplus/5.14.1/build/Apache-ASP-2.62/blib/lib/Apache/ASP.pm line 2018.
Use of uninitialized value $rv in lc at /home/cpan/pit/64bit/conf/perl-5.14.1/.cpanplus/5.14.1/build/Apache-ASP-2.62/blib/lib/Apache/ASP.pm line 2018.
Use of uninitialized value $rv in lc at /home/cpan/pit/64bit/conf/perl-5.14.1/.cpanplus/5.14.1/build/Apache-ASP-2.62/blib/lib/Apache/ASP.pm line 2018.
Use of uninitialized value $rv in lc at /home/cpan/pit/64bit/conf/perl-5.14.1/.cpanplus/5.14.1/build/Apache-ASP-2.62/blib/lib/Apache/ASP.pm line 2018.
Use of uninitialized value $rv in lc at /home/cpan/pit/64bit/conf/perl-5.14.1/.cpanplus/5.14.1/build/Apache-ASP-2.62/blib/lib/Apache/ASP.pm line 2018.
Use of uninitialized value $rv in lc at /home/cpan/pit/64bit/conf/perl-5.14.1/.cpanplus/5.14.1/build/Apache-ASP-2.62/blib/lib/Apache/ASP.pm line 2018.
Use of uninitialized value $rv in lc at /home/cpan/pit/64bit/conf/perl-5.14.1/.cpanplus/5.14.1/build/Apache-ASP-2.62/blib/lib/Apache/ASP.pm line 2018.
Use of uninitialized value $rv in lc at /home/cpan/pit/64bit/conf/perl-5.14.1/.cpanplus/5.14.1/build/Apache-ASP-2.62/blib/lib/Apache/ASP.pm line 2018.
Use of uninitialized value $rv in lc at /home/cpan/pit/64bit/conf/perl-5.14.1/.cpanplus/5.14.1/build/Apache-ASP-2.62/blib/lib/Apache/ASP.pm line 2018.
Use of uninitialized value $rv in lc at /home/cpan/pit/64bit/conf/perl-5.14.1/.cpanplus/5.14.1/build/Apache-ASP-2.62/blib/lib/Apache/ASP.pm line 2018.
Use of uninitialized value $rv in lc at /home/cpan/pit/64bit/conf/perl-5.14.1/.cpanplus/5.14.1/build/Apache-ASP-2.62/blib/lib/Apache/ASP.pm line 2018.
Use of uninitialized value $rv in lc at /home/cpan/pit/64bit/conf/perl-5.14.1/.cpanplus/5.14.1/build/Apache-ASP-2.62/blib/lib/Apache/ASP.pm line 2018.
Use of uninitialized value $rv in lc at /home/cpan/pit/64bit/conf/perl-5.14.1/.cpanplus/5.14.1/build/Apache-ASP-2.62/blib/lib/Apache/ASP.pm line 2018.
Use of uninitialized value $rv in lc at /home/cpan/pit/64bit/conf/perl-5.14.1/.cpanplus/5.14.1/build/Apache-ASP-2.62/blib/lib/Apache/ASP.pm line 2018.
Use of uninitialized value $rv in lc at /home/cpan/pit/64bit/conf/perl-5.14.1/.cpanplus/5.14.1/build/Apache-ASP-2.62/blib/lib/Apache/ASP.pm line 2018.
Use of uninitialized value $rv in lc at /home/cpan/pit/64bit/conf/perl-5.14.1/.cpanplus/5.14.1/build/Apache-ASP-2.62/blib/lib/Apache/ASP.pm line 2018.
Use of uninitialized value $rv in lc at /home/cpan/pit/64bit/conf/perl-5.14.1/.cpanplus/5.14.1/build/Apache-ASP-2.62/blib/lib/Apache/ASP.pm line 2018.
Use of uninitialized value $rv in lc at /home/cpan/pit/64bit/conf/perl-5.14.1/.cpanplus/5.14.1/build/Apache-ASP-2.62/blib/lib/Apache/ASP.pm line 2018.
Use of uninitialized value $rv in lc at /home/cpan/pit/64bit/conf/perl-5.14.1/.cpanplus/5.14.1/build/Apache-ASP-2.62/blib/lib/Apache/ASP.pm line 2018.
Use of uninitialized value $rv in lc at /home/cpan/pit/64bit/conf/perl-5.14.1/.cpanplus/5.14.1/build/Apache-ASP-2.62/blib/lib/Apache/ASP.pm line 2018.
Use of uninitialized value $rv in lc at /home/cpan/pit/64bit/conf/perl-5.14.1/.cpanplus/5.14.1/build/Apache-ASP-2.62/blib/lib/Apache/ASP.pm line 2018.
Use of uninitialized value $rv in lc at /home/cpan/pit/64bit/conf/perl-5.14.1/.cpanplus/5.14.1/build/Apache-ASP-2.62/blib/lib/Apache/ASP.pm line 2018.
Use of uninitialized value $rv in lc at /home/cpan/pit/64bit/conf/perl-5.14.1/.cpanplus/5.14.1/build/Apache-ASP-2.62/blib/lib/Apache/ASP.pm line 2018.
Use of uninitialized value $rv in lc at /home/cpan/pit/64bit/conf/perl-5.14.1/.cpanplus/5.14.1/build/Apache-ASP-2.62/blib/lib/Apache/ASP.pm line 2018.
Use of uninitialized value $rv in lc at /home/cpan/pit/64bit/conf/perl-5.14.1/.cpanplus/5.14.1/build/Apache-ASP-2.62/blib/lib/Apache/ASP.pm line 2018.
Use of uninitialized value $rv in lc at /home/cpan/pit/64bit/conf/perl-5.14.1/.cpanplus/5.14.1/build/Apache-ASP-2.62/blib/lib/Apache/ASP.pm line 2018.
Use of uninitialized value $rv in lc at /home/cpan/pit/64bit/conf/perl-5.14.1/.cpanplus/5.14.1/build/Apache-ASP-2.62/blib/lib/Apache/ASP.pm line 2018.
Use of uninitialized value $rv in lc at /home/cpan/pit/64bit/conf/perl-5.14.1/.cpanplus/5.14.1/build/Apache-ASP-2.62/blib/lib/Apache/ASP.pm line 2018.
Use of uninitialized value $rv in lc at /home/cpan/pit/64bit/conf/perl-5.14.1/.cpanplus/5.14.1/build/Apache-ASP-2.62/blib/lib/Apache/ASP.pm line 2018.
Use of uninitialized value $rv in lc at /home/cpan/pit/64bit/conf/perl-5.14.1/.cpanplus/5.14.1/build/Apache-ASP-2.62/blib/lib/Apache/ASP.pm line 2018.
Use of uninitialized value $rv in lc at /home/cpan/pit/64bit/conf/perl-5.14.1/.cpanplus/5.14.1/build/Apache-ASP-2.62/blib/lib/Apache/ASP.pm line 2018.
Use of uninitialized value $rv in lc at /home/cpan/pit/64bit/conf/perl-5.14.1/.cpanplus/5.14.1/build/Apache-ASP-2.62/blib/lib/Apache/ASP.pm line 2018.
Use of uninitialized value $rv in lc at /home/cpan/pit/64bit/conf/perl-5.14.1/.cpanplus/5.14.1/build/Apache-ASP-2.62/blib/lib/Apache/ASP.pm line 2018.
Use of uninitialized value $rv in lc at /home/cpan/pit/64bit/conf/perl-5.14.1/.cpanplus/5.14.1/build/Apache-ASP-2.62/blib/lib/Apache/ASP.pm line 2018.
Use of uninitialized value $rv in lc at /home/cpan/pit/64bit/conf/perl-5.14.1/.cpanplus/5.14.1/build/Apache-ASP-2.62/blib/lib/Apache/ASP.pm line 2018.
Use of uninitialized value $rv in lc at /home/cpan/pit/64bit/conf/perl-5.14.1/.cpanplus/5.14.1/build/Apache-ASP-2.62/blib/lib/Apache/ASP.pm line 2018.
Use of uninitialized value $rv in lc at /home/cpan/pit/64bit/conf/perl-5.14.1/.cpanplus/5.14.1/build/Apache-ASP-2.62/blib/lib/Apache/ASP.pm line 2018.
t/end.t .................. ok
Use of uninitialized value $rv in lc at /home/cpan/pit/64bit/conf/perl-5.14.1/.cpanplus/5.14.1/build/Apache-ASP-2.62/blib/lib/Apache/ASP.pm line 2018.
Use of uninitialized value $rv in lc at /home/cpan/pit/64bit/conf/perl-5.14.1/.cpanplus/5.14.1/build/Apache-ASP-2.62/blib/lib/Apache/ASP.pm line 2018.
Use of uninitialized value $rv in lc at /home/cpan/pit/64bit/conf/perl-5.14.1/.cpanplus/5.14.1/build/Apache-ASP-2.62/blib/lib/Apache/ASP.pm line 2018.
Use of uninitialized value $rv in lc at /home/cpan/pit/64bit/conf/perl-5.14.1/.cpanplus/5.14.1/build/Apache-ASP-2.62/blib/lib/Apache/ASP.pm line 2018.
Use of uninitialized value $rv in lc at /home/cpan/pit/64bit/conf/perl-5.14.1/.cpanplus/5.14.1/build/Apache-ASP-2.62/blib/lib/Apache/ASP.pm line 2018.
Use of uninitialized value $rv in lc at /home/cpan/pit/64bit/conf/perl-5.14.1/.cpanplus/5.14.1/build/Apache-ASP-2.62/blib/lib/Apache/ASP.pm line 2018.
Use of uninitialized value $rv in lc at /home/cpan/pit/64bit/conf/perl-5.14.1/.cpanplus/5.14.1/build/Apache-ASP-2.62/blib/lib/Apache/ASP.pm line 2018.
Use of uninitialized value $rv in lc at /home/cpan/pit/64bit/conf/perl-5.14.1/.cpanplus/5.14.1/build/Apache-ASP-2.62/blib/lib/Apache/ASP.pm line 2018.
Use of uninitialized value $rv in lc at /home/cpan/pit/64bit/conf/perl-5.14.1/.cpanplus/5.14.1/build/Apache-ASP-2.62/blib/lib/Apache/ASP.pm line 2018.
Use of uninitialized value $rv in lc at /home/cpan/pit/64bit/conf/perl-5.14.1/.cpanplus/5.14.1/build/Apache-ASP-2.62/blib/lib/Apache/ASP.pm line 2018.
Use of uninitialized value $rv in lc at /home/cpan/pit/64bit/conf/perl-5.14.1/.cpanplus/5.14.1/build/Apache-ASP-2.62/blib/lib/Apache/ASP.pm line 2018.
t/general.t .............. ok
Use of uninitialized value $rv in lc at /home/cpan/pit/64bit/conf/perl-5.14.1/.cpanplus/5.14.1/build/Apache-ASP-2.62/blib/lib/Apache/ASP.pm line 2018.
Use of uninitialized value $rv in lc at /home/cpan/pit/64bit/conf/perl-5.14.1/.cpanplus/5.14.1/build/Apache-ASP-2.62/blib/lib/Apache/ASP.pm line 2018.
Use of uninitialized value $rv in lc at /home/cpan/pit/64bit/conf/perl-5.14.1/.cpanplus/5.14.1/build/Apache-ASP-2.62/blib/lib/Apache/ASP.pm line 2018.
Use of uninitialized value $rv in lc at /home/cpan/pit/64bit/conf/perl-5.14.1/.cpanplus/5.14.1/build/Apache-ASP-2.62/blib/lib/Apache/ASP.pm line 2018.
Use of uninitialized value $rv in lc at /home/cpan/pit/64bit/conf/perl-5.14.1/.cpanplus/5.14.1/build/Apache-ASP-2.62/blib/lib/Apache/ASP.pm line 2018.
Use of uninitialized value $rv in lc at /home/cpan/pit/64bit/conf/perl-5.14.1/.cpanplus/5.14.1/build/Apache-ASP-2.62/blib/lib/Apache/ASP.pm line 2018.
Use of uninitialized value $rv in lc at /home/cpan/pit/64bit/conf/perl-5.14.1/.cpanplus/5.14.1/build/Apache-ASP-2.62/blib/lib/Apache/ASP.pm line 2018.
Use of uninitialized value $rv in lc at /home/cpan/pit/64bit/conf/perl-5.14.1/.cpanplus/5.14.1/build/Apache-ASP-2.62/blib/lib/Apache/ASP.pm line 2018.
Use of uninitialized value $rv in lc at /home/cpan/pit/64bit/conf/perl-5.14.1/.cpanplus/5.14.1/build/Apache-ASP-2.62/blib/lib/Apache/ASP.pm line 2018.
Use of uninitialized value $rv in lc at /home/cpan/pit/64bit/conf/perl-5.14.1/.cpanplus/5.14.1/build/Apache-ASP-2.62/blib/lib/Apache/ASP.pm line 2018.
t/global_event_end.t ..... ok
Use of uninitialized value $rv in lc at /home/cpan/pit/64bit/conf/perl-5.14.1/.cpanplus/5.14.1/build/Apache-ASP-2.62/blib/lib/Apache/ASP.pm line 2018.
Use of uninitialized value $rv in lc at /home/cpan/pit/64bit/conf/perl-5.14.1/.cpanplus/5.14.1/build/Apache-ASP-2.62/blib/lib/Apache/ASP.pm line 2018.
Use of uninitialized value $rv in lc at /home/cpan/pit/64bit/conf/perl-5.14.1/.cpanplus/5.14.1/build/Apache-ASP-2.62/blib/lib/Apache/ASP.pm line 2018.
Use of uninitialized value $rv in lc at /home/cpan/pit/64bit/conf/perl-5.14.1/.cpanplus/5.14.1/build/Apache-ASP-2.62/blib/lib/Apache/ASP.pm line 2018.
Use of uninitialized value $rv in lc at /home/cpan/pit/64bit/conf/perl-5.14.1/.cpanplus/5.14.1/build/Apache-ASP-2.62/blib/lib/Apache/ASP.pm line 2018.
Use of uninitialized value $rv in lc at /home/cpan/pit/64bit/conf/perl-5.14.1/.cpanplus/5.14.1/build/Apache-ASP-2.62/blib/lib/Apache/ASP.pm line 2018.
Use of uninitialized value $rv in lc at /home/cpan/pit/64bit/conf/perl-5.14.1/.cpanplus/5.14.1/build/Apache-ASP-2.62/blib/lib/Apache/ASP.pm line 2018.
Use of uninitialized value $rv in lc at /home/cpan/pit/64bit/conf/perl-5.14.1/.cpanplus/5.14.1/build/Apache-ASP-2.62/blib/lib/Apache/ASP.pm line 2018.
Use of uninitialized value $rv in lc at /home/cpan/pit/64bit/conf/perl-5.14.1/.cpanplus/5.14.1/build/Apache-ASP-2.62/blib/lib/Apache/ASP.pm line 2018.
Use of uninitialized value $rv in lc at /home/cpan/pit/64bit/conf/perl-5.14.1/.cpanplus/5.14.1/build/Apache-ASP-2.62/blib/lib/Apache/ASP.pm line 2018.
t/include.t .............. ok
Use of uninitialized value $rv in lc at /home/cpan/pit/64bit/conf/perl-5.14.1/.cpanplus/5.14.1/build/Apache-ASP-2.62/blib/lib/Apache/ASP.pm line 2018.
 at /home/cpan/pit/64bit/conf/perl-5.14.1/.cpanplus/5.14.1/build/Apache-ASP-2.62/blib/lib/Apache/ASP.pm line 2018
	Apache::ASP::get_dir_config('Apache::ASP::CGI::Table=HASH(0x3c137178)', 'Global') called at /home/cpan/pit/64bit/conf/perl-5.14.1/.cpanplus/5.14.1/build/Apache-ASP-2.62/blib/lib/Apache/ASP.pm line 276
	Apache::ASP::new('Apache::ASP', 'Apache::ASP::CGI=HASH(0x3c0381f0)', 't/include_change.t') called at /home/cpan/pit/64bit/conf/perl-5.14.1/.cpanplus/5.14.1/build/Apache-ASP-2.62/blib/lib/Apache/ASP.pm line 184
	Apache::ASP::handler('Apache::ASP::CGI=HASH(0x3c0381f0)') called at /home/cpan/pit/64bit/conf/perl-5.14.1/.cpanplus/5.14.1/build/Apache-ASP-2.62/blib/lib/Apache/ASP/CGI.pm line 40
	Apache::ASP::CGI::do_self('NoState', 1, 'Debug', 0, 'UseStrict', 0) called at t/include_change.t line 5
Use of uninitialized value $rv in lc at /home/cpan/pit/64bit/conf/perl-5.14.1/.cpanplus/5.14.1/build/Apache-ASP-2.62/blib/lib/Apache/ASP.pm line 2018.
 at /home/cpan/pit/64bit/conf/perl-5.14.1/.cpanplus/5.14.1/build/Apache-ASP-2.62/blib/lib/Apache/ASP.pm line 2018
	Apache::ASP::get_dir_config('Apache::ASP::CGI::Table=HASH(0x3c137178)', 'GlobalPackage') called at /home/cpan/pit/64bit/conf/perl-5.14.1/.cpanplus/5.14.1/build/Apache-ASP-2.62/blib/lib/Apache/ASP.pm line 280
	Apache::ASP::new('Apache::ASP', 'Apache::ASP::CGI=HASH(0x3c0381f0)', 't/include_change.t') called at /home/cpan/pit/64bit/conf/perl-5.14.1/.cpanplus/5.14.1/build/Apache-ASP-2.62/blib/lib/Apache/ASP.pm line 184
	Apache::ASP::handler('Apache::ASP::CGI=HASH(0x3c0381f0)') called at /home/cpan/pit/64bit/conf/perl-5.14.1/.cpanplus/5.14.1/build/Apache-ASP-2.62/blib/lib/Apache/ASP/CGI.pm line 40
	Apache::ASP::CGI::do_self('NoState', 1, 'Debug', 0, 'UseStrict', 0) called at t/include_change.t line 5
Use of uninitialized value $rv in lc at /home/cpan/pit/64bit/conf/perl-5.14.1/.cpanplus/5.14.1/build/Apache-ASP-2.62/blib/lib/Apache/ASP.pm line 2018.
 at /home/cpan/pit/64bit/conf/perl-5.14.1/.cpanplus/5.14.1/build/Apache-ASP-2.62/blib/lib/Apache/ASP.pm line 2018
	Apache::ASP::get_dir_config('Apache::ASP::CGI::Table=HASH(0x3c137178)', 'InodeNames') called at /home/cpan/pit/64bit/conf/perl-5.14.1/.cpanplus/5.14.1/build/Apache-ASP-2.62/blib/lib/Apache/ASP.pm line 280
	Apache::ASP::new('Apache::ASP', 'Apache::ASP::CGI=HASH(0x3c0381f0)', 't/include_change.t') called at /home/cpan/pit/64bit/conf/perl-5.14.1/.cpanplus/5.14.1/build/Apache-ASP-2.62/blib/lib/Apache/ASP.pm line 184
	Apache::ASP::handler('Apache::ASP::CGI=HASH(0x3c0381f0)') called at /home/cpan/pit/64bit/conf/perl-5.14.1/.cpanplus/5.14.1/build/Apache-ASP-2.62/blib/lib/Apache/ASP/CGI.pm line 40
	Apache::ASP::CGI::do_self('NoState', 1, 'Debug', 0, 'UseStrict', 0) called at t/include_change.t line 5
Use of uninitialized value $rv in lc at /home/cpan/pit/64bit/conf/perl-5.14.1/.cpanplus/5.14.1/build/Apache-ASP-2.62/blib/lib/Apache/ASP.pm line 2018.
 at /home/cpan/pit/64bit/conf/perl-5.14.1/.cpanplus/5.14.1/build/Apache-ASP-2.62/blib/lib/Apache/ASP.pm line 2018
	Apache::ASP::get_dir_config('Apache::ASP::CGI::Table=HASH(0x3c137178)', 'NoCache') called at /home/cpan/pit/64bit/conf/perl-5.14.1/.cpanplus/5.14.1/build/Apache-ASP-2.62/blib/lib/Apache/ASP.pm line 280
	Apache::ASP::new('Apache::ASP', 'Apache::ASP::CGI=HASH(0x3c0381f0)', 't/include_change.t') called at /home/cpan/pit/64bit/conf/perl-5.14.1/.cpanplus/5.14.1/build/Apache-ASP-2.62/blib/lib/Apache/ASP.pm line 184
	Apache::ASP::handler('Apache::ASP::CGI=HASH(0x3c0381f0)') called at /home/cpan/pit/64bit/conf/perl-5.14.1/.cpanplus/5.14.1/build/Apache-ASP-2.62/blib/lib/Apache/ASP/CGI.pm line 40
	Apache::ASP::CGI::do_self('NoState', 1, 'Debug', 0, 'UseStrict', 0) called at t/include_change.t line 5
Use of uninitialized value $rv in lc at /home/cpan/pit/64bit/conf/perl-5.14.1/.cpanplus/5.14.1/build/Apache-ASP-2.62/blib/lib/Apache/ASP.pm line 2018.
 at /home/cpan/pit/64bit/conf/perl-5.14.1/.cpanplus/5.14.1/build/Apache-ASP-2.62/blib/lib/Apache/ASP.pm line 2018
	Apache::ASP::get_dir_config('Apache::ASP::CGI::Table=HASH(0x3c137178)', 'StatINC') called at /home/cpan/pit/64bit/conf/perl-5.14.1/.cpanplus/5.14.1/build/Apache-ASP-2.62/blib/lib/Apache/ASP.pm line 280
	Apache::ASP::new('Apache::ASP', 'Apache::ASP::CGI=HASH(0x3c0381f0)', 't/include_change.t') called at /home/cpan/pit/64bit/conf/perl-5.14.1/.cpanplus/5.14.1/build/Apache-ASP-2.62/blib/lib/Apache/ASP.pm line 184
	Apache::ASP::handler('Apache::ASP::CGI=HASH(0x3c0381f0)') called at /home/cpan/pit/64bit/conf/perl-5.14.1/.cpanplus/5.14.1/build/Apache-ASP-2.62/blib/lib/Apache/ASP/CGI.pm line 40
	Apache::ASP::CGI::do_self('NoState', 1, 'Debug', 0, 'UseStrict', 0) called at t/include_change.t line 5
Use of uninitialized value $rv in lc at /home/cpan/pit/64bit/conf/perl-5.14.1/.cpanplus/5.14.1/build/Apache-ASP-2.62/blib/lib/Apache/ASP.pm line 2018.
 at /home/cpan/pit/64bit/conf/perl-5.14.1/.cpanplus/5.14.1/build/Apache-ASP-2.62/blib/lib/Apache/ASP.pm line 2018
	Apache::ASP::get_dir_config('Apache::ASP::CGI::Table=HASH(0x3c137178)', 'StatINCMatch') called at /home/cpan/pit/64bit/conf/perl-5.14.1/.cpanplus/5.14.1/build/Apache-ASP-2.62/blib/lib/Apache/ASP.pm line 280
	Apache::ASP::new('Apache::ASP', 'Apache::ASP::CGI=HASH(0x3c0381f0)', 't/include_change.t') called at /home/cpan/pit/64bit/conf/perl-5.14.1/.cpanplus/5.14.1/build/Apache-ASP-2.62/blib/lib/Apache/ASP.pm line 184
	Apache::ASP::handler('Apache::ASP::CGI=HASH(0x3c0381f0)') called at /home/cpan/pit/64bit/conf/perl-5.14.1/.cpanplus/5.14.1/build/Apache-ASP-2.62/blib/lib/Apache/ASP/CGI.pm line 40
	Apache::ASP::CGI::do_self('NoState', 1, 'Debug', 0, 'UseStrict', 0) called at t/include_change.t line 5
Use of uninitialized value $rv in lc at /home/cpan/pit/64bit/conf/perl-5.14.1/.cpanplus/5.14.1/build/Apache-ASP-2.62/blib/lib/Apache/ASP.pm line 2018.
 at /home/cpan/pit/64bit/conf/perl-5.14.1/.cpanplus/5.14.1/build/Apache-ASP-2.62/blib/lib/Apache/ASP.pm line 2018
	Apache::ASP::get_dir_config('Apache::ASP::CGI::Table=HASH(0x3c137178)', 'XSLT') called at /home/cpan/pit/64bit/conf/perl-5.14.1/.cpanplus/5.14.1/build/Apache-ASP-2.62/blib/lib/Apache/ASP.pm line 280
	Apache::ASP::new('Apache::ASP', 'Apache::ASP::CGI=HASH(0x3c0381f0)', 't/include_change.t') called at /home/cpan/pit/64bit/conf/perl-5.14.1/.cpanplus/5.14.1/build/Apache-ASP-2.62/blib/lib/Apache/ASP.pm line 184
	Apache::ASP::handler('Apache::ASP::CGI=HASH(0x3c0381f0)') called at /home/cpan/pit/64bit/conf/perl-5.14.1/.cpanplus/5.14.1/build/Apache-ASP-2.62/blib/lib/Apache/ASP/CGI.pm line 40
	Apache::ASP::CGI::do_self('NoState', 1, 'Debug', 0, 'UseStrict', 0) called at t/include_change.t line 5
Use of uninitialized value $rv in lc at /home/cpan/pit/64bit/conf/perl-5.14.1/.cpanplus/5.14.1/build/Apache-ASP-2.62/blib/lib/Apache/ASP.pm line 2018.
 at /home/cpan/pit/64bit/conf/perl-5.14.1/.cpanplus/5.14.1/build/Apache-ASP-2.62/blib/lib/Apache/ASP.pm line 2018
	Apache::ASP::get_dir_config('Apache::ASP::CGI::Table=HASH(0x3c137178)', 'Filter') called at /home/cpan/pit/64bit/conf/perl-5.14.1/.cpanplus/5.14.1/build/Apache-ASP-2.62/blib/lib/Apache/ASP.pm line 326
	Apache::ASP::new('Apache::ASP', 'Apache::ASP::CGI=HASH(0x3c0381f0)', 't/include_change.t') called at /home/cpan/pit/64bit/conf/perl-5.14.1/.cpanplus/5.14.1/build/Apache-ASP-2.62/blib/lib/Apache/ASP.pm line 184
	Apache::ASP::handler('Apache::ASP::CGI=HASH(0x3c0381f0)') called at /home/cpan/pit/64bit/conf/perl-5.14.1/.cpanplus/5.14.1/build/Apache-ASP-2.62/blib/lib/Apache/ASP/CGI.pm line 40
	Apache::ASP::CGI::do_self('NoState', 1, 'Debug', 0, 'UseStrict', 0) called at t/include_change.t line 5
Use of uninitialized value $rv in lc at /home/cpan/pit/64bit/conf/perl-5.14.1/.cpanplus/5.14.1/build/Apache-ASP-2.62/blib/lib/Apache/ASP.pm line 2018.
 at /home/cpan/pit/64bit/conf/perl-5.14.1/.cpanplus/5.14.1/build/Apache-ASP-2.62/blib/lib/Apache/ASP.pm line 2018
	Apache::ASP::get_dir_config('Apache::ASP::CGI::Table=HASH(0x3c137178)', 'CompressGzip') called at /home/cpan/pit/64bit/conf/perl-5.14.1/.cpanplus/5.14.1/build/Apache-ASP-2.62/blib/lib/Apache/ASP.pm line 353
	Apache::ASP::new('Apache::ASP', 'Apache::ASP::CGI=HASH(0x3c0381f0)', 't/include_change.t') called at /home/cpan/pit/64bit/conf/perl-5.14.1/.cpanplus/5.14.1/build/Apache-ASP-2.62/blib/lib/Apache/ASP.pm line 184
	Apache::ASP::handler('Apache::ASP::CGI=HASH(0x3c0381f0)') called at /home/cpan/pit/64bit/conf/perl-5.14.1/.cpanplus/5.14.1/build/Apache-ASP-2.62/blib/lib/Apache/ASP/CGI.pm line 40
	Apache::ASP::CGI::do_self('NoState', 1, 'Debug', 0, 'UseStrict', 0) called at t/include_change.t line 5
t/include_change.t ....... ok
Use of uninitialized value $rv in lc at /home/cpan/pit/64bit/conf/perl-5.14.1/.cpanplus/5.14.1/build/Apache-ASP-2.62/blib/lib/Apache/ASP.pm line 2018.
Use of uninitialized value $rv in lc at /home/cpan/pit/64bit/conf/perl-5.14.1/.cpanplus/5.14.1/build/Apache-ASP-2.62/blib/lib/Apache/ASP.pm line 2018.
Use of uninitialized value $rv in lc at /home/cpan/pit/64bit/conf/perl-5.14.1/.cpanplus/5.14.1/build/Apache-ASP-2.62/blib/lib/Apache/ASP.pm line 2018.
Use of uninitialized value $rv in lc at /home/cpan/pit/64bit/conf/perl-5.14.1/.cpanplus/5.14.1/build/Apache-ASP-2.62/blib/lib/Apache/ASP.pm line 2018.
Use of uninitialized value $rv in lc at /home/cpan/pit/64bit/conf/perl-5.14.1/.cpanplus/5.14.1/build/Apache-ASP-2.62/blib/lib/Apache/ASP.pm line 2018.
Use of uninitialized value $rv in lc at /home/cpan/pit/64bit/conf/perl-5.14.1/.cpanplus/5.14.1/build/Apache-ASP-2.62/blib/lib/Apache/ASP.pm line 2018.
Use of uninitialized value $rv in lc at /home/cpan/pit/64bit/conf/perl-5.14.1/.cpanplus/5.14.1/build/Apache-ASP-2.62/blib/lib/Apache/ASP.pm line 2018.
Use of uninitialized value $rv in lc at /home/cpan/pit/64bit/conf/perl-5.14.1/.cpanplus/5.14.1/build/Apache-ASP-2.62/blib/lib/Apache/ASP.pm line 2018.
Use of uninitialized value $rv in lc at /home/cpan/pit/64bit/conf/perl-5.14.1/.cpanplus/5.14.1/build/Apache-ASP-2.62/blib/lib/Apache/ASP.pm line 2018.
Use of uninitialized value $rv in lc at /home/cpan/pit/64bit/conf/perl-5.14.1/.cpanplus/5.14.1/build/Apache-ASP-2.62/blib/lib/Apache/ASP.pm line 2018.
Use of uninitialized value $rv in lc at /home/cpan/pit/64bit/conf/perl-5.14.1/.cpanplus/5.14.1/build/Apache-ASP-2.62/blib/lib/Apache/ASP.pm line 2018.
t/include_dir_error.t .... ok
Use of uninitialized value $rv in lc at /home/cpan/pit/64bit/conf/perl-5.14.1/.cpanplus/5.14.1/build/Apache-ASP-2.62/blib/lib/Apache/ASP.pm line 2018.
Use of uninitialized value $rv in lc at /home/cpan/pit/64bit/conf/perl-5.14.1/.cpanplus/5.14.1/build/Apache-ASP-2.62/blib/lib/Apache/ASP.pm line 2018.
Use of uninitialized value $rv in lc at /home/cpan/pit/64bit/conf/perl-5.14.1/.cpanplus/5.14.1/build/Apache-ASP-2.62/blib/lib/Apache/ASP.pm line 2018.
Use of uninitialized value $rv in lc at /home/cpan/pit/64bit/conf/perl-5.14.1/.cpanplus/5.14.1/build/Apache-ASP-2.62/blib/lib/Apache/ASP.pm line 2018.
Use of uninitialized value $rv in lc at /home/cpan/pit/64bit/conf/perl-5.14.1/.cpanplus/5.14.1/build/Apache-ASP-2.62/blib/lib/Apache/ASP.pm line 2018.
Use of uninitialized value $rv in lc at /home/cpan/pit/64bit/conf/perl-5.14.1/.cpanplus/5.14.1/build/Apache-ASP-2.62/blib/lib/Apache/ASP.pm line 2018.
Use of uninitialized value $rv in lc at /home/cpan/pit/64bit/conf/perl-5.14.1/.cpanplus/5.14.1/build/Apache-ASP-2.62/blib/lib/Apache/ASP.pm line 2018.
Use of uninitialized value $rv in lc at /home/cpan/pit/64bit/conf/perl-5.14.1/.cpanplus/5.14.1/build/Apache-ASP-2.62/blib/lib/Apache/ASP.pm line 2018.
Use of uninitialized value $rv in lc at /home/cpan/pit/64bit/conf/perl-5.14.1/.cpanplus/5.14.1/build/Apache-ASP-2.62/blib/lib/Apache/ASP.pm line 2018.
Use of uninitialized value $rv in lc at /home/cpan/pit/64bit/conf/perl-5.14.1/.cpanplus/5.14.1/build/Apache-ASP-2.62/blib/lib/Apache/ASP.pm line 2018.
Use of uninitialized value $rv in lc at /home/cpan/pit/64bit/conf/perl-5.14.1/.cpanplus/5.14.1/build/Apache-ASP-2.62/blib/lib/Apache/ASP.pm line 2018.
t/include_runtime.t ...... ok
Use of uninitialized value $rv in lc at /home/cpan/pit/64bit/conf/perl-5.14.1/.cpanplus/5.14.1/build/Apache-ASP-2.62/blib/lib/Apache/ASP.pm line 2018.
Use of uninitialized value $rv in lc at /home/cpan/pit/64bit/conf/perl-5.14.1/.cpanplus/5.14.1/build/Apache-ASP-2.62/blib/lib/Apache/ASP.pm line 2018.
Use of uninitialized value $rv in lc at /home/cpan/pit/64bit/conf/perl-5.14.1/.cpanplus/5.14.1/build/Apache-ASP-2.62/blib/lib/Apache/ASP.pm line 2018.
Use of uninitialized value $rv in lc at /home/cpan/pit/64bit/conf/perl-5.14.1/.cpanplus/5.14.1/build/Apache-ASP-2.62/blib/lib/Apache/ASP.pm line 2018.
Use of uninitialized value $rv in lc at /home/cpan/pit/64bit/conf/perl-5.14.1/.cpanplus/5.14.1/build/Apache-ASP-2.62/blib/lib/Apache/ASP.pm line 2018.
Use of uninitialized value $rv in lc at /home/cpan/pit/64bit/conf/perl-5.14.1/.cpanplus/5.14.1/build/Apache-ASP-2.62/blib/lib/Apache/ASP.pm line 2018.
Use of uninitialized value $rv in lc at /home/cpan/pit/64bit/conf/perl-5.14.1/.cpanplus/5.14.1/build/Apache-ASP-2.62/blib/lib/Apache/ASP.pm line 2018.
Use of uninitialized value $rv in lc at /home/cpan/pit/64bit/conf/perl-5.14.1/.cpanplus/5.14.1/build/Apache-ASP-2.62/blib/lib/Apache/ASP.pm line 2018.
Use of uninitialized value $rv in lc at /home/cpan/pit/64bit/conf/perl-5.14.1/.cpanplus/5.14.1/build/Apache-ASP-2.62/blib/lib/Apache/ASP.pm line 2018.
t/inode_names.t .......... ok
[ASP WARN] Use of uninitialized value $rv in lc at /home/cpan/pit/64bit/conf/perl-5.14.1/.cpanplus/5.14.1/build/Apache-ASP-2.62/blib/lib/Apache/ASP.pm line 2018.
[ASP WARN] Use of uninitialized value $rv in lc at /home/cpan/pit/64bit/conf/perl-5.14.1/.cpanplus/5.14.1/build/Apache-ASP-2.62/blib/lib/Apache/ASP.pm line 2018.
[ASP WARN] Use of uninitialized value $rv in lc at /home/cpan/pit/64bit/conf/perl-5.14.1/.cpanplus/5.14.1/build/Apache-ASP-2.62/blib/lib/Apache/ASP.pm line 2018.
[ASP WARN] Use of uninitialized value $rv in lc at /home/cpan/pit/64bit/conf/perl-5.14.1/.cpanplus/5.14.1/build/Apache-ASP-2.62/blib/lib/Apache/ASP.pm line 2018.
[ASP WARN] Use of uninitialized value $rv in lc at /home/cpan/pit/64bit/conf/perl-5.14.1/.cpanplus/5.14.1/build/Apache-ASP-2.62/blib/lib/Apache/ASP.pm line 2018.
[ASP WARN] Use of uninitialized value $rv in lc at /home/cpan/pit/64bit/conf/perl-5.14.1/.cpanplus/5.14.1/build/Apache-ASP-2.62/blib/lib/Apache/ASP.pm line 2018.
[ASP WARN] Use of uninitialized value $rv in lc at /home/cpan/pit/64bit/conf/perl-5.14.1/.cpanplus/5.14.1/build/Apache-ASP-2.62/blib/lib/Apache/ASP.pm line 2018.
[ASP WARN] Use of uninitialized value $rv in lc at /home/cpan/pit/64bit/conf/perl-5.14.1/.cpanplus/5.14.1/build/Apache-ASP-2.62/blib/lib/Apache/ASP.pm line 2018.
[ASP WARN] Use of uninitialized value $rv in lc at /home/cpan/pit/64bit/conf/perl-5.14.1/.cpanplus/5.14.1/build/Apache-ASP-2.62/blib/lib/Apache/ASP.pm line 2018.
[ASP WARN] Use of uninitialized value $rv in lc at /home/cpan/pit/64bit/conf/perl-5.14.1/.cpanplus/5.14.1/build/Apache-ASP-2.62/blib/lib/Apache/ASP.pm line 2018.
Use of uninitialized value $rv in lc at /home/cpan/pit/64bit/conf/perl-5.14.1/.cpanplus/5.14.1/build/Apache-ASP-2.62/blib/lib/Apache/ASP.pm line 2018.
Use of uninitialized value $rv in lc at /home/cpan/pit/64bit/conf/perl-5.14.1/.cpanplus/5.14.1/build/Apache-ASP-2.62/blib/lib/Apache/ASP.pm line 2018.
Use of uninitialized value $rv in lc at /home/cpan/pit/64bit/conf/perl-5.14.1/.cpanplus/5.14.1/build/Apache-ASP-2.62/blib/lib/Apache/ASP.pm line 2018.
Use of uninitialized value $rv in lc at /home/cpan/pit/64bit/conf/perl-5.14.1/.cpanplus/5.14.1/build/Apache-ASP-2.62/blib/lib/Apache/ASP.pm line 2018.
Use of uninitialized value $rv in lc at /home/cpan/pit/64bit/conf/perl-5.14.1/.cpanplus/5.14.1/build/Apache-ASP-2.62/blib/lib/Apache/ASP.pm line 2018.
Use of uninitialized value $rv in lc at /home/cpan/pit/64bit/conf/perl-5.14.1/.cpanplus/5.14.1/build/Apache-ASP-2.62/blib/lib/Apache/ASP.pm line 2018.
Use of uninitialized value $rv in lc at /home/cpan/pit/64bit/conf/perl-5.14.1/.cpanplus/5.14.1/build/Apache-ASP-2.62/blib/lib/Apache/ASP.pm line 2018.
Use of uninitialized value $rv in lc at /home/cpan/pit/64bit/conf/perl-5.14.1/.cpanplus/5.14.1/build/Apache-ASP-2.62/blib/lib/Apache/ASP.pm line 2018.
Use of uninitialized value $rv in lc at /home/cpan/pit/64bit/conf/perl-5.14.1/.cpanplus/5.14.1/build/Apache-ASP-2.62/blib/lib/Apache/ASP.pm line 2018.
t/load.t ................. ok
Use of uninitialized value $rv in lc at /home/cpan/pit/64bit/conf/perl-5.14.1/.cpanplus/5.14.1/build/Apache-ASP-2.62/blib/lib/Apache/ASP.pm line 2018.
Use of uninitialized value $rv in lc at /home/cpan/pit/64bit/conf/perl-5.14.1/.cpanplus/5.14.1/build/Apache-ASP-2.62/blib/lib/Apache/ASP.pm line 2018.
Use of uninitialized value $rv in lc at /home/cpan/pit/64bit/conf/perl-5.14.1/.cpanplus/5.14.1/build/Apache-ASP-2.62/blib/lib/Apache/ASP.pm line 2018.
Use of uninitialized value $rv in lc at /home/cpan/pit/64bit/conf/perl-5.14.1/.cpanplus/5.14.1/build/Apache-ASP-2.62/blib/lib/Apache/ASP.pm line 2018.
Use of uninitialized value $rv in lc at /home/cpan/pit/64bit/conf/perl-5.14.1/.cpanplus/5.14.1/build/Apache-ASP-2.62/blib/lib/Apache/ASP.pm line 2018.
Use of uninitialized value $rv in lc at /home/cpan/pit/64bit/conf/perl-5.14.1/.cpanplus/5.14.1/build/Apache-ASP-2.62/blib/lib/Apache/ASP.pm line 2018.
Use of uninitialized value $rv in lc at /home/cpan/pit/64bit/conf/perl-5.14.1/.cpanplus/5.14.1/build/Apache-ASP-2.62/blib/lib/Apache/ASP.pm line 2018.
Use of uninitialized value $rv in lc at /home/cpan/pit/64bit/conf/perl-5.14.1/.cpanplus/5.14.1/build/Apache-ASP-2.62/blib/lib/Apache/ASP.pm line 2018.
Use of uninitialized value $rv in lc at /home/cpan/pit/64bit/conf/perl-5.14.1/.cpanplus/5.14.1/build/Apache-ASP-2.62/blib/lib/Apache/ASP.pm line 2018.
t/long_names.t ........... ok
Use of uninitialized value $rv in lc at /home/cpan/pit/64bit/conf/perl-5.14.1/.cpanplus/5.14.1/build/Apache-ASP-2.62/blib/lib/Apache/ASP.pm line 2018.
Use of uninitialized value $rv in lc at /home/cpan/pit/64bit/conf/perl-5.14.1/.cpanplus/5.14.1/build/Apache-ASP-2.62/blib/lib/Apache/ASP.pm line 2018.
Use of uninitialized value $rv in lc at /home/cpan/pit/64bit/conf/perl-5.14.1/.cpanplus/5.14.1/build/Apache-ASP-2.62/blib/lib/Apache/ASP.pm line 2018.
Use of uninitialized value $rv in lc at /home/cpan/pit/64bit/conf/perl-5.14.1/.cpanplus/5.14.1/build/Apache-ASP-2.62/blib/lib/Apache/ASP.pm line 2018.
Use of uninitialized value $rv in lc at /home/cpan/pit/64bit/conf/perl-5.14.1/.cpanplus/5.14.1/build/Apache-ASP-2.62/blib/lib/Apache/ASP.pm line 2018.
Use of uninitialized value $rv in lc at /home/cpan/pit/64bit/conf/perl-5.14.1/.cpanplus/5.14.1/build/Apache-ASP-2.62/blib/lib/Apache/ASP.pm line 2018.
Use of uninitialized value $rv in lc at /home/cpan/pit/64bit/conf/perl-5.14.1/.cpanplus/5.14.1/build/Apache-ASP-2.62/blib/lib/Apache/ASP.pm line 2018.
Use of uninitialized value $rv in lc at /home/cpan/pit/64bit/conf/perl-5.14.1/.cpanplus/5.14.1/build/Apache-ASP-2.62/blib/lib/Apache/ASP.pm line 2018.
Use of uninitialized value $rv in lc at /home/cpan/pit/64bit/conf/perl-5.14.1/.cpanplus/5.14.1/build/Apache-ASP-2.62/blib/lib/Apache/ASP.pm line 2018.
Use of uninitialized value $rv in lc at /home/cpan/pit/64bit/conf/perl-5.14.1/.cpanplus/5.14.1/build/Apache-ASP-2.62/blib/lib/Apache/ASP.pm line 2018.
Use of uninitialized value $rv in lc at /home/cpan/pit/64bit/conf/perl-5.14.1/.cpanplus/5.14.1/build/Apache-ASP-2.62/blib/lib/Apache/ASP.pm line 2018.
t/loops.t ................ ok
Use of uninitialized value $rv in lc at /home/cpan/pit/64bit/conf/perl-5.14.1/.cpanplus/5.14.1/build/Apache-ASP-2.62/blib/lib/Apache/ASP.pm line 2018.
Use of uninitialized value $rv in lc at /home/cpan/pit/64bit/conf/perl-5.14.1/.cpanplus/5.14.1/build/Apache-ASP-2.62/blib/lib/Apache/ASP.pm line 2018.
Use of uninitialized value $rv in lc at /home/cpan/pit/64bit/conf/perl-5.14.1/.cpanplus/5.14.1/build/Apache-ASP-2.62/blib/lib/Apache/ASP.pm line 2018.
Use of uninitialized value $rv in lc at /home/cpan/pit/64bit/conf/perl-5.14.1/.cpanplus/5.14.1/build/Apache-ASP-2.62/blib/lib/Apache/ASP.pm line 2018.
Use of uninitialized value $rv in lc at /home/cpan/pit/64bit/conf/perl-5.14.1/.cpanplus/5.14.1/build/Apache-ASP-2.62/blib/lib/Apache/ASP.pm line 2018.
Use of uninitialized value $rv in lc at /home/cpan/pit/64bit/conf/perl-5.14.1/.cpanplus/5.14.1/build/Apache-ASP-2.62/blib/lib/Apache/ASP.pm line 2018.
Use of uninitialized value $rv in lc at /home/cpan/pit/64bit/conf/perl-5.14.1/.cpanplus/5.14.1/build/Apache-ASP-2.62/blib/lib/Apache/ASP.pm line 2018.
Use of uninitialized value $rv in lc at /home/cpan/pit/64bit/conf/perl-5.14.1/.cpanplus/5.14.1/build/Apache-ASP-2.62/blib/lib/Apache/ASP.pm line 2018.
Use of uninitialized value $rv in lc at /home/cpan/pit/64bit/conf/perl-5.14.1/.cpanplus/5.14.1/build/Apache-ASP-2.62/blib/lib/Apache/ASP.pm line 2018.
Use of uninitialized value $rv in lc at /home/cpan/pit/64bit/conf/perl-5.14.1/.cpanplus/5.14.1/build/Apache-ASP-2.62/blib/lib/Apache/ASP.pm line 2018.
t/mail_error.t ........... ok
Use of uninitialized value $rv in lc at /home/cpan/pit/64bit/conf/perl-5.14.1/.cpanplus/5.14.1/build/Apache-ASP-2.62/blib/lib/Apache/ASP.pm line 2018.
Use of uninitialized value $rv in lc at /home/cpan/pit/64bit/conf/perl-5.14.1/.cpanplus/5.14.1/build/Apache-ASP-2.62/blib/lib/Apache/ASP.pm line 2018.
Use of uninitialized value $rv in lc at /home/cpan/pit/64bit/conf/perl-5.14.1/.cpanplus/5.14.1/build/Apache-ASP-2.62/blib/lib/Apache/ASP.pm line 2018.
Use of uninitialized value $rv in lc at /home/cpan/pit/64bit/conf/perl-5.14.1/.cpanplus/5.14.1/build/Apache-ASP-2.62/blib/lib/Apache/ASP.pm line 2018.
Use of uninitialized value $rv in lc at /home/cpan/pit/64bit/conf/perl-5.14.1/.cpanplus/5.14.1/build/Apache-ASP-2.62/blib/lib/Apache/ASP.pm line 2018.
Use of uninitialized value $rv in lc at /home/cpan/pit/64bit/conf/perl-5.14.1/.cpanplus/5.14.1/build/Apache-ASP-2.62/blib/lib/Apache/ASP.pm line 2018.
Use of uninitialized value $rv in lc at /home/cpan/pit/64bit/conf/perl-5.14.1/.cpanplus/5.14.1/build/Apache-ASP-2.62/blib/lib/Apache/ASP.pm line 2018.
t/no_cache.t ............. ok
Use of uninitialized value $rv in lc at /home/cpan/pit/64bit/conf/perl-5.14.1/.cpanplus/5.14.1/build/Apache-ASP-2.62/blib/lib/Apache/ASP.pm line 2018.
Use of uninitialized value $rv in lc at /home/cpan/pit/64bit/conf/perl-5.14.1/.cpanplus/5.14.1/build/Apache-ASP-2.62/blib/lib/Apache/ASP.pm line 2018.
Use of uninitialized value $rv in lc at /home/cpan/pit/64bit/conf/perl-5.14.1/.cpanplus/5.14.1/build/Apache-ASP-2.62/blib/lib/Apache/ASP.pm line 2018.
Use of uninitialized value $rv in lc at /home/cpan/pit/64bit/conf/perl-5.14.1/.cpanplus/5.14.1/build/Apache-ASP-2.62/blib/lib/Apache/ASP.pm line 2018.
Use of uninitialized value $rv in lc at /home/cpan/pit/64bit/conf/perl-5.14.1/.cpanplus/5.14.1/build/Apache-ASP-2.62/blib/lib/Apache/ASP.pm line 2018.
Use of uninitialized value $rv in lc at /home/cpan/pit/64bit/conf/perl-5.14.1/.cpanplus/5.14.1/build/Apache-ASP-2.62/blib/lib/Apache/ASP.pm line 2018.
Use of uninitialized value $rv in lc at /home/cpan/pit/64bit/conf/perl-5.14.1/.cpanplus/5.14.1/build/Apache-ASP-2.62/blib/lib/Apache/ASP.pm line 2018.
Use of uninitialized value $rv in lc at /home/cpan/pit/64bit/conf/perl-5.14.1/.cpanplus/5.14.1/build/Apache-ASP-2.62/blib/lib/Apache/ASP.pm line 2018.
Use of uninitialized value $rv in lc at /home/cpan/pit/64bit/conf/perl-5.14.1/.cpanplus/5.14.1/build/Apache-ASP-2.62/blib/lib/Apache/ASP.pm line 2018.
t/raw.t .................. ok
Use of uninitialized value $rv in lc at /home/cpan/pit/64bit/conf/perl-5.14.1/.cpanplus/5.14.1/build/Apache-ASP-2.62/blib/lib/Apache/ASP.pm line 2018.
Use of uninitialized value $rv in lc at /home/cpan/pit/64bit/conf/perl-5.14.1/.cpanplus/5.14.1/build/Apache-ASP-2.62/blib/lib/Apache/ASP.pm line 2018.
Use of uninitialized value $rv in lc at /home/cpan/pit/64bit/conf/perl-5.14.1/.cpanplus/5.14.1/build/Apache-ASP-2.62/blib/lib/Apache/ASP.pm line 2018.
Use of uninitialized value $rv in lc at /home/cpan/pit/64bit/conf/perl-5.14.1/.cpanplus/5.14.1/build/Apache-ASP-2.62/blib/lib/Apache/ASP.pm line 2018.
Use of uninitialized value $rv in lc at /home/cpan/pit/64bit/conf/perl-5.14.1/.cpanplus/5.14.1/build/Apache-ASP-2.62/blib/lib/Apache/ASP.pm line 2018.
Use of uninitialized value $rv in lc at /home/cpan/pit/64bit/conf/perl-5.14.1/.cpanplus/5.14.1/build/Apache-ASP-2.62/blib/lib/Apache/ASP.pm line 2018.
Use of uninitialized value $rv in lc at /home/cpan/pit/64bit/conf/perl-5.14.1/.cpanplus/5.14.1/build/Apache-ASP-2.62/blib/lib/Apache/ASP.pm line 2018.
Use of uninitialized value $rv in lc at /home/cpan/pit/64bit/conf/perl-5.14.1/.cpanplus/5.14.1/build/Apache-ASP-2.62/blib/lib/Apache/ASP.pm line 2018.
Use of uninitialized value $rv in lc at /home/cpan/pit/64bit/conf/perl-5.14.1/.cpanplus/5.14.1/build/Apache-ASP-2.62/blib/lib/Apache/ASP.pm line 2018.
t/raw_include.t .......... ok
Use of uninitialized value $rv in lc at /home/cpan/pit/64bit/conf/perl-5.14.1/.cpanplus/5.14.1/build/Apache-ASP-2.62/blib/lib/Apache/ASP.pm line 2018.
Use of uninitialized value $rv in lc at /home/cpan/pit/64bit/conf/perl-5.14.1/.cpanplus/5.14.1/build/Apache-ASP-2.62/blib/lib/Apache/ASP.pm line 2018.
Use of uninitialized value $rv in lc at /home/cpan/pit/64bit/conf/perl-5.14.1/.cpanplus/5.14.1/build/Apache-ASP-2.62/blib/lib/Apache/ASP.pm line 2018.
Use of uninitialized value $rv in lc at /home/cpan/pit/64bit/conf/perl-5.14.1/.cpanplus/5.14.1/build/Apache-ASP-2.62/blib/lib/Apache/ASP.pm line 2018.
Use of uninitialized value $rv in lc at /home/cpan/pit/64bit/conf/perl-5.14.1/.cpanplus/5.14.1/build/Apache-ASP-2.62/blib/lib/Apache/ASP.pm line 2018.
Use of uninitialized value $rv in lc at /home/cpan/pit/64bit/conf/perl-5.14.1/.cpanplus/5.14.1/build/Apache-ASP-2.62/blib/lib/Apache/ASP.pm line 2018.
Use of uninitialized value $rv in lc at /home/cpan/pit/64bit/conf/perl-5.14.1/.cpanplus/5.14.1/build/Apache-ASP-2.62/blib/lib/Apache/ASP.pm line 2018.
Use of uninitialized value $rv in lc at /home/cpan/pit/64bit/conf/perl-5.14.1/.cpanplus/5.14.1/build/Apache-ASP-2.62/blib/lib/Apache/ASP.pm line 2018.
Use of uninitialized value $rv in lc at /home/cpan/pit/64bit/conf/perl-5.14.1/.cpanplus/5.14.1/build/Apache-ASP-2.62/blib/lib/Apache/ASP.pm line 2018.
Use of uninitialized value $rv in lc at /home/cpan/pit/64bit/conf/perl-5.14.1/.cpanplus/5.14.1/build/Apache-ASP-2.62/blib/lib/Apache/ASP.pm line 2018.
Use of uninitialized value $rv in lc at /home/cpan/pit/64bit/conf/perl-5.14.1/.cpanplus/5.14.1/build/Apache-ASP-2.62/blib/lib/Apache/ASP.pm line 2018.
Use of uninitialized value $rv in lc at /home/cpan/pit/64bit/conf/perl-5.14.1/.cpanplus/5.14.1/build/Apache-ASP-2.62/blib/lib/Apache/ASP.pm line 2018.
Use of uninitialized value $rv in lc at /home/cpan/pit/64bit/conf/perl-5.14.1/.cpanplus/5.14.1/build/Apache-ASP-2.62/blib/lib/Apache/ASP.pm line 2018.
Use of uninitialized value $rv in lc at /home/cpan/pit/64bit/conf/perl-5.14.1/.cpanplus/5.14.1/build/Apache-ASP-2.62/blib/lib/Apache/ASP.pm line 2018.
Use of uninitialized value $rv in lc at /home/cpan/pit/64bit/conf/perl-5.14.1/.cpanplus/5.14.1/build/Apache-ASP-2.62/blib/lib/Apache/ASP.pm line 2018.
Use of uninitialized value $rv in lc at /home/cpan/pit/64bit/conf/perl-5.14.1/.cpanplus/5.14.1/build/Apache-ASP-2.62/blib/lib/Apache/ASP.pm line 2018.
Use of uninitialized value $rv in lc at /home/cpan/pit/64bit/conf/perl-5.14.1/.cpanplus/5.14.1/build/Apache-ASP-2.62/blib/lib/Apache/ASP.pm line 2018.
Use of uninitialized value $rv in lc at /home/cpan/pit/64bit/conf/perl-5.14.1/.cpanplus/5.14.1/build/Apache-ASP-2.62/blib/lib/Apache/ASP.pm line 2018.
Use of uninitialized value $rv in lc at /home/cpan/pit/64bit/conf/perl-5.14.1/.cpanplus/5.14.1/build/Apache-ASP-2.62/blib/lib/Apache/ASP.pm line 2018.
Use of uninitialized value $rv in lc at /home/cpan/pit/64bit/conf/perl-5.14.1/.cpanplus/5.14.1/build/Apache-ASP-2.62/blib/lib/Apache/ASP.pm line 2018.
t/reload_global_asa.t .... ok
Use of uninitialized value $rv in lc at /home/cpan/pit/64bit/conf/perl-5.14.1/.cpanplus/5.14.1/build/Apache-ASP-2.62/blib/lib/Apache/ASP.pm line 2018.
Use of uninitialized value $rv in lc at /home/cpan/pit/64bit/conf/perl-5.14.1/.cpanplus/5.14.1/build/Apache-ASP-2.62/blib/lib/Apache/ASP.pm line 2018.
Use of uninitialized value $rv in lc at /home/cpan/pit/64bit/conf/perl-5.14.1/.cpanplus/5.14.1/build/Apache-ASP-2.62/blib/lib/Apache/ASP.pm line 2018.
Use of uninitialized value $rv in lc at /home/cpan/pit/64bit/conf/perl-5.14.1/.cpanplus/5.14.1/build/Apache-ASP-2.62/blib/lib/Apache/ASP.pm line 2018.
Use of uninitialized value $rv in lc at /home/cpan/pit/64bit/conf/perl-5.14.1/.cpanplus/5.14.1/build/Apache-ASP-2.62/blib/lib/Apache/ASP.pm line 2018.
Use of uninitialized value $rv in lc at /home/cpan/pit/64bit/conf/perl-5.14.1/.cpanplus/5.14.1/build/Apache-ASP-2.62/blib/lib/Apache/ASP.pm line 2018.
Use of uninitialized value $rv in lc at /home/cpan/pit/64bit/conf/perl-5.14.1/.cpanplus/5.14.1/build/Apache-ASP-2.62/blib/lib/Apache/ASP.pm line 2018.
Use of uninitialized value $rv in lc at /home/cpan/pit/64bit/conf/perl-5.14.1/.cpanplus/5.14.1/build/Apache-ASP-2.62/blib/lib/Apache/ASP.pm line 2018.
Use of uninitialized value $rv in lc at /home/cpan/pit/64bit/conf/perl-5.14.1/.cpanplus/5.14.1/build/Apache-ASP-2.62/blib/lib/Apache/ASP.pm line 2018.
Use of uninitialized value $rv in lc at /home/cpan/pit/64bit/conf/perl-5.14.1/.cpanplus/5.14.1/build/Apache-ASP-2.62/blib/lib/Apache/ASP.pm line 2018.
Use of uninitialized value $rv in lc at /home/cpan/pit/64bit/conf/perl-5.14.1/.cpanplus/5.14.1/build/Apache-ASP-2.62/blib/lib/Apache/ASP.pm line 2018.
t/req_params_none.t ...... ok
Use of uninitialized value $rv in lc at /home/cpan/pit/64bit/conf/perl-5.14.1/.cpanplus/5.14.1/build/Apache-ASP-2.62/blib/lib/Apache/ASP.pm line 2018.
Use of uninitialized value $rv in lc at /home/cpan/pit/64bit/conf/perl-5.14.1/.cpanplus/5.14.1/build/Apache-ASP-2.62/blib/lib/Apache/ASP.pm line 2018.
Use of uninitialized value $rv in lc at /home/cpan/pit/64bit/conf/perl-5.14.1/.cpanplus/5.14.1/build/Apache-ASP-2.62/blib/lib/Apache/ASP.pm line 2018.
Use of uninitialized value $rv in lc at /home/cpan/pit/64bit/conf/perl-5.14.1/.cpanplus/5.14.1/build/Apache-ASP-2.62/blib/lib/Apache/ASP.pm line 2018.
Use of uninitialized value $rv in lc at /home/cpan/pit/64bit/conf/perl-5.14.1/.cpanplus/5.14.1/build/Apache-ASP-2.62/blib/lib/Apache/ASP.pm line 2018.
Use of uninitialized value $rv in lc at /home/cpan/pit/64bit/conf/perl-5.14.1/.cpanplus/5.14.1/build/Apache-ASP-2.62/blib/lib/Apache/ASP.pm line 2018.
Use of uninitialized value $rv in lc at /home/cpan/pit/64bit/conf/perl-5.14.1/.cpanplus/5.14.1/build/Apache-ASP-2.62/blib/lib/Apache/ASP.pm line 2018.
Use of uninitialized value $rv in lc at /home/cpan/pit/64bit/conf/perl-5.14.1/.cpanplus/5.14.1/build/Apache-ASP-2.62/blib/lib/Apache/ASP.pm line 2018.
Use of uninitialized value $rv in lc at /home/cpan/pit/64bit/conf/perl-5.14.1/.cpanplus/5.14.1/build/Apache-ASP-2.62/blib/lib/Apache/ASP.pm line 2018.
Use of uninitialized value $rv in lc at /home/cpan/pit/64bit/conf/perl-5.14.1/.cpanplus/5.14.1/build/Apache-ASP-2.62/blib/lib/Apache/ASP.pm line 2018.
Use of uninitialized value $rv in lc at /home/cpan/pit/64bit/conf/perl-5.14.1/.cpanplus/5.14.1/build/Apache-ASP-2.62/blib/lib/Apache/ASP.pm line 2018.
t/request.t .............. ok
Use of uninitialized value $rv in lc at /home/cpan/pit/64bit/conf/perl-5.14.1/.cpanplus/5.14.1/build/Apache-ASP-2.62/blib/lib/Apache/ASP.pm line 2018.
Use of uninitialized value $rv in lc at /home/cpan/pit/64bit/conf/perl-5.14.1/.cpanplus/5.14.1/build/Apache-ASP-2.62/blib/lib/Apache/ASP.pm line 2018.
Use of uninitialized value $rv in lc at /home/cpan/pit/64bit/conf/perl-5.14.1/.cpanplus/5.14.1/build/Apache-ASP-2.62/blib/lib/Apache/ASP.pm line 2018.
Use of uninitialized value $rv in lc at /home/cpan/pit/64bit/conf/perl-5.14.1/.cpanplus/5.14.1/build/Apache-ASP-2.62/blib/lib/Apache/ASP.pm line 2018.
Use of uninitialized value $rv in lc at /home/cpan/pit/64bit/conf/perl-5.14.1/.cpanplus/5.14.1/build/Apache-ASP-2.62/blib/lib/Apache/ASP.pm line 2018.
Use of uninitialized value $rv in lc at /home/cpan/pit/64bit/conf/perl-5.14.1/.cpanplus/5.14.1/build/Apache-ASP-2.62/blib/lib/Apache/ASP.pm line 2018.
Use of uninitialized value $rv in lc at /home/cpan/pit/64bit/conf/perl-5.14.1/.cpanplus/5.14.1/build/Apache-ASP-2.62/blib/lib/Apache/ASP.pm line 2018.
Use of uninitialized value $rv in lc at /home/cpan/pit/64bit/conf/perl-5.14.1/.cpanplus/5.14.1/build/Apache-ASP-2.62/blib/lib/Apache/ASP.pm line 2018.
Use of uninitialized value $rv in lc at /home/cpan/pit/64bit/conf/perl-5.14.1/.cpanplus/5.14.1/build/Apache-ASP-2.62/blib/lib/Apache/ASP.pm line 2018.
Use of uninitialized value $rv in lc at /home/cpan/pit/64bit/conf/perl-5.14.1/.cpanplus/5.14.1/build/Apache-ASP-2.62/blib/lib/Apache/ASP.pm line 2018.
Use of uninitialized value $rv in lc at /home/cpan/pit/64bit/conf/perl-5.14.1/.cpanplus/5.14.1/build/Apache-ASP-2.62/blib/lib/Apache/ASP.pm line 2018.
t/response.t ............. ok
Use of uninitialized value $rv in lc at /home/cpan/pit/64bit/conf/perl-5.14.1/.cpanplus/5.14.1/build/Apache-ASP-2.62/blib/lib/Apache/ASP.pm line 2018.
Use of uninitialized value $rv in lc at /home/cpan/pit/64bit/conf/perl-5.14.1/.cpanplus/5.14.1/build/Apache-ASP-2.62/blib/lib/Apache/ASP.pm line 2018.
Use of uninitialized value $rv in lc at /home/cpan/pit/64bit/conf/perl-5.14.1/.cpanplus/5.14.1/build/Apache-ASP-2.62/blib/lib/Apache/ASP.pm line 2018.
Use of uninitialized value $rv in lc at /home/cpan/pit/64bit/conf/perl-5.14.1/.cpanplus/5.14.1/build/Apache-ASP-2.62/blib/lib/Apache/ASP.pm line 2018.
Use of uninitialized value $rv in lc at /home/cpan/pit/64bit/conf/perl-5.14.1/.cpanplus/5.14.1/build/Apache-ASP-2.62/blib/lib/Apache/ASP.pm line 2018.
Use of uninitialized value $rv in lc at /home/cpan/pit/64bit/conf/perl-5.14.1/.cpanplus/5.14.1/build/Apache-ASP-2.62/blib/lib/Apache/ASP.pm line 2018.
Use of uninitialized value $rv in lc at /home/cpan/pit/64bit/conf/perl-5.14.1/.cpanplus/5.14.1/build/Apache-ASP-2.62/blib/lib/Apache/ASP.pm line 2018.
Use of uninitialized value $rv in lc at /home/cpan/pit/64bit/conf/perl-5.14.1/.cpanplus/5.14.1/build/Apache-ASP-2.62/blib/lib/Apache/ASP.pm line 2018.
Use of uninitialized value $rv in lc at /home/cpan/pit/64bit/conf/perl-5.14.1/.cpanplus/5.14.1/build/Apache-ASP-2.62/blib/lib/Apache/ASP.pm line 2018.
Use of uninitialized value $rv in lc at /home/cpan/pit/64bit/conf/perl-5.14.1/.cpanplus/5.14.1/build/Apache-ASP-2.62/blib/lib/Apache/ASP.pm line 2018.
Use of uninitialized value $rv in lc at /home/cpan/pit/64bit/conf/perl-5.14.1/.cpanplus/5.14.1/build/Apache-ASP-2.62/blib/lib/Apache/ASP.pm line 2018.
t/response_end.t ......... ok
Use of uninitialized value $rv in lc at /home/cpan/pit/64bit/conf/perl-5.14.1/.cpanplus/5.14.1/build/Apache-ASP-2.62/blib/lib/Apache/ASP.pm line 2018.
Use of uninitialized value $rv in lc at /home/cpan/pit/64bit/conf/perl-5.14.1/.cpanplus/5.14.1/build/Apache-ASP-2.62/blib/lib/Apache/ASP.pm line 2018.
Use of uninitialized value $rv in lc at /home/cpan/pit/64bit/conf/perl-5.14.1/.cpanplus/5.14.1/build/Apache-ASP-2.62/blib/lib/Apache/ASP.pm line 2018.
Use of uninitialized value $rv in lc at /home/cpan/pit/64bit/conf/perl-5.14.1/.cpanplus/5.14.1/build/Apache-ASP-2.62/blib/lib/Apache/ASP.pm line 2018.
Use of uninitialized value $rv in lc at /home/cpan/pit/64bit/conf/perl-5.14.1/.cpanplus/5.14.1/build/Apache-ASP-2.62/blib/lib/Apache/ASP.pm line 2018.
Use of uninitialized value $rv in lc at /home/cpan/pit/64bit/conf/perl-5.14.1/.cpanplus/5.14.1/build/Apache-ASP-2.62/blib/lib/Apache/ASP.pm line 2018.
Use of uninitialized value $rv in lc at /home/cpan/pit/64bit/conf/perl-5.14.1/.cpanplus/5.14.1/build/Apache-ASP-2.62/blib/lib/Apache/ASP.pm line 2018.
Use of uninitialized value $rv in lc at /home/cpan/pit/64bit/conf/perl-5.14.1/.cpanplus/5.14.1/build/Apache-ASP-2.62/blib/lib/Apache/ASP.pm line 2018.
Use of uninitialized value $rv in lc at /home/cpan/pit/64bit/conf/perl-5.14.1/.cpanplus/5.14.1/build/Apache-ASP-2.62/blib/lib/Apache/ASP.pm line 2018.
Use of uninitialized value $rv in lc at /home/cpan/pit/64bit/conf/perl-5.14.1/.cpanplus/5.14.1/build/Apache-ASP-2.62/blib/lib/Apache/ASP.pm line 2018.
Use of uninitialized value $rv in lc at /home/cpan/pit/64bit/conf/perl-5.14.1/.cpanplus/5.14.1/build/Apache-ASP-2.62/blib/lib/Apache/ASP.pm line 2018.
Use of uninitialized value $rv in lc at /home/cpan/pit/64bit/conf/perl-5.14.1/.cpanplus/5.14.1/build/Apache-ASP-2.62/blib/lib/Apache/ASP.pm line 2018.
Use of uninitialized value $rv in lc at /home/cpan/pit/64bit/conf/perl-5.14.1/.cpanplus/5.14.1/build/Apache-ASP-2.62/blib/lib/Apache/ASP.pm line 2018.
Use of uninitialized value $rv in lc at /home/cpan/pit/64bit/conf/perl-5.14.1/.cpanplus/5.14.1/build/Apache-ASP-2.62/blib/lib/Apache/ASP.pm line 2018.
Use of uninitialized value $rv in lc at /home/cpan/pit/64bit/conf/perl-5.14.1/.cpanplus/5.14.1/build/Apache-ASP-2.62/blib/lib/Apache/ASP.pm line 2018.
Use of uninitialized value $rv in lc at /home/cpan/pit/64bit/conf/perl-5.14.1/.cpanplus/5.14.1/build/Apache-ASP-2.62/blib/lib/Apache/ASP.pm line 2018.
Use of uninitialized value $rv in lc at /home/cpan/pit/64bit/conf/perl-5.14.1/.cpanplus/5.14.1/build/Apache-ASP-2.62/blib/lib/Apache/ASP.pm line 2018.
Use of uninitialized value $rv in lc at /home/cpan/pit/64bit/conf/perl-5.14.1/.cpanplus/5.14.1/build/Apache-ASP-2.62/blib/lib/Apache/ASP.pm line 2018.
Use of uninitialized value $rv in lc at /home/cpan/pit/64bit/conf/perl-5.14.1/.cpanplus/5.14.1/build/Apache-ASP-2.62/blib/lib/Apache/ASP.pm line 2018.
Use of uninitialized value $rv in lc at /home/cpan/pit/64bit/conf/perl-5.14.1/.cpanplus/5.14.1/build/Apache-ASP-2.62/blib/lib/Apache/ASP.pm line 2018.
t/same_name.t ............ ok
Use of uninitialized value $rv in lc at /home/cpan/pit/64bit/conf/perl-5.14.1/.cpanplus/5.14.1/build/Apache-ASP-2.62/blib/lib/Apache/ASP.pm line 2018.
Use of uninitialized value $rv in lc at /home/cpan/pit/64bit/conf/perl-5.14.1/.cpanplus/5.14.1/build/Apache-ASP-2.62/blib/lib/Apache/ASP.pm line 2018.
Use of uninitialized value $rv in lc at /home/cpan/pit/64bit/conf/perl-5.14.1/.cpanplus/5.14.1/build/Apache-ASP-2.62/blib/lib/Apache/ASP.pm line 2018.
Use of uninitialized value $rv in lc at /home/cpan/pit/64bit/conf/perl-5.14.1/.cpanplus/5.14.1/build/Apache-ASP-2.62/blib/lib/Apache/ASP.pm line 2018.
Use of uninitialized value $rv in lc at /home/cpan/pit/64bit/conf/perl-5.14.1/.cpanplus/5.14.1/build/Apache-ASP-2.62/blib/lib/Apache/ASP.pm line 2018.
Use of uninitialized value $rv in lc at /home/cpan/pit/64bit/conf/perl-5.14.1/.cpanplus/5.14.1/build/Apache-ASP-2.62/blib/lib/Apache/ASP.pm line 2018.
Use of uninitialized value $rv in lc at /home/cpan/pit/64bit/conf/perl-5.14.1/.cpanplus/5.14.1/build/Apache-ASP-2.62/blib/lib/Apache/ASP.pm line 2018.
Use of uninitialized value $rv in lc at /home/cpan/pit/64bit/conf/perl-5.14.1/.cpanplus/5.14.1/build/Apache-ASP-2.62/blib/lib/Apache/ASP.pm line 2018.
Use of uninitialized value $rv in lc at /home/cpan/pit/64bit/conf/perl-5.14.1/.cpanplus/5.14.1/build/Apache-ASP-2.62/blib/lib/Apache/ASP.pm line 2018.
Use of uninitialized value $rv in lc at /home/cpan/pit/64bit/conf/perl-5.14.1/.cpanplus/5.14.1/build/Apache-ASP-2.62/blib/lib/Apache/ASP.pm line 2018.
t/server.t ............... ok
Use of uninitialized value $rv in lc at /home/cpan/pit/64bit/conf/perl-5.14.1/.cpanplus/5.14.1/build/Apache-ASP-2.62/blib/lib/Apache/ASP.pm line 2018.
Use of uninitialized value $rv in lc at /home/cpan/pit/64bit/conf/perl-5.14.1/.cpanplus/5.14.1/build/Apache-ASP-2.62/blib/lib/Apache/ASP.pm line 2018.
Use of uninitialized value $rv in lc at /home/cpan/pit/64bit/conf/perl-5.14.1/.cpanplus/5.14.1/build/Apache-ASP-2.62/blib/lib/Apache/ASP.pm line 2018.
Use of uninitialized value $rv in lc at /home/cpan/pit/64bit/conf/perl-5.14.1/.cpanplus/5.14.1/build/Apache-ASP-2.62/blib/lib/Apache/ASP.pm line 2018.
Use of uninitialized value $rv in lc at /home/cpan/pit/64bit/conf/perl-5.14.1/.cpanplus/5.14.1/build/Apache-ASP-2.62/blib/lib/Apache/ASP.pm line 2018.
Use of uninitialized value $rv in lc at /home/cpan/pit/64bit/conf/perl-5.14.1/.cpanplus/5.14.1/build/Apache-ASP-2.62/blib/lib/Apache/ASP.pm line 2018.
Use of uninitialized value $rv in lc at /home/cpan/pit/64bit/conf/perl-5.14.1/.cpanplus/5.14.1/build/Apache-ASP-2.62/blib/lib/Apache/ASP.pm line 2018.
Use of uninitialized value $rv in lc at /home/cpan/pit/64bit/conf/perl-5.14.1/.cpanplus/5.14.1/build/Apache-ASP-2.62/blib/lib/Apache/ASP.pm line 2018.
Use of uninitialized value $rv in lc at /home/cpan/pit/64bit/conf/perl-5.14.1/.cpanplus/5.14.1/build/Apache-ASP-2.62/blib/lib/Apache/ASP.pm line 2018.
Use of uninitialized value $rv in lc at /home/cpan/pit/64bit/conf/perl-5.14.1/.cpanplus/5.14.1/build/Apache-ASP-2.62/blib/lib/Apache/ASP.pm line 2018.
t/server_mail.t .......... ok
Use of uninitialized value $rv in lc at /home/cpan/pit/64bit/conf/perl-5.14.1/.cpanplus/5.14.1/build/Apache-ASP-2.62/blib/lib/Apache/ASP.pm line 2018.
Use of uninitialized value $rv in lc at /home/cpan/pit/64bit/conf/perl-5.14.1/.cpanplus/5.14.1/build/Apache-ASP-2.62/blib/lib/Apache/ASP.pm line 2018.
Use of uninitialized value $rv in lc at /home/cpan/pit/64bit/conf/perl-5.14.1/.cpanplus/5.14.1/build/Apache-ASP-2.62/blib/lib/Apache/ASP.pm line 2018.
Use of uninitialized value $rv in lc at /home/cpan/pit/64bit/conf/perl-5.14.1/.cpanplus/5.14.1/build/Apache-ASP-2.62/blib/lib/Apache/ASP.pm line 2018.
Use of uninitialized value $rv in lc at /home/cpan/pit/64bit/conf/perl-5.14.1/.cpanplus/5.14.1/build/Apache-ASP-2.62/blib/lib/Apache/ASP.pm line 2018.
Use of uninitialized value $rv in lc at /home/cpan/pit/64bit/conf/perl-5.14.1/.cpanplus/5.14.1/build/Apache-ASP-2.62/blib/lib/Apache/ASP.pm line 2018.
Use of uninitialized value $rv in lc at /home/cpan/pit/64bit/conf/perl-5.14.1/.cpanplus/5.14.1/build/Apache-ASP-2.62/blib/lib/Apache/ASP.pm line 2018.
Use of uninitialized value $rv in lc at /home/cpan/pit/64bit/conf/perl-5.14.1/.cpanplus/5.14.1/build/Apache-ASP-2.62/blib/lib/Apache/ASP.pm line 2018.
Use of uninitialized value $rv in lc at /home/cpan/pit/64bit/conf/perl-5.14.1/.cpanplus/5.14.1/build/Apache-ASP-2.62/blib/lib/Apache/ASP.pm line 2018.
t/server_transfer.t ...... ok
Use of uninitialized value $rv in lc at /home/cpan/pit/64bit/conf/perl-5.14.1/.cpanplus/5.14.1/build/Apache-ASP-2.62/blib/lib/Apache/ASP.pm line 2018.
Use of uninitialized value $rv in lc at /home/cpan/pit/64bit/conf/perl-5.14.1/.cpanplus/5.14.1/build/Apache-ASP-2.62/blib/lib/Apache/ASP.pm line 2018.
Use of uninitialized value $rv in lc at /home/cpan/pit/64bit/conf/perl-5.14.1/.cpanplus/5.14.1/build/Apache-ASP-2.62/blib/lib/Apache/ASP.pm line 2018.
Use of uninitialized value $rv in lc at /home/cpan/pit/64bit/conf/perl-5.14.1/.cpanplus/5.14.1/build/Apache-ASP-2.62/blib/lib/Apache/ASP.pm line 2018.
Use of uninitialized value $rv in lc at /home/cpan/pit/64bit/conf/perl-5.14.1/.cpanplus/5.14.1/build/Apache-ASP-2.62/blib/lib/Apache/ASP.pm line 2018.
Use of uninitialized value $rv in lc at /home/cpan/pit/64bit/conf/perl-5.14.1/.cpanplus/5.14.1/build/Apache-ASP-2.62/blib/lib/Apache/ASP.pm line 2018.
Use of uninitialized value $rv in lc at /home/cpan/pit/64bit/conf/perl-5.14.1/.cpanplus/5.14.1/build/Apache-ASP-2.62/blib/lib/Apache/ASP.pm line 2018.
Use of uninitialized value $rv in lc at /home/cpan/pit/64bit/conf/perl-5.14.1/.cpanplus/5.14.1/build/Apache-ASP-2.62/blib/lib/Apache/ASP.pm line 2018.
Use of uninitialized value $rv in lc at /home/cpan/pit/64bit/conf/perl-5.14.1/.cpanplus/5.14.1/build/Apache-ASP-2.62/blib/lib/Apache/ASP.pm line 2018.
Use of uninitialized value $rv in lc at /home/cpan/pit/64bit/conf/perl-5.14.1/.cpanplus/5.14.1/build/Apache-ASP-2.62/blib/lib/Apache/ASP.pm line 2018.
Use of uninitialized value $rv in lc at /home/cpan/pit/64bit/conf/perl-5.14.1/.cpanplus/5.14.1/build/Apache-ASP-2.62/blib/lib/Apache/ASP.pm line 2018.
t/session.t .............. ok
t/session_events.t ....... ok
Use of uninitialized value $rv in lc at /home/cpan/pit/64bit/conf/perl-5.14.1/.cpanplus/5.14.1/build/Apache-ASP-2.62/blib/lib/Apache/ASP.pm line 2018.
Use of uninitialized value $rv in lc at /home/cpan/pit/64bit/conf/perl-5.14.1/.cpanplus/5.14.1/build/Apache-ASP-2.62/blib/lib/Apache/ASP.pm line 2018.
Use of uninitialized value $rv in lc at /home/cpan/pit/64bit/conf/perl-5.14.1/.cpanplus/5.14.1/build/Apache-ASP-2.62/blib/lib/Apache/ASP.pm line 2018.
Use of uninitialized value $rv in lc at /home/cpan/pit/64bit/conf/perl-5.14.1/.cpanplus/5.14.1/build/Apache-ASP-2.62/blib/lib/Apache/ASP.pm line 2018.
Use of uninitialized value $rv in lc at /home/cpan/pit/64bit/conf/perl-5.14.1/.cpanplus/5.14.1/build/Apache-ASP-2.62/blib/lib/Apache/ASP.pm line 2018.
Use of uninitialized value $rv in lc at /home/cpan/pit/64bit/conf/perl-5.14.1/.cpanplus/5.14.1/build/Apache-ASP-2.62/blib/lib/Apache/ASP.pm line 2018.
Use of uninitialized value $rv in lc at /home/cpan/pit/64bit/conf/perl-5.14.1/.cpanplus/5.14.1/build/Apache-ASP-2.62/blib/lib/Apache/ASP.pm line 2018.
Use of uninitialized value $rv in lc at /home/cpan/pit/64bit/conf/perl-5.14.1/.cpanplus/5.14.1/build/Apache-ASP-2.62/blib/lib/Apache/ASP.pm line 2018.
Use of uninitialized value $rv in lc at /home/cpan/pit/64bit/conf/perl-5.14.1/.cpanplus/5.14.1/build/Apache-ASP-2.62/blib/lib/Apache/ASP.pm line 2018.
t/session_query_parse.t .. ok
Use of uninitialized value $rv in lc at /home/cpan/pit/64bit/conf/perl-5.14.1/.cpanplus/5.14.1/build/Apache-ASP-2.62/blib/lib/Apache/ASP.pm line 2018.
Use of uninitialized value $rv in lc at /home/cpan/pit/64bit/conf/perl-5.14.1/.cpanplus/5.14.1/build/Apache-ASP-2.62/blib/lib/Apache/ASP.pm line 2018.
Use of uninitialized value $rv in lc at /home/cpan/pit/64bit/conf/perl-5.14.1/.cpanplus/5.14.1/build/Apache-ASP-2.62/blib/lib/Apache/ASP.pm line 2018.
Use of uninitialized value $rv in lc at /home/cpan/pit/64bit/conf/perl-5.14.1/.cpanplus/5.14.1/build/Apache-ASP-2.62/blib/lib/Apache/ASP.pm line 2018.
Use of uninitialized value $rv in lc at /home/cpan/pit/64bit/conf/perl-5.14.1/.cpanplus/5.14.1/build/Apache-ASP-2.62/blib/lib/Apache/ASP.pm line 2018.
Use of uninitialized value $rv in lc at /home/cpan/pit/64bit/conf/perl-5.14.1/.cpanplus/5.14.1/build/Apache-ASP-2.62/blib/lib/Apache/ASP.pm line 2018.
Use of uninitialized value $rv in lc at /home/cpan/pit/64bit/conf/perl-5.14.1/.cpanplus/5.14.1/build/Apache-ASP-2.62/blib/lib/Apache/ASP.pm line 2018.
Use of uninitialized value $rv in lc at /home/cpan/pit/64bit/conf/perl-5.14.1/.cpanplus/5.14.1/build/Apache-ASP-2.62/blib/lib/Apache/ASP.pm line 2018.
Use of uninitialized value $rv in lc at /home/cpan/pit/64bit/conf/perl-5.14.1/.cpanplus/5.14.1/build/Apache-ASP-2.62/blib/lib/Apache/ASP.pm line 2018.
Use of uninitialized value $rv in lc at /home/cpan/pit/64bit/conf/perl-5.14.1/.cpanplus/5.14.1/build/Apache-ASP-2.62/blib/lib/Apache/ASP.pm line 2018.
Use of uninitialized value $rv in lc at /home/cpan/pit/64bit/conf/perl-5.14.1/.cpanplus/5.14.1/build/Apache-ASP-2.62/blib/lib/Apache/ASP.pm line 2018.
t/session_serialize.t .... ok
Use of uninitialized value $rv in lc at /home/cpan/pit/64bit/conf/perl-5.14.1/.cpanplus/5.14.1/build/Apache-ASP-2.62/blib/lib/Apache/ASP.pm line 2018.
Use of uninitialized value $rv in lc at /home/cpan/pit/64bit/conf/perl-5.14.1/.cpanplus/5.14.1/build/Apache-ASP-2.62/blib/lib/Apache/ASP.pm line 2018.
Use of uninitialized value $rv in lc at /home/cpan/pit/64bit/conf/perl-5.14.1/.cpanplus/5.14.1/build/Apache-ASP-2.62/blib/lib/Apache/ASP.pm line 2018.
Use of uninitialized value $rv in lc at /home/cpan/pit/64bit/conf/perl-5.14.1/.cpanplus/5.14.1/build/Apache-ASP-2.62/blib/lib/Apache/ASP.pm line 2018.
Use of uninitialized value $rv in lc at /home/cpan/pit/64bit/conf/perl-5.14.1/.cpanplus/5.14.1/build/Apache-ASP-2.62/blib/lib/Apache/ASP.pm line 2018.
Use of uninitialized value $rv in lc at /home/cpan/pit/64bit/conf/perl-5.14.1/.cpanplus/5.14.1/build/Apache-ASP-2.62/blib/lib/Apache/ASP.pm line 2018.
Use of uninitialized value $rv in lc at /home/cpan/pit/64bit/conf/perl-5.14.1/.cpanplus/5.14.1/build/Apache-ASP-2.62/blib/lib/Apache/ASP.pm line 2018.
Use of uninitialized value $rv in lc at /home/cpan/pit/64bit/conf/perl-5.14.1/.cpanplus/5.14.1/build/Apache-ASP-2.62/blib/lib/Apache/ASP.pm line 2018.
Use of uninitialized value $rv in lc at /home/cpan/pit/64bit/conf/perl-5.14.1/.cpanplus/5.14.1/build/Apache-ASP-2.62/blib/lib/Apache/ASP.pm line 2018.
Use of uninitialized value $rv in lc at /home/cpan/pit/64bit/conf/perl-5.14.1/.cpanplus/5.14.1/build/Apache-ASP-2.62/blib/lib/Apache/ASP.pm line 2018.
Use of uninitialized value $rv in lc at /home/cpan/pit/64bit/conf/perl-5.14.1/.cpanplus/5.14.1/build/Apache-ASP-2.62/blib/lib/Apache/ASP.pm line 2018.
t/share.t ................ ok
Use of uninitialized value $rv in lc at /home/cpan/pit/64bit/conf/perl-5.14.1/.cpanplus/5.14.1/build/Apache-ASP-2.62/blib/lib/Apache/ASP.pm line 2018.
Use of uninitialized value $rv in lc at /home/cpan/pit/64bit/conf/perl-5.14.1/.cpanplus/5.14.1/build/Apache-ASP-2.62/blib/lib/Apache/ASP.pm line 2018.
Use of uninitialized value $rv in lc at /home/cpan/pit/64bit/conf/perl-5.14.1/.cpanplus/5.14.1/build/Apache-ASP-2.62/blib/lib/Apache/ASP.pm line 2018.
Use of uninitialized value $rv in lc at /home/cpan/pit/64bit/conf/perl-5.14.1/.cpanplus/5.14.1/build/Apache-ASP-2.62/blib/lib/Apache/ASP.pm line 2018.
Use of uninitialized value $rv in lc at /home/cpan/pit/64bit/conf/perl-5.14.1/.cpanplus/5.14.1/build/Apache-ASP-2.62/blib/lib/Apache/ASP.pm line 2018.
Use of uninitialized value $rv in lc at /home/cpan/pit/64bit/conf/perl-5.14.1/.cpanplus/5.14.1/build/Apache-ASP-2.62/blib/lib/Apache/ASP.pm line 2018.
Use of uninitialized value $rv in lc at /home/cpan/pit/64bit/conf/perl-5.14.1/.cpanplus/5.14.1/build/Apache-ASP-2.62/blib/lib/Apache/ASP.pm line 2018.
Use of uninitialized value $rv in lc at /home/cpan/pit/64bit/conf/perl-5.14.1/.cpanplus/5.14.1/build/Apache-ASP-2.62/blib/lib/Apache/ASP.pm line 2018.
Use of uninitialized value $rv in lc at /home/cpan/pit/64bit/conf/perl-5.14.1/.cpanplus/5.14.1/build/Apache-ASP-2.62/blib/lib/Apache/ASP.pm line 2018.
Use of uninitialized value $rv in lc at /home/cpan/pit/64bit/conf/perl-5.14.1/.cpanplus/5.14.1/build/Apache-ASP-2.62/blib/lib/Apache/ASP.pm line 2018.
t/stat_inc.t ............. skipped: (no reason given)
Use of uninitialized value $rv in lc at /home/cpan/pit/64bit/conf/perl-5.14.1/.cpanplus/5.14.1/build/Apache-ASP-2.62/blib/lib/Apache/ASP.pm line 2018.
Use of uninitialized value $rv in lc at /home/cpan/pit/64bit/conf/perl-5.14.1/.cpanplus/5.14.1/build/Apache-ASP-2.62/blib/lib/Apache/ASP.pm line 2018.
Use of uninitialized value $rv in lc at /home/cpan/pit/64bit/conf/perl-5.14.1/.cpanplus/5.14.1/build/Apache-ASP-2.62/blib/lib/Apache/ASP.pm line 2018.
Use of uninitialized value $rv in lc at /home/cpan/pit/64bit/conf/perl-5.14.1/.cpanplus/5.14.1/build/Apache-ASP-2.62/blib/lib/Apache/ASP.pm line 2018.
Use of uninitialized value $rv in lc at /home/cpan/pit/64bit/conf/perl-5.14.1/.cpanplus/5.14.1/build/Apache-ASP-2.62/blib/lib/Apache/ASP.pm line 2018.
Use of uninitialized value $rv in lc at /home/cpan/pit/64bit/conf/perl-5.14.1/.cpanplus/5.14.1/build/Apache-ASP-2.62/blib/lib/Apache/ASP.pm line 2018.
Use of uninitialized value $rv in lc at /home/cpan/pit/64bit/conf/perl-5.14.1/.cpanplus/5.14.1/build/Apache-ASP-2.62/blib/lib/Apache/ASP.pm line 2018.
Use of uninitialized value $rv in lc at /home/cpan/pit/64bit/conf/perl-5.14.1/.cpanplus/5.14.1/build/Apache-ASP-2.62/blib/lib/Apache/ASP.pm line 2018.
Use of uninitialized value $rv in lc at /home/cpan/pit/64bit/conf/perl-5.14.1/.cpanplus/5.14.1/build/Apache-ASP-2.62/blib/lib/Apache/ASP.pm line 2018.
t/strict_error.t ......... ok
Use of uninitialized value $rv in lc at blib/lib/Apache/ASP.pm line 2018.
Use of uninitialized value $rv in lc at blib/lib/Apache/ASP.pm line 2018.
Use of uninitialized value $rv in lc at blib/lib/Apache/ASP.pm line 2018.
Use of uninitialized value $rv in lc at blib/lib/Apache/ASP.pm line 2018.
Use of uninitialized value $rv in lc at blib/lib/Apache/ASP.pm line 2018.
Use of uninitialized value $rv in lc at blib/lib/Apache/ASP.pm line 2018.
Use of uninitialized value $rv in lc at blib/lib/Apache/ASP.pm line 2018.
Use of uninitialized value $rv in lc at blib/lib/Apache/ASP.pm line 2018.
Use of uninitialized value $rv in lc at blib/lib/Apache/ASP.pm line 2018.
Use of uninitialized value $rv in lc at blib/lib/Apache/ASP.pm line 2018.
Use of uninitialized value $rv in lc at blib/lib/Apache/ASP.pm line 2018.
t/taint_check.t .......... ok
Use of uninitialized value $rv in lc at /home/cpan/pit/64bit/conf/perl-5.14.1/.cpanplus/5.14.1/build/Apache-ASP-2.62/blib/lib/Apache/ASP.pm line 2018.
Use of uninitialized value $rv in lc at /home/cpan/pit/64bit/conf/perl-5.14.1/.cpanplus/5.14.1/build/Apache-ASP-2.62/blib/lib/Apache/ASP.pm line 2018.
Use of uninitialized value $rv in lc at /home/cpan/pit/64bit/conf/perl-5.14.1/.cpanplus/5.14.1/build/Apache-ASP-2.62/blib/lib/Apache/ASP.pm line 2018.
Use of uninitialized value $rv in lc at /home/cpan/pit/64bit/conf/perl-5.14.1/.cpanplus/5.14.1/build/Apache-ASP-2.62/blib/lib/Apache/ASP.pm line 2018.
Use of uninitialized value $rv in lc at /home/cpan/pit/64bit/conf/perl-5.14.1/.cpanplus/5.14.1/build/Apache-ASP-2.62/blib/lib/Apache/ASP.pm line 2018.
Use of uninitialized value $rv in lc at /home/cpan/pit/64bit/conf/perl-5.14.1/.cpanplus/5.14.1/build/Apache-ASP-2.62/blib/lib/Apache/ASP.pm line 2018.
Use of uninitialized value $rv in lc at /home/cpan/pit/64bit/conf/perl-5.14.1/.cpanplus/5.14.1/build/Apache-ASP-2.62/blib/lib/Apache/ASP.pm line 2018.
Use of uninitialized value $rv in lc at /home/cpan/pit/64bit/conf/perl-5.14.1/.cpanplus/5.14.1/build/Apache-ASP-2.62/blib/lib/Apache/ASP.pm line 2018.
t/unique_packages.t ...... ok
Use of uninitialized value $rv in lc at /home/cpan/pit/64bit/conf/perl-5.14.1/.cpanplus/5.14.1/build/Apache-ASP-2.62/blib/lib/Apache/ASP.pm line 2018.
Use of uninitialized value $rv in lc at /home/cpan/pit/64bit/conf/perl-5.14.1/.cpanplus/5.14.1/build/Apache-ASP-2.62/blib/lib/Apache/ASP.pm line 2018.
Use of uninitialized value $rv in lc at /home/cpan/pit/64bit/conf/perl-5.14.1/.cpanplus/5.14.1/build/Apache-ASP-2.62/blib/lib/Apache/ASP.pm line 2018.
Use of uninitialized value $rv in lc at /home/cpan/pit/64bit/conf/perl-5.14.1/.cpanplus/5.14.1/build/Apache-ASP-2.62/blib/lib/Apache/ASP.pm line 2018.
Use of uninitialized value $rv in lc at /home/cpan/pit/64bit/conf/perl-5.14.1/.cpanplus/5.14.1/build/Apache-ASP-2.62/blib/lib/Apache/ASP.pm line 2018.
Use of uninitialized value $rv in lc at /home/cpan/pit/64bit/conf/perl-5.14.1/.cpanplus/5.14.1/build/Apache-ASP-2.62/blib/lib/Apache/ASP.pm line 2018.
Use of uninitialized value $rv in lc at /home/cpan/pit/64bit/conf/perl-5.14.1/.cpanplus/5.14.1/build/Apache-ASP-2.62/blib/lib/Apache/ASP.pm line 2018.
Use of uninitialized value $rv in lc at /home/cpan/pit/64bit/conf/perl-5.14.1/.cpanplus/5.14.1/build/Apache-ASP-2.62/blib/lib/Apache/ASP.pm line 2018.
Use of uninitialized value $rv in lc at /home/cpan/pit/64bit/conf/perl-5.14.1/.cpanplus/5.14.1/build/Apache-ASP-2.62/blib/lib/Apache/ASP.pm line 2018.
t/xmlsubs.t .............. ok
Use of uninitialized value $rv in lc at /home/cpan/pit/64bit/conf/perl-5.14.1/.cpanplus/5.14.1/build/Apache-ASP-2.62/blib/lib/Apache/ASP.pm line 2018.
Use of uninitialized value $rv in lc at /home/cpan/pit/64bit/conf/perl-5.14.1/.cpanplus/5.14.1/build/Apache-ASP-2.62/blib/lib/Apache/ASP.pm line 2018.
Use of uninitialized value $rv in lc at /home/cpan/pit/64bit/conf/perl-5.14.1/.cpanplus/5.14.1/build/Apache-ASP-2.62/blib/lib/Apache/ASP.pm line 2018.
Use of uninitialized value $rv in lc at /home/cpan/pit/64bit/conf/perl-5.14.1/.cpanplus/5.14.1/build/Apache-ASP-2.62/blib/lib/Apache/ASP.pm line 2018.
Use of uninitialized value $rv in lc at /home/cpan/pit/64bit/conf/perl-5.14.1/.cpanplus/5.14.1/build/Apache-ASP-2.62/blib/lib/Apache/ASP.pm line 2018.
Use of uninitialized value $rv in lc at /home/cpan/pit/64bit/conf/perl-5.14.1/.cpanplus/5.14.1/build/Apache-ASP-2.62/blib/lib/Apache/ASP.pm line 2018.
Use of uninitialized value $rv in lc at /home/cpan/pit/64bit/conf/perl-5.14.1/.cpanplus/5.14.1/build/Apache-ASP-2.62/blib/lib/Apache/ASP.pm line 2018.
Use of uninitialized value $rv in lc at /home/cpan/pit/64bit/conf/perl-5.14.1/.cpanplus/5.14.1/build/Apache-ASP-2.62/blib/lib/Apache/ASP.pm line 2018.
Use of uninitialized value $rv in lc at /home/cpan/pit/64bit/conf/perl-5.14.1/.cpanplus/5.14.1/build/Apache-ASP-2.62/blib/lib/Apache/ASP.pm line 2018.
t/xmlsubs_aspargs.t ...... ok
Use of uninitialized value $rv in lc at /home/cpan/pit/64bit/conf/perl-5.14.1/.cpanplus/5.14.1/build/Apache-ASP-2.62/blib/lib/Apache/ASP.pm line 2018.
Use of uninitialized value $rv in lc at /home/cpan/pit/64bit/conf/perl-5.14.1/.cpanplus/5.14.1/build/Apache-ASP-2.62/blib/lib/Apache/ASP.pm line 2018.
Use of uninitialized value $rv in lc at /home/cpan/pit/64bit/conf/perl-5.14.1/.cpanplus/5.14.1/build/Apache-ASP-2.62/blib/lib/Apache/ASP.pm line 2018.
Use of uninitialized value $rv in lc at /home/cpan/pit/64bit/conf/perl-5.14.1/.cpanplus/5.14.1/build/Apache-ASP-2.62/blib/lib/Apache/ASP.pm line 2018.
Use of uninitialized value $rv in lc at /home/cpan/pit/64bit/conf/perl-5.14.1/.cpanplus/5.14.1/build/Apache-ASP-2.62/blib/lib/Apache/ASP.pm line 2018.
Use of uninitialized value $rv in lc at /home/cpan/pit/64bit/conf/perl-5.14.1/.cpanplus/5.14.1/build/Apache-ASP-2.62/blib/lib/Apache/ASP.pm line 2018.
Use of uninitialized value $rv in lc at /home/cpan/pit/64bit/conf/perl-5.14.1/.cpanplus/5.14.1/build/Apache-ASP-2.62/blib/lib/Apache/ASP.pm line 2018.
Use of uninitialized value $rv in lc at /home/cpan/pit/64bit/conf/perl-5.14.1/.cpanplus/5.14.1/build/Apache-ASP-2.62/blib/lib/Apache/ASP.pm line 2018.
Use of uninitialized value $rv in lc at /home/cpan/pit/64bit/conf/perl-5.14.1/.cpanplus/5.14.1/build/Apache-ASP-2.62/blib/lib/Apache/ASP.pm line 2018.
t/xmlsubs_perlargs.t ..... ok
Use of uninitialized value $rv in lc at /home/cpan/pit/64bit/conf/perl-5.14.1/.cpanplus/5.14.1/build/Apache-ASP-2.62/blib/lib/Apache/ASP.pm line 2018.
Use of uninitialized value $rv in lc at /home/cpan/pit/64bit/conf/perl-5.14.1/.cpanplus/5.14.1/build/Apache-ASP-2.62/blib/lib/Apache/ASP.pm line 2018.
Use of uninitialized value $rv in lc at /home/cpan/pit/64bit/conf/perl-5.14.1/.cpanplus/5.14.1/build/Apache-ASP-2.62/blib/lib/Apache/ASP.pm line 2018.
Use of uninitialized value $rv in lc at /home/cpan/pit/64bit/conf/perl-5.14.1/.cpanplus/5.14.1/build/Apache-ASP-2.62/blib/lib/Apache/ASP.pm line 2018.
Use of uninitialized value $rv in lc at /home/cpan/pit/64bit/conf/perl-5.14.1/.cpanplus/5.14.1/build/Apache-ASP-2.62/blib/lib/Apache/ASP.pm line 2018.
Use of uninitialized value $rv in lc at /home/cpan/pit/64bit/conf/perl-5.14.1/.cpanplus/5.14.1/build/Apache-ASP-2.62/blib/lib/Apache/ASP.pm line 2018.
Use of uninitialized value $rv in lc at /home/cpan/pit/64bit/conf/perl-5.14.1/.cpanplus/5.14.1/build/Apache-ASP-2.62/blib/lib/Apache/ASP.pm line 2018.
Use of uninitialized value $rv in lc at /home/cpan/pit/64bit/conf/perl-5.14.1/.cpanplus/5.14.1/build/Apache-ASP-2.62/blib/lib/Apache/ASP.pm line 2018.
Use of uninitialized value $rv in lc at /home/cpan/pit/64bit/conf/perl-5.14.1/.cpanplus/5.14.1/build/Apache-ASP-2.62/blib/lib/Apache/ASP.pm line 2018.
Use of uninitialized value $rv in lc at /home/cpan/pit/64bit/conf/perl-5.14.1/.cpanplus/5.14.1/build/Apache-ASP-2.62/blib/lib/Apache/ASP.pm line 2018.
t/xmlsubsmatch.t ......... ok
All tests successful.
Files=47, Tests=340, 10 wallclock secs ( 0.09 usr  0.25 sys +  3.18 cusr  1.84 csys =  5.36 CPU)
Result: PASS

[MSG] [Wed Oct  5 06:01:13 2011] Sending test report for 'Apache-ASP-2.62'

This report was machine-generated by CPANPLUS::Dist::YACSmoke 0.64.
Powered by minismokebox version 0.54

------------------------------
ENVIRONMENT AND OTHER CONTEXT
------------------------------

Environment variables:

    AUTOMATED_TESTING = 1
    PATH = /home/cpan/bin:/bin:/sbin:/usr/bin:/usr/sbin:/usr/X11R6/bin:/usr/local/bin:/usr/local/sbin:/usr/games:.
    PERL5LIB = :/home/cpan/pit/64bit/conf/perl-5.14.1/.cpanplus/5.14.1/build/MLDBM-2.04/blib/lib:/home/cpan/pit/64bit/conf/perl-5.14.1/.cpanplus/5.14.1/build/MLDBM-2.04/blib/arch:/home/cpan/pit/64bit/conf/perl-5.14.1/.cpanplus/5.14.1/build/MLDBM-Sync-0.30/blib/lib:/home/cpan/pit/64bit/conf/perl-5.14.1/.cpanplus/5.14.1/build/MLDBM-Sync-0.30/blib/arch:/home/cpan/pit/64bit/conf/perl-5.14.1/.cpanplus/5.14.1/build/Apache-ASP-2.62/blib/lib:/home/cpan/pit/64bit/conf/perl-5.14.1/.cpanplus/5.14.1/build/Apache-ASP-2.62/blib/arch
    PERL5_CPANPLUS_IS_RUNNING = 24635
    PERL5_CPANPLUS_IS_VERSION = 0.9111
    PERL5_MINISMOKEBOX = 0.54
    PERL5_YACSMOKE_BASE = /home/cpan/pit/64bit/conf/perl-5.14.1
    PERL_EXTUTILS_AUTOINSTALL = --defaultdeps
    PERL_MM_USE_DEFAULT = 1
    SHELL = /usr/local/bin/bash
    TERM = screen

Perl special variables (and OS-specific diagnostics, for MSWin32):

    Perl: $^X = /home/cpan/pit/64bit/perl-5.14.1/bin/perl
    UID:  $<  = 1001
    EUID: $>  = 1001
    GID:  $(  = 1001 1001
    EGID: $)  = 1001 1001


-------------------------------


--

Summary of my perl5 (revision 5 version 14 subversion 1) configuration:
   
  Platform:
    osname=openbsd, osvers=4.9, archname=OpenBSD.i386-openbsd-64int
    uname='openbsd obadiah.bingosnet.co.uk 4.9 generic#671 i386 '
    config_args='-des -Dprefix=/home/cpan/pit/64bit/perl-5.14.1 -Duse64bitint'
    hint=recommended, useposix=true, d_sigaction=define
    useithreads=undef, usemultiplicity=undef
    useperlio=define, d_sfio=undef, uselargefiles=define, usesocks=undef
    use64bitint=define, use64bitall=undef, uselongdouble=undef
    usemymalloc=y, bincompat5005=undef
  Compiler:
    cc='cc', ccflags ='-fno-strict-aliasing -pipe -fstack-protector -I/usr/local/include',
    optimize='-O2',
    cppflags='-fno-strict-aliasing -pipe -fstack-protector -I/usr/local/include'
    ccversion='', gccversion='4.2.1 20070719 ', gccosandvers='openbsd4.9'
    intsize=4, longsize=4, ptrsize=4, doublesize=8, byteorder=12345678
    d_longlong=define, longlongsize=8, d_longdbl=define, longdblsize=12
    ivtype='long long', ivsize=8, nvtype='double', nvsize=8, Off_t='off_t', lseeksize=8
    alignbytes=4, prototype=define
  Linker and Libraries:
    ld='cc', ldflags ='-Wl,-E  -fstack-protector -L/usr/local/lib'
    libpth=/usr/local/lib /usr/lib
    libs=-lgdbm -lm -lutil -lc
    perllibs=-lm -lutil -lc
    libc=/usr/lib/libc.so.58.0, so=so, useshrplib=false, libperl=libperl.a
    gnulibc_version=''
  Dynamic Linking:
    dlsrc=dl_dlopen.xs, dlext=so, d_dlsymun=undef, ccdlflags=' '
    cccdlflags='-DPIC -fPIC ', lddlflags='-shared -fPIC  -L/usr/local/lib -fstack-protector'


Characteristics of this binary (from libperl): 
  Compile-time options: MYMALLOC PERL_DONT_CREATE_GVSV PERL_MALLOC_WRAP
                        PERL_PRESERVE_IVUV USE_64_BIT_INT USE_LARGE_FILES
                        USE_PERLIO USE_PERL_ATOF
  Built under openbsd
  Compiled at Jul 28 2011 15:06:06
  %ENV:
    PERL5LIB=":/home/cpan/pit/64bit/conf/perl-5.14.1/.cpanplus/5.14.1/build/MLDBM-2.04/blib/lib:/home/cpan/pit/64bit/conf/perl-5.14.1/.cpanplus/5.14.1/build/MLDBM-2.04/blib/arch:/home/cpan/pit/64bit/conf/perl-5.14.1/.cpanplus/5.14.1/build/MLDBM-Sync-0.30/blib/lib:/home/cpan/pit/64bit/conf/perl-5.14.1/.cpanplus/5.14.1/build/MLDBM-Sync-0.30/blib/arch:/home/cpan/pit/64bit/conf/perl-5.14.1/.cpanplus/5.14.1/build/Apache-ASP-2.62/blib/lib:/home/cpan/pit/64bit/conf/perl-5.14.1/.cpanplus/5.14.1/build/Apache-ASP-2.62/blib/arch"
    PERL5_CPANPLUS_IS_RUNNING="24635"
    PERL5_CPANPLUS_IS_VERSION="0.9111"
    PERL5_MINISMOKEBOX="0.54"
    PERL5_YACSMOKE_BASE="/home/cpan/pit/64bit/conf/perl-5.14.1"
    PERL_EXTUTILS_AUTOINSTALL="--defaultdeps"
    PERL_MM_USE_DEFAULT="1"
  @INC:
    /home/cpan/pit/64bit/conf/perl-5.14.1/.cpanplus/5.14.1/build/MLDBM-2.04/blib/lib
    /home/cpan/pit/64bit/conf/perl-5.14.1/.cpanplus/5.14.1/build/MLDBM-2.04/blib/arch
    /home/cpan/pit/64bit/conf/perl-5.14.1/.cpanplus/5.14.1/build/MLDBM-Sync-0.30/blib/lib
    /home/cpan/pit/64bit/conf/perl-5.14.1/.cpanplus/5.14.1/build/MLDBM-Sync-0.30/blib/arch
    /home/cpan/pit/64bit/conf/perl-5.14.1/.cpanplus/5.14.1/build/Apache-ASP-2.62/blib/lib
    /home/cpan/pit/64bit/conf/perl-5.14.1/.cpanplus/5.14.1/build/Apache-ASP-2.62/blib/arch
    /home/cpan/pit/64bit/perl-5.14.1/lib/site_perl/5.14.1/OpenBSD.i386-openbsd-64int
    /home/cpan/pit/64bit/perl-5.14.1/lib/site_perl/5.14.1
    /home/cpan/pit/64bit/perl-5.14.1/lib/5.14.1/OpenBSD.i386-openbsd-64int
    /home/cpan/pit/64bit/perl-5.14.1/lib/5.14.1
    .