Report for XML-Parser-2.44

Back
From: metabase:user:323dcade-2aae-11df-837a-5e0a49663a4f
Subject: PASS XML-Parser-2.44 v5.25.0 GNU/Linux
Date: 2016-08-02T17:10:45Z

This distribution has been tested as part of the CPAN Testers
project, supporting the Perl programming language.  See
http://wiki.cpantesters.org/ for more information or email
questions to cpan-testers-discuss@perl.org


--
Dear Todd Rinaldo,

This is a computer-generated report for XML-Parser-2.44
on perl 5.25.0, created by CPAN-Reporter-1.2018.

Thank you for uploading your work to CPAN.  Congratulations!
All tests were successful.

Sections of this report:

    * Tester comments
    * Program output
    * Prerequisites
    * Environment and other context

------------------------------
TESTER COMMENTS
------------------------------

Additional comments from tester:

this report is from an automated smoke testing program
and was not reviewed by a human for accuracy

------------------------------
PROGRAM OUTPUT
------------------------------

Output from '/usr/bin/make test':

make[1]: Entering directory '/home/rurban/Perl/.cpan-build/XML-Parser-2.44-Kyz0Jo/Expat'
Running Mkbootstrap for Expat ()
chmod 644 "Expat.bs"
make[1]: Leaving directory '/home/rurban/Perl/.cpan-build/XML-Parser-2.44-Kyz0Jo/Expat'
PERL_DL_NONLAZY=1 PERL_USE_UNSAFE_INC=1 "/usr/local/bin/cperl5.25.0d" "-MExtUtils::Command::MM" "-MTest::Harness" "-e" "undef *Test::Harness::Switches; test_harness(0, 'blib/lib', 'blib/arch')" t/*.t
t/astress.t ........... ok
t/cdata.t ............. ok
t/decl.t .............. ok
t/defaulted.t ......... ok
t/encoding.t .......... ok
t/external_ent.t ...... ok
t/file.t .............. ok
t/file_open_scalar.t .. ok
t/finish.t ............ ok
t/namespaces.t ........ ok
t/parament.t .......... ok
t/partial.t ........... ok
t/skip.t .............. ok
t/stream.t ............ ok
t/styles.t ............ ok
All tests successful.
Files=15, Tests=141,  1 wallclock secs ( 0.13 usr  0.02 sys +  1.54 cusr  0.06 csys =  1.75 CPU)
Result: PASS

------------------------------
PREREQUISITES
------------------------------

Prerequisite modules loaded:

requires:

    Module              Need    Have    
    ------------------- ------- --------
    LWP::UserAgent      0       6.15    
    perl                5.00405 5.025000

build_requires:

    Module              Need    Have    
    ------------------- ------- --------
    Test::More          0       1.302049

configure_requires:

    Module              Need    Have    
    ------------------- ------- --------
    ExtUtils::MakeMaker 0       8.04_03 


------------------------------
ENVIRONMENT AND OTHER CONTEXT
------------------------------

Environment variables:

    AUTOMATED_TESTING = 1
    LANG = en_US.UTF-8
    NONINTERACTIVE_TESTING = 1
    PATH = /home/rurban/bin:/usr/local/bin:/usr/bin:/bin:/usr/local/games:/usr/games
    PERL5LIB = 
    PERL5OPT = 
    PERL5_CPANPLUS_IS_RUNNING = 9000
    PERL5_CPAN_IS_RUNNING = 9000
    PERL_MM_USE_DEFAULT = 1
    PERL_USE_UNSAFE_INC = 1
    SHELL = /bin/bash
    TERM = screen

Perl special variables (and OS-specific diagnostics, for MSWin32):

    $^X = /usr/local/bin/cperl5.25.0d
    $UID/$EUID = 1000 / 1000
    $GID = 1000 27 124 125 1000
    $EGID = 1000 27 124 125 1000

Perl module toolchain versions installed:

    Module              Have     
    ------------------- ---------
    CPAN                3.11c    
    CPAN::Meta          2.150006c
    Cwd                 4.64c    
    ExtUtils::CBuilder  0.280225 
    ExtUtils::Command   7.10     
    ExtUtils::Install   2.04     
    ExtUtils::MakeMaker 8.04_03  
    ExtUtils::Manifest  1.70     
    ExtUtils::ParseXS   3.32     
    File::Spec          4.64c    
    JSON                2.90     
    JSON::PP            2.27400  
    Module::Build       0.4218   
    Module::Signature   0.80     
    Parse::CPAN::Meta   1.5000c  
    Test::Harness       3.36     
    Test::More          1.302049 
    YAML                1.18     
    YAML::Syck          n/a      
    version             0.9917   


--

Summary of my cperl (revision 5 version 25 subversion 0) configuration:
  Commit id: 9cf936faa7347c06fca7812d6147b59c6a82d9fe
  Platform:
    osname=linux, osvers=4.6.0-1-amd64, archname=x86_64-linux-threads-debug@9cf936f-multi
    uname='linux reini 4.6.0-1-amd64 #1 smp debian 4.6.4-1 (2016-07-18) x86_64 gnulinux '
    config_args='-sde -Dusedevel -DDEBUGGING -Dcc=ccache gcc-6 -Accflags=-msse4.2 -march=native -DDEBUG_LEAKING_SCALARS -DPERL_TRACK_MEMPOOL -Dinstallman1dir=none -Dinstallman3dir=none -Dinstallsiteman1dir=none -Dinstallsiteman3dir=none -Darchname=x86_64-linux-threads-debug@9cf936f -Darchlib=/usr/local/lib/cperl/5.25.0/x86_64-linux-threads-debug@9cf936f -Dsitearch=/usr/local/lib/cperl/site_cperl/5.25.0/x86_64-linux-threads-debug@9cf936f -Dperlpath=/usr/local/bin/cperl5.25.0d -Dstartperl=#!/usr/local/bin/cperl5.25.0d -Dusethreads -Doptimize=-g3'
    hint=recommended, useposix=true, d_sigaction=define
    useithreads=define, usemultiplicity=define
    use64bitint=define, use64bitall=define, uselongdouble=undef
    usemymalloc=n, bincompat5005=undef
  Compiler:
    cc='ccache gcc-6', ccflags ='-D_REENTRANT -D_GNU_SOURCE -msse4.2 -march=native -DDEBUG_LEAKING_SCALARS -DPERL_TRACK_MEMPOOL -fwrapv -DDEBUGGING -fno-strict-aliasing -pipe -fstack-protector -I/usr/local/include -D_LARGEFILE_SOURCE -D_FILE_OFFSET_BITS=64',
    optimize='-g3',
    cppflags='-D_REENTRANT -D_GNU_SOURCE -msse4.2 -march=native -DDEBUG_LEAKING_SCALARS -DPERL_TRACK_MEMPOOL -fwrapv -DDEBUGGING -fno-strict-aliasing -pipe -fstack-protector -I/usr/local/include'
    ccversion='', gccversion='6.1.1 20160724', gccosandvers=''
    intsize=4, longsize=8, ptrsize=8, doublesize=8, byteorder=12345678, doublekind=3
    d_longlong=define, longlongsize=8, d_longdbl=define, longdblsize=16, longdblkind=3
    ivtype='long', ivsize=8, nvtype='double', nvsize=8, Off_t='off_t', lseeksize=8
    alignbytes=8, prototype=define
  Linker and Libraries:
    ld='ccache gcc-6', ldflags =' -fstack-protector -L/usr/local/lib'
    libpth=/usr/local/lib /usr/lib/gcc/x86_64-linux-gnu/6/include-fixed /usr/include/x86_64-linux-gnu /usr/lib /lib/x86_64-linux-gnu /lib/../lib /usr/lib/x86_64-linux-gnu /usr/lib/../lib /lib /lib64 /usr/lib64 /usr/local/lib64
    libs=-lpthread -lnsl -ldl -lm -lcrypt -lutil -lc
    perllibs=-lpthread -lnsl -ldl -lm -lcrypt -lutil -lc
    libc=libc-2.23.so, so=so, useshrplib=false, libperl=libperl.a
    gnulibc_version='2.23'
  Dynamic Linking:
    dlsrc=dl_dlopen.xs, dlext=so, d_dlsymun=undef, ccdlflags='-Wl,-E'
    cccdlflags='-fPIC', lddlflags='-shared -g3 -L/usr/local/lib -fstack-protector'


Characteristics of this binary (from libperl): 
  Compile-time options: DEBUGGING DEBUG_LEAKING_SCALARS HAS_TIMES
                        MULTIPLICITY PERLIO_LAYERS PERL_COPY_ON_WRITE
                        PERL_DONT_CREATE_GVSV PERL_HASH_FUNC_FNV1A
                        PERL_IMPLICIT_CONTEXT PERL_MALLOC_WRAP
                        PERL_PERTURB_KEYS_TOP PERL_PRESERVE_IVUV
                        PERL_TRACK_MEMPOOL PERL_USE_DEVEL USE_64_BIT_ALL
                        USE_64_BIT_INT USE_CPERL USE_ITHREADS USE_LARGE_FILES
                        USE_LOCALE USE_LOCALE_COLLATE USE_LOCALE_CTYPE
                        USE_LOCALE_NUMERIC USE_LOCALE_TIME USE_PERLIO
                        USE_PERL_ATOF USE_REENTRANT_API
  Built under linux
  Compiled at Aug  2 2016 14:35:14
  %ENV:
    PERL5LIB=""
    PERL5OPT=""
    PERL5_CPANPLUS_IS_RUNNING="9000"
    PERL5_CPAN_IS_RUNNING="9000"
    PERL_MM_USE_DEFAULT="1"
    PERL_USE_UNSAFE_INC="1"
  @INC:
    /usr/local/lib/cperl/site_cperl/5.25.0/x86_64-linux-threads-debug@9cf936f
    /usr/local/lib/cperl/site_cperl/5.25.0
    /usr/local/lib/cperl/5.25.0/x86_64-linux-threads-debug@9cf936f
    /usr/local/lib/cperl/5.25.0
    /usr/local/lib/cperl/site_cperl
    .