Test-MockModule vv0.170.0 Perl 5 v5.16.2 i86pc-solaris
- Status
- Pass
- From
- Nigel Horne
- Dist
-
Test-MockModule vv0.170.0
- Platform
- Perl 5 v5.16.2 i86pc-solaris
- Date
- 2018-11-01 09:25:19
- ID
- 0d0717a4-ddb8-11e8-a7be-5b61d0f16bf7
This distribution has been tested as part of the CPAN Testers
project, supporting the Perl programming language. See
http://wiki.cpantesters.org/ for more information or email
questions to cpan-testers-discuss@perl.org
--
Dear Geoff Franks,
This is a computer-generated report for Test-MockModule-v0.170.0
on perl 5.16.2, created by CPAN-Reporter-1.2018.
Thank you for uploading your work to CPAN. Congratulations!
All tests were successful.
Sections of this report:
* Tester comments
* Program output
* Prerequisites
* Environment and other context
------------------------------
TESTER COMMENTS
------------------------------
Additional comments from tester:
this report is from an automated smoke testing program
and was not reviewed by a human for accuracy
------------------------------
PROGRAM OUTPUT
------------------------------
Output from './Build test':
t/inheritance.t ... ok
t/mockmodule.t .... ok
t/pod.t ........... skipped: Test::Pod 1.00 required for testing POD
t/pod_coverage.t .. ok
t/prototype.t ..... ok
t/redefine.t ...... ok
All tests successful.
Files=6, Tests=76, 2 wallclock secs ( 0.07 usr 0.03 sys + 0.69 cusr 0.18 csys = 0.97 CPU)
Result: PASS
------------------------------
PREREQUISITES
------------------------------
Prerequisite modules loaded:
requires:
Module Need Have
-------------- ----- ----------
Carp 0 1.50
perl 5.006 5.016002
Scalar::Util 0 1.50
SUPER 0 1.20141117
build_requires:
Module Need Have
-------------- ----- ----------
Test::More 0.88 1.302140
Test::Warnings 0 0.026
configure_requires:
Module Need Have
-------------- ----- ----------
Module::Build 0.38 0.4224
------------------------------
ENVIRONMENT AND OTHER CONTEXT
------------------------------
Environment variables:
AUTOMATED_TESTING = 1
NONINTERACTIVE_TESTING = 1
PATH = /export/home/njh/perl5/perlbrew/bin:/export/home/njh/perl5/perlbrew/perls/perl-5.16.2/bin:/export/home/njh/src/njh/smoker/bin:/usr/bin
PERL5LIB = /export/home/njh/.cpan/build/SUPER-1.20141117-9/blib/arch:/export/home/njh/.cpan/build/SUPER-1.20141117-9/blib/lib:/export/home/njh/.cpan/build/Sub-Identify-0.14-9/blib/arch:/export/home/njh/.cpan/build/Sub-Identify-0.14-9/blib/lib
PERL5OPT =
PERL5_CPANPLUS_IS_RUNNING = 9071
PERL5_CPAN_IS_RUNNING = 9071
PERLBREW_HOME = /export/home/njh/.perlbrew
PERLBREW_MANPATH = /export/home/njh/perl5/perlbrew/perls/perl-5.16.2/man
PERLBREW_PATH = /export/home/njh/perl5/perlbrew/bin:/export/home/njh/perl5/perlbrew/perls/perl-5.16.2/bin
PERLBREW_PERL = perl-5.16.2
PERLBREW_ROOT = /export/home/njh/perl5/perlbrew
PERLBREW_SHELLRC_VERSION = 0.84
PERLBREW_VERSION = 0.84
PERL_MM_USE_DEFAULT = 1
SHELL = /usr/bin/sh
TERM = dumb
TMPDIR = /tmp/testwrapper.9045
Perl special variables (and OS-specific diagnostics, for MSWin32):
$^X = /export/home/njh/perl5/perlbrew/perls/perl-5.16.2/bin/perl
$UID/$EUID = 101 / 101
$GID = 10 10
$EGID = 10 10
Perl module toolchain versions installed:
Module Have
------------------- --------
CPAN 2.16
CPAN::Meta 2.150010
Cwd 3.39_02
ExtUtils::CBuilder 0.280230
ExtUtils::Command 7.34
ExtUtils::Install 2.14
ExtUtils::MakeMaker 7.34
ExtUtils::Manifest 1.71
ExtUtils::ParseXS 3.35
File::Spec 3.39_02
JSON 2.97001
JSON::PP 2.97001
Module::Build 0.4224
Module::Signature n/a
Parse::CPAN::Meta 2.150010
Test::Harness 3.42
Test::More 1.302140
YAML 1.26
YAML::Syck 1.30
version 0.9924
--
Summary of my perl5 (revision 5 version 16 subversion 2) configuration:
Platform:
osname=solaris, osvers=2.11, archname=i86pc-solaris
uname='sunos vultr1.bandsman.co.uk 5.11 illumos-b075503f22 i86pc i386 i86pc '
config_args='-de -Dprefix=/export/home/njh/perl5/perlbrew/perls/perl-5.16.2 -Aeval:scriptdir=/export/home/njh/perl5/perlbrew/perls/perl-5.16.2/bin'
hint=recommended, useposix=true, d_sigaction=define
useithreads=undef, usemultiplicity=undef
useperlio=define, d_sfio=undef, uselargefiles=define, usesocks=undef
use64bitint=undef, use64bitall=undef, uselongdouble=undef
usemymalloc=n, bincompat5005=undef
Compiler:
cc='/opt/SUNWspro/bin/cc', ccflags ='-I/usr/gnu/include -D_LARGEFILE_SOURCE -D_FILE_OFFSET_BITS=64 -DPERL_USE_SAFE_PUTENV',
optimize='-O',
cppflags='-I/usr/gnu/include'
ccversion='Sun C 5.10 SunOS_i386 2009/06/03', gccversion='', gccosandvers=''
intsize=4, longsize=4, ptrsize=4, doublesize=8, byteorder=1234
d_longlong=define, longlongsize=8, d_longdbl=define, longdblsize=12
ivtype='long', ivsize=4, nvtype='double', nvsize=8, Off_t='off_t', lseeksize=8
alignbytes=4, prototype=define
Linker and Libraries:
ld='/opt/SUNWspro/bin/cc', ldflags =' -L/usr/lib -L/usr/ccs/lib -L/opt/sunstudio12.1/prod/lib -L/lib -L/usr/gnu/lib '
libpth=/usr/lib /usr/ccs/lib /opt/sunstudio12.1/prod/lib /lib /usr/gnu/lib
libs=-lsocket -lnsl -lgdbm -ldb -ldl -lm -lc
perllibs=-lsocket -lnsl -ldl -lm -lc
libc=/lib/libc.so, so=so, useshrplib=true, libperl=libperl.so
gnulibc_version=''
Dynamic Linking:
dlsrc=dl_dlopen.xs, dlext=so, d_dlsymun=undef, ccdlflags=' -R /export/home/njh/perl5/perlbrew/perls/perl-5.16.2/lib/5.16.2/i86pc-solaris/CORE'
cccdlflags='-KPIC', lddlflags='-G -L/usr/lib -L/usr/ccs/lib -L/opt/sunstudio12.1/prod/lib -L/lib -L/usr/gnu/lib'
Characteristics of this binary (from libperl):
Compile-time options: HAS_TIMES PERLIO_LAYERS PERL_DONT_CREATE_GVSV
PERL_MALLOC_WRAP PERL_PRESERVE_IVUV
PERL_USE_SAFE_PUTENV USE_LARGE_FILES USE_LOCALE
USE_LOCALE_COLLATE USE_LOCALE_CTYPE
USE_LOCALE_NUMERIC USE_PERLIO USE_PERL_ATOF
Locally applied patches:
Devel::PatchPerl 1.52
Built under solaris
Compiled at Sep 17 2018 02:49:13
%ENV:
PERL5LIB="/export/home/njh/.cpan/build/SUPER-1.20141117-9/blib/arch:/export/home/njh/.cpan/build/SUPER-1.20141117-9/blib/lib:/export/home/njh/.cpan/build/Sub-Identify-0.14-9/blib/arch:/export/home/njh/.cpan/build/Sub-Identify-0.14-9/blib/lib"
PERL5OPT=""
PERL5_CPANPLUS_IS_RUNNING="9071"
PERL5_CPAN_IS_RUNNING="9071"
PERLBREW_HOME="/export/home/njh/.perlbrew"
PERLBREW_MANPATH="/export/home/njh/perl5/perlbrew/perls/perl-5.16.2/man"
PERLBREW_PATH="/export/home/njh/perl5/perlbrew/bin:/export/home/njh/perl5/perlbrew/perls/perl-5.16.2/bin"
PERLBREW_PERL="perl-5.16.2"
PERLBREW_ROOT="/export/home/njh/perl5/perlbrew"
PERLBREW_SHELLRC_VERSION="0.84"
PERLBREW_VERSION="0.84"
PERL_MM_USE_DEFAULT="1"
@INC:
/export/home/njh/.cpan/build/SUPER-1.20141117-9/blib/arch
/export/home/njh/.cpan/build/SUPER-1.20141117-9/blib/lib
/export/home/njh/.cpan/build/Sub-Identify-0.14-9/blib/arch
/export/home/njh/.cpan/build/Sub-Identify-0.14-9/blib/lib
/export/home/njh/perl5/perlbrew/perls/perl-5.16.2/lib/site_perl/5.16.2/i86pc-solaris
/export/home/njh/perl5/perlbrew/perls/perl-5.16.2/lib/site_perl/5.16.2
/export/home/njh/perl5/perlbrew/perls/perl-5.16.2/lib/5.16.2/i86pc-solaris
/export/home/njh/perl5/perlbrew/perls/perl-5.16.2/lib/5.16.2
.