Back
From: metabase:user:320bfe00-2aae-11df-837a-5e0a49663a4f
Subject: PASS Sort-Bucket-0.02 v5.15.7 GNU/Linux
Date: 2012-01-25T10:26:32Z
This distribution has been tested as part of the CPAN Testers
project, supporting the Perl programming language. See
http://wiki.cpantesters.org/ for more information or email
questions to cpan-testers-discuss@perl.org
--
Dear Nick Cleaton,
This is a computer-generated report for Sort-Bucket-0.02
on perl 5.15.7, created by CPAN-Reporter-1.2003.
Thank you for uploading your work to CPAN. Congratulations!
All tests were successful.
Sections of this report:
* Tester comments
* Program output
* Prerequisites
* Environment and other context
------------------------------
TESTER COMMENTS
------------------------------
Additional comments from tester:
this report is from an automated smoke testing program
and was not reviewed by a human for accuracy
------------------------------
PROGRAM OUTPUT
------------------------------
Output from './Build test':
#
# Benchmark | CORE::sort() | Sort::Bucket | Ratio
# 10k digits | 0.006437s | 0.0008399s | 7.664
# 100k digits | 0.1097s | 0.01721s | 6.376
# 200k digits | 0.2733s | 0.04591s | 5.953
# 500k digits | 0.8132s | 0.1589s | 5.119
# 1M digits | 1.814s | 0.1925s | 9.423
# 10k binary | 0.2104s | 0.0007498s | 280.6
# 100k binary | 0.1844s | 0.008887s | 20.75
# 200k binary | 0.4426s | 0.0175s | 25.29
# 500k binary | 1.181s | 0.04611s | 25.61
# 1M binary | 2.736s | 0.1084s | 25.23
t/benchmark.t ............ ok
t/cbv-nondescending.t .... ok
t/cbv.t .................. ok
t/inplace_bucket_sort.t .. ok
t/inplace_gaps.t ......... ok
t/invalid.t .............. ok
t/ms_do_mergesort.t ...... ok
All tests successful.
Files=7, Tests=1413, 52 wallclock secs ( 0.13 usr 0.04 sys + 51.33 cusr 0.21 csys = 51.71 CPU)
Result: PASS
------------------------------
PREREQUISITES
------------------------------
Prerequisite modules loaded:
requires:
Module Need Have
-------------------- ---- --------
Exporter 0 5.66
XSLoader 0 0.16
build_requires:
Module Need Have
-------------------- ---- --------
Devel::Refcount 0 0.09
Digest::MD5 0 2.51
ExtUtils::CBuilder 0 0.280202
List::Util 0 1.23
Test::Exception 0 0.31
Test::Group 0 0.18
Test::Group::Foreach 0 0.03
Test::More 0.88 0.98
Time::HiRes 0 1.9724
configure_requires:
Module Need Have
-------------------- ---- --------
Module::Build 0.35 0.39_01
------------------------------
ENVIRONMENT AND OTHER CONTEXT
------------------------------
Environment variables:
AUTOMATED_TESTING = 1
LANG = en_US.UTF-8
LANGUAGE = en_US:en
PATH = /home/sand/bin:/usr/local/bin:/usr/bin:/bin:/usr/bin/X11:/usr/games:/usr/local/perl/bin:/usr/X11/bin:/sbin:/usr/sbin
PERL5LIB =
PERL5OPT =
PERL5_CPANPLUS_IS_RUNNING = 18667
PERL5_CPAN_IS_RUNNING = 18667
PERL_MM_USE_DEFAULT = 1
SHELL = /usr/bin/zsh
TERM = screen
Perl special variables (and OS-specific diagnostics, for MSWin32):
$^X = /home/sand/src/perl/repoperls/installed-perls/perl/v5.15.7-5-gcf6bc74/127e/bin/perl
$UID/$EUID = 1005 / 1005
$GID = 1005 1005
$EGID = 1005 1005
Perl module toolchain versions installed:
Module Have
------------------- --------
CPAN 1.9800
CPAN::Meta 2.113640
Cwd 3.39_01
ExtUtils::CBuilder 0.280202
ExtUtils::Command 1.17
ExtUtils::Install 1.57
ExtUtils::MakeMaker 6.63_02
ExtUtils::Manifest 1.61
ExtUtils::ParseXS 3.13
File::Spec 3.39_01
JSON 2.53
JSON::PP 2.27200
Module::Build 0.39_01
Module::Signature 0.68
Parse::CPAN::Meta 1.4401
Test::Harness 3.23
Test::More 0.98
YAML 0.78
YAML::Syck 1.19
version 0.96
--
Summary of my perl5 (revision 5 version 15 subversion 7) configuration:
Commit id: cf6bc7443b85b3f1db1f804e177fe43d5d96db1a
Platform:
osname=linux, osvers=2.6.32-5-amd64, archname=x86_64-linux-ld
uname='linux k83 2.6.32-5-amd64 #1 smp thu nov 3 03:41:26 utc 2011 x86_64 gnulinux '
config_args='-Dprefix=/home/src/perl/repoperls/installed-perls/perl/v5.15.7-5-gcf6bc74/127e -Dmyhostname=k83 -Dinstallusrbinperl=n -Uversiononly -Dusedevel -des -Ui_db -Uuseithreads -Duselongdouble -DDEBUGGING=-g'
hint=recommended, useposix=true, d_sigaction=define
useithreads=undef, usemultiplicity=undef
useperlio=define, d_sfio=undef, uselargefiles=define, usesocks=undef
use64bitint=define, use64bitall=define, uselongdouble=define
usemymalloc=n, bincompat5005=undef
Compiler:
cc='cc', ccflags ='-fno-strict-aliasing -pipe -fstack-protector -I/usr/local/include -D_LARGEFILE_SOURCE -D_FILE_OFFSET_BITS=64',
optimize='-O2 -g',
cppflags='-fno-strict-aliasing -pipe -fstack-protector -I/usr/local/include'
ccversion='', gccversion='4.4.5', gccosandvers=''
intsize=4, longsize=8, ptrsize=8, doublesize=8, byteorder=12345678
d_longlong=define, longlongsize=8, d_longdbl=define, longdblsize=16
ivtype='long', ivsize=8, nvtype='long double', nvsize=16, Off_t='off_t', lseeksize=8
alignbytes=16, prototype=define
Linker and Libraries:
ld='cc', ldflags =' -fstack-protector -L/usr/local/lib'
libpth=/usr/local/lib /lib/../lib /usr/lib/../lib /lib /usr/lib /lib64 /usr/lib64
libs=-lnsl -ldb -ldl -lm -lcrypt -lutil -lc
perllibs=-lnsl -ldl -lm -lcrypt -lutil -lc
libc=/lib/libc-2.11.2.so, so=so, useshrplib=false, libperl=libperl.a
gnulibc_version='2.11.2'
Dynamic Linking:
dlsrc=dl_dlopen.xs, dlext=so, d_dlsymun=undef, ccdlflags='-Wl,-E'
cccdlflags='-fPIC', lddlflags='-shared -O2 -g -L/usr/local/lib -fstack-protector'
Characteristics of this binary (from libperl):
Compile-time options: HAS_TIMES PERLIO_LAYERS PERL_DONT_CREATE_GVSV
PERL_MALLOC_WRAP PERL_PRESERVE_IVUV PERL_USE_DEVEL
USE_64_BIT_ALL USE_64_BIT_INT USE_LARGE_FILES
USE_LOCALE USE_LOCALE_COLLATE USE_LOCALE_CTYPE
USE_LOCALE_NUMERIC USE_LONG_DOUBLE USE_PERLIO
USE_PERL_ATOF
Built under linux
Compiled at Jan 20 2012 21:55:48
%ENV:
PERL5LIB=""
PERL5OPT=""
PERL5_CPANPLUS_IS_RUNNING="18667"
PERL5_CPAN_IS_RUNNING="18667"
PERL_MM_USE_DEFAULT="1"
@INC:
/home/src/perl/repoperls/installed-perls/perl/v5.15.7-5-gcf6bc74/127e/lib/site_perl/5.15.7/x86_64-linux-ld
/home/src/perl/repoperls/installed-perls/perl/v5.15.7-5-gcf6bc74/127e/lib/site_perl/5.15.7
/home/src/perl/repoperls/installed-perls/perl/v5.15.7-5-gcf6bc74/127e/lib/5.15.7/x86_64-linux-ld
/home/src/perl/repoperls/installed-perls/perl/v5.15.7-5-gcf6bc74/127e/lib/5.15.7
.