Software-License v0.103014 Perl 5 v5.28.1 x86_64-linux
- Status
- Pass
- From
- NONAME
- Dist
-
Software-License v0.103014
- Platform
- Perl 5 v5.28.1 x86_64-linux
- Date
- 2018-12-01 13:28:55
- ID
- 0d15ba30-f56d-11e8-aee1-b2bc54582df1
This distribution has been tested as part of the CPAN Testers
project, supporting the Perl programming language. See
http://wiki.cpantesters.org/ for more information or email
questions to cpan-testers-discuss@perl.org
--
Dear LEONT,
This is a computer-generated report for Software-License-0.103014
on perl 5.28.1, created by App::cpanminus::reporter 0.17 (1.7027).
Thank you for uploading your work to CPAN. Congratulations!
All tests were successful.
Sections of this report:
* Tester comments
* Program output
* Prerequisites
* Environment and other context
------------------------------
TESTER COMMENTS
------------------------------
Additional comments from tester:
none provided
------------------------------
PROGRAM OUTPUT
------------------------------
Output from '':
Building and testing Software-License-0.103014
cp lib/Software/License/SSLeay.pm blib/lib/Software/License/SSLeay.pm
cp lib/Software/License/GFDL_1_3.pm blib/lib/Software/License/GFDL_1_3.pm
cp lib/Software/License/Apache_1_1.pm blib/lib/Software/License/Apache_1_1.pm
cp lib/Software/License/EUPL_1_1.pm blib/lib/Software/License/EUPL_1_1.pm
cp lib/Software/License/Custom.pm blib/lib/Software/License/Custom.pm
cp lib/Software/License/GFDL_1_2.pm blib/lib/Software/License/GFDL_1_2.pm
cp lib/Software/License/GPL_1.pm blib/lib/Software/License/GPL_1.pm
cp lib/Software/License/GPL_2.pm blib/lib/Software/License/GPL_2.pm
cp lib/Software/License/MIT.pm blib/lib/Software/License/MIT.pm
cp lib/Software/LicenseUtils.pm blib/lib/Software/LicenseUtils.pm
cp lib/Software/License/None.pm blib/lib/Software/License/None.pm
cp lib/Software/License/Artistic_2_0.pm blib/lib/Software/License/Artistic_2_0.pm
cp lib/Software/License/OpenSSL.pm blib/lib/Software/License/OpenSSL.pm
cp lib/Software/License/Mozilla_1_1.pm blib/lib/Software/License/Mozilla_1_1.pm
cp lib/Software/License/Perl_5.pm blib/lib/Software/License/Perl_5.pm
cp lib/Software/License/AGPL_3.pm blib/lib/Software/License/AGPL_3.pm
cp lib/Software/License/PostgreSQL.pm blib/lib/Software/License/PostgreSQL.pm
cp lib/Software/License/LGPL_3_0.pm blib/lib/Software/License/LGPL_3_0.pm
cp lib/Software/License/Artistic_1_0.pm blib/lib/Software/License/Artistic_1_0.pm
cp lib/Software/License/GPL_3.pm blib/lib/Software/License/GPL_3.pm
cp lib/Software/License/Sun.pm blib/lib/Software/License/Sun.pm
cp lib/Software/License/Mozilla_2_0.pm blib/lib/Software/License/Mozilla_2_0.pm
cp lib/Software/License/CC0_1_0.pm blib/lib/Software/License/CC0_1_0.pm
cp lib/Software/License/QPL_1_0.pm blib/lib/Software/License/QPL_1_0.pm
cp lib/Software/License/Mozilla_1_0.pm blib/lib/Software/License/Mozilla_1_0.pm
cp lib/Software/License/EUPL_1_2.pm blib/lib/Software/License/EUPL_1_2.pm
cp lib/Software/License/Apache_2_0.pm blib/lib/Software/License/Apache_2_0.pm
cp lib/Software/License.pm blib/lib/Software/License.pm
cp lib/Software/License/FreeBSD.pm blib/lib/Software/License/FreeBSD.pm
cp lib/Software/License/LGPL_2_1.pm blib/lib/Software/License/LGPL_2_1.pm
cp lib/Software/License/Zlib.pm blib/lib/Software/License/Zlib.pm
cp lib/Software/License/BSD.pm blib/lib/Software/License/BSD.pm
Manifying 31 pod documents
Manifying 1 pod document
PERL_DL_NONLAZY=1 "/home/rr/perl5/perlbrew/perls/perl-5.28.1/bin/perl" "-MExtUtils::Command::MM" "-MTest::Harness" "-e" "undef *Test::Harness::Switches; test_harness(0, 'blib/lib', 'blib/arch')" t/*.t
#
# Versions for all modules listed in MYMETA.json (including optional ones):
#
# === Configure Requires ===
#
# Module Want Have
# ------------------- ---- ----
# ExtUtils::MakeMaker any 7.34
#
# === Configure Suggests ===
#
# Module Want Have
# -------- ------- -------
# JSON::PP 2.27300 2.97001
#
# === Build Requires ===
#
# Module Want Have
# ------------------- ---- ----
# ExtUtils::MakeMaker any 7.34
#
# === Test Requires ===
#
# Module Want Have
# ------------------- ---- --------
# ExtUtils::MakeMaker any 7.34
# File::Spec any 3.75
# Test::More 0.96 1.302141
# Try::Tiny any 0.30
#
# === Test Recommends ===
#
# Module Want Have
# ---------- -------- --------
# CPAN::Meta 2.120900 2.150010
#
# === Runtime Requires ===
#
# Module Want Have
# -------------- ---- --------
# Carp any 1.50
# Data::Section any 0.200007
# File::Spec any 3.75
# IO::Dir any 1.39
# Module::Load any 0.32
# Text::Template any 1.53
# parent any 0.236
# strict any 1.11
# utf8 any 1.21
# warnings any 1.42
#
t/00-report-prereqs.t ....... ok
t/basic.t ................... ok
t/bsd-url.t ................. ok
t/creative_commons.t ........ skipped: requires Software::License::CCpack to test this
t/custom.t .................. ok
t/from-spdx-expression.t .... ok
t/guess_license_from_pod.t .. ok
t/guess_meta_license.t ...... ok
t/meta-names.t .............. ok
t/round-trip.t .............. ok
t/short_name.t .............. ok
t/spdx-expression.t ......... ok
t/two-dots.t ................ ok
t/utils.t ................... ok
All tests successful.
Files=14, Tests=219, 1 wallclock secs ( 0.06 usr 0.00 sys + 1.20 cusr 0.08 csys = 1.34 CPU)
Result: PASS
------------------------------
PREREQUISITES
------------------------------
Prerequisite modules loaded:
No requirements found
------------------------------
ENVIRONMENT AND OTHER CONTEXT
------------------------------
Environment variables:
LANG = en_GB.UTF-8
LANGUAGE = en_GB:en
PATH = /home/rr/perl5/perlbrew/bin:/home/rr/perl5/perlbrew/perls/perl-5.28.1/bin:/home/rr/node_modules/.bin/:/home/rr/bin:/usr/local/sbin:/usr/local/bin:/usr/sbin:/usr/bin:/sbin:/bin:/usr/games:/usr/local/games:/snap/bin
PERLBREW_HOME = /home/rr/.perlbrew
PERLBREW_MANPATH = /home/rr/perl5/perlbrew/perls/perl-5.28.1/man
PERLBREW_PATH = /home/rr/perl5/perlbrew/bin:/home/rr/perl5/perlbrew/perls/perl-5.28.1/bin
PERLBREW_PERL = perl-5.28.1
PERLBREW_ROOT = /home/rr/perl5/perlbrew
PERLBREW_SHELLRC_VERSION = 0.84
PERLBREW_VERSION = 0.84
SHELL = /bin/bash
TERM = xterm
Perl special variables (and OS-specific diagnostics, for MSWin32):
EGID = 1000 4 24 27 30 46 105 108 124 1000
EUID = 1000
EXECUTABLE_NAME = /home/rr/perl5/perlbrew/perls/perl-5.28.1/bin/perl
GID = 1000 4 24 27 30 46 105 108 124 1000
UID = 1000
Perl module toolchain versions installed:
Module Have
------------------- --------
CPAN 2.20
CPAN::Meta 2.150010
Cwd 3.75
ExtUtils::CBuilder 0.280230
ExtUtils::Command 7.34
ExtUtils::Install 2.14
ExtUtils::MakeMaker 7.34
ExtUtils::Manifest 1.71
ExtUtils::ParseXS 3.39
File::Spec 3.75
JSON n/a
JSON::PP 2.97001
Module::Build 0.4224
Module::Signature n/a
Parse::CPAN::Meta 2.150010
Test::Harness 3.42
Test::More 1.302141
YAML n/a
YAML::Syck n/a
version 0.9924
--
Summary of my perl5 (revision 5 version 28 subversion 1) configuration:
Platform:
osname=linux
osvers=4.4.0-139-generic
archname=x86_64-linux
uname='linux lightheart 4.4.0-139-generic #165-ubuntu smp wed oct 24 10:58:50 utc 2018 x86_64 x86_64 x86_64 gnulinux '
config_args='-de -Dprefix=/home/rr/perl5/perlbrew/perls/perl-5.28.1 -Aeval:scriptdir=/home/rr/perl5/perlbrew/perls/perl-5.28.1/bin'
hint=recommended
useposix=true
d_sigaction=define
useithreads=undef
usemultiplicity=undef
use64bitint=define
use64bitall=define
uselongdouble=undef
usemymalloc=n
default_inc_excludes_dot=define
bincompat5005=undef
Compiler:
cc='cc'
ccflags ='-fwrapv -fno-strict-aliasing -pipe -fstack-protector-strong -I/usr/local/include -D_LARGEFILE_SOURCE -D_FILE_OFFSET_BITS=64'
optimize='-O2'
cppflags='-fwrapv -fno-strict-aliasing -pipe -fstack-protector-strong -I/usr/local/include'
ccversion=''
gccversion='5.4.0 20160609'
gccosandvers=''
intsize=4
longsize=8
ptrsize=8
doublesize=8
byteorder=12345678
doublekind=3
d_longlong=define
longlongsize=8
d_longdbl=define
longdblsize=16
longdblkind=3
ivtype='long'
ivsize=8
nvtype='double'
nvsize=8
Off_t='off_t'
lseeksize=8
alignbytes=8
prototype=define
Linker and Libraries:
ld='cc'
ldflags =' -fstack-protector-strong -L/usr/local/lib'
libpth=/usr/local/lib /usr/lib/gcc/x86_64-linux-gnu/5/include-fixed /usr/include/x86_64-linux-gnu /usr/lib /lib/x86_64-linux-gnu /lib/../lib /usr/lib/x86_64-linux-gnu /usr/lib/../lib /lib
libs=-lpthread -lnsl -ldl -lm -lcrypt -lutil -lc
perllibs=-lpthread -lnsl -ldl -lm -lcrypt -lutil -lc
libc=libc-2.23.so
so=so
useshrplib=false
libperl=libperl.a
gnulibc_version='2.23'
Dynamic Linking:
dlsrc=dl_dlopen.xs
dlext=so
d_dlsymun=undef
ccdlflags='-Wl,-E'
cccdlflags='-fPIC'
lddlflags='-shared -O2 -L/usr/local/lib -fstack-protector-strong'
Characteristics of this binary (from libperl):
Compile-time options:
HAS_TIMES
PERLIO_LAYERS
PERL_COPY_ON_WRITE
PERL_DONT_CREATE_GVSV
PERL_MALLOC_WRAP
PERL_OP_PARENT
PERL_PRESERVE_IVUV
USE_64_BIT_ALL
USE_64_BIT_INT
USE_LARGE_FILES
USE_LOCALE
USE_LOCALE_COLLATE
USE_LOCALE_CTYPE
USE_LOCALE_NUMERIC
USE_LOCALE_TIME
USE_PERLIO
USE_PERL_ATOF
Locally applied patches:
Devel::PatchPerl 1.40
Built under linux
Compiled at Dec 1 2018 12:46:19
%ENV:
PERLBREW_HOME="/home/rr/.perlbrew"
PERLBREW_MANPATH="/home/rr/perl5/perlbrew/perls/perl-5.28.1/man"
PERLBREW_PATH="/home/rr/perl5/perlbrew/bin:/home/rr/perl5/perlbrew/perls/perl-5.28.1/bin"
PERLBREW_PERL="perl-5.28.1"
PERLBREW_ROOT="/home/rr/perl5/perlbrew"
PERLBREW_SHELLRC_VERSION="0.84"
PERLBREW_VERSION="0.84"
@INC:
/home/rr/perl5/perlbrew/perls/perl-5.28.1/lib/site_perl/5.28.1/x86_64-linux
/home/rr/perl5/perlbrew/perls/perl-5.28.1/lib/site_perl/5.28.1
/home/rr/perl5/perlbrew/perls/perl-5.28.1/lib/5.28.1/x86_64-linux
/home/rr/perl5/perlbrew/perls/perl-5.28.1/lib/5.28.1