Alien-Build-Plugin-Fetch-Cache v0.04 Perl 5 v5.31.3 x86_64-linux-thread-multi-ld

Status
Pass
From
Andreas J. König (ANDK)
Dist
Alien-Build-Plugin-Fetch-Cache v0.04
Platform
Perl 5 v5.31.3 x86_64-linux-thread-multi-ld
Date
2019-08-22 11:21:56
ID
0d22f952-c4cf-11e9-9e56-47e68db2b76f
This distribution has been tested as part of the CPAN Testers
project, supporting the Perl programming language.  See
http://wiki.cpantesters.org/ for more information or email
questions to cpan-testers-discuss@perl.org


--
Dear Graham Ollis,

This is a computer-generated report for Alien-Build-Plugin-Fetch-Cache-0.04
on perl 5.31.3, created by CPAN-Reporter-1.2018.

Thank you for uploading your work to CPAN.  Congratulations!
All tests were successful.

Sections of this report:

    * Tester comments
    * Program output
    * Prerequisites
    * Environment and other context

------------------------------
TESTER COMMENTS
------------------------------

Additional comments from tester:

this report is from an automated smoke testing program
and was not reviewed by a human for accuracy

------------------------------
PROGRAM OUTPUT
------------------------------

Output from '/usr/bin/make test':

PERL_DL_NONLAZY=1 "/tmp/basesmoker-reloperl-GWPD/bin/perl" "-MExtUtils::Command::MM" "-MTest::Harness" "-e" "undef *Test::Harness::Switches; test_harness(0, 'blib/lib', 'blib/arch')" t/*.t
# 
# 
# 
# HARNESS_ACTIVE=1
# HARNESS_VERSION=3.42
# LANG=en_US.UTF-8
# PERL5LIB=/tmp/loop_over_bdir-3749-SI4vBF/Alien-Build-Plugin-Fetch-Cache-0.04-0/blib/lib:/tmp/loop_over_bdir-3749-SI4vBF/Alien-Build-Plugin-Fetch-Cache-0.04-0/blib/arch:/tmp/loop_over_bdir-3749-SI4vBF/Dpkg-1.19.7-0/blib/arch:/tmp/loop_over_bdir-3749-SI4vBF/Dpkg-1.19.7-0/blib/lib:/tmp/loop_over_bdir-3749-SI4vBF/Dpkg-1.19.7-0/blib/arch:/tmp/loop_over_bdir-3749-SI4vBF/Dpkg-1.19.7-0/blib/lib
# PERL5OPT=
# PERL5_CPANPLUS_IS_RUNNING=3757
# PERL5_CPAN_IS_RUNNING=3757
# PERL_CANARY_STABILITY_NOPROMPT=1
# PERL_DL_NONLAZY=1
# PERL_MM_USE_DEFAULT=1
# PERL_USE_UNSAFE_INC=1
# SHELL=/usr/bin/zsh
# 
# 
# 
# PERL5LIB path
# /tmp/loop_over_bdir-3749-SI4vBF/Alien-Build-Plugin-Fetch-Cache-0.04-0/blib/lib
# /tmp/loop_over_bdir-3749-SI4vBF/Alien-Build-Plugin-Fetch-Cache-0.04-0/blib/arch
# /tmp/loop_over_bdir-3749-SI4vBF/Dpkg-1.19.7-0/blib/arch
# /tmp/loop_over_bdir-3749-SI4vBF/Dpkg-1.19.7-0/blib/lib
# /tmp/loop_over_bdir-3749-SI4vBF/Dpkg-1.19.7-0/blib/arch
# /tmp/loop_over_bdir-3749-SI4vBF/Dpkg-1.19.7-0/blib/lib
# 
# 
# 
# perl                       5.031003
# Alien::Build               1.83
# Capture::Tiny              0.48
# Digest::MD5                2.55
# ExtUtils::MakeMaker        7.36
# File::chdir                0.1010
# Number::Bytes::Human       0.11
# Path::Tiny                 0.108
# Sereal                     4.007
# Test2::Plugin::FauxHomeDir 0.05
# Test2::V0                  0.000125
# Test::Alien::Build         1.83
# Test::Script               1.25
# URI                        1.76
# 
# 
# 
t/00_diag.t ......................... ok
t/01_use.t .......................... ok
t/abcache.t ......................... ok
t/alien_build_plugin_fetch_cache.t .. ok
All tests successful.
Files=4, Tests=4,  1 wallclock secs ( 0.01 usr  0.03 sys +  0.65 cusr  0.17 csys =  0.86 CPU)
Result: PASS

------------------------------
PREREQUISITES
------------------------------

Prerequisite modules loaded:

requires:

    Module                     Need     Have    
    -------------------------- -------- --------
    Alien::Build               0.57     1.83    
    Digest::MD5                0        2.55    
    Number::Bytes::Human       0        0.11    
    Path::Tiny                 0.100    0.108   
    perl                       5.010001 5.031003
    Sereal                     3.015    4.007   
    URI                        1.71     1.76    

build_requires:

    Module                     Need     Have    
    -------------------------- -------- --------
    Capture::Tiny              0        0.48    
    ExtUtils::MakeMaker        0        7.36    
    File::chdir                0        0.1010  
    Test2::Plugin::FauxHomeDir 0        0.05    
    Test2::V0                  0.000060 0.000125
    Test::Alien::Build         0        1.83    
    Test::Script               0        1.25    

configure_requires:

    Module                     Need     Have    
    -------------------------- -------- --------
    ExtUtils::MakeMaker        0        7.36    
    perl                       5.010001 5.031003


------------------------------
ENVIRONMENT AND OTHER CONTEXT
------------------------------

Environment variables:

    AUTOMATED_TESTING = 1
    LANG = en_US.UTF-8
    PATH = /home/sand/bin:/usr/local/bin:/usr/local/sbin:/usr/sbin:/usr/bin:/sbin:/bin:/usr/games:/usr/local/games:/usr/local/perl/bin:/usr/X11/bin
    PERL5LIB = /tmp/loop_over_bdir-3749-SI4vBF/Dpkg-1.19.7-0/blib/arch:/tmp/loop_over_bdir-3749-SI4vBF/Dpkg-1.19.7-0/blib/lib
    PERL5OPT = 
    PERL5_CPANPLUS_IS_RUNNING = 3757
    PERL5_CPAN_IS_RUNNING = 3757
    PERL_CANARY_STABILITY_NOPROMPT = 1
    PERL_MM_USE_DEFAULT = 1
    PERL_USE_UNSAFE_INC = 1
    SHELL = /usr/bin/zsh
    TERM = screen

Perl special variables (and OS-specific diagnostics, for MSWin32):

    $^X = /tmp/basesmoker-reloperl-GWPD/bin/perl
    $UID/$EUID = 1005 / 1005
    $GID = 1005 1005
    $EGID = 1005 1005

Perl module toolchain versions installed:

    Module              Have    
    ------------------- --------
    CPAN                2.27    
    CPAN::Meta          2.150010
    Cwd                 3.78    
    ExtUtils::CBuilder  0.280232
    ExtUtils::Command   7.36    
    ExtUtils::Install   2.14    
    ExtUtils::MakeMaker 7.36    
    ExtUtils::Manifest  1.72    
    ExtUtils::ParseXS   3.40    
    File::Spec          3.78    
    JSON                4.02    
    JSON::PP            4.04    
    Module::Build       0.4229  
    Module::Signature   0.83    
    Parse::CPAN::Meta   2.150010
    Test::Harness       3.42    
    Test::More          1.302166
    YAML                1.29    
    YAML::Syck          1.31    
    version             0.9924  


--

Summary of my perl5 (revision 5 version 31 subversion 3) configuration:
  Commit id: 1f6c9461cb3775550f70cd0c579d874dc80c5038
  Platform:
    osname=linux
    osvers=4.15.0-55-generic
    archname=x86_64-linux-thread-multi-ld
    uname='linux k93bionic 4.15.0-55-generic #60-ubuntu smp tue jul 2 18:22:20 utc 2019 x86_64 x86_64 x86_64 gnulinux '
    config_args='-Dprefix=/home/sand/src/perl/repoperls/installed-perls/host/k93bionic/v5.31.3/ebf1 -Dmyhostname=k93bionic -Dinstallusrbinperl=n -Uversiononly -Dusedevel -des -Ui_db -Dlibswanted=cl pthread socket inet nsl gdbm dbm malloc dl ld sun m crypt sec util c cposix posix ucb BSD gdbm_compat -Duseithreads -Duselongdouble -DEBUGGING=-g'
    hint=recommended
    useposix=true
    d_sigaction=define
    useithreads=define
    usemultiplicity=define
    use64bitint=define
    use64bitall=define
    uselongdouble=define
    usemymalloc=n
    default_inc_excludes_dot=define
    bincompat5005=undef
  Compiler:
    cc='cc'
    ccflags ='-D_REENTRANT -D_GNU_SOURCE -fwrapv -fno-strict-aliasing -pipe -fstack-protector-strong -I/usr/local/include -D_LARGEFILE_SOURCE -D_FILE_OFFSET_BITS=64'
    optimize='-O2 -g'
    cppflags='-D_REENTRANT -D_GNU_SOURCE -fwrapv -fno-strict-aliasing -pipe -fstack-protector-strong -I/usr/local/include'
    ccversion=''
    gccversion='7.4.0'
    gccosandvers=''
    intsize=4
    longsize=8
    ptrsize=8
    doublesize=8
    byteorder=12345678
    doublekind=3
    d_longlong=define
    longlongsize=8
    d_longdbl=define
    longdblsize=16
    longdblkind=3
    ivtype='long'
    ivsize=8
    nvtype='long double'
    nvsize=16
    Off_t='off_t'
    lseeksize=8
    alignbytes=16
    prototype=define
  Linker and Libraries:
    ld='cc'
    ldflags =' -fstack-protector-strong -L/usr/local/lib'
    libpth=/usr/local/lib /usr/lib/gcc/x86_64-linux-gnu/7/include-fixed /usr/include/x86_64-linux-gnu /usr/lib /lib/x86_64-linux-gnu /lib/../lib /usr/lib/x86_64-linux-gnu /usr/lib/../lib /lib
    libs=-lpthread -lnsl -ldl -lm -lcrypt -lutil -lc
    perllibs=-lpthread -lnsl -ldl -lm -lcrypt -lutil -lc
    libc=libc-2.27.so
    so=so
    useshrplib=false
    libperl=libperl.a
    gnulibc_version='2.27'
  Dynamic Linking:
    dlsrc=dl_dlopen.xs
    dlext=so
    d_dlsymun=undef
    ccdlflags='-Wl,-E'
    cccdlflags='-fPIC'
    lddlflags='-shared -O2 -g -L/usr/local/lib -fstack-protector-strong'


Characteristics of this binary (from libperl): 
  Compile-time options:
    HAS_TIMES
    MULTIPLICITY
    PERLIO_LAYERS
    PERL_COPY_ON_WRITE
    PERL_DONT_CREATE_GVSV
    PERL_IMPLICIT_CONTEXT
    PERL_MALLOC_WRAP
    PERL_OP_PARENT
    PERL_PRESERVE_IVUV
    PERL_USE_DEVEL
    USE_64_BIT_ALL
    USE_64_BIT_INT
    USE_ITHREADS
    USE_LARGE_FILES
    USE_LOCALE
    USE_LOCALE_COLLATE
    USE_LOCALE_CTYPE
    USE_LOCALE_NUMERIC
    USE_LOCALE_TIME
    USE_LONG_DOUBLE
    USE_PERLIO
    USE_PERL_ATOF
    USE_REENTRANT_API
    USE_THREAD_SAFE_LOCALE
  Built under linux
  Compiled at Aug 20 2019 17:22:17
  %ENV:
    PERL5LIB="/tmp/loop_over_bdir-3749-SI4vBF/Dpkg-1.19.7-0/blib/arch:/tmp/loop_over_bdir-3749-SI4vBF/Dpkg-1.19.7-0/blib/lib"
    PERL5OPT=""
    PERL5_CPANPLUS_IS_RUNNING="3757"
    PERL5_CPAN_IS_RUNNING="3757"
    PERL_CANARY_STABILITY_NOPROMPT="1"
    PERL_MM_USE_DEFAULT="1"
    PERL_USE_UNSAFE_INC="1"
  @INC:
    /tmp/loop_over_bdir-3749-SI4vBF/Dpkg-1.19.7-0/blib/arch
    /tmp/loop_over_bdir-3749-SI4vBF/Dpkg-1.19.7-0/blib/lib
    /home/sand/src/perl/repoperls/installed-perls/host/k93bionic/v5.31.3/ebf1/lib/site_perl/5.31.3/x86_64-linux-thread-multi-ld
    /home/sand/src/perl/repoperls/installed-perls/host/k93bionic/v5.31.3/ebf1/lib/site_perl/5.31.3
    /home/sand/src/perl/repoperls/installed-perls/host/k93bionic/v5.31.3/ebf1/lib/5.31.3/x86_64-linux-thread-multi-ld
    /home/sand/src/perl/repoperls/installed-perls/host/k93bionic/v5.31.3/ebf1/lib/5.31.3
    .