Dist-Zilla-Plugin-CheckVersionIncrement v0.121750 Perl 5 v5.28.0 darwin-thread-multi-2level

Status
Pass
From
Stanislaw Pusep
Dist
Dist-Zilla-Plugin-CheckVersionIncrement v0.121750
Platform
Perl 5 v5.28.0 darwin-thread-multi-2level
Date
2018-08-10 14:38:30
ID
0d2332fc-9cab-11e8-bc2f-7e59eb7e781c
This distribution has been tested as part of the CPAN Testers
project, supporting the Perl programming language.  See
http://wiki.cpantesters.org/ for more information or email
questions to cpan-testers-discuss@perl.org


--
Dear RTHOMPSON,

This is a computer-generated report for Dist-Zilla-Plugin-CheckVersionIncrement-0.121750
on perl 5.28.0, created by App::cpanminus::reporter 0.17 (1.7044).

Thank you for uploading your work to CPAN.  Congratulations!
All tests were successful.

Sections of this report:

    * Tester comments
    * Program output
    * Prerequisites
    * Environment and other context

------------------------------
TESTER COMMENTS
------------------------------

Additional comments from tester:

none provided

------------------------------
PROGRAM OUTPUT
------------------------------

Output from '':

Building and testing Dist-Zilla-Plugin-CheckVersionIncrement-0.121750
cp lib/Dist/Zilla/Plugin/CheckVersionIncrement.pm blib/lib/Dist/Zilla/Plugin/CheckVersionIncrement.pm
Manifying 1 pod document
PERL_DL_NONLAZY=1 "/usr/local/Cellar/perl/5.28.0/bin/perl" "-MExtUtils::Command::MM" "-MTest::Harness" "-e" "undef *Test::Harness::Switches; test_harness(0, 'blib/lib', 'blib/arch')" t/*.t
t/00-compile.t ............ ok
# Testing with Perl 5.028000, /usr/local/Cellar/perl/5.28.0/bin/perl
#     Carp version is 1.50
#     Dist::Zilla::Role::BeforeRelease version is 6.012
#     Encode version is 2.98
#     English version is 1.10
#     ExtUtils::MakeMaker version is 7.34
#     File::Find version is 1.34
#     File::Temp version is 0.2308
#     JSON::PP version is 2.97001
#     LWP::UserAgent version is 6.34
#     Moose version is 2.2011
#     Scalar::Util version is 1.5
#     Test::DZil version is 6.012
#     Test::More version is 1.302138
#     Test::Most version is 0.35
#     autodie version is 2.29
#     strict version is 1.11
#     version version is 0.9924
#     warnings version is 1.42
t/000-report-versions.t ... ok
t/author-critic.t ......... skipped: these tests are for testing by the author
t/main.t .................. skipped: CPAN index did not return a version number
t/release-has-version.t ... skipped: these tests are for release candidate testing
t/release-kwalitee.t ...... skipped: these tests are for release candidate testing
t/release-pod-coverage.t .. skipped: these tests are for release candidate testing
t/release-pod-syntax.t .... skipped: these tests are for release candidate testing
t/release-portability.t ... skipped: these tests are for release candidate testing
t/release-unused-vars.t ... skipped: these tests are for release candidate testing
All tests successful.
Files=10, Tests=19,  1 wallclock secs ( 0.03 usr  0.02 sys +  1.00 cusr  0.13 csys =  1.18 CPU)
Result: PASS

------------------------------
PREREQUISITES
------------------------------

Prerequisite modules loaded:

    No requirements found

------------------------------
ENVIRONMENT AND OTHER CONTEXT
------------------------------

Environment variables:

    LANG = en_US.UTF-8
    LC_ALL = en_US.UTF-8
    LC_CTYPE = UTF-8
    LDFLAGS = -L/usr/local/opt/curl/lib
    PATH = /usr/local/opt/curl/bin:/usr/local/bin:/usr/bin:/bin:/usr/sbin:/sbin:/opt/X11/bin:/Users/stan/.vim/bin:/Users/stan/bin:/Users/stan/node_modules/.bin:/usr/local/opt/curl/bin:/Users/stan/perl5/bin
    PERL5LIB = /Users/stan/perl5/lib/perl5
    PERL_LOCAL_LIB_ROOT = /Users/stan/perl5
    PERL_MB_OPT = --install_base "/Users/stan/perl5"
    PERL_MM_OPT = INSTALL_BASE=/Users/stan/perl5
    PERL_MM_USE_DEFAULT = 1
    SHELL = /bin/zsh
    TERM = screen
    TMPDIR = /var/folders/1m/0mbn7h096b361dk2y6kwjfn00000gn/T/

Perl special variables (and OS-specific diagnostics, for MSWin32):

    EGID = 20 20 12 61 79 80 81 98 702 33 100 204 250 395 398 399 701
    EUID = 501
    EXECUTABLE_NAME = /usr/local/Cellar/perl/5.28.0/bin/perl
    GID = 20 20 12 61 79 80 81 98 702 33 100 204 250 395 398 399 701
    UID = 501

Perl module toolchain versions installed:

    Module              Have    
    ------------------- --------
    CPAN                2.20    
    CPAN::Meta          2.150010
    Cwd                 3.74    
    ExtUtils::CBuilder  0.280230
    ExtUtils::Command   7.34    
    ExtUtils::Install   2.14    
    ExtUtils::MakeMaker 7.34    
    ExtUtils::Manifest  1.71    
    ExtUtils::ParseXS   3.39    
    File::Spec          3.74    
    JSON                2.97001 
    JSON::PP            2.97001 
    Module::Build       0.4224  
    Module::Signature   n/a     
    Parse::CPAN::Meta   2.150010
    Test::Harness       3.42    
    Test::More          1.302138
    YAML                1.26    
    YAML::Syck          n/a     
    version             0.9924  


--

Summary of my perl5 (revision 5 version 28 subversion 0) configuration:
   
  Platform:
    osname=darwin
    osvers=17.6.0
    archname=darwin-thread-multi-2level
    uname='darwin highsierra-2.local 17.6.0 darwin kernel version 17.6.0: tue may 8 15:22:16 pdt 2018; root:xnu-4570.61.1~1release_x86_64 x86_64 '
    config_args='-des -Dprefix=/usr/local/Cellar/perl/5.28.0 -Dprivlib=/usr/local/Cellar/perl/5.28.0/lib/perl5/5.28.0 -Dsitelib=/usr/local/Cellar/perl/5.28.0/lib/perl5/site_perl/5.28.0 -Dotherlibdirs=/usr/local/lib/perl5/site_perl/5.28.0 -Dperlpath=/usr/local/opt/perl/bin/perl -Dstartperl=#!/usr/local/opt/perl/bin/perl -Dman1dir=/usr/local/Cellar/perl/5.28.0/share/man/man1 -Dman3dir=/usr/local/Cellar/perl/5.28.0/share/man/man3 -Duseshrplib -Duselargefiles -Dusethreads'
    hint=recommended
    useposix=true
    d_sigaction=define
    useithreads=define
    usemultiplicity=define
    use64bitint=define
    use64bitall=define
    uselongdouble=undef
    usemymalloc=n
    default_inc_excludes_dot=define
    bincompat5005=undef
  Compiler:
    cc='cc'
    ccflags ='-fno-common -DPERL_DARWIN -mmacosx-version-min=10.13 -fno-strict-aliasing -pipe -fstack-protector-strong -I/usr/local/include -DPERL_USE_SAFE_PUTENV'
    optimize='-O3'
    cppflags='-fno-common -DPERL_DARWIN -mmacosx-version-min=10.13 -fno-strict-aliasing -pipe -fstack-protector-strong -I/usr/local/include'
    ccversion=''
    gccversion='4.2.1 Compatible Apple LLVM 9.1.0 (clang-902.0.39.2)'
    gccosandvers=''
    intsize=4
    longsize=8
    ptrsize=8
    doublesize=8
    byteorder=12345678
    doublekind=3
    d_longlong=define
    longlongsize=8
    d_longdbl=define
    longdblsize=16
    longdblkind=3
    ivtype='long'
    ivsize=8
    nvtype='double'
    nvsize=8
    Off_t='off_t'
    lseeksize=8
    alignbytes=8
    prototype=define
  Linker and Libraries:
    ld='cc'
    ldflags =' -mmacosx-version-min=10.13 -fstack-protector-strong -L/usr/local/lib'
    libpth=/usr/local/lib /usr/include/libxml2 /Applications/Xcode.app/Contents/Developer/Toolchains/XcodeDefault.xctoolchain/usr/lib/clang/9.1.0/lib /Applications/Xcode.app/Contents/Developer/Toolchains/XcodeDefault.xctoolchain/usr/lib /usr/lib
    libs=-lpthread -ldbm -ldl -lm -lutil -lc
    perllibs=-lpthread -ldl -lm -lutil -lc
    libc=
    so=dylib
    useshrplib=true
    libperl=libperl.dylib
    gnulibc_version=''
  Dynamic Linking:
    dlsrc=dl_dlopen.xs
    dlext=bundle
    d_dlsymun=undef
    ccdlflags=' '
    cccdlflags=' '
    lddlflags=' -mmacosx-version-min=10.13 -bundle -undefined dynamic_lookup -L/usr/local/lib -fstack-protector-strong'


Characteristics of this binary (from libperl): 
  Compile-time options:
    HAS_TIMES
    MULTIPLICITY
    PERLIO_LAYERS
    PERL_COPY_ON_WRITE
    PERL_DONT_CREATE_GVSV
    PERL_IMPLICIT_CONTEXT
    PERL_MALLOC_WRAP
    PERL_OP_PARENT
    PERL_PRESERVE_IVUV
    PERL_USE_SAFE_PUTENV
    USE_64_BIT_ALL
    USE_64_BIT_INT
    USE_ITHREADS
    USE_LARGE_FILES
    USE_LOCALE
    USE_LOCALE_COLLATE
    USE_LOCALE_CTYPE
    USE_LOCALE_NUMERIC
    USE_LOCALE_TIME
    USE_PERLIO
    USE_PERL_ATOF
    USE_REENTRANT_API
  Built under darwin
  Compiled at Jun 26 2018 16:26:00
  %ENV:
    PERL5LIB="/Users/stan/perl5/lib/perl5"
    PERL_LOCAL_LIB_ROOT="/Users/stan/perl5"
    PERL_MB_OPT="--install_base "/Users/stan/perl5""
    PERL_MM_OPT="INSTALL_BASE=/Users/stan/perl5"
    PERL_MM_USE_DEFAULT="1"
  @INC:
    /Users/stan/perl5/lib/perl5/5.28.0/darwin-thread-multi-2level
    /Users/stan/perl5/lib/perl5/5.28.0
    /Users/stan/perl5/lib/perl5/darwin-thread-multi-2level
    /Users/stan/perl5/lib/perl5
    /usr/local/Cellar/perl/5.28.0/lib/perl5/site_perl/5.28.0/darwin-thread-multi-2level
    /usr/local/Cellar/perl/5.28.0/lib/perl5/site_perl/5.28.0
    /usr/local/Cellar/perl/5.28.0/lib/perl5/5.28.0/darwin-thread-multi-2level
    /usr/local/Cellar/perl/5.28.0/lib/perl5/5.28.0
    /usr/local/lib/perl5/site_perl/5.28.0/darwin-thread-multi-2level
    /usr/local/lib/perl5/site_perl/5.28.0