Back
From: metabase:user:323dcade-2aae-11df-837a-5e0a49663a4f
Subject: PASS Data-FormValidator-4.81 v5.14.4 GNU/Linux
Date: 2014-06-15T15:23:49Z
This distribution has been tested as part of the CPAN Testers
project, supporting the Perl programming language. See
http://wiki.cpantesters.org/ for more information or email
questions to cpan-testers-discuss@perl.org
--
Dear Mark Stosberg,
This is a computer-generated report for Data-FormValidator-4.81
on perl 5.14.4, created by CPAN-Reporter-1.2010.
Thank you for uploading your work to CPAN. Congratulations!
All tests were successful.
Sections of this report:
* Tester comments
* Program output
* Prerequisites
* Environment and other context
------------------------------
TESTER COMMENTS
------------------------------
Additional comments from tester:
none provided
------------------------------
PROGRAM OUTPUT
------------------------------
Output from './Build test':
t/00_base.t .............................. ok
t/02_code_ref.t .......................... ok
t/03_dependency.t ........................ ok
t/04_arrayify_undef.t .................... ok
t/05_valid_ip_address.t .................. ok
t/06_regexp_map.t ........................ ok
t/09_require_some.t ...................... ok
t/11_procedural_match.t .................. ok
t/13_validator_packages.t ................ ok
t/15_literal_param_constraints.t ......... ok
t/16_cgi_object.t ........................ ok
t/17_multi_valued_keys.t ................. ok
t/18_constraint_refs.t ................... ok
t/19_refs_as_values.t .................... ok
t/20_careful_exception_handling.t ........ ok
t/21_multiple_fields.t ................... ok
t/25_results.t ........................... ok
t/26_qr.t ................................ ok
t/27_qualify_ref_happy_death.t ........... ok
t/28_defaults_for_new.t .................. ok
t/30_filter_definedness.t ................ ok
t/FV_length.t ............................ ok
t/any_errors.t ........................... ok
t/check_profile_syntax.t ................. ok
t/closure_msgs.t ......................... ok
t/constraint_method.t .................... ok
t/constraint_method_string.t ............. ok
t/constraint_method_zero.t ............... ok
t/constraint_regexp_map_profile_reuse.t .. ok
t/constraints_builtin.t .................. ok
t/constraints_builtin_closure.t .......... ok
t/constraints_factory.t .................. ok
t/constraints_invalid_once_only.t ........ ok
t/constraints_num_values.t ............... ok
t/constraints_regexp_map_interaction.t ... ok
t/constraints_reuse.t .................... ok
t/credit_card.t .......................... ok
t/dates.t ................................ ok
t/dates_closure.t ........................ ok
t/dependency_coderef.t ................... ok
t/dependency_groups.t .................... ok
t/filter_constraints.t ................... ok
t/filters_builtin.t ...................... ok
t/filters_shouldnt_modify.t .............. ok
t/get_filtered_data.t .................... ok
t/get_input_data.t ....................... ok
t/missing_optional.t ..................... ok
t/msgs.t ................................. ok
t/multiple_constraints.t ................. ok
t/params_not_mentioned.t ................. ok
t/pod.t .................................. ok
t/procedural_valid.t ..................... ok
t/profile_checking.t ..................... ok
t/regexp_common.t ........................ ok
t/regexp_common_closure.t ................ ok
t/rename_builtin_constraints.t ........... ok
t/results_success.t ...................... ok
t/simple.t ............................... ok
t/tt_and_overload.t ...................... ok
t/undefined_arrayref.t ................... ok
t/unknown.t .............................. ok
t/untaint.t .............................. ok
# Adding CGI::Simple tests
# testing with CGI.pm version: 3.52
# testing with CGI::Simple version: 1.113
# Running tests with CGI
# Running tests with CGI::Simple
t/upload.t ............................... ok
# testing with CGI.pm version: 3.52
t/upload_closure.t ....................... ok
t/upload_mime_types.t .................... ok
All tests successful.
Files=65, Tests=631, 4 wallclock secs ( 0.18 usr 0.04 sys + 2.87 cusr 0.20 csys = 3.29 CPU)
Result: PASS
------------------------------
PREREQUISITES
------------------------------
Prerequisite modules loaded:
requires:
Module Need Have
------------------ --------------- ------
! build_requires HASH(0x65be500) n/a
! opt_build_requires HASH(0x581f488) n/a
! opt_requires HASH(0x5d70f88) n/a
! requires HASH(0x65b1968) n/a
configure_requires:
Module Need Have
------------------ --------------- ------
Module::Build 0.38 0.4204
------------------------------
ENVIRONMENT AND OTHER CONTEXT
------------------------------
Environment variables:
LANG = en_US.UTF-8
LC_CTYPE = en_US.UTF-8
PATH = /home/rurban/bin:/usr/local/bin:/usr/bin:/bin:/usr/local/games:/usr/games
PERL5LIB =
PERL5OPT =
PERL5_CPANPLUS_IS_RUNNING = 9207
PERL5_CPAN_IS_RUNNING = 9207
SHELL = /bin/bash
TERM = xterm-256color
Perl special variables (and OS-specific diagnostics, for MSWin32):
$^X = /usr/local/bin/perl
$UID/$EUID = 1000 / 1000
$GID = 1000 27 124 125 1000
$EGID = 1000 27 124 125 1000
Perl module toolchain versions installed:
Module Have
------------------- --------
CPAN 2.05
CPAN::Meta 2.132830
Cwd 3.40
ExtUtils::CBuilder 0.280212
ExtUtils::Command 1.18
ExtUtils::Install 1.56
ExtUtils::MakeMaker 6.88
ExtUtils::Manifest 1.63
ExtUtils::ParseXS 3.22
File::Spec 3.40
JSON 2.90
JSON::PP 2.27203
Module::Build 0.4204
Module::Signature 0.73
Parse::CPAN::Meta 1.4414
Test::Harness 3.30
Test::More 1.001003
YAML 0.90
YAML::Syck 1.27
version 0.9908
--
Summary of my perl5 (revision 5 version 14 subversion 4) configuration:
Platform:
osname=linux, osvers=3.2.0-4-amd64, archname=x86_64-linux
uname='linux reini 3.2.0-4-amd64 #1 smp debian 3.2.39-2 x86_64 gnulinux '
config_args='-de -Dusedevel -Uversiononly -Dinstallman1dir=none -Dinstallman3dir=none -Dinstallsiteman1dir=none -Dinstallsiteman3dir=none -Uuseithreads -Accflags='-msse4.2' -Accflags='-march=corei7' -Dcf_email='rurban@cpanel.net' -Dperladmin='rurban@cpanel.net' -Duseshrplib'
hint=recommended, useposix=true, d_sigaction=define
useithreads=undef, usemultiplicity=undef
useperlio=define, d_sfio=undef, uselargefiles=define, usesocks=undef
use64bitint=define, use64bitall=define, uselongdouble=undef
usemymalloc=n, bincompat5005=undef
Compiler:
cc='cc', ccflags ='-msse4.2 -march=corei7 -fno-strict-aliasing -pipe -fstack-protector -I/usr/local/include -D_LARGEFILE_SOURCE -D_FILE_OFFSET_BITS=64',
optimize='-O2',
cppflags='-msse4.2 -march=corei7 -fno-strict-aliasing -pipe -fstack-protector -I/usr/local/include'
ccversion='', gccversion='4.7.2', gccosandvers=''
intsize=4, longsize=8, ptrsize=8, doublesize=8, byteorder=12345678
d_longlong=define, longlongsize=8, d_longdbl=define, longdblsize=16
ivtype='long', ivsize=8, nvtype='double', nvsize=8, Off_t='off_t', lseeksize=8
alignbytes=8, prototype=define
Linker and Libraries:
ld='cc', ldflags =' -fstack-protector -L/usr/local/lib'
libpth=/usr/local/lib /lib/x86_64-linux-gnu /lib/../lib /usr/lib/x86_64-linux-gnu /usr/lib/../lib /lib /usr/lib
libs=-lnsl -lgdbm -ldb -ldl -lm -lcrypt -lutil -lc -lgdbm_compat
perllibs=-lnsl -ldl -lm -lcrypt -lutil -lc
libc=, so=so, useshrplib=true, libperl=libperl.so
gnulibc_version='2.13'
Dynamic Linking:
dlsrc=dl_dlopen.xs, dlext=so, d_dlsymun=undef, ccdlflags='-Wl,-E -Wl,-rpath,/usr/local/lib/perl5/5.14.4/x86_64-linux/CORE'
cccdlflags='-fPIC', lddlflags='-shared -O2 -L/usr/local/lib -fstack-protector'
Characteristics of this binary (from libperl):
Compile-time options: PERL_DONT_CREATE_GVSV PERL_MALLOC_WRAP
PERL_PRESERVE_IVUV PERL_USE_DEVEL USE_64_BIT_ALL
USE_64_BIT_INT USE_LARGE_FILES USE_PERLIO
USE_PERL_ATOF
Built under linux
Compiled at Aug 22 2013 12:44:36
%ENV:
PERL5LIB=""
PERL5OPT=""
PERL5_CPANPLUS_IS_RUNNING="9207"
PERL5_CPAN_IS_RUNNING="9207"
@INC:
/usr/local/lib/perl5/site_perl/5.14.4/x86_64-linux
/usr/local/lib/perl5/site_perl/5.14.4
/usr/local/lib/perl5/5.14.4/x86_64-linux
/usr/local/lib/perl5/5.14.4
/usr/local/lib/perl5/site_perl/5.14.3/x86_64-linux
/usr/local/lib/perl5/site_perl/5.14.3
/usr/local/lib/perl5/site_perl/5.14.2/x86_64-linux
/usr/local/lib/perl5/site_perl/5.14.2
/usr/local/lib/perl5/site_perl/5.14.1/x86_64-linux
/usr/local/lib/perl5/site_perl/5.14.1
/usr/local/lib/perl5/site_perl/5.12.4
/usr/local/lib/perl5/site_perl/5.10.1
/usr/local/lib/perl5/site_perl/5.8.9
/usr/local/lib/perl5/site_perl/5.8.8
/usr/local/lib/perl5/site_perl/5.8.7
/usr/local/lib/perl5/site_perl/5.8.6
/usr/local/lib/perl5/site_perl/5.8.5
/usr/local/lib/perl5/site_perl/5.8.4
/usr/local/lib/perl5/site_perl/5.8.3
/usr/local/lib/perl5/site_perl/5.8.2
/usr/local/lib/perl5/site_perl/5.8.1
/usr/local/lib/perl5/site_perl/5.6.2
/usr/local/lib/perl5/site_perl
.