Dist-Zilla-Plugin-Test-EOL v0.19 Perl 5 v5.24.2 x86_64-linux-multi
- Status
- Pass
- From
- Serguei Trouchelle (STRO)
- Dist
-
Dist-Zilla-Plugin-Test-EOL v0.19
- Platform
- Perl 5 v5.24.2 x86_64-linux-multi
- Date
- 2017-09-23 09:03:22
- ID
- 0d3bec08-a03e-11e7-b035-f69623b0c358
This distribution has been tested as part of the CPAN Testers
project, supporting the Perl programming language. See
http://wiki.cpantesters.org/ for more information or email
questions to cpan-testers-discuss@perl.org
--
Dear Karen Etheridge,
This is a computer-generated report for Dist-Zilla-Plugin-Test-EOL-0.19
on perl 5.24.2, created by CPAN-Reporter-1.2018.
Thank you for uploading your work to CPAN. Congratulations!
All tests were successful.
Sections of this report:
* Tester comments
* Program output
* Prerequisites
* Environment and other context
------------------------------
TESTER COMMENTS
------------------------------
Additional comments from tester:
this report is from an automated smoke testing program
and was not reviewed by a human for accuracy
------------------------------
PROGRAM OUTPUT
------------------------------
Output from '/usr/bin/make test':
PERL_DL_NONLAZY=1 "/home/stro/perl/5.24.2m/bin/perl" "-MExtUtils::Command::MM" "-MTest::Harness" "-e" "undef *Test::Harness::Switches; test_harness(0, 'blib/lib', 'blib/arch')" t/*.t
#
# Versions for all modules listed in MYMETA.json (including optional ones):
#
# === Configure Requires ===
#
# Module Want Have
# ------------------- ----- -----
# Module::Build::Tiny 0.034 0.039
#
# === Build Requires ===
#
# Module Want Have
# ------------------- ---- ----
# ExtUtils::MakeMaker any 7.30
#
# === Test Requires ===
#
# Module Want Have
# ---------------- ----- --------
# File::Spec any 3.63_01
# File::pushd any 1.014
# FindBin any 1.51
# Module::Metadata any 1.000031
# Test::DZil any 6.010
# Test::Deep any 1.127
# Test::EOL any 2.00
# Test::More 0.88 1.302096
# Test::Warnings 0.009 0.026
# if any 0.0606
#
# === Test Recommends ===
#
# Module Want Have
# ---------- -------- --------
# CPAN::Meta 2.120900 2.150005
#
# === Runtime Requires ===
#
# Module Want Have
# --------------------------------- ----- --------
# Data::Section 0.004 0.200007
# Dist::Zilla::File::InMemory any 6.010
# Dist::Zilla::Role::FileFinderUser any 6.010
# Dist::Zilla::Role::FileGatherer any 6.010
# Dist::Zilla::Role::FileMunger any 6.010
# Dist::Zilla::Role::PrereqSource any 6.010
# Dist::Zilla::Role::TextTemplate any 6.010
# Moose any 2.2006
# Moose::Util::TypeConstraints any 2.2006
# Path::Tiny any 0.104
# Sub::Exporter::ForMethods any 0.100052
# namespace::autoclean any 0.28
# strict any 1.11
# warnings any 1.36
#
# === Other Modules ===
#
# Module Have
# --------------------- --------
# CPAN::Meta::Validator 2.150005
# Pod::Coverage 0.23
#
t/00-report-prereqs.t .. ok
t/01-basic.t ........... ok
t/02-eoltests.t ........ ok
t/03-finder.t .......... ok
t/04-filename.t ........ ok
t/eol.t ................ ok
t/prereqs.t ............ ok
t/zzz-check-breaks.t ... ok
All tests successful.
Files=8, Tests=66, 5 wallclock secs ( 0.04 usr 0.02 sys + 5.28 cusr 0.25 csys = 5.59 CPU)
Result: PASS
------------------------------
PREREQUISITES
------------------------------
Prerequisite modules loaded:
requires:
Module Need Have
--------------------------------- -------- --------
Data::Section 0.004 0.200007
Dist::Zilla::File::InMemory 0 6.010
Dist::Zilla::Role::FileFinderUser 0 6.010
Dist::Zilla::Role::FileGatherer 0 6.010
Dist::Zilla::Role::FileMunger 0 6.010
Dist::Zilla::Role::PrereqSource 0 6.010
Dist::Zilla::Role::TextTemplate 0 6.010
Moose 0 2.2006
Moose::Util::TypeConstraints 0 2.2006
namespace::autoclean 0 0.28
Path::Tiny 0 0.104
perl 5.006 5.024002
strict 0 1.11
Sub::Exporter::ForMethods 0 0.100052
warnings 0 1.36
build_requires:
Module Need Have
--------------------------------- -------- --------
ExtUtils::MakeMaker 0 7.30
File::pushd 0 1.014
File::Spec 0 3.63_01
FindBin 0 1.51
if 0 0.0606
Module::Metadata 0 1.000031
Test::Deep 0 1.127
Test::DZil 0 6.010
Test::EOL 0 2.00
Test::More 0.88 1.302096
Test::Warnings 0.009 0.026
configure_requires:
Module Need Have
--------------------------------- -------- --------
Module::Build::Tiny 0.034 0.039
perl 5.006 5.024002
opt_build_requires:
Module Need Have
--------------------------------- -------- --------
CPAN::Meta 2.120900 2.150005
------------------------------
ENVIRONMENT AND OTHER CONTEXT
------------------------------
Environment variables:
AUTOMATED_TESTING = 1
LANG = en_US.UTF-8
PATH = /usr/local/bin:/usr/bin:/bin:/usr/local/games:/usr/games
PERL5LIB =
PERL5OPT =
PERL5_CPANPLUS_IS_RUNNING = 8009
PERL5_CPAN_IS_RUNNING = 8009
PERL5_CPAN_IS_RUNNING_IN_RECURSION = 26013,8009
PERL_CR_SMOKER_CURRENT = Dist-Zilla-PluginBundle-Author-IOANR-1.172580
PERL_EXTUTILS_AUTOINSTALL = --defaultdeps
PERL_MM_USE_DEFAULT = 1
SHELL = /bin/bash
TERM = xterm
Perl special variables (and OS-specific diagnostics, for MSWin32):
$^X = /home/stro/perl/5.24.2m/bin/perl
$UID/$EUID = 1000 / 1000
$GID = 1000 24 25 29 30 44 46 108 114 1000
$EGID = 1000 24 25 29 30 44 46 108 114 1000
Perl module toolchain versions installed:
Module Have
------------------- ----------
CPAN 2.16
CPAN::Meta 2.150005
Cwd 3.63_01
ExtUtils::CBuilder 0.280225
ExtUtils::Command 7.30
ExtUtils::Install 2.06
ExtUtils::MakeMaker 7.30
ExtUtils::Manifest 1.70
ExtUtils::ParseXS 3.31
File::Spec 3.63_01
JSON 2.94
JSON::PP 2.27300_01
Module::Build 0.4224
Module::Signature 0.81
Parse::CPAN::Meta 1.4417_001
Test::Harness 3.36_01
Test::More 1.302096
YAML 1.23
YAML::Syck 1.30
version 0.9916
--
Summary of my perl5 (revision 5 version 24 subversion 2) configuration:
Platform:
osname=linux, osvers=3.16.0-4-amd64, archname=x86_64-linux-multi
uname='linux vm-debian-001 3.16.0-4-amd64 #1 smp debian 3.16.7-ckt11-1 (2015-05-24) x86_64 gnulinux '
config_args=''
hint=recommended, useposix=true, d_sigaction=define
useithreads=undef, usemultiplicity=define
use64bitint=define, use64bitall=define, uselongdouble=undef
usemymalloc=n, bincompat5005=undef
Compiler:
cc='cc', ccflags ='-fwrapv -fno-strict-aliasing -pipe -fstack-protector-strong -I/usr/local/include -D_LARGEFILE_SOURCE -D_FILE_OFFSET_BITS=64 -D_FORTIFY_SOURCE=2',
optimize='-O2',
cppflags='-fwrapv -fno-strict-aliasing -pipe -fstack-protector-strong -I/usr/local/include'
ccversion='', gccversion='4.9.2', gccosandvers=''
intsize=4, longsize=8, ptrsize=8, doublesize=8, byteorder=12345678, doublekind=3
d_longlong=define, longlongsize=8, d_longdbl=define, longdblsize=16, longdblkind=3
ivtype='long', ivsize=8, nvtype='double', nvsize=8, Off_t='off_t', lseeksize=8
alignbytes=8, prototype=define
Linker and Libraries:
ld='cc', ldflags =' -fstack-protector-strong -L/usr/local/lib'
libpth=/usr/local/lib /usr/lib/gcc/x86_64-linux-gnu/4.9/include-fixed /usr/include/x86_64-linux-gnu /usr/lib /lib/x86_64-linux-gnu /lib/../lib /usr/lib/x86_64-linux-gnu /usr/lib/../lib /lib
libs=-lpthread -lnsl -ldl -lm -lcrypt -lutil -lc
perllibs=-lpthread -lnsl -ldl -lm -lcrypt -lutil -lc
libc=libc-2.19.so, so=so, useshrplib=false, libperl=libperl.a
gnulibc_version='2.19'
Dynamic Linking:
dlsrc=dl_dlopen.xs, dlext=so, d_dlsymun=undef, ccdlflags='-Wl,-E'
cccdlflags='-fPIC', lddlflags='-shared -O2 -L/usr/local/lib -fstack-protector-strong'
Characteristics of this binary (from libperl):
Compile-time options: HAS_TIMES MULTIPLICITY PERLIO_LAYERS
PERL_COPY_ON_WRITE PERL_DONT_CREATE_GVSV
PERL_HASH_FUNC_ONE_AT_A_TIME_HARD
PERL_IMPLICIT_CONTEXT PERL_MALLOC_WRAP
PERL_PRESERVE_IVUV USE_64_BIT_ALL USE_64_BIT_INT
USE_LARGE_FILES USE_LOCALE USE_LOCALE_COLLATE
USE_LOCALE_CTYPE USE_LOCALE_NUMERIC USE_LOCALE_TIME
USE_PERLIO USE_PERL_ATOF
Built under linux
Compiled at Sep 17 2017 00:46:01
%ENV:
PERL5LIB=""
PERL5OPT=""
PERL5_CPANPLUS_IS_RUNNING="8009"
PERL5_CPAN_IS_RUNNING="8009"
PERL5_CPAN_IS_RUNNING_IN_RECURSION="26013,8009"
PERL_CR_SMOKER_CURRENT="Dist-Zilla-PluginBundle-Author-IOANR-1.172580"
PERL_EXTUTILS_AUTOINSTALL="--defaultdeps"
PERL_MM_USE_DEFAULT="1"
@INC:
/home/stro/perl/5.24.2m/lib/site_perl/5.24.2/x86_64-linux-multi
/home/stro/perl/5.24.2m/lib/site_perl/5.24.2
/home/stro/perl/5.24.2m/lib/5.24.2/x86_64-linux-multi
/home/stro/perl/5.24.2m/lib/5.24.2
.