Soar-WM v0.04 Perl 5 v5.39.2 x86_64-linux
- Status
- Pass
- From
- Andreas J. König (ANDK)
- Dist
-
Soar-WM v0.04
- Platform
- Perl 5 v5.39.2 x86_64-linux
- Date
- 2023-09-17 23:58:09
- ID
- 0d52a13a-55b6-11ee-95d8-a01d02a15d3b
This distribution has been tested as part of the CPAN Testers
project, supporting the Perl programming language. See
http://wiki.cpantesters.org/ for more information or email
questions to cpan-testers-discuss@perl.org
--
Dear Nathan Gary Glenn,
This is a computer-generated report for Soar-WM-0.04
on perl 5.39.2, created by CPAN-Reporter-1.2019.
Thank you for uploading your work to CPAN. Congratulations!
All tests were successful.
Sections of this report:
* Tester comments
* Program output
* Prerequisites
* Environment and other context
------------------------------
TESTER COMMENTS
------------------------------
Additional comments from tester:
this report is from an automated smoke testing program
and was not reviewed by a human for accuracy
------------------------------
PROGRAM OUTPUT
------------------------------
Output from './Build test':
t/00-compile.t ................ ok
#
#
# Generated by Dist::Zilla::Plugin::ReportVersions::Tiny v1.08
# perl: 5.039002 (wanted 5.010) on linux from /tmp/basesmoker-reloperl-YeWP/bin/perl
#
# Carp => 1.54 (want any version)
# Data::Dumper => 2.188 (want any version)
# Data::Section::Simple => 0.07 (want any version)
# Exporter => 5.77 (want any version)
# File::Find => 1.43 (want any version)
# File::Spec => 3.90 (want any version)
# File::Temp => 0.2311 (want any version)
# FindBin => 1.53 (want any version)
# Module::Build => 0.4234 (want 0.3601)
# Pod::Coverage::TrustPod => 0.100006 (want any version)
# Test::CPAN::Meta => 0.25 (want any version)
# Test::Deep => 1.204 (want any version)
# Test::More => 1.302195 (want 0.88)
# Test::NoWarnings => 1.06 (want any version)
# Test::Pod => 1.52 (want 1.41)
# Test::Pod::Coverage => 1.10 (want 1.08)
# Test::Warn => 0.37 (want any version)
# autodie => 2.36 (want any version)
# base => 2.27 (want any version)
# strict => 1.13 (want any version)
# version => 0.9930 (want 0.9901)
# warnings => 1.67 (want any version)
#
# Thanks for using my code. I hope it works for you.
# If not, please try and include this output in the bug report.
# That will help me reproduce the issue and solve your problem.
#
t/000-report-versions-tiny.t .. ok
t/01-slurp.t .................. ok
t/02-wm.t ..................... ok
t/03-traversal.t .............. ok
t/04-errors.t ................. ok
All tests successful.
Files=6, Tests=34, 1 wallclock secs ( 0.03 usr 0.01 sys + 0.65 cusr 0.08 csys = 0.77 CPU)
Result: PASS
------------------------------
PREREQUISITES
------------------------------
Prerequisite modules loaded:
requires:
Module Need Have
--------------------- ------ --------
autodie 0 2.36
base 0 2.27
Carp 0 1.54
Exporter 0 5.77
perl 5.010 5.039002
strict 0 1.13
warnings 0 1.67
build_requires:
Module Need Have
--------------------- ------ --------
Data::Dumper 0 2.188
Data::Section::Simple 0 0.07
File::Find 0 1.43
File::Spec 0 3.90
File::Temp 0 0.2311
FindBin 0 1.53
Module::Build 0.3601 0.4234
Test::Deep 0 1.204
Test::More 0.88 1.302195
Test::NoWarnings 0 1.06
Test::Warn 0 0.37
configure_requires:
Module Need Have
--------------------- ------ --------
Module::Build 0.3601 0.4234
------------------------------
ENVIRONMENT AND OTHER CONTEXT
------------------------------
Environment variables:
AUTOMATED_TESTING = 1
LANG = en_US.UTF-8
PATH = /home/sand/bin:/usr/local/bin:/usr/local/sbin:/usr/sbin:/usr/bin:/sbin:/bin:/usr/games:/usr/local/games:/snap/bin:/usr/local/perl/bin:/usr/X11/bin
PERL5LIB =
PERL5OPT =
PERL5_CPANPLUS_IS_RUNNING = 579621
PERL5_CPAN_IS_RUNNING = 579621
PERL_CANARY_STABILITY_NOPROMPT = 1
PERL_MM_USE_DEFAULT = 1
PERL_USE_UNSAFE_INC = 1
SHELL = /usr/bin/zsh
TERM = screen
Perl special variables (and OS-specific diagnostics, for MSWin32):
$^X = /tmp/basesmoker-reloperl-YeWP/bin/perl
$UID/$EUID = 1005 / 1005
$GID = 1005 1005
$EGID = 1005 1005
Perl module toolchain versions installed:
Module Have
------------------- --------
CPAN 2.36
CPAN::Meta 2.150010
Cwd 3.90
ExtUtils::CBuilder 0.280239
ExtUtils::Command 7.70
ExtUtils::Install 2.22
ExtUtils::MakeMaker 7.70
ExtUtils::Manifest 1.75
ExtUtils::ParseXS 3.51
File::Spec 3.90
JSON 4.10
JSON::PP 4.16
Module::Build 0.4234
Module::Signature 0.88
Parse::CPAN::Meta 2.150010
Test2 1.302195
Test::Harness 3.47
Test::More 1.302195
YAML 1.30
YAML::Syck 1.34
version 0.9930
--
Summary of my perl5 (revision 5 version 39 subversion 2) configuration:
Commit id: e246fd63c3ad4034efc21113d44231047f6b2909
Platform:
osname=linux
osvers=5.4.0-162-generic
archname=x86_64-linux
uname='linux k93focal 5.4.0-162-generic #179-ubuntu smp mon aug 14 08:51:31 utc 2023 x86_64 x86_64 x86_64 gnulinux '
config_args='-Dprefix=/home/sand/src/perl/repoperls/installed-perls/host/k93focal/v5.39.2/b254 -Dmyhostname=k93focal -Dinstallusrbinperl=n -Uversiononly -Dusedevel -des -Ui_db -Dlibswanted=cl pthread socket inet nsl gdbm dbm malloc dl ld sun m crypt sec util c cposix posix ucb BSD gdbm_compat -Uuseithreads -Uuselongdouble -DEBUGGING=both'
hint=recommended
useposix=true
d_sigaction=define
useithreads=undef
usemultiplicity=undef
use64bitint=define
use64bitall=define
uselongdouble=undef
usemymalloc=n
default_inc_excludes_dot=define
Compiler:
cc='cc'
ccflags ='-fwrapv -DDEBUGGING -fno-strict-aliasing -pipe -fstack-protector-strong -I/usr/local/include -D_LARGEFILE_SOURCE -D_FILE_OFFSET_BITS=64'
optimize='-O2 -g'
cppflags='-fwrapv -DDEBUGGING -fno-strict-aliasing -pipe -fstack-protector-strong -I/usr/local/include'
ccversion=''
gccversion='9.4.0'
gccosandvers=''
intsize=4
longsize=8
ptrsize=8
doublesize=8
byteorder=12345678
doublekind=3
d_longlong=define
longlongsize=8
d_longdbl=define
longdblsize=16
longdblkind=3
ivtype='long'
ivsize=8
nvtype='double'
nvsize=8
Off_t='off_t'
lseeksize=8
alignbytes=8
prototype=define
Linker and Libraries:
ld='cc'
ldflags =' -fstack-protector-strong -L/usr/local/lib'
libpth=/usr/local/lib /usr/lib/x86_64-linux-gnu /usr/lib /usr/lib64
libs=-lpthread -lnsl -ldl -lm -lcrypt -lutil -lc
perllibs=-lpthread -lnsl -ldl -lm -lcrypt -lutil -lc
libc=libc-2.31.so
so=so
useshrplib=false
libperl=libperl.a
gnulibc_version='2.31'
Dynamic Linking:
dlsrc=dl_dlopen.xs
dlext=so
d_dlsymun=undef
ccdlflags='-Wl,-E'
cccdlflags='-fPIC'
lddlflags='-shared -O2 -g -L/usr/local/lib -fstack-protector-strong'
Characteristics of this binary (from libperl):
Compile-time options:
DEBUGGING
HAS_LONG_DOUBLE
HAS_STRTOLD
HAS_TIMES
PERLIO_LAYERS
PERL_COPY_ON_WRITE
PERL_DONT_CREATE_GVSV
PERL_HASH_FUNC_SIPHASH13
PERL_HASH_USE_SBOX32
PERL_MALLOC_WRAP
PERL_OP_PARENT
PERL_PRESERVE_IVUV
PERL_USE_DEVEL
PERL_USE_SAFE_PUTENV
USE_64_BIT_ALL
USE_64_BIT_INT
USE_LARGE_FILES
USE_LOCALE
USE_LOCALE_COLLATE
USE_LOCALE_CTYPE
USE_LOCALE_NUMERIC
USE_LOCALE_TIME
USE_PERLIO
USE_PERL_ATOF
Built under linux
Compiled at Sep 15 2023 13:04:09
%ENV:
PERL5LIB=""
PERL5OPT=""
PERL5_CPANPLUS_IS_RUNNING="579621"
PERL5_CPAN_IS_RUNNING="579621"
PERL_CANARY_STABILITY_NOPROMPT="1"
PERL_MM_USE_DEFAULT="1"
PERL_USE_UNSAFE_INC="1"
@INC:
/home/sand/src/perl/repoperls/installed-perls/host/k93focal/v5.39.2/b254/lib/site_perl/5.39.2/x86_64-linux
/home/sand/src/perl/repoperls/installed-perls/host/k93focal/v5.39.2/b254/lib/site_perl/5.39.2
/home/sand/src/perl/repoperls/installed-perls/host/k93focal/v5.39.2/b254/lib/5.39.2/x86_64-linux
/home/sand/src/perl/repoperls/installed-perls/host/k93focal/v5.39.2/b254/lib/5.39.2
.