Report for RDF-AllegroGraph-Easy-0.08

Back
From: metabase:user:314402c4-2aae-11df-837a-5e0a49663a4f
Subject: PASS RDF-AllegroGraph-Easy-0.08 v5.22.3 RC1 FreeBSD
Date: 2016-07-24T13:53:51Z

This distribution has been tested as part of the CPAN Testers
project, supporting the Perl programming language.  See
http://wiki.cpantesters.org/ for more information or email
questions to cpan-testers-discuss@perl.org


--
Dear Robert Barta,

This is a computer-generated report for RDF-AllegroGraph-Easy-0.08
on perl 5.22.3, created by CPAN-Reporter-1.2018.

Thank you for uploading your work to CPAN.  Congratulations!
All tests were successful.

Sections of this report:

    * Tester comments
    * Program output
    * Prerequisites
    * Environment and other context

------------------------------
TESTER COMMENTS
------------------------------

Additional comments from tester:

none provided

------------------------------
PROGRAM OUTPUT
------------------------------

Output from './Build test':

given is experimental at /home/cpansand/.cpan/build/2016072415/RDF-AllegroGraph-Easy-0.08-0/blib/lib/RDF/AllegroGraph/Repository.pm line 167.
when is experimental at /home/cpansand/.cpan/build/2016072415/RDF-AllegroGraph-Easy-0.08-0/blib/lib/RDF/AllegroGraph/Repository.pm line 168.
when is experimental at /home/cpansand/.cpan/build/2016072415/RDF-AllegroGraph-Easy-0.08-0/blib/lib/RDF/AllegroGraph/Repository.pm line 173.
when is experimental at /home/cpansand/.cpan/build/2016072415/RDF-AllegroGraph-Easy-0.08-0/blib/lib/RDF/AllegroGraph/Repository.pm line 179.
given is experimental at /home/cpansand/.cpan/build/2016072415/RDF-AllegroGraph-Easy-0.08-0/blib/lib/RDF/AllegroGraph/Repository.pm line 207.
when is experimental at /home/cpansand/.cpan/build/2016072415/RDF-AllegroGraph-Easy-0.08-0/blib/lib/RDF/AllegroGraph/Repository.pm line 208.
when is experimental at /home/cpansand/.cpan/build/2016072415/RDF-AllegroGraph-Easy-0.08-0/blib/lib/RDF/AllegroGraph/Repository.pm line 209.
when is experimental at /home/cpansand/.cpan/build/2016072415/RDF-AllegroGraph-Easy-0.08-0/blib/lib/RDF/AllegroGraph/Repository.pm line 210.
when is experimental at /home/cpansand/.cpan/build/2016072415/RDF-AllegroGraph-Easy-0.08-0/blib/lib/RDF/AllegroGraph/Repository.pm line 211.
given is experimental at /home/cpansand/.cpan/build/2016072415/RDF-AllegroGraph-Easy-0.08-0/blib/lib/RDF/AllegroGraph/Repository3.pm line 83.
when is experimental at /home/cpansand/.cpan/build/2016072415/RDF-AllegroGraph-Easy-0.08-0/blib/lib/RDF/AllegroGraph/Repository3.pm line 84.
when is experimental at /home/cpansand/.cpan/build/2016072415/RDF-AllegroGraph-Easy-0.08-0/blib/lib/RDF/AllegroGraph/Repository3.pm line 89.
when is experimental at /home/cpansand/.cpan/build/2016072415/RDF-AllegroGraph-Easy-0.08-0/blib/lib/RDF/AllegroGraph/Repository3.pm line 95.
given is experimental at /home/cpansand/.cpan/build/2016072415/RDF-AllegroGraph-Easy-0.08-0/blib/lib/RDF/AllegroGraph/Repository3.pm line 123.
when is experimental at /home/cpansand/.cpan/build/2016072415/RDF-AllegroGraph-Easy-0.08-0/blib/lib/RDF/AllegroGraph/Repository3.pm line 124.
when is experimental at /home/cpansand/.cpan/build/2016072415/RDF-AllegroGraph-Easy-0.08-0/blib/lib/RDF/AllegroGraph/Repository3.pm line 125.
when is experimental at /home/cpansand/.cpan/build/2016072415/RDF-AllegroGraph-Easy-0.08-0/blib/lib/RDF/AllegroGraph/Repository3.pm line 126.
when is experimental at /home/cpansand/.cpan/build/2016072415/RDF-AllegroGraph-Easy-0.08-0/blib/lib/RDF/AllegroGraph/Repository3.pm line 127.
given is experimental at /home/cpansand/.cpan/build/2016072415/RDF-AllegroGraph-Easy-0.08-0/blib/lib/RDF/AllegroGraph/Repository3.pm line 185.
when is experimental at /home/cpansand/.cpan/build/2016072415/RDF-AllegroGraph-Easy-0.08-0/blib/lib/RDF/AllegroGraph/Repository3.pm line 186.
given is experimental at /home/cpansand/.cpan/build/2016072415/RDF-AllegroGraph-Easy-0.08-0/blib/lib/RDF/AllegroGraph/Session4.pm line 123.
when is experimental at /home/cpansand/.cpan/build/2016072415/RDF-AllegroGraph-Easy-0.08-0/blib/lib/RDF/AllegroGraph/Session4.pm line 124.
when is experimental at /home/cpansand/.cpan/build/2016072415/RDF-AllegroGraph-Easy-0.08-0/blib/lib/RDF/AllegroGraph/Session4.pm line 127.
when is experimental at /home/cpansand/.cpan/build/2016072415/RDF-AllegroGraph-Easy-0.08-0/blib/lib/RDF/AllegroGraph/Session4.pm line 130.
given is experimental at /home/cpansand/.cpan/build/2016072415/RDF-AllegroGraph-Easy-0.08-0/blib/lib/RDF/AllegroGraph/Repository4.pm line 257.
when is experimental at /home/cpansand/.cpan/build/2016072415/RDF-AllegroGraph-Easy-0.08-0/blib/lib/RDF/AllegroGraph/Repository4.pm line 258.
when is experimental at /home/cpansand/.cpan/build/2016072415/RDF-AllegroGraph-Easy-0.08-0/blib/lib/RDF/AllegroGraph/Repository4.pm line 263.
when is experimental at /home/cpansand/.cpan/build/2016072415/RDF-AllegroGraph-Easy-0.08-0/blib/lib/RDF/AllegroGraph/Repository4.pm line 269.
given is experimental at /home/cpansand/.cpan/build/2016072415/RDF-AllegroGraph-Easy-0.08-0/blib/lib/RDF/AllegroGraph/Repository4.pm line 297.
when is experimental at /home/cpansand/.cpan/build/2016072415/RDF-AllegroGraph-Easy-0.08-0/blib/lib/RDF/AllegroGraph/Repository4.pm line 298.
when is experimental at /home/cpansand/.cpan/build/2016072415/RDF-AllegroGraph-Easy-0.08-0/blib/lib/RDF/AllegroGraph/Repository4.pm line 299.
when is experimental at /home/cpansand/.cpan/build/2016072415/RDF-AllegroGraph-Easy-0.08-0/blib/lib/RDF/AllegroGraph/Repository4.pm line 300.
when is experimental at /home/cpansand/.cpan/build/2016072415/RDF-AllegroGraph-Easy-0.08-0/blib/lib/RDF/AllegroGraph/Repository4.pm line 301.
given is experimental at /home/cpansand/.cpan/build/2016072415/RDF-AllegroGraph-Easy-0.08-0/blib/lib/RDF/AllegroGraph/Repository4.pm line 436.
when is experimental at /home/cpansand/.cpan/build/2016072415/RDF-AllegroGraph-Easy-0.08-0/blib/lib/RDF/AllegroGraph/Repository4.pm line 437.
t/01_server.t .......... ok
given is experimental at /home/cpansand/.cpan/build/2016072415/RDF-AllegroGraph-Easy-0.08-0/blib/lib/RDF/AllegroGraph/Repository.pm line 167.
when is experimental at /home/cpansand/.cpan/build/2016072415/RDF-AllegroGraph-Easy-0.08-0/blib/lib/RDF/AllegroGraph/Repository.pm line 168.
when is experimental at /home/cpansand/.cpan/build/2016072415/RDF-AllegroGraph-Easy-0.08-0/blib/lib/RDF/AllegroGraph/Repository.pm line 173.
when is experimental at /home/cpansand/.cpan/build/2016072415/RDF-AllegroGraph-Easy-0.08-0/blib/lib/RDF/AllegroGraph/Repository.pm line 179.
given is experimental at /home/cpansand/.cpan/build/2016072415/RDF-AllegroGraph-Easy-0.08-0/blib/lib/RDF/AllegroGraph/Repository.pm line 207.
when is experimental at /home/cpansand/.cpan/build/2016072415/RDF-AllegroGraph-Easy-0.08-0/blib/lib/RDF/AllegroGraph/Repository.pm line 208.
when is experimental at /home/cpansand/.cpan/build/2016072415/RDF-AllegroGraph-Easy-0.08-0/blib/lib/RDF/AllegroGraph/Repository.pm line 209.
when is experimental at /home/cpansand/.cpan/build/2016072415/RDF-AllegroGraph-Easy-0.08-0/blib/lib/RDF/AllegroGraph/Repository.pm line 210.
when is experimental at /home/cpansand/.cpan/build/2016072415/RDF-AllegroGraph-Easy-0.08-0/blib/lib/RDF/AllegroGraph/Repository.pm line 211.
given is experimental at /home/cpansand/.cpan/build/2016072415/RDF-AllegroGraph-Easy-0.08-0/blib/lib/RDF/AllegroGraph/Repository3.pm line 83.
when is experimental at /home/cpansand/.cpan/build/2016072415/RDF-AllegroGraph-Easy-0.08-0/blib/lib/RDF/AllegroGraph/Repository3.pm line 84.
when is experimental at /home/cpansand/.cpan/build/2016072415/RDF-AllegroGraph-Easy-0.08-0/blib/lib/RDF/AllegroGraph/Repository3.pm line 89.
when is experimental at /home/cpansand/.cpan/build/2016072415/RDF-AllegroGraph-Easy-0.08-0/blib/lib/RDF/AllegroGraph/Repository3.pm line 95.
given is experimental at /home/cpansand/.cpan/build/2016072415/RDF-AllegroGraph-Easy-0.08-0/blib/lib/RDF/AllegroGraph/Repository3.pm line 123.
when is experimental at /home/cpansand/.cpan/build/2016072415/RDF-AllegroGraph-Easy-0.08-0/blib/lib/RDF/AllegroGraph/Repository3.pm line 124.
when is experimental at /home/cpansand/.cpan/build/2016072415/RDF-AllegroGraph-Easy-0.08-0/blib/lib/RDF/AllegroGraph/Repository3.pm line 125.
when is experimental at /home/cpansand/.cpan/build/2016072415/RDF-AllegroGraph-Easy-0.08-0/blib/lib/RDF/AllegroGraph/Repository3.pm line 126.
when is experimental at /home/cpansand/.cpan/build/2016072415/RDF-AllegroGraph-Easy-0.08-0/blib/lib/RDF/AllegroGraph/Repository3.pm line 127.
given is experimental at /home/cpansand/.cpan/build/2016072415/RDF-AllegroGraph-Easy-0.08-0/blib/lib/RDF/AllegroGraph/Repository3.pm line 185.
when is experimental at /home/cpansand/.cpan/build/2016072415/RDF-AllegroGraph-Easy-0.08-0/blib/lib/RDF/AllegroGraph/Repository3.pm line 186.
given is experimental at /home/cpansand/.cpan/build/2016072415/RDF-AllegroGraph-Easy-0.08-0/blib/lib/RDF/AllegroGraph/Session4.pm line 123.
when is experimental at /home/cpansand/.cpan/build/2016072415/RDF-AllegroGraph-Easy-0.08-0/blib/lib/RDF/AllegroGraph/Session4.pm line 124.
when is experimental at /home/cpansand/.cpan/build/2016072415/RDF-AllegroGraph-Easy-0.08-0/blib/lib/RDF/AllegroGraph/Session4.pm line 127.
when is experimental at /home/cpansand/.cpan/build/2016072415/RDF-AllegroGraph-Easy-0.08-0/blib/lib/RDF/AllegroGraph/Session4.pm line 130.
given is experimental at /home/cpansand/.cpan/build/2016072415/RDF-AllegroGraph-Easy-0.08-0/blib/lib/RDF/AllegroGraph/Repository4.pm line 257.
when is experimental at /home/cpansand/.cpan/build/2016072415/RDF-AllegroGraph-Easy-0.08-0/blib/lib/RDF/AllegroGraph/Repository4.pm line 258.
when is experimental at /home/cpansand/.cpan/build/2016072415/RDF-AllegroGraph-Easy-0.08-0/blib/lib/RDF/AllegroGraph/Repository4.pm line 263.
when is experimental at /home/cpansand/.cpan/build/2016072415/RDF-AllegroGraph-Easy-0.08-0/blib/lib/RDF/AllegroGraph/Repository4.pm line 269.
given is experimental at /home/cpansand/.cpan/build/2016072415/RDF-AllegroGraph-Easy-0.08-0/blib/lib/RDF/AllegroGraph/Repository4.pm line 297.
when is experimental at /home/cpansand/.cpan/build/2016072415/RDF-AllegroGraph-Easy-0.08-0/blib/lib/RDF/AllegroGraph/Repository4.pm line 298.
when is experimental at /home/cpansand/.cpan/build/2016072415/RDF-AllegroGraph-Easy-0.08-0/blib/lib/RDF/AllegroGraph/Repository4.pm line 299.
when is experimental at /home/cpansand/.cpan/build/2016072415/RDF-AllegroGraph-Easy-0.08-0/blib/lib/RDF/AllegroGraph/Repository4.pm line 300.
when is experimental at /home/cpansand/.cpan/build/2016072415/RDF-AllegroGraph-Easy-0.08-0/blib/lib/RDF/AllegroGraph/Repository4.pm line 301.
given is experimental at /home/cpansand/.cpan/build/2016072415/RDF-AllegroGraph-Easy-0.08-0/blib/lib/RDF/AllegroGraph/Repository4.pm line 436.
when is experimental at /home/cpansand/.cpan/build/2016072415/RDF-AllegroGraph-Easy-0.08-0/blib/lib/RDF/AllegroGraph/Repository4.pm line 437.
t/pod-coverage.t ....... ok
t/pod.t ................ ok
given is experimental at /home/cpansand/.cpan/build/2016072415/RDF-AllegroGraph-Easy-0.08-0/blib/lib/RDF/AllegroGraph/Repository.pm line 167.
when is experimental at /home/cpansand/.cpan/build/2016072415/RDF-AllegroGraph-Easy-0.08-0/blib/lib/RDF/AllegroGraph/Repository.pm line 168.
when is experimental at /home/cpansand/.cpan/build/2016072415/RDF-AllegroGraph-Easy-0.08-0/blib/lib/RDF/AllegroGraph/Repository.pm line 173.
when is experimental at /home/cpansand/.cpan/build/2016072415/RDF-AllegroGraph-Easy-0.08-0/blib/lib/RDF/AllegroGraph/Repository.pm line 179.
given is experimental at /home/cpansand/.cpan/build/2016072415/RDF-AllegroGraph-Easy-0.08-0/blib/lib/RDF/AllegroGraph/Repository.pm line 207.
when is experimental at /home/cpansand/.cpan/build/2016072415/RDF-AllegroGraph-Easy-0.08-0/blib/lib/RDF/AllegroGraph/Repository.pm line 208.
when is experimental at /home/cpansand/.cpan/build/2016072415/RDF-AllegroGraph-Easy-0.08-0/blib/lib/RDF/AllegroGraph/Repository.pm line 209.
when is experimental at /home/cpansand/.cpan/build/2016072415/RDF-AllegroGraph-Easy-0.08-0/blib/lib/RDF/AllegroGraph/Repository.pm line 210.
when is experimental at /home/cpansand/.cpan/build/2016072415/RDF-AllegroGraph-Easy-0.08-0/blib/lib/RDF/AllegroGraph/Repository.pm line 211.
given is experimental at /home/cpansand/.cpan/build/2016072415/RDF-AllegroGraph-Easy-0.08-0/blib/lib/RDF/AllegroGraph/Session4.pm line 123.
when is experimental at /home/cpansand/.cpan/build/2016072415/RDF-AllegroGraph-Easy-0.08-0/blib/lib/RDF/AllegroGraph/Session4.pm line 124.
when is experimental at /home/cpansand/.cpan/build/2016072415/RDF-AllegroGraph-Easy-0.08-0/blib/lib/RDF/AllegroGraph/Session4.pm line 127.
when is experimental at /home/cpansand/.cpan/build/2016072415/RDF-AllegroGraph-Easy-0.08-0/blib/lib/RDF/AllegroGraph/Session4.pm line 130.
given is experimental at /home/cpansand/.cpan/build/2016072415/RDF-AllegroGraph-Easy-0.08-0/blib/lib/RDF/AllegroGraph/Repository4.pm line 257.
when is experimental at /home/cpansand/.cpan/build/2016072415/RDF-AllegroGraph-Easy-0.08-0/blib/lib/RDF/AllegroGraph/Repository4.pm line 258.
when is experimental at /home/cpansand/.cpan/build/2016072415/RDF-AllegroGraph-Easy-0.08-0/blib/lib/RDF/AllegroGraph/Repository4.pm line 263.
when is experimental at /home/cpansand/.cpan/build/2016072415/RDF-AllegroGraph-Easy-0.08-0/blib/lib/RDF/AllegroGraph/Repository4.pm line 269.
given is experimental at /home/cpansand/.cpan/build/2016072415/RDF-AllegroGraph-Easy-0.08-0/blib/lib/RDF/AllegroGraph/Repository4.pm line 297.
when is experimental at /home/cpansand/.cpan/build/2016072415/RDF-AllegroGraph-Easy-0.08-0/blib/lib/RDF/AllegroGraph/Repository4.pm line 298.
when is experimental at /home/cpansand/.cpan/build/2016072415/RDF-AllegroGraph-Easy-0.08-0/blib/lib/RDF/AllegroGraph/Repository4.pm line 299.
when is experimental at /home/cpansand/.cpan/build/2016072415/RDF-AllegroGraph-Easy-0.08-0/blib/lib/RDF/AllegroGraph/Repository4.pm line 300.
when is experimental at /home/cpansand/.cpan/build/2016072415/RDF-AllegroGraph-Easy-0.08-0/blib/lib/RDF/AllegroGraph/Repository4.pm line 301.
given is experimental at /home/cpansand/.cpan/build/2016072415/RDF-AllegroGraph-Easy-0.08-0/blib/lib/RDF/AllegroGraph/Repository4.pm line 436.
when is experimental at /home/cpansand/.cpan/build/2016072415/RDF-AllegroGraph-Easy-0.08-0/blib/lib/RDF/AllegroGraph/Repository4.pm line 437.
given is experimental at /home/cpansand/.cpan/build/2016072415/RDF-AllegroGraph-Easy-0.08-0/blib/lib/RDF/AllegroGraph/Repository3.pm line 83.
when is experimental at /home/cpansand/.cpan/build/2016072415/RDF-AllegroGraph-Easy-0.08-0/blib/lib/RDF/AllegroGraph/Repository3.pm line 84.
when is experimental at /home/cpansand/.cpan/build/2016072415/RDF-AllegroGraph-Easy-0.08-0/blib/lib/RDF/AllegroGraph/Repository3.pm line 89.
when is experimental at /home/cpansand/.cpan/build/2016072415/RDF-AllegroGraph-Easy-0.08-0/blib/lib/RDF/AllegroGraph/Repository3.pm line 95.
given is experimental at /home/cpansand/.cpan/build/2016072415/RDF-AllegroGraph-Easy-0.08-0/blib/lib/RDF/AllegroGraph/Repository3.pm line 123.
when is experimental at /home/cpansand/.cpan/build/2016072415/RDF-AllegroGraph-Easy-0.08-0/blib/lib/RDF/AllegroGraph/Repository3.pm line 124.
when is experimental at /home/cpansand/.cpan/build/2016072415/RDF-AllegroGraph-Easy-0.08-0/blib/lib/RDF/AllegroGraph/Repository3.pm line 125.
when is experimental at /home/cpansand/.cpan/build/2016072415/RDF-AllegroGraph-Easy-0.08-0/blib/lib/RDF/AllegroGraph/Repository3.pm line 126.
when is experimental at /home/cpansand/.cpan/build/2016072415/RDF-AllegroGraph-Easy-0.08-0/blib/lib/RDF/AllegroGraph/Repository3.pm line 127.
given is experimental at /home/cpansand/.cpan/build/2016072415/RDF-AllegroGraph-Easy-0.08-0/blib/lib/RDF/AllegroGraph/Repository3.pm line 185.
when is experimental at /home/cpansand/.cpan/build/2016072415/RDF-AllegroGraph-Easy-0.08-0/blib/lib/RDF/AllegroGraph/Repository3.pm line 186.
t/v3_01_catalog.t ...... ok
given is experimental at /home/cpansand/.cpan/build/2016072415/RDF-AllegroGraph-Easy-0.08-0/blib/lib/RDF/AllegroGraph/Repository.pm line 167.
when is experimental at /home/cpansand/.cpan/build/2016072415/RDF-AllegroGraph-Easy-0.08-0/blib/lib/RDF/AllegroGraph/Repository.pm line 168.
when is experimental at /home/cpansand/.cpan/build/2016072415/RDF-AllegroGraph-Easy-0.08-0/blib/lib/RDF/AllegroGraph/Repository.pm line 173.
when is experimental at /home/cpansand/.cpan/build/2016072415/RDF-AllegroGraph-Easy-0.08-0/blib/lib/RDF/AllegroGraph/Repository.pm line 179.
given is experimental at /home/cpansand/.cpan/build/2016072415/RDF-AllegroGraph-Easy-0.08-0/blib/lib/RDF/AllegroGraph/Repository.pm line 207.
when is experimental at /home/cpansand/.cpan/build/2016072415/RDF-AllegroGraph-Easy-0.08-0/blib/lib/RDF/AllegroGraph/Repository.pm line 208.
when is experimental at /home/cpansand/.cpan/build/2016072415/RDF-AllegroGraph-Easy-0.08-0/blib/lib/RDF/AllegroGraph/Repository.pm line 209.
when is experimental at /home/cpansand/.cpan/build/2016072415/RDF-AllegroGraph-Easy-0.08-0/blib/lib/RDF/AllegroGraph/Repository.pm line 210.
when is experimental at /home/cpansand/.cpan/build/2016072415/RDF-AllegroGraph-Easy-0.08-0/blib/lib/RDF/AllegroGraph/Repository.pm line 211.
given is experimental at /home/cpansand/.cpan/build/2016072415/RDF-AllegroGraph-Easy-0.08-0/blib/lib/RDF/AllegroGraph/Session4.pm line 123.
when is experimental at /home/cpansand/.cpan/build/2016072415/RDF-AllegroGraph-Easy-0.08-0/blib/lib/RDF/AllegroGraph/Session4.pm line 124.
when is experimental at /home/cpansand/.cpan/build/2016072415/RDF-AllegroGraph-Easy-0.08-0/blib/lib/RDF/AllegroGraph/Session4.pm line 127.
when is experimental at /home/cpansand/.cpan/build/2016072415/RDF-AllegroGraph-Easy-0.08-0/blib/lib/RDF/AllegroGraph/Session4.pm line 130.
given is experimental at /home/cpansand/.cpan/build/2016072415/RDF-AllegroGraph-Easy-0.08-0/blib/lib/RDF/AllegroGraph/Repository4.pm line 257.
when is experimental at /home/cpansand/.cpan/build/2016072415/RDF-AllegroGraph-Easy-0.08-0/blib/lib/RDF/AllegroGraph/Repository4.pm line 258.
when is experimental at /home/cpansand/.cpan/build/2016072415/RDF-AllegroGraph-Easy-0.08-0/blib/lib/RDF/AllegroGraph/Repository4.pm line 263.
when is experimental at /home/cpansand/.cpan/build/2016072415/RDF-AllegroGraph-Easy-0.08-0/blib/lib/RDF/AllegroGraph/Repository4.pm line 269.
given is experimental at /home/cpansand/.cpan/build/2016072415/RDF-AllegroGraph-Easy-0.08-0/blib/lib/RDF/AllegroGraph/Repository4.pm line 297.
when is experimental at /home/cpansand/.cpan/build/2016072415/RDF-AllegroGraph-Easy-0.08-0/blib/lib/RDF/AllegroGraph/Repository4.pm line 298.
when is experimental at /home/cpansand/.cpan/build/2016072415/RDF-AllegroGraph-Easy-0.08-0/blib/lib/RDF/AllegroGraph/Repository4.pm line 299.
when is experimental at /home/cpansand/.cpan/build/2016072415/RDF-AllegroGraph-Easy-0.08-0/blib/lib/RDF/AllegroGraph/Repository4.pm line 300.
when is experimental at /home/cpansand/.cpan/build/2016072415/RDF-AllegroGraph-Easy-0.08-0/blib/lib/RDF/AllegroGraph/Repository4.pm line 301.
given is experimental at /home/cpansand/.cpan/build/2016072415/RDF-AllegroGraph-Easy-0.08-0/blib/lib/RDF/AllegroGraph/Repository4.pm line 436.
when is experimental at /home/cpansand/.cpan/build/2016072415/RDF-AllegroGraph-Easy-0.08-0/blib/lib/RDF/AllegroGraph/Repository4.pm line 437.
given is experimental at /home/cpansand/.cpan/build/2016072415/RDF-AllegroGraph-Easy-0.08-0/blib/lib/RDF/AllegroGraph/Repository3.pm line 83.
when is experimental at /home/cpansand/.cpan/build/2016072415/RDF-AllegroGraph-Easy-0.08-0/blib/lib/RDF/AllegroGraph/Repository3.pm line 84.
when is experimental at /home/cpansand/.cpan/build/2016072415/RDF-AllegroGraph-Easy-0.08-0/blib/lib/RDF/AllegroGraph/Repository3.pm line 89.
when is experimental at /home/cpansand/.cpan/build/2016072415/RDF-AllegroGraph-Easy-0.08-0/blib/lib/RDF/AllegroGraph/Repository3.pm line 95.
given is experimental at /home/cpansand/.cpan/build/2016072415/RDF-AllegroGraph-Easy-0.08-0/blib/lib/RDF/AllegroGraph/Repository3.pm line 123.
when is experimental at /home/cpansand/.cpan/build/2016072415/RDF-AllegroGraph-Easy-0.08-0/blib/lib/RDF/AllegroGraph/Repository3.pm line 124.
when is experimental at /home/cpansand/.cpan/build/2016072415/RDF-AllegroGraph-Easy-0.08-0/blib/lib/RDF/AllegroGraph/Repository3.pm line 125.
when is experimental at /home/cpansand/.cpan/build/2016072415/RDF-AllegroGraph-Easy-0.08-0/blib/lib/RDF/AllegroGraph/Repository3.pm line 126.
when is experimental at /home/cpansand/.cpan/build/2016072415/RDF-AllegroGraph-Easy-0.08-0/blib/lib/RDF/AllegroGraph/Repository3.pm line 127.
given is experimental at /home/cpansand/.cpan/build/2016072415/RDF-AllegroGraph-Easy-0.08-0/blib/lib/RDF/AllegroGraph/Repository3.pm line 185.
when is experimental at /home/cpansand/.cpan/build/2016072415/RDF-AllegroGraph-Easy-0.08-0/blib/lib/RDF/AllegroGraph/Repository3.pm line 186.
t/v3_02_repos.t ........ ok
given is experimental at /home/cpansand/.cpan/build/2016072415/RDF-AllegroGraph-Easy-0.08-0/blib/lib/RDF/AllegroGraph/Repository.pm line 167.
when is experimental at /home/cpansand/.cpan/build/2016072415/RDF-AllegroGraph-Easy-0.08-0/blib/lib/RDF/AllegroGraph/Repository.pm line 168.
when is experimental at /home/cpansand/.cpan/build/2016072415/RDF-AllegroGraph-Easy-0.08-0/blib/lib/RDF/AllegroGraph/Repository.pm line 173.
when is experimental at /home/cpansand/.cpan/build/2016072415/RDF-AllegroGraph-Easy-0.08-0/blib/lib/RDF/AllegroGraph/Repository.pm line 179.
given is experimental at /home/cpansand/.cpan/build/2016072415/RDF-AllegroGraph-Easy-0.08-0/blib/lib/RDF/AllegroGraph/Repository.pm line 207.
when is experimental at /home/cpansand/.cpan/build/2016072415/RDF-AllegroGraph-Easy-0.08-0/blib/lib/RDF/AllegroGraph/Repository.pm line 208.
when is experimental at /home/cpansand/.cpan/build/2016072415/RDF-AllegroGraph-Easy-0.08-0/blib/lib/RDF/AllegroGraph/Repository.pm line 209.
when is experimental at /home/cpansand/.cpan/build/2016072415/RDF-AllegroGraph-Easy-0.08-0/blib/lib/RDF/AllegroGraph/Repository.pm line 210.
when is experimental at /home/cpansand/.cpan/build/2016072415/RDF-AllegroGraph-Easy-0.08-0/blib/lib/RDF/AllegroGraph/Repository.pm line 211.
given is experimental at /home/cpansand/.cpan/build/2016072415/RDF-AllegroGraph-Easy-0.08-0/blib/lib/RDF/AllegroGraph/Repository3.pm line 83.
when is experimental at /home/cpansand/.cpan/build/2016072415/RDF-AllegroGraph-Easy-0.08-0/blib/lib/RDF/AllegroGraph/Repository3.pm line 84.
when is experimental at /home/cpansand/.cpan/build/2016072415/RDF-AllegroGraph-Easy-0.08-0/blib/lib/RDF/AllegroGraph/Repository3.pm line 89.
when is experimental at /home/cpansand/.cpan/build/2016072415/RDF-AllegroGraph-Easy-0.08-0/blib/lib/RDF/AllegroGraph/Repository3.pm line 95.
given is experimental at /home/cpansand/.cpan/build/2016072415/RDF-AllegroGraph-Easy-0.08-0/blib/lib/RDF/AllegroGraph/Repository3.pm line 123.
when is experimental at /home/cpansand/.cpan/build/2016072415/RDF-AllegroGraph-Easy-0.08-0/blib/lib/RDF/AllegroGraph/Repository3.pm line 124.
when is experimental at /home/cpansand/.cpan/build/2016072415/RDF-AllegroGraph-Easy-0.08-0/blib/lib/RDF/AllegroGraph/Repository3.pm line 125.
when is experimental at /home/cpansand/.cpan/build/2016072415/RDF-AllegroGraph-Easy-0.08-0/blib/lib/RDF/AllegroGraph/Repository3.pm line 126.
when is experimental at /home/cpansand/.cpan/build/2016072415/RDF-AllegroGraph-Easy-0.08-0/blib/lib/RDF/AllegroGraph/Repository3.pm line 127.
given is experimental at /home/cpansand/.cpan/build/2016072415/RDF-AllegroGraph-Easy-0.08-0/blib/lib/RDF/AllegroGraph/Repository3.pm line 185.
when is experimental at /home/cpansand/.cpan/build/2016072415/RDF-AllegroGraph-Easy-0.08-0/blib/lib/RDF/AllegroGraph/Repository3.pm line 186.
given is experimental at /home/cpansand/.cpan/build/2016072415/RDF-AllegroGraph-Easy-0.08-0/blib/lib/RDF/AllegroGraph/Session4.pm line 123.
when is experimental at /home/cpansand/.cpan/build/2016072415/RDF-AllegroGraph-Easy-0.08-0/blib/lib/RDF/AllegroGraph/Session4.pm line 124.
when is experimental at /home/cpansand/.cpan/build/2016072415/RDF-AllegroGraph-Easy-0.08-0/blib/lib/RDF/AllegroGraph/Session4.pm line 127.
when is experimental at /home/cpansand/.cpan/build/2016072415/RDF-AllegroGraph-Easy-0.08-0/blib/lib/RDF/AllegroGraph/Session4.pm line 130.
given is experimental at /home/cpansand/.cpan/build/2016072415/RDF-AllegroGraph-Easy-0.08-0/blib/lib/RDF/AllegroGraph/Repository4.pm line 257.
when is experimental at /home/cpansand/.cpan/build/2016072415/RDF-AllegroGraph-Easy-0.08-0/blib/lib/RDF/AllegroGraph/Repository4.pm line 258.
when is experimental at /home/cpansand/.cpan/build/2016072415/RDF-AllegroGraph-Easy-0.08-0/blib/lib/RDF/AllegroGraph/Repository4.pm line 263.
when is experimental at /home/cpansand/.cpan/build/2016072415/RDF-AllegroGraph-Easy-0.08-0/blib/lib/RDF/AllegroGraph/Repository4.pm line 269.
given is experimental at /home/cpansand/.cpan/build/2016072415/RDF-AllegroGraph-Easy-0.08-0/blib/lib/RDF/AllegroGraph/Repository4.pm line 297.
when is experimental at /home/cpansand/.cpan/build/2016072415/RDF-AllegroGraph-Easy-0.08-0/blib/lib/RDF/AllegroGraph/Repository4.pm line 298.
when is experimental at /home/cpansand/.cpan/build/2016072415/RDF-AllegroGraph-Easy-0.08-0/blib/lib/RDF/AllegroGraph/Repository4.pm line 299.
when is experimental at /home/cpansand/.cpan/build/2016072415/RDF-AllegroGraph-Easy-0.08-0/blib/lib/RDF/AllegroGraph/Repository4.pm line 300.
when is experimental at /home/cpansand/.cpan/build/2016072415/RDF-AllegroGraph-Easy-0.08-0/blib/lib/RDF/AllegroGraph/Repository4.pm line 301.
given is experimental at /home/cpansand/.cpan/build/2016072415/RDF-AllegroGraph-Easy-0.08-0/blib/lib/RDF/AllegroGraph/Repository4.pm line 436.
when is experimental at /home/cpansand/.cpan/build/2016072415/RDF-AllegroGraph-Easy-0.08-0/blib/lib/RDF/AllegroGraph/Repository4.pm line 437.
t/v3_03_geo.t .......... ok
given is experimental at /home/cpansand/.cpan/build/2016072415/RDF-AllegroGraph-Easy-0.08-0/blib/lib/RDF/AllegroGraph/Repository.pm line 167.
when is experimental at /home/cpansand/.cpan/build/2016072415/RDF-AllegroGraph-Easy-0.08-0/blib/lib/RDF/AllegroGraph/Repository.pm line 168.
when is experimental at /home/cpansand/.cpan/build/2016072415/RDF-AllegroGraph-Easy-0.08-0/blib/lib/RDF/AllegroGraph/Repository.pm line 173.
when is experimental at /home/cpansand/.cpan/build/2016072415/RDF-AllegroGraph-Easy-0.08-0/blib/lib/RDF/AllegroGraph/Repository.pm line 179.
given is experimental at /home/cpansand/.cpan/build/2016072415/RDF-AllegroGraph-Easy-0.08-0/blib/lib/RDF/AllegroGraph/Repository.pm line 207.
when is experimental at /home/cpansand/.cpan/build/2016072415/RDF-AllegroGraph-Easy-0.08-0/blib/lib/RDF/AllegroGraph/Repository.pm line 208.
when is experimental at /home/cpansand/.cpan/build/2016072415/RDF-AllegroGraph-Easy-0.08-0/blib/lib/RDF/AllegroGraph/Repository.pm line 209.
when is experimental at /home/cpansand/.cpan/build/2016072415/RDF-AllegroGraph-Easy-0.08-0/blib/lib/RDF/AllegroGraph/Repository.pm line 210.
when is experimental at /home/cpansand/.cpan/build/2016072415/RDF-AllegroGraph-Easy-0.08-0/blib/lib/RDF/AllegroGraph/Repository.pm line 211.
given is experimental at /home/cpansand/.cpan/build/2016072415/RDF-AllegroGraph-Easy-0.08-0/blib/lib/RDF/AllegroGraph/Repository3.pm line 83.
when is experimental at /home/cpansand/.cpan/build/2016072415/RDF-AllegroGraph-Easy-0.08-0/blib/lib/RDF/AllegroGraph/Repository3.pm line 84.
when is experimental at /home/cpansand/.cpan/build/2016072415/RDF-AllegroGraph-Easy-0.08-0/blib/lib/RDF/AllegroGraph/Repository3.pm line 89.
when is experimental at /home/cpansand/.cpan/build/2016072415/RDF-AllegroGraph-Easy-0.08-0/blib/lib/RDF/AllegroGraph/Repository3.pm line 95.
given is experimental at /home/cpansand/.cpan/build/2016072415/RDF-AllegroGraph-Easy-0.08-0/blib/lib/RDF/AllegroGraph/Repository3.pm line 123.
when is experimental at /home/cpansand/.cpan/build/2016072415/RDF-AllegroGraph-Easy-0.08-0/blib/lib/RDF/AllegroGraph/Repository3.pm line 124.
when is experimental at /home/cpansand/.cpan/build/2016072415/RDF-AllegroGraph-Easy-0.08-0/blib/lib/RDF/AllegroGraph/Repository3.pm line 125.
when is experimental at /home/cpansand/.cpan/build/2016072415/RDF-AllegroGraph-Easy-0.08-0/blib/lib/RDF/AllegroGraph/Repository3.pm line 126.
when is experimental at /home/cpansand/.cpan/build/2016072415/RDF-AllegroGraph-Easy-0.08-0/blib/lib/RDF/AllegroGraph/Repository3.pm line 127.
given is experimental at /home/cpansand/.cpan/build/2016072415/RDF-AllegroGraph-Easy-0.08-0/blib/lib/RDF/AllegroGraph/Repository3.pm line 185.
when is experimental at /home/cpansand/.cpan/build/2016072415/RDF-AllegroGraph-Easy-0.08-0/blib/lib/RDF/AllegroGraph/Repository3.pm line 186.
given is experimental at /home/cpansand/.cpan/build/2016072415/RDF-AllegroGraph-Easy-0.08-0/blib/lib/RDF/AllegroGraph/Session4.pm line 123.
when is experimental at /home/cpansand/.cpan/build/2016072415/RDF-AllegroGraph-Easy-0.08-0/blib/lib/RDF/AllegroGraph/Session4.pm line 124.
when is experimental at /home/cpansand/.cpan/build/2016072415/RDF-AllegroGraph-Easy-0.08-0/blib/lib/RDF/AllegroGraph/Session4.pm line 127.
when is experimental at /home/cpansand/.cpan/build/2016072415/RDF-AllegroGraph-Easy-0.08-0/blib/lib/RDF/AllegroGraph/Session4.pm line 130.
given is experimental at /home/cpansand/.cpan/build/2016072415/RDF-AllegroGraph-Easy-0.08-0/blib/lib/RDF/AllegroGraph/Repository4.pm line 257.
when is experimental at /home/cpansand/.cpan/build/2016072415/RDF-AllegroGraph-Easy-0.08-0/blib/lib/RDF/AllegroGraph/Repository4.pm line 258.
when is experimental at /home/cpansand/.cpan/build/2016072415/RDF-AllegroGraph-Easy-0.08-0/blib/lib/RDF/AllegroGraph/Repository4.pm line 263.
when is experimental at /home/cpansand/.cpan/build/2016072415/RDF-AllegroGraph-Easy-0.08-0/blib/lib/RDF/AllegroGraph/Repository4.pm line 269.
given is experimental at /home/cpansand/.cpan/build/2016072415/RDF-AllegroGraph-Easy-0.08-0/blib/lib/RDF/AllegroGraph/Repository4.pm line 297.
when is experimental at /home/cpansand/.cpan/build/2016072415/RDF-AllegroGraph-Easy-0.08-0/blib/lib/RDF/AllegroGraph/Repository4.pm line 298.
when is experimental at /home/cpansand/.cpan/build/2016072415/RDF-AllegroGraph-Easy-0.08-0/blib/lib/RDF/AllegroGraph/Repository4.pm line 299.
when is experimental at /home/cpansand/.cpan/build/2016072415/RDF-AllegroGraph-Easy-0.08-0/blib/lib/RDF/AllegroGraph/Repository4.pm line 300.
when is experimental at /home/cpansand/.cpan/build/2016072415/RDF-AllegroGraph-Easy-0.08-0/blib/lib/RDF/AllegroGraph/Repository4.pm line 301.
given is experimental at /home/cpansand/.cpan/build/2016072415/RDF-AllegroGraph-Easy-0.08-0/blib/lib/RDF/AllegroGraph/Repository4.pm line 436.
when is experimental at /home/cpansand/.cpan/build/2016072415/RDF-AllegroGraph-Easy-0.08-0/blib/lib/RDF/AllegroGraph/Repository4.pm line 437.
t/v3_03_namespaces.t ... ok
given is experimental at /home/cpansand/.cpan/build/2016072415/RDF-AllegroGraph-Easy-0.08-0/blib/lib/RDF/AllegroGraph/Repository.pm line 167.
when is experimental at /home/cpansand/.cpan/build/2016072415/RDF-AllegroGraph-Easy-0.08-0/blib/lib/RDF/AllegroGraph/Repository.pm line 168.
when is experimental at /home/cpansand/.cpan/build/2016072415/RDF-AllegroGraph-Easy-0.08-0/blib/lib/RDF/AllegroGraph/Repository.pm line 173.
when is experimental at /home/cpansand/.cpan/build/2016072415/RDF-AllegroGraph-Easy-0.08-0/blib/lib/RDF/AllegroGraph/Repository.pm line 179.
given is experimental at /home/cpansand/.cpan/build/2016072415/RDF-AllegroGraph-Easy-0.08-0/blib/lib/RDF/AllegroGraph/Repository.pm line 207.
when is experimental at /home/cpansand/.cpan/build/2016072415/RDF-AllegroGraph-Easy-0.08-0/blib/lib/RDF/AllegroGraph/Repository.pm line 208.
when is experimental at /home/cpansand/.cpan/build/2016072415/RDF-AllegroGraph-Easy-0.08-0/blib/lib/RDF/AllegroGraph/Repository.pm line 209.
when is experimental at /home/cpansand/.cpan/build/2016072415/RDF-AllegroGraph-Easy-0.08-0/blib/lib/RDF/AllegroGraph/Repository.pm line 210.
when is experimental at /home/cpansand/.cpan/build/2016072415/RDF-AllegroGraph-Easy-0.08-0/blib/lib/RDF/AllegroGraph/Repository.pm line 211.
given is experimental at /home/cpansand/.cpan/build/2016072415/RDF-AllegroGraph-Easy-0.08-0/blib/lib/RDF/AllegroGraph/Repository3.pm line 83.
when is experimental at /home/cpansand/.cpan/build/2016072415/RDF-AllegroGraph-Easy-0.08-0/blib/lib/RDF/AllegroGraph/Repository3.pm line 84.
when is experimental at /home/cpansand/.cpan/build/2016072415/RDF-AllegroGraph-Easy-0.08-0/blib/lib/RDF/AllegroGraph/Repository3.pm line 89.
when is experimental at /home/cpansand/.cpan/build/2016072415/RDF-AllegroGraph-Easy-0.08-0/blib/lib/RDF/AllegroGraph/Repository3.pm line 95.
given is experimental at /home/cpansand/.cpan/build/2016072415/RDF-AllegroGraph-Easy-0.08-0/blib/lib/RDF/AllegroGraph/Repository3.pm line 123.
when is experimental at /home/cpansand/.cpan/build/2016072415/RDF-AllegroGraph-Easy-0.08-0/blib/lib/RDF/AllegroGraph/Repository3.pm line 124.
when is experimental at /home/cpansand/.cpan/build/2016072415/RDF-AllegroGraph-Easy-0.08-0/blib/lib/RDF/AllegroGraph/Repository3.pm line 125.
when is experimental at /home/cpansand/.cpan/build/2016072415/RDF-AllegroGraph-Easy-0.08-0/blib/lib/RDF/AllegroGraph/Repository3.pm line 126.
when is experimental at /home/cpansand/.cpan/build/2016072415/RDF-AllegroGraph-Easy-0.08-0/blib/lib/RDF/AllegroGraph/Repository3.pm line 127.
given is experimental at /home/cpansand/.cpan/build/2016072415/RDF-AllegroGraph-Easy-0.08-0/blib/lib/RDF/AllegroGraph/Repository3.pm line 185.
when is experimental at /home/cpansand/.cpan/build/2016072415/RDF-AllegroGraph-Easy-0.08-0/blib/lib/RDF/AllegroGraph/Repository3.pm line 186.
given is experimental at /home/cpansand/.cpan/build/2016072415/RDF-AllegroGraph-Easy-0.08-0/blib/lib/RDF/AllegroGraph/Session4.pm line 123.
when is experimental at /home/cpansand/.cpan/build/2016072415/RDF-AllegroGraph-Easy-0.08-0/blib/lib/RDF/AllegroGraph/Session4.pm line 124.
when is experimental at /home/cpansand/.cpan/build/2016072415/RDF-AllegroGraph-Easy-0.08-0/blib/lib/RDF/AllegroGraph/Session4.pm line 127.
when is experimental at /home/cpansand/.cpan/build/2016072415/RDF-AllegroGraph-Easy-0.08-0/blib/lib/RDF/AllegroGraph/Session4.pm line 130.
given is experimental at /home/cpansand/.cpan/build/2016072415/RDF-AllegroGraph-Easy-0.08-0/blib/lib/RDF/AllegroGraph/Repository4.pm line 257.
when is experimental at /home/cpansand/.cpan/build/2016072415/RDF-AllegroGraph-Easy-0.08-0/blib/lib/RDF/AllegroGraph/Repository4.pm line 258.
when is experimental at /home/cpansand/.cpan/build/2016072415/RDF-AllegroGraph-Easy-0.08-0/blib/lib/RDF/AllegroGraph/Repository4.pm line 263.
when is experimental at /home/cpansand/.cpan/build/2016072415/RDF-AllegroGraph-Easy-0.08-0/blib/lib/RDF/AllegroGraph/Repository4.pm line 269.
given is experimental at /home/cpansand/.cpan/build/2016072415/RDF-AllegroGraph-Easy-0.08-0/blib/lib/RDF/AllegroGraph/Repository4.pm line 297.
when is experimental at /home/cpansand/.cpan/build/2016072415/RDF-AllegroGraph-Easy-0.08-0/blib/lib/RDF/AllegroGraph/Repository4.pm line 298.
when is experimental at /home/cpansand/.cpan/build/2016072415/RDF-AllegroGraph-Easy-0.08-0/blib/lib/RDF/AllegroGraph/Repository4.pm line 299.
when is experimental at /home/cpansand/.cpan/build/2016072415/RDF-AllegroGraph-Easy-0.08-0/blib/lib/RDF/AllegroGraph/Repository4.pm line 300.
when is experimental at /home/cpansand/.cpan/build/2016072415/RDF-AllegroGraph-Easy-0.08-0/blib/lib/RDF/AllegroGraph/Repository4.pm line 301.
given is experimental at /home/cpansand/.cpan/build/2016072415/RDF-AllegroGraph-Easy-0.08-0/blib/lib/RDF/AllegroGraph/Repository4.pm line 436.
when is experimental at /home/cpansand/.cpan/build/2016072415/RDF-AllegroGraph-Easy-0.08-0/blib/lib/RDF/AllegroGraph/Repository4.pm line 437.
t/v3_04_easy.t ......... ok
given is experimental at /home/cpansand/.cpan/build/2016072415/RDF-AllegroGraph-Easy-0.08-0/blib/lib/RDF/AllegroGraph/Repository.pm line 167.
when is experimental at /home/cpansand/.cpan/build/2016072415/RDF-AllegroGraph-Easy-0.08-0/blib/lib/RDF/AllegroGraph/Repository.pm line 168.
when is experimental at /home/cpansand/.cpan/build/2016072415/RDF-AllegroGraph-Easy-0.08-0/blib/lib/RDF/AllegroGraph/Repository.pm line 173.
when is experimental at /home/cpansand/.cpan/build/2016072415/RDF-AllegroGraph-Easy-0.08-0/blib/lib/RDF/AllegroGraph/Repository.pm line 179.
given is experimental at /home/cpansand/.cpan/build/2016072415/RDF-AllegroGraph-Easy-0.08-0/blib/lib/RDF/AllegroGraph/Repository.pm line 207.
when is experimental at /home/cpansand/.cpan/build/2016072415/RDF-AllegroGraph-Easy-0.08-0/blib/lib/RDF/AllegroGraph/Repository.pm line 208.
when is experimental at /home/cpansand/.cpan/build/2016072415/RDF-AllegroGraph-Easy-0.08-0/blib/lib/RDF/AllegroGraph/Repository.pm line 209.
when is experimental at /home/cpansand/.cpan/build/2016072415/RDF-AllegroGraph-Easy-0.08-0/blib/lib/RDF/AllegroGraph/Repository.pm line 210.
when is experimental at /home/cpansand/.cpan/build/2016072415/RDF-AllegroGraph-Easy-0.08-0/blib/lib/RDF/AllegroGraph/Repository.pm line 211.
given is experimental at /home/cpansand/.cpan/build/2016072415/RDF-AllegroGraph-Easy-0.08-0/blib/lib/RDF/AllegroGraph/Repository3.pm line 83.
when is experimental at /home/cpansand/.cpan/build/2016072415/RDF-AllegroGraph-Easy-0.08-0/blib/lib/RDF/AllegroGraph/Repository3.pm line 84.
when is experimental at /home/cpansand/.cpan/build/2016072415/RDF-AllegroGraph-Easy-0.08-0/blib/lib/RDF/AllegroGraph/Repository3.pm line 89.
when is experimental at /home/cpansand/.cpan/build/2016072415/RDF-AllegroGraph-Easy-0.08-0/blib/lib/RDF/AllegroGraph/Repository3.pm line 95.
given is experimental at /home/cpansand/.cpan/build/2016072415/RDF-AllegroGraph-Easy-0.08-0/blib/lib/RDF/AllegroGraph/Repository3.pm line 123.
when is experimental at /home/cpansand/.cpan/build/2016072415/RDF-AllegroGraph-Easy-0.08-0/blib/lib/RDF/AllegroGraph/Repository3.pm line 124.
when is experimental at /home/cpansand/.cpan/build/2016072415/RDF-AllegroGraph-Easy-0.08-0/blib/lib/RDF/AllegroGraph/Repository3.pm line 125.
when is experimental at /home/cpansand/.cpan/build/2016072415/RDF-AllegroGraph-Easy-0.08-0/blib/lib/RDF/AllegroGraph/Repository3.pm line 126.
when is experimental at /home/cpansand/.cpan/build/2016072415/RDF-AllegroGraph-Easy-0.08-0/blib/lib/RDF/AllegroGraph/Repository3.pm line 127.
given is experimental at /home/cpansand/.cpan/build/2016072415/RDF-AllegroGraph-Easy-0.08-0/blib/lib/RDF/AllegroGraph/Repository3.pm line 185.
when is experimental at /home/cpansand/.cpan/build/2016072415/RDF-AllegroGraph-Easy-0.08-0/blib/lib/RDF/AllegroGraph/Repository3.pm line 186.
given is experimental at /home/cpansand/.cpan/build/2016072415/RDF-AllegroGraph-Easy-0.08-0/blib/lib/RDF/AllegroGraph/Session4.pm line 123.
when is experimental at /home/cpansand/.cpan/build/2016072415/RDF-AllegroGraph-Easy-0.08-0/blib/lib/RDF/AllegroGraph/Session4.pm line 124.
when is experimental at /home/cpansand/.cpan/build/2016072415/RDF-AllegroGraph-Easy-0.08-0/blib/lib/RDF/AllegroGraph/Session4.pm line 127.
when is experimental at /home/cpansand/.cpan/build/2016072415/RDF-AllegroGraph-Easy-0.08-0/blib/lib/RDF/AllegroGraph/Session4.pm line 130.
given is experimental at /home/cpansand/.cpan/build/2016072415/RDF-AllegroGraph-Easy-0.08-0/blib/lib/RDF/AllegroGraph/Repository4.pm line 257.
when is experimental at /home/cpansand/.cpan/build/2016072415/RDF-AllegroGraph-Easy-0.08-0/blib/lib/RDF/AllegroGraph/Repository4.pm line 258.
when is experimental at /home/cpansand/.cpan/build/2016072415/RDF-AllegroGraph-Easy-0.08-0/blib/lib/RDF/AllegroGraph/Repository4.pm line 263.
when is experimental at /home/cpansand/.cpan/build/2016072415/RDF-AllegroGraph-Easy-0.08-0/blib/lib/RDF/AllegroGraph/Repository4.pm line 269.
given is experimental at /home/cpansand/.cpan/build/2016072415/RDF-AllegroGraph-Easy-0.08-0/blib/lib/RDF/AllegroGraph/Repository4.pm line 297.
when is experimental at /home/cpansand/.cpan/build/2016072415/RDF-AllegroGraph-Easy-0.08-0/blib/lib/RDF/AllegroGraph/Repository4.pm line 298.
when is experimental at /home/cpansand/.cpan/build/2016072415/RDF-AllegroGraph-Easy-0.08-0/blib/lib/RDF/AllegroGraph/Repository4.pm line 299.
when is experimental at /home/cpansand/.cpan/build/2016072415/RDF-AllegroGraph-Easy-0.08-0/blib/lib/RDF/AllegroGraph/Repository4.pm line 300.
when is experimental at /home/cpansand/.cpan/build/2016072415/RDF-AllegroGraph-Easy-0.08-0/blib/lib/RDF/AllegroGraph/Repository4.pm line 301.
given is experimental at /home/cpansand/.cpan/build/2016072415/RDF-AllegroGraph-Easy-0.08-0/blib/lib/RDF/AllegroGraph/Repository4.pm line 436.
when is experimental at /home/cpansand/.cpan/build/2016072415/RDF-AllegroGraph-Easy-0.08-0/blib/lib/RDF/AllegroGraph/Repository4.pm line 437.
# Tests skipped. Use "export AG4_SERVER=http://my.server:port" before running the test suite. See README for details.
t/v4_01_catalog.t ...... ok
given is experimental at /home/cpansand/.cpan/build/2016072415/RDF-AllegroGraph-Easy-0.08-0/blib/lib/RDF/AllegroGraph/Repository.pm line 167.
when is experimental at /home/cpansand/.cpan/build/2016072415/RDF-AllegroGraph-Easy-0.08-0/blib/lib/RDF/AllegroGraph/Repository.pm line 168.
when is experimental at /home/cpansand/.cpan/build/2016072415/RDF-AllegroGraph-Easy-0.08-0/blib/lib/RDF/AllegroGraph/Repository.pm line 173.
when is experimental at /home/cpansand/.cpan/build/2016072415/RDF-AllegroGraph-Easy-0.08-0/blib/lib/RDF/AllegroGraph/Repository.pm line 179.
given is experimental at /home/cpansand/.cpan/build/2016072415/RDF-AllegroGraph-Easy-0.08-0/blib/lib/RDF/AllegroGraph/Repository.pm line 207.
when is experimental at /home/cpansand/.cpan/build/2016072415/RDF-AllegroGraph-Easy-0.08-0/blib/lib/RDF/AllegroGraph/Repository.pm line 208.
when is experimental at /home/cpansand/.cpan/build/2016072415/RDF-AllegroGraph-Easy-0.08-0/blib/lib/RDF/AllegroGraph/Repository.pm line 209.
when is experimental at /home/cpansand/.cpan/build/2016072415/RDF-AllegroGraph-Easy-0.08-0/blib/lib/RDF/AllegroGraph/Repository.pm line 210.
when is experimental at /home/cpansand/.cpan/build/2016072415/RDF-AllegroGraph-Easy-0.08-0/blib/lib/RDF/AllegroGraph/Repository.pm line 211.
given is experimental at /home/cpansand/.cpan/build/2016072415/RDF-AllegroGraph-Easy-0.08-0/blib/lib/RDF/AllegroGraph/Repository3.pm line 83.
when is experimental at /home/cpansand/.cpan/build/2016072415/RDF-AllegroGraph-Easy-0.08-0/blib/lib/RDF/AllegroGraph/Repository3.pm line 84.
when is experimental at /home/cpansand/.cpan/build/2016072415/RDF-AllegroGraph-Easy-0.08-0/blib/lib/RDF/AllegroGraph/Repository3.pm line 89.
when is experimental at /home/cpansand/.cpan/build/2016072415/RDF-AllegroGraph-Easy-0.08-0/blib/lib/RDF/AllegroGraph/Repository3.pm line 95.
given is experimental at /home/cpansand/.cpan/build/2016072415/RDF-AllegroGraph-Easy-0.08-0/blib/lib/RDF/AllegroGraph/Repository3.pm line 123.
when is experimental at /home/cpansand/.cpan/build/2016072415/RDF-AllegroGraph-Easy-0.08-0/blib/lib/RDF/AllegroGraph/Repository3.pm line 124.
when is experimental at /home/cpansand/.cpan/build/2016072415/RDF-AllegroGraph-Easy-0.08-0/blib/lib/RDF/AllegroGraph/Repository3.pm line 125.
when is experimental at /home/cpansand/.cpan/build/2016072415/RDF-AllegroGraph-Easy-0.08-0/blib/lib/RDF/AllegroGraph/Repository3.pm line 126.
when is experimental at /home/cpansand/.cpan/build/2016072415/RDF-AllegroGraph-Easy-0.08-0/blib/lib/RDF/AllegroGraph/Repository3.pm line 127.
given is experimental at /home/cpansand/.cpan/build/2016072415/RDF-AllegroGraph-Easy-0.08-0/blib/lib/RDF/AllegroGraph/Repository3.pm line 185.
when is experimental at /home/cpansand/.cpan/build/2016072415/RDF-AllegroGraph-Easy-0.08-0/blib/lib/RDF/AllegroGraph/Repository3.pm line 186.
given is experimental at /home/cpansand/.cpan/build/2016072415/RDF-AllegroGraph-Easy-0.08-0/blib/lib/RDF/AllegroGraph/Session4.pm line 123.
when is experimental at /home/cpansand/.cpan/build/2016072415/RDF-AllegroGraph-Easy-0.08-0/blib/lib/RDF/AllegroGraph/Session4.pm line 124.
when is experimental at /home/cpansand/.cpan/build/2016072415/RDF-AllegroGraph-Easy-0.08-0/blib/lib/RDF/AllegroGraph/Session4.pm line 127.
when is experimental at /home/cpansand/.cpan/build/2016072415/RDF-AllegroGraph-Easy-0.08-0/blib/lib/RDF/AllegroGraph/Session4.pm line 130.
given is experimental at /home/cpansand/.cpan/build/2016072415/RDF-AllegroGraph-Easy-0.08-0/blib/lib/RDF/AllegroGraph/Repository4.pm line 257.
when is experimental at /home/cpansand/.cpan/build/2016072415/RDF-AllegroGraph-Easy-0.08-0/blib/lib/RDF/AllegroGraph/Repository4.pm line 258.
when is experimental at /home/cpansand/.cpan/build/2016072415/RDF-AllegroGraph-Easy-0.08-0/blib/lib/RDF/AllegroGraph/Repository4.pm line 263.
when is experimental at /home/cpansand/.cpan/build/2016072415/RDF-AllegroGraph-Easy-0.08-0/blib/lib/RDF/AllegroGraph/Repository4.pm line 269.
given is experimental at /home/cpansand/.cpan/build/2016072415/RDF-AllegroGraph-Easy-0.08-0/blib/lib/RDF/AllegroGraph/Repository4.pm line 297.
when is experimental at /home/cpansand/.cpan/build/2016072415/RDF-AllegroGraph-Easy-0.08-0/blib/lib/RDF/AllegroGraph/Repository4.pm line 298.
when is experimental at /home/cpansand/.cpan/build/2016072415/RDF-AllegroGraph-Easy-0.08-0/blib/lib/RDF/AllegroGraph/Repository4.pm line 299.
when is experimental at /home/cpansand/.cpan/build/2016072415/RDF-AllegroGraph-Easy-0.08-0/blib/lib/RDF/AllegroGraph/Repository4.pm line 300.
when is experimental at /home/cpansand/.cpan/build/2016072415/RDF-AllegroGraph-Easy-0.08-0/blib/lib/RDF/AllegroGraph/Repository4.pm line 301.
given is experimental at /home/cpansand/.cpan/build/2016072415/RDF-AllegroGraph-Easy-0.08-0/blib/lib/RDF/AllegroGraph/Repository4.pm line 436.
when is experimental at /home/cpansand/.cpan/build/2016072415/RDF-AllegroGraph-Easy-0.08-0/blib/lib/RDF/AllegroGraph/Repository4.pm line 437.
t/v4_02_repos.t ........ ok
given is experimental at /home/cpansand/.cpan/build/2016072415/RDF-AllegroGraph-Easy-0.08-0/blib/lib/RDF/AllegroGraph/Repository.pm line 167.
when is experimental at /home/cpansand/.cpan/build/2016072415/RDF-AllegroGraph-Easy-0.08-0/blib/lib/RDF/AllegroGraph/Repository.pm line 168.
when is experimental at /home/cpansand/.cpan/build/2016072415/RDF-AllegroGraph-Easy-0.08-0/blib/lib/RDF/AllegroGraph/Repository.pm line 173.
when is experimental at /home/cpansand/.cpan/build/2016072415/RDF-AllegroGraph-Easy-0.08-0/blib/lib/RDF/AllegroGraph/Repository.pm line 179.
given is experimental at /home/cpansand/.cpan/build/2016072415/RDF-AllegroGraph-Easy-0.08-0/blib/lib/RDF/AllegroGraph/Repository.pm line 207.
when is experimental at /home/cpansand/.cpan/build/2016072415/RDF-AllegroGraph-Easy-0.08-0/blib/lib/RDF/AllegroGraph/Repository.pm line 208.
when is experimental at /home/cpansand/.cpan/build/2016072415/RDF-AllegroGraph-Easy-0.08-0/blib/lib/RDF/AllegroGraph/Repository.pm line 209.
when is experimental at /home/cpansand/.cpan/build/2016072415/RDF-AllegroGraph-Easy-0.08-0/blib/lib/RDF/AllegroGraph/Repository.pm line 210.
when is experimental at /home/cpansand/.cpan/build/2016072415/RDF-AllegroGraph-Easy-0.08-0/blib/lib/RDF/AllegroGraph/Repository.pm line 211.
given is experimental at /home/cpansand/.cpan/build/2016072415/RDF-AllegroGraph-Easy-0.08-0/blib/lib/RDF/AllegroGraph/Repository3.pm line 83.
when is experimental at /home/cpansand/.cpan/build/2016072415/RDF-AllegroGraph-Easy-0.08-0/blib/lib/RDF/AllegroGraph/Repository3.pm line 84.
when is experimental at /home/cpansand/.cpan/build/2016072415/RDF-AllegroGraph-Easy-0.08-0/blib/lib/RDF/AllegroGraph/Repository3.pm line 89.
when is experimental at /home/cpansand/.cpan/build/2016072415/RDF-AllegroGraph-Easy-0.08-0/blib/lib/RDF/AllegroGraph/Repository3.pm line 95.
given is experimental at /home/cpansand/.cpan/build/2016072415/RDF-AllegroGraph-Easy-0.08-0/blib/lib/RDF/AllegroGraph/Repository3.pm line 123.
when is experimental at /home/cpansand/.cpan/build/2016072415/RDF-AllegroGraph-Easy-0.08-0/blib/lib/RDF/AllegroGraph/Repository3.pm line 124.
when is experimental at /home/cpansand/.cpan/build/2016072415/RDF-AllegroGraph-Easy-0.08-0/blib/lib/RDF/AllegroGraph/Repository3.pm line 125.
when is experimental at /home/cpansand/.cpan/build/2016072415/RDF-AllegroGraph-Easy-0.08-0/blib/lib/RDF/AllegroGraph/Repository3.pm line 126.
when is experimental at /home/cpansand/.cpan/build/2016072415/RDF-AllegroGraph-Easy-0.08-0/blib/lib/RDF/AllegroGraph/Repository3.pm line 127.
given is experimental at /home/cpansand/.cpan/build/2016072415/RDF-AllegroGraph-Easy-0.08-0/blib/lib/RDF/AllegroGraph/Repository3.pm line 185.
when is experimental at /home/cpansand/.cpan/build/2016072415/RDF-AllegroGraph-Easy-0.08-0/blib/lib/RDF/AllegroGraph/Repository3.pm line 186.
given is experimental at /home/cpansand/.cpan/build/2016072415/RDF-AllegroGraph-Easy-0.08-0/blib/lib/RDF/AllegroGraph/Session4.pm line 123.
when is experimental at /home/cpansand/.cpan/build/2016072415/RDF-AllegroGraph-Easy-0.08-0/blib/lib/RDF/AllegroGraph/Session4.pm line 124.
when is experimental at /home/cpansand/.cpan/build/2016072415/RDF-AllegroGraph-Easy-0.08-0/blib/lib/RDF/AllegroGraph/Session4.pm line 127.
when is experimental at /home/cpansand/.cpan/build/2016072415/RDF-AllegroGraph-Easy-0.08-0/blib/lib/RDF/AllegroGraph/Session4.pm line 130.
given is experimental at /home/cpansand/.cpan/build/2016072415/RDF-AllegroGraph-Easy-0.08-0/blib/lib/RDF/AllegroGraph/Repository4.pm line 257.
when is experimental at /home/cpansand/.cpan/build/2016072415/RDF-AllegroGraph-Easy-0.08-0/blib/lib/RDF/AllegroGraph/Repository4.pm line 258.
when is experimental at /home/cpansand/.cpan/build/2016072415/RDF-AllegroGraph-Easy-0.08-0/blib/lib/RDF/AllegroGraph/Repository4.pm line 263.
when is experimental at /home/cpansand/.cpan/build/2016072415/RDF-AllegroGraph-Easy-0.08-0/blib/lib/RDF/AllegroGraph/Repository4.pm line 269.
given is experimental at /home/cpansand/.cpan/build/2016072415/RDF-AllegroGraph-Easy-0.08-0/blib/lib/RDF/AllegroGraph/Repository4.pm line 297.
when is experimental at /home/cpansand/.cpan/build/2016072415/RDF-AllegroGraph-Easy-0.08-0/blib/lib/RDF/AllegroGraph/Repository4.pm line 298.
when is experimental at /home/cpansand/.cpan/build/2016072415/RDF-AllegroGraph-Easy-0.08-0/blib/lib/RDF/AllegroGraph/Repository4.pm line 299.
when is experimental at /home/cpansand/.cpan/build/2016072415/RDF-AllegroGraph-Easy-0.08-0/blib/lib/RDF/AllegroGraph/Repository4.pm line 300.
when is experimental at /home/cpansand/.cpan/build/2016072415/RDF-AllegroGraph-Easy-0.08-0/blib/lib/RDF/AllegroGraph/Repository4.pm line 301.
given is experimental at /home/cpansand/.cpan/build/2016072415/RDF-AllegroGraph-Easy-0.08-0/blib/lib/RDF/AllegroGraph/Repository4.pm line 436.
when is experimental at /home/cpansand/.cpan/build/2016072415/RDF-AllegroGraph-Easy-0.08-0/blib/lib/RDF/AllegroGraph/Repository4.pm line 437.
t/v4_02_session.t ...... ok
given is experimental at /home/cpansand/.cpan/build/2016072415/RDF-AllegroGraph-Easy-0.08-0/blib/lib/RDF/AllegroGraph/Repository.pm line 167.
when is experimental at /home/cpansand/.cpan/build/2016072415/RDF-AllegroGraph-Easy-0.08-0/blib/lib/RDF/AllegroGraph/Repository.pm line 168.
when is experimental at /home/cpansand/.cpan/build/2016072415/RDF-AllegroGraph-Easy-0.08-0/blib/lib/RDF/AllegroGraph/Repository.pm line 173.
when is experimental at /home/cpansand/.cpan/build/2016072415/RDF-AllegroGraph-Easy-0.08-0/blib/lib/RDF/AllegroGraph/Repository.pm line 179.
given is experimental at /home/cpansand/.cpan/build/2016072415/RDF-AllegroGraph-Easy-0.08-0/blib/lib/RDF/AllegroGraph/Repository.pm line 207.
when is experimental at /home/cpansand/.cpan/build/2016072415/RDF-AllegroGraph-Easy-0.08-0/blib/lib/RDF/AllegroGraph/Repository.pm line 208.
when is experimental at /home/cpansand/.cpan/build/2016072415/RDF-AllegroGraph-Easy-0.08-0/blib/lib/RDF/AllegroGraph/Repository.pm line 209.
when is experimental at /home/cpansand/.cpan/build/2016072415/RDF-AllegroGraph-Easy-0.08-0/blib/lib/RDF/AllegroGraph/Repository.pm line 210.
when is experimental at /home/cpansand/.cpan/build/2016072415/RDF-AllegroGraph-Easy-0.08-0/blib/lib/RDF/AllegroGraph/Repository.pm line 211.
given is experimental at /home/cpansand/.cpan/build/2016072415/RDF-AllegroGraph-Easy-0.08-0/blib/lib/RDF/AllegroGraph/Repository3.pm line 83.
when is experimental at /home/cpansand/.cpan/build/2016072415/RDF-AllegroGraph-Easy-0.08-0/blib/lib/RDF/AllegroGraph/Repository3.pm line 84.
when is experimental at /home/cpansand/.cpan/build/2016072415/RDF-AllegroGraph-Easy-0.08-0/blib/lib/RDF/AllegroGraph/Repository3.pm line 89.
when is experimental at /home/cpansand/.cpan/build/2016072415/RDF-AllegroGraph-Easy-0.08-0/blib/lib/RDF/AllegroGraph/Repository3.pm line 95.
given is experimental at /home/cpansand/.cpan/build/2016072415/RDF-AllegroGraph-Easy-0.08-0/blib/lib/RDF/AllegroGraph/Repository3.pm line 123.
when is experimental at /home/cpansand/.cpan/build/2016072415/RDF-AllegroGraph-Easy-0.08-0/blib/lib/RDF/AllegroGraph/Repository3.pm line 124.
when is experimental at /home/cpansand/.cpan/build/2016072415/RDF-AllegroGraph-Easy-0.08-0/blib/lib/RDF/AllegroGraph/Repository3.pm line 125.
when is experimental at /home/cpansand/.cpan/build/2016072415/RDF-AllegroGraph-Easy-0.08-0/blib/lib/RDF/AllegroGraph/Repository3.pm line 126.
when is experimental at /home/cpansand/.cpan/build/2016072415/RDF-AllegroGraph-Easy-0.08-0/blib/lib/RDF/AllegroGraph/Repository3.pm line 127.
given is experimental at /home/cpansand/.cpan/build/2016072415/RDF-AllegroGraph-Easy-0.08-0/blib/lib/RDF/AllegroGraph/Repository3.pm line 185.
when is experimental at /home/cpansand/.cpan/build/2016072415/RDF-AllegroGraph-Easy-0.08-0/blib/lib/RDF/AllegroGraph/Repository3.pm line 186.
given is experimental at /home/cpansand/.cpan/build/2016072415/RDF-AllegroGraph-Easy-0.08-0/blib/lib/RDF/AllegroGraph/Session4.pm line 123.
when is experimental at /home/cpansand/.cpan/build/2016072415/RDF-AllegroGraph-Easy-0.08-0/blib/lib/RDF/AllegroGraph/Session4.pm line 124.
when is experimental at /home/cpansand/.cpan/build/2016072415/RDF-AllegroGraph-Easy-0.08-0/blib/lib/RDF/AllegroGraph/Session4.pm line 127.
when is experimental at /home/cpansand/.cpan/build/2016072415/RDF-AllegroGraph-Easy-0.08-0/blib/lib/RDF/AllegroGraph/Session4.pm line 130.
given is experimental at /home/cpansand/.cpan/build/2016072415/RDF-AllegroGraph-Easy-0.08-0/blib/lib/RDF/AllegroGraph/Repository4.pm line 257.
when is experimental at /home/cpansand/.cpan/build/2016072415/RDF-AllegroGraph-Easy-0.08-0/blib/lib/RDF/AllegroGraph/Repository4.pm line 258.
when is experimental at /home/cpansand/.cpan/build/2016072415/RDF-AllegroGraph-Easy-0.08-0/blib/lib/RDF/AllegroGraph/Repository4.pm line 263.
when is experimental at /home/cpansand/.cpan/build/2016072415/RDF-AllegroGraph-Easy-0.08-0/blib/lib/RDF/AllegroGraph/Repository4.pm line 269.
given is experimental at /home/cpansand/.cpan/build/2016072415/RDF-AllegroGraph-Easy-0.08-0/blib/lib/RDF/AllegroGraph/Repository4.pm line 297.
when is experimental at /home/cpansand/.cpan/build/2016072415/RDF-AllegroGraph-Easy-0.08-0/blib/lib/RDF/AllegroGraph/Repository4.pm line 298.
when is experimental at /home/cpansand/.cpan/build/2016072415/RDF-AllegroGraph-Easy-0.08-0/blib/lib/RDF/AllegroGraph/Repository4.pm line 299.
when is experimental at /home/cpansand/.cpan/build/2016072415/RDF-AllegroGraph-Easy-0.08-0/blib/lib/RDF/AllegroGraph/Repository4.pm line 300.
when is experimental at /home/cpansand/.cpan/build/2016072415/RDF-AllegroGraph-Easy-0.08-0/blib/lib/RDF/AllegroGraph/Repository4.pm line 301.
given is experimental at /home/cpansand/.cpan/build/2016072415/RDF-AllegroGraph-Easy-0.08-0/blib/lib/RDF/AllegroGraph/Repository4.pm line 436.
when is experimental at /home/cpansand/.cpan/build/2016072415/RDF-AllegroGraph-Easy-0.08-0/blib/lib/RDF/AllegroGraph/Repository4.pm line 437.
t/v4_02_transaction.t .. ok
given is experimental at /home/cpansand/.cpan/build/2016072415/RDF-AllegroGraph-Easy-0.08-0/blib/lib/RDF/AllegroGraph/Repository.pm line 167.
when is experimental at /home/cpansand/.cpan/build/2016072415/RDF-AllegroGraph-Easy-0.08-0/blib/lib/RDF/AllegroGraph/Repository.pm line 168.
when is experimental at /home/cpansand/.cpan/build/2016072415/RDF-AllegroGraph-Easy-0.08-0/blib/lib/RDF/AllegroGraph/Repository.pm line 173.
when is experimental at /home/cpansand/.cpan/build/2016072415/RDF-AllegroGraph-Easy-0.08-0/blib/lib/RDF/AllegroGraph/Repository.pm line 179.
given is experimental at /home/cpansand/.cpan/build/2016072415/RDF-AllegroGraph-Easy-0.08-0/blib/lib/RDF/AllegroGraph/Repository.pm line 207.
when is experimental at /home/cpansand/.cpan/build/2016072415/RDF-AllegroGraph-Easy-0.08-0/blib/lib/RDF/AllegroGraph/Repository.pm line 208.
when is experimental at /home/cpansand/.cpan/build/2016072415/RDF-AllegroGraph-Easy-0.08-0/blib/lib/RDF/AllegroGraph/Repository.pm line 209.
when is experimental at /home/cpansand/.cpan/build/2016072415/RDF-AllegroGraph-Easy-0.08-0/blib/lib/RDF/AllegroGraph/Repository.pm line 210.
when is experimental at /home/cpansand/.cpan/build/2016072415/RDF-AllegroGraph-Easy-0.08-0/blib/lib/RDF/AllegroGraph/Repository.pm line 211.
given is experimental at /home/cpansand/.cpan/build/2016072415/RDF-AllegroGraph-Easy-0.08-0/blib/lib/RDF/AllegroGraph/Repository3.pm line 83.
when is experimental at /home/cpansand/.cpan/build/2016072415/RDF-AllegroGraph-Easy-0.08-0/blib/lib/RDF/AllegroGraph/Repository3.pm line 84.
when is experimental at /home/cpansand/.cpan/build/2016072415/RDF-AllegroGraph-Easy-0.08-0/blib/lib/RDF/AllegroGraph/Repository3.pm line 89.
when is experimental at /home/cpansand/.cpan/build/2016072415/RDF-AllegroGraph-Easy-0.08-0/blib/lib/RDF/AllegroGraph/Repository3.pm line 95.
given is experimental at /home/cpansand/.cpan/build/2016072415/RDF-AllegroGraph-Easy-0.08-0/blib/lib/RDF/AllegroGraph/Repository3.pm line 123.
when is experimental at /home/cpansand/.cpan/build/2016072415/RDF-AllegroGraph-Easy-0.08-0/blib/lib/RDF/AllegroGraph/Repository3.pm line 124.
when is experimental at /home/cpansand/.cpan/build/2016072415/RDF-AllegroGraph-Easy-0.08-0/blib/lib/RDF/AllegroGraph/Repository3.pm line 125.
when is experimental at /home/cpansand/.cpan/build/2016072415/RDF-AllegroGraph-Easy-0.08-0/blib/lib/RDF/AllegroGraph/Repository3.pm line 126.
when is experimental at /home/cpansand/.cpan/build/2016072415/RDF-AllegroGraph-Easy-0.08-0/blib/lib/RDF/AllegroGraph/Repository3.pm line 127.
given is experimental at /home/cpansand/.cpan/build/2016072415/RDF-AllegroGraph-Easy-0.08-0/blib/lib/RDF/AllegroGraph/Repository3.pm line 185.
when is experimental at /home/cpansand/.cpan/build/2016072415/RDF-AllegroGraph-Easy-0.08-0/blib/lib/RDF/AllegroGraph/Repository3.pm line 186.
given is experimental at /home/cpansand/.cpan/build/2016072415/RDF-AllegroGraph-Easy-0.08-0/blib/lib/RDF/AllegroGraph/Session4.pm line 123.
when is experimental at /home/cpansand/.cpan/build/2016072415/RDF-AllegroGraph-Easy-0.08-0/blib/lib/RDF/AllegroGraph/Session4.pm line 124.
when is experimental at /home/cpansand/.cpan/build/2016072415/RDF-AllegroGraph-Easy-0.08-0/blib/lib/RDF/AllegroGraph/Session4.pm line 127.
when is experimental at /home/cpansand/.cpan/build/2016072415/RDF-AllegroGraph-Easy-0.08-0/blib/lib/RDF/AllegroGraph/Session4.pm line 130.
given is experimental at /home/cpansand/.cpan/build/2016072415/RDF-AllegroGraph-Easy-0.08-0/blib/lib/RDF/AllegroGraph/Repository4.pm line 257.
when is experimental at /home/cpansand/.cpan/build/2016072415/RDF-AllegroGraph-Easy-0.08-0/blib/lib/RDF/AllegroGraph/Repository4.pm line 258.
when is experimental at /home/cpansand/.cpan/build/2016072415/RDF-AllegroGraph-Easy-0.08-0/blib/lib/RDF/AllegroGraph/Repository4.pm line 263.
when is experimental at /home/cpansand/.cpan/build/2016072415/RDF-AllegroGraph-Easy-0.08-0/blib/lib/RDF/AllegroGraph/Repository4.pm line 269.
given is experimental at /home/cpansand/.cpan/build/2016072415/RDF-AllegroGraph-Easy-0.08-0/blib/lib/RDF/AllegroGraph/Repository4.pm line 297.
when is experimental at /home/cpansand/.cpan/build/2016072415/RDF-AllegroGraph-Easy-0.08-0/blib/lib/RDF/AllegroGraph/Repository4.pm line 298.
when is experimental at /home/cpansand/.cpan/build/2016072415/RDF-AllegroGraph-Easy-0.08-0/blib/lib/RDF/AllegroGraph/Repository4.pm line 299.
when is experimental at /home/cpansand/.cpan/build/2016072415/RDF-AllegroGraph-Easy-0.08-0/blib/lib/RDF/AllegroGraph/Repository4.pm line 300.
when is experimental at /home/cpansand/.cpan/build/2016072415/RDF-AllegroGraph-Easy-0.08-0/blib/lib/RDF/AllegroGraph/Repository4.pm line 301.
given is experimental at /home/cpansand/.cpan/build/2016072415/RDF-AllegroGraph-Easy-0.08-0/blib/lib/RDF/AllegroGraph/Repository4.pm line 436.
when is experimental at /home/cpansand/.cpan/build/2016072415/RDF-AllegroGraph-Easy-0.08-0/blib/lib/RDF/AllegroGraph/Repository4.pm line 437.
t/v4_03_geo.t .......... ok
given is experimental at /home/cpansand/.cpan/build/2016072415/RDF-AllegroGraph-Easy-0.08-0/blib/lib/RDF/AllegroGraph/Repository.pm line 167.
when is experimental at /home/cpansand/.cpan/build/2016072415/RDF-AllegroGraph-Easy-0.08-0/blib/lib/RDF/AllegroGraph/Repository.pm line 168.
when is experimental at /home/cpansand/.cpan/build/2016072415/RDF-AllegroGraph-Easy-0.08-0/blib/lib/RDF/AllegroGraph/Repository.pm line 173.
when is experimental at /home/cpansand/.cpan/build/2016072415/RDF-AllegroGraph-Easy-0.08-0/blib/lib/RDF/AllegroGraph/Repository.pm line 179.
given is experimental at /home/cpansand/.cpan/build/2016072415/RDF-AllegroGraph-Easy-0.08-0/blib/lib/RDF/AllegroGraph/Repository.pm line 207.
when is experimental at /home/cpansand/.cpan/build/2016072415/RDF-AllegroGraph-Easy-0.08-0/blib/lib/RDF/AllegroGraph/Repository.pm line 208.
when is experimental at /home/cpansand/.cpan/build/2016072415/RDF-AllegroGraph-Easy-0.08-0/blib/lib/RDF/AllegroGraph/Repository.pm line 209.
when is experimental at /home/cpansand/.cpan/build/2016072415/RDF-AllegroGraph-Easy-0.08-0/blib/lib/RDF/AllegroGraph/Repository.pm line 210.
when is experimental at /home/cpansand/.cpan/build/2016072415/RDF-AllegroGraph-Easy-0.08-0/blib/lib/RDF/AllegroGraph/Repository.pm line 211.
given is experimental at /home/cpansand/.cpan/build/2016072415/RDF-AllegroGraph-Easy-0.08-0/blib/lib/RDF/AllegroGraph/Repository3.pm line 83.
when is experimental at /home/cpansand/.cpan/build/2016072415/RDF-AllegroGraph-Easy-0.08-0/blib/lib/RDF/AllegroGraph/Repository3.pm line 84.
when is experimental at /home/cpansand/.cpan/build/2016072415/RDF-AllegroGraph-Easy-0.08-0/blib/lib/RDF/AllegroGraph/Repository3.pm line 89.
when is experimental at /home/cpansand/.cpan/build/2016072415/RDF-AllegroGraph-Easy-0.08-0/blib/lib/RDF/AllegroGraph/Repository3.pm line 95.
given is experimental at /home/cpansand/.cpan/build/2016072415/RDF-AllegroGraph-Easy-0.08-0/blib/lib/RDF/AllegroGraph/Repository3.pm line 123.
when is experimental at /home/cpansand/.cpan/build/2016072415/RDF-AllegroGraph-Easy-0.08-0/blib/lib/RDF/AllegroGraph/Repository3.pm line 124.
when is experimental at /home/cpansand/.cpan/build/2016072415/RDF-AllegroGraph-Easy-0.08-0/blib/lib/RDF/AllegroGraph/Repository3.pm line 125.
when is experimental at /home/cpansand/.cpan/build/2016072415/RDF-AllegroGraph-Easy-0.08-0/blib/lib/RDF/AllegroGraph/Repository3.pm line 126.
when is experimental at /home/cpansand/.cpan/build/2016072415/RDF-AllegroGraph-Easy-0.08-0/blib/lib/RDF/AllegroGraph/Repository3.pm line 127.
given is experimental at /home/cpansand/.cpan/build/2016072415/RDF-AllegroGraph-Easy-0.08-0/blib/lib/RDF/AllegroGraph/Repository3.pm line 185.
when is experimental at /home/cpansand/.cpan/build/2016072415/RDF-AllegroGraph-Easy-0.08-0/blib/lib/RDF/AllegroGraph/Repository3.pm line 186.
given is experimental at /home/cpansand/.cpan/build/2016072415/RDF-AllegroGraph-Easy-0.08-0/blib/lib/RDF/AllegroGraph/Session4.pm line 123.
when is experimental at /home/cpansand/.cpan/build/2016072415/RDF-AllegroGraph-Easy-0.08-0/blib/lib/RDF/AllegroGraph/Session4.pm line 124.
when is experimental at /home/cpansand/.cpan/build/2016072415/RDF-AllegroGraph-Easy-0.08-0/blib/lib/RDF/AllegroGraph/Session4.pm line 127.
when is experimental at /home/cpansand/.cpan/build/2016072415/RDF-AllegroGraph-Easy-0.08-0/blib/lib/RDF/AllegroGraph/Session4.pm line 130.
given is experimental at /home/cpansand/.cpan/build/2016072415/RDF-AllegroGraph-Easy-0.08-0/blib/lib/RDF/AllegroGraph/Repository4.pm line 257.
when is experimental at /home/cpansand/.cpan/build/2016072415/RDF-AllegroGraph-Easy-0.08-0/blib/lib/RDF/AllegroGraph/Repository4.pm line 258.
when is experimental at /home/cpansand/.cpan/build/2016072415/RDF-AllegroGraph-Easy-0.08-0/blib/lib/RDF/AllegroGraph/Repository4.pm line 263.
when is experimental at /home/cpansand/.cpan/build/2016072415/RDF-AllegroGraph-Easy-0.08-0/blib/lib/RDF/AllegroGraph/Repository4.pm line 269.
given is experimental at /home/cpansand/.cpan/build/2016072415/RDF-AllegroGraph-Easy-0.08-0/blib/lib/RDF/AllegroGraph/Repository4.pm line 297.
when is experimental at /home/cpansand/.cpan/build/2016072415/RDF-AllegroGraph-Easy-0.08-0/blib/lib/RDF/AllegroGraph/Repository4.pm line 298.
when is experimental at /home/cpansand/.cpan/build/2016072415/RDF-AllegroGraph-Easy-0.08-0/blib/lib/RDF/AllegroGraph/Repository4.pm line 299.
when is experimental at /home/cpansand/.cpan/build/2016072415/RDF-AllegroGraph-Easy-0.08-0/blib/lib/RDF/AllegroGraph/Repository4.pm line 300.
when is experimental at /home/cpansand/.cpan/build/2016072415/RDF-AllegroGraph-Easy-0.08-0/blib/lib/RDF/AllegroGraph/Repository4.pm line 301.
given is experimental at /home/cpansand/.cpan/build/2016072415/RDF-AllegroGraph-Easy-0.08-0/blib/lib/RDF/AllegroGraph/Repository4.pm line 436.
when is experimental at /home/cpansand/.cpan/build/2016072415/RDF-AllegroGraph-Easy-0.08-0/blib/lib/RDF/AllegroGraph/Repository4.pm line 437.
t/v4_03_namespaces.t ... ok
given is experimental at /home/cpansand/.cpan/build/2016072415/RDF-AllegroGraph-Easy-0.08-0/blib/lib/RDF/AllegroGraph/Repository.pm line 167.
when is experimental at /home/cpansand/.cpan/build/2016072415/RDF-AllegroGraph-Easy-0.08-0/blib/lib/RDF/AllegroGraph/Repository.pm line 168.
when is experimental at /home/cpansand/.cpan/build/2016072415/RDF-AllegroGraph-Easy-0.08-0/blib/lib/RDF/AllegroGraph/Repository.pm line 173.
when is experimental at /home/cpansand/.cpan/build/2016072415/RDF-AllegroGraph-Easy-0.08-0/blib/lib/RDF/AllegroGraph/Repository.pm line 179.
given is experimental at /home/cpansand/.cpan/build/2016072415/RDF-AllegroGraph-Easy-0.08-0/blib/lib/RDF/AllegroGraph/Repository.pm line 207.
when is experimental at /home/cpansand/.cpan/build/2016072415/RDF-AllegroGraph-Easy-0.08-0/blib/lib/RDF/AllegroGraph/Repository.pm line 208.
when is experimental at /home/cpansand/.cpan/build/2016072415/RDF-AllegroGraph-Easy-0.08-0/blib/lib/RDF/AllegroGraph/Repository.pm line 209.
when is experimental at /home/cpansand/.cpan/build/2016072415/RDF-AllegroGraph-Easy-0.08-0/blib/lib/RDF/AllegroGraph/Repository.pm line 210.
when is experimental at /home/cpansand/.cpan/build/2016072415/RDF-AllegroGraph-Easy-0.08-0/blib/lib/RDF/AllegroGraph/Repository.pm line 211.
given is experimental at /home/cpansand/.cpan/build/2016072415/RDF-AllegroGraph-Easy-0.08-0/blib/lib/RDF/AllegroGraph/Repository3.pm line 83.
when is experimental at /home/cpansand/.cpan/build/2016072415/RDF-AllegroGraph-Easy-0.08-0/blib/lib/RDF/AllegroGraph/Repository3.pm line 84.
when is experimental at /home/cpansand/.cpan/build/2016072415/RDF-AllegroGraph-Easy-0.08-0/blib/lib/RDF/AllegroGraph/Repository3.pm line 89.
when is experimental at /home/cpansand/.cpan/build/2016072415/RDF-AllegroGraph-Easy-0.08-0/blib/lib/RDF/AllegroGraph/Repository3.pm line 95.
given is experimental at /home/cpansand/.cpan/build/2016072415/RDF-AllegroGraph-Easy-0.08-0/blib/lib/RDF/AllegroGraph/Repository3.pm line 123.
when is experimental at /home/cpansand/.cpan/build/2016072415/RDF-AllegroGraph-Easy-0.08-0/blib/lib/RDF/AllegroGraph/Repository3.pm line 124.
when is experimental at /home/cpansand/.cpan/build/2016072415/RDF-AllegroGraph-Easy-0.08-0/blib/lib/RDF/AllegroGraph/Repository3.pm line 125.
when is experimental at /home/cpansand/.cpan/build/2016072415/RDF-AllegroGraph-Easy-0.08-0/blib/lib/RDF/AllegroGraph/Repository3.pm line 126.
when is experimental at /home/cpansand/.cpan/build/2016072415/RDF-AllegroGraph-Easy-0.08-0/blib/lib/RDF/AllegroGraph/Repository3.pm line 127.
given is experimental at /home/cpansand/.cpan/build/2016072415/RDF-AllegroGraph-Easy-0.08-0/blib/lib/RDF/AllegroGraph/Repository3.pm line 185.
when is experimental at /home/cpansand/.cpan/build/2016072415/RDF-AllegroGraph-Easy-0.08-0/blib/lib/RDF/AllegroGraph/Repository3.pm line 186.
given is experimental at /home/cpansand/.cpan/build/2016072415/RDF-AllegroGraph-Easy-0.08-0/blib/lib/RDF/AllegroGraph/Session4.pm line 123.
when is experimental at /home/cpansand/.cpan/build/2016072415/RDF-AllegroGraph-Easy-0.08-0/blib/lib/RDF/AllegroGraph/Session4.pm line 124.
when is experimental at /home/cpansand/.cpan/build/2016072415/RDF-AllegroGraph-Easy-0.08-0/blib/lib/RDF/AllegroGraph/Session4.pm line 127.
when is experimental at /home/cpansand/.cpan/build/2016072415/RDF-AllegroGraph-Easy-0.08-0/blib/lib/RDF/AllegroGraph/Session4.pm line 130.
given is experimental at /home/cpansand/.cpan/build/2016072415/RDF-AllegroGraph-Easy-0.08-0/blib/lib/RDF/AllegroGraph/Repository4.pm line 257.
when is experimental at /home/cpansand/.cpan/build/2016072415/RDF-AllegroGraph-Easy-0.08-0/blib/lib/RDF/AllegroGraph/Repository4.pm line 258.
when is experimental at /home/cpansand/.cpan/build/2016072415/RDF-AllegroGraph-Easy-0.08-0/blib/lib/RDF/AllegroGraph/Repository4.pm line 263.
when is experimental at /home/cpansand/.cpan/build/2016072415/RDF-AllegroGraph-Easy-0.08-0/blib/lib/RDF/AllegroGraph/Repository4.pm line 269.
given is experimental at /home/cpansand/.cpan/build/2016072415/RDF-AllegroGraph-Easy-0.08-0/blib/lib/RDF/AllegroGraph/Repository4.pm line 297.
when is experimental at /home/cpansand/.cpan/build/2016072415/RDF-AllegroGraph-Easy-0.08-0/blib/lib/RDF/AllegroGraph/Repository4.pm line 298.
when is experimental at /home/cpansand/.cpan/build/2016072415/RDF-AllegroGraph-Easy-0.08-0/blib/lib/RDF/AllegroGraph/Repository4.pm line 299.
when is experimental at /home/cpansand/.cpan/build/2016072415/RDF-AllegroGraph-Easy-0.08-0/blib/lib/RDF/AllegroGraph/Repository4.pm line 300.
when is experimental at /home/cpansand/.cpan/build/2016072415/RDF-AllegroGraph-Easy-0.08-0/blib/lib/RDF/AllegroGraph/Repository4.pm line 301.
given is experimental at /home/cpansand/.cpan/build/2016072415/RDF-AllegroGraph-Easy-0.08-0/blib/lib/RDF/AllegroGraph/Repository4.pm line 436.
when is experimental at /home/cpansand/.cpan/build/2016072415/RDF-AllegroGraph-Easy-0.08-0/blib/lib/RDF/AllegroGraph/Repository4.pm line 437.
t/v4_03_sna.t .......... ok
given is experimental at /home/cpansand/.cpan/build/2016072415/RDF-AllegroGraph-Easy-0.08-0/blib/lib/RDF/AllegroGraph/Repository.pm line 167.
when is experimental at /home/cpansand/.cpan/build/2016072415/RDF-AllegroGraph-Easy-0.08-0/blib/lib/RDF/AllegroGraph/Repository.pm line 168.
when is experimental at /home/cpansand/.cpan/build/2016072415/RDF-AllegroGraph-Easy-0.08-0/blib/lib/RDF/AllegroGraph/Repository.pm line 173.
when is experimental at /home/cpansand/.cpan/build/2016072415/RDF-AllegroGraph-Easy-0.08-0/blib/lib/RDF/AllegroGraph/Repository.pm line 179.
given is experimental at /home/cpansand/.cpan/build/2016072415/RDF-AllegroGraph-Easy-0.08-0/blib/lib/RDF/AllegroGraph/Repository.pm line 207.
when is experimental at /home/cpansand/.cpan/build/2016072415/RDF-AllegroGraph-Easy-0.08-0/blib/lib/RDF/AllegroGraph/Repository.pm line 208.
when is experimental at /home/cpansand/.cpan/build/2016072415/RDF-AllegroGraph-Easy-0.08-0/blib/lib/RDF/AllegroGraph/Repository.pm line 209.
when is experimental at /home/cpansand/.cpan/build/2016072415/RDF-AllegroGraph-Easy-0.08-0/blib/lib/RDF/AllegroGraph/Repository.pm line 210.
when is experimental at /home/cpansand/.cpan/build/2016072415/RDF-AllegroGraph-Easy-0.08-0/blib/lib/RDF/AllegroGraph/Repository.pm line 211.
given is experimental at /home/cpansand/.cpan/build/2016072415/RDF-AllegroGraph-Easy-0.08-0/blib/lib/RDF/AllegroGraph/Repository3.pm line 83.
when is experimental at /home/cpansand/.cpan/build/2016072415/RDF-AllegroGraph-Easy-0.08-0/blib/lib/RDF/AllegroGraph/Repository3.pm line 84.
when is experimental at /home/cpansand/.cpan/build/2016072415/RDF-AllegroGraph-Easy-0.08-0/blib/lib/RDF/AllegroGraph/Repository3.pm line 89.
when is experimental at /home/cpansand/.cpan/build/2016072415/RDF-AllegroGraph-Easy-0.08-0/blib/lib/RDF/AllegroGraph/Repository3.pm line 95.
given is experimental at /home/cpansand/.cpan/build/2016072415/RDF-AllegroGraph-Easy-0.08-0/blib/lib/RDF/AllegroGraph/Repository3.pm line 123.
when is experimental at /home/cpansand/.cpan/build/2016072415/RDF-AllegroGraph-Easy-0.08-0/blib/lib/RDF/AllegroGraph/Repository3.pm line 124.
when is experimental at /home/cpansand/.cpan/build/2016072415/RDF-AllegroGraph-Easy-0.08-0/blib/lib/RDF/AllegroGraph/Repository3.pm line 125.
when is experimental at /home/cpansand/.cpan/build/2016072415/RDF-AllegroGraph-Easy-0.08-0/blib/lib/RDF/AllegroGraph/Repository3.pm line 126.
when is experimental at /home/cpansand/.cpan/build/2016072415/RDF-AllegroGraph-Easy-0.08-0/blib/lib/RDF/AllegroGraph/Repository3.pm line 127.
given is experimental at /home/cpansand/.cpan/build/2016072415/RDF-AllegroGraph-Easy-0.08-0/blib/lib/RDF/AllegroGraph/Repository3.pm line 185.
when is experimental at /home/cpansand/.cpan/build/2016072415/RDF-AllegroGraph-Easy-0.08-0/blib/lib/RDF/AllegroGraph/Repository3.pm line 186.
given is experimental at /home/cpansand/.cpan/build/2016072415/RDF-AllegroGraph-Easy-0.08-0/blib/lib/RDF/AllegroGraph/Session4.pm line 123.
when is experimental at /home/cpansand/.cpan/build/2016072415/RDF-AllegroGraph-Easy-0.08-0/blib/lib/RDF/AllegroGraph/Session4.pm line 124.
when is experimental at /home/cpansand/.cpan/build/2016072415/RDF-AllegroGraph-Easy-0.08-0/blib/lib/RDF/AllegroGraph/Session4.pm line 127.
when is experimental at /home/cpansand/.cpan/build/2016072415/RDF-AllegroGraph-Easy-0.08-0/blib/lib/RDF/AllegroGraph/Session4.pm line 130.
given is experimental at /home/cpansand/.cpan/build/2016072415/RDF-AllegroGraph-Easy-0.08-0/blib/lib/RDF/AllegroGraph/Repository4.pm line 257.
when is experimental at /home/cpansand/.cpan/build/2016072415/RDF-AllegroGraph-Easy-0.08-0/blib/lib/RDF/AllegroGraph/Repository4.pm line 258.
when is experimental at /home/cpansand/.cpan/build/2016072415/RDF-AllegroGraph-Easy-0.08-0/blib/lib/RDF/AllegroGraph/Repository4.pm line 263.
when is experimental at /home/cpansand/.cpan/build/2016072415/RDF-AllegroGraph-Easy-0.08-0/blib/lib/RDF/AllegroGraph/Repository4.pm line 269.
given is experimental at /home/cpansand/.cpan/build/2016072415/RDF-AllegroGraph-Easy-0.08-0/blib/lib/RDF/AllegroGraph/Repository4.pm line 297.
when is experimental at /home/cpansand/.cpan/build/2016072415/RDF-AllegroGraph-Easy-0.08-0/blib/lib/RDF/AllegroGraph/Repository4.pm line 298.
when is experimental at /home/cpansand/.cpan/build/2016072415/RDF-AllegroGraph-Easy-0.08-0/blib/lib/RDF/AllegroGraph/Repository4.pm line 299.
when is experimental at /home/cpansand/.cpan/build/2016072415/RDF-AllegroGraph-Easy-0.08-0/blib/lib/RDF/AllegroGraph/Repository4.pm line 300.
when is experimental at /home/cpansand/.cpan/build/2016072415/RDF-AllegroGraph-Easy-0.08-0/blib/lib/RDF/AllegroGraph/Repository4.pm line 301.
given is experimental at /home/cpansand/.cpan/build/2016072415/RDF-AllegroGraph-Easy-0.08-0/blib/lib/RDF/AllegroGraph/Repository4.pm line 436.
when is experimental at /home/cpansand/.cpan/build/2016072415/RDF-AllegroGraph-Easy-0.08-0/blib/lib/RDF/AllegroGraph/Repository4.pm line 437.
t/v4_04_easy.t ......... ok
All tests successful.
Files=16, Tests=43,  4 wallclock secs ( 0.02 usr  0.10 sys +  2.23 cusr  1.31 csys =  3.66 CPU)
Result: PASS

------------------------------
PREREQUISITES
------------------------------

Prerequisite modules loaded:

build_requires:

    Module              Need     Have      
    ------------------- -------- ----------
    DateTime            0        1.34      
    JSON                0        2.90      
    LWP                 0        6.15      
    Regexp::Common      0        2016060801
    Test::Exception     0        0.43      
    Test::More          0        1.302047  
    Test::Pod::Coverage 0        1.10      
    Time::HiRes         0        1.9739    
    URI::Escape         0        3.31      

configure_requires:

    Module              Need     Have      
    ------------------- -------- ----------
    Module::Build       0.340201 0.4218    


------------------------------
ENVIRONMENT AND OTHER CONTEXT
------------------------------

Environment variables:

    LC_ALL = de_DE.ISO8859-1
    PATH = /usr/local/bin:/usr/bin:/bin:/usr/local/sbin:/usr/sbin:/sbin:/home/cpansand/bin/freebsd10.1:/home/cpansand/bin/sh:/home/cpansand/bin:/usr/games:/home/cpansand/devel:/home/eserte/src/srezic-misc/scripts
    PERL5LIB = /home/cpansand/.cpan/build/2016072415/RDF-Generator-HTTP-0.003-0/blib/arch:/home/cpansand/.cpan/build/2016072415/RDF-Generator-HTTP-0.003-0/blib/lib:/home/cpansand/.cpan/build/2016072415/RDF-ACL-0.104-0/blib/arch:/home/cpansand/.cpan/build/2016072415/RDF-ACL-0.104-0/blib/lib:/home/cpansand/.cpan/build/2016072415/RDF-Helper-2.01-0/blib/arch:/home/cpansand/.cpan/build/2016072415/RDF-Helper-2.01-0/blib/lib:/home/cpansand/.cpan/build/2016072415/RDF-Query-Functions-Buzzword-DateTime-0.002-0/blib/arch:/home/cpansand/.cpan/build/2016072415/RDF-Query-Functions-Buzzword-DateTime-0.002-0/blib/lib:/home/cpansand/.cpan/build/2016072415/RDF-Query-Functions-Buzzword-GB-0.002-0/blib/arch:/home/cpansand/.cpan/build/2016072415/RDF-Query-Functions-Buzzword-GB-0.002-0/blib/lib:/home/cpansand/.cpan/build/2016072415/RDF-Query-Functions-Buzzword-Util-0.003-0/blib/arch:/home/cpansand/.cpan/build/2016072415/RDF-Query-Functions-Buzzword-Util-0.003-0/blib/lib:/home/cpansand/.cpan/build/2016072415/XML-Atom-FromOWL-0.102-1/blib/arch:/home/cpansand/.cpan/build/2016072415/XML-Atom-FromOWL-0.102-1/blib/lib:/home/cpansand/.cpan/build/2016072415/UNIVERSAL-AUTHORITY-0.006-0/blib/arch:/home/cpansand/.cpan/build/2016072415/UNIVERSAL-AUTHORITY-0.006-0/blib/lib:/home/cpansand/.cpan/build/2016072415/RDF-QueryX-Lazy-0.003-0/blib/arch:/home/cpansand/.cpan/build/2016072415/RDF-QueryX-Lazy-0.003-0/blib/lib:/home/cpansand/.cpan/build/2016072415/HTML-HTML5-Builder-0.004-0/blib/arch:/home/cpansand/.cpan/build/2016072415/HTML-HTML5-Builder-0.004-0/blib/lib:/home/cpansand/.cpan/build/2016072415/CatalystX-TraitFor-Dispatcher-ExactMatch-0.003-0/blib/arch:/home/cpansand/.cpan/build/2016072415/CatalystX-TraitFor-Dispatcher-ExactMatch-0.003-0/blib/lib:/home/cpansand/.cpan/build/2016072415/CatalystX-Syntax-Action-0.01-0/blib/arch:/home/cpansand/.cpan/build/2016072415/CatalystX-Syntax-Action-0.01-0/blib/lib:/home/cpansand/.cpan/build/2016072415/CatalystX-RoleApplicator-0.005-0/blib/arch:/home/cpansand/.cpan/build/2016072415/CatalystX-RoleApplicator-0.005-0/blib/lib:/home/cpansand/.cpan/build/2016072415/Catalyst-Plugin-ErrorCatcher-0.0.8.18-0/blib/arch:/home/cpansand/.cpan/build/2016072415/Catalyst-Plugin-ErrorCatcher-0.0.8.18-0/blib/lib:/home/cpansand/.cpan/build/2016072415/Catalyst-Plugin-Cache-HTTP-0.001000-0/blib/arch:/home/cpansand/.cpan/build/2016072415/Catalyst-Plugin-Cache-HTTP-0.001000-0/blib/lib:/home/cpansand/.cpan/build/2016072415/RDF-RDFa-Linter-0.053-0/blib/arch:/home/cpansand/.cpan/build/2016072415/RDF-RDFa-Linter-0.053-0/blib/lib:/home/cpansand/.cpan/build/2016072415/RDF-TrineX-Functions-0.005-1/blib/arch:/home/cpansand/.cpan/build/2016072415/RDF-TrineX-Functions-0.005-1/blib/lib:/home/cpansand/.cpan/build/2016072415/Crypt-X509-0.51-0/blib/arch:/home/cpansand/.cpan/build/2016072415/Crypt-X509-0.51-0/blib/lib:/home/cpansand/.cpan/build/2016072415/XML-GRDDL-0.004-0/blib/arch:/home/cpansand/.cpan/build/2016072415/XML-GRDDL-0.004-0/blib/lib:/home/cpansand/.cpan/build/2016072415/CSS-1.09-0/blib/arch:/home/cpansand/.cpan/build/2016072415/CSS-1.09-0/blib/lib:/home/cpansand/.cpan/build/2016072415/RDF-SIO-Utils-0.003-0/blib/arch:/home/cpansand/.cpan/build/2016072415/RDF-SIO-Utils-0.003-0/blib/lib:/home/cpansand/.cpan/build/2016072415/Test-RDF-DOAP-Version-0.010-0/blib/arch:/home/cpansand/.cpan/build/2016072415/Test-RDF-DOAP-Version-0.010-0/blib/lib:/home/cpansand/.cpan/build/2016072415/RDF-TriN3-0.206-0/blib/arch:/home/cpansand/.cpan/build/2016072415/RDF-TriN3-0.206-0/blib/lib:/home/cpansand/.cpan/build/2016072415/RDF-Trine-Node-Literal-XML-0.16-0/blib/arch:/home/cpansand/.cpan/build/2016072415/RDF-Trine-Node-Literal-XML-0.16-0/blib/lib
    PERL5OPT = 
    PERL5_CPANPLUS_IS_RUNNING = 91676
    PERL5_CPAN_IS_RUNNING = 91676
    PERL5_CPAN_IS_RUNNING_IN_RECURSION = 98843,91676
    PERLDOC = -MPod::Perldoc::ToTextOverstrike
    PERL_BATCH = yes
    PERL_CANARY_STABILITY_NOPROMPT = 1
    PERL_CPAN_REPORTER_CONFIG = /var/tmp/cpansmoker-1023/2016072412/cpanreporter_003_config.ini
    PERL_EXTUTILS_AUTOINSTALL = --defaultdeps
    SHELL = /usr/local/bin/zsh
    TERM = screen
    TMPDIR = /var/tmp/cpansmoker-1023/2016072412

Perl special variables (and OS-specific diagnostics, for MSWin32):

    $^X = /usr/perl5.22.3-RC1p/bin/perl
    $UID/$EUID = 1023 / 1023
    $GID = 1023 1023
    $EGID = 1023 1023

Perl module toolchain versions installed:

    Module              Have    
    ------------------- --------
    CPAN                2.14    
    CPAN::Meta          2.150005
    Cwd                 3.62    
    ExtUtils::CBuilder  0.280221
    ExtUtils::Command   7.18    
    ExtUtils::Install   2.04    
    ExtUtils::MakeMaker 7.18    
    ExtUtils::Manifest  1.70    
    ExtUtils::ParseXS   3.30    
    File::Spec          3.62    
    JSON                2.90    
    JSON::PP            2.27400 
    Module::Build       0.4218  
    Module::Signature   0.80    
    Parse::CPAN::Meta   1.4422  
    Test::Harness       3.35    
    Test::More          1.302047
    YAML                1.18    
    YAML::Syck          1.29    
    version             0.9917  


--

Summary of my perl5 (revision 5 version 22 subversion 3) configuration:
   
  Platform:
    osname=freebsd, osvers=10.1-release, archname=amd64-freebsd
    uname='freebsd cvrsnica-freebsd-101.herceg.de 10.1-release freebsd 10.1-release #0 r274401: tue nov 11 21:02:49 utc 2014 root@releng1.nyi.freebsd.org:usrobjusrsrcsysgeneric amd64 '
    config_args='-ds -e -Dprefix=/usr/perl5.22.3-RC1p -Dcf_email=srezic@cpan.org -Doptimize=-O2 -pipe'
    hint=recommended, useposix=true, d_sigaction=define
    useithreads=undef, usemultiplicity=undef
    use64bitint=define, use64bitall=define, uselongdouble=undef
    usemymalloc=n, bincompat5005=undef
  Compiler:
    cc='cc', ccflags ='-DHAS_FPSETMASK -DHAS_FLOATINGPOINT_H -fno-strict-aliasing -pipe -fstack-protector -I/usr/local/include -D_FORTIFY_SOURCE=2',
    optimize='-O2 -pipe',
    cppflags='-DHAS_FPSETMASK -DHAS_FLOATINGPOINT_H -fno-strict-aliasing -pipe -fstack-protector -I/usr/local/include'
    ccversion='', gccversion='4.2.1 Compatible FreeBSD Clang 3.4.1 (tags/RELEASE_34/dot1-final 208032)', gccosandvers=''
    intsize=4, longsize=8, ptrsize=8, doublesize=8, byteorder=12345678, doublekind=3
    d_longlong=define, longlongsize=8, d_longdbl=define, longdblsize=16, longdblkind=3
    ivtype='long', ivsize=8, nvtype='double', nvsize=8, Off_t='off_t', lseeksize=8
    alignbytes=8, prototype=define
  Linker and Libraries:
    ld='cc', ldflags ='-pthread -Wl,-E  -fstack-protector -L/usr/local/lib'
    libpth=/usr/lib /usr/local/lib /usr/include/clang/3.4.1 /usr/lib
    libs=-lpthread -lgdbm -lm -lcrypt -lutil -lc
    perllibs=-lpthread -lm -lcrypt -lutil -lc
    libc=, so=so, useshrplib=false, libperl=libperl.a
    gnulibc_version=''
  Dynamic Linking:
    dlsrc=dl_dlopen.xs, dlext=so, d_dlsymun=undef, ccdlflags=' '
    cccdlflags='-DPIC -fPIC', lddlflags='-shared  -L/usr/local/lib -fstack-protector'


Characteristics of this binary (from libperl): 
  Compile-time options: HAS_TIMES PERLIO_LAYERS PERL_DONT_CREATE_GVSV
                        PERL_HASH_FUNC_ONE_AT_A_TIME_HARD PERL_MALLOC_WRAP
                        PERL_NEW_COPY_ON_WRITE PERL_PRESERVE_IVUV
                        USE_64_BIT_ALL USE_64_BIT_INT USE_LARGE_FILES
                        USE_LOCALE USE_LOCALE_COLLATE USE_LOCALE_CTYPE
                        USE_LOCALE_NUMERIC USE_LOCALE_TIME USE_PERLIO
                        USE_PERL_ATOF
  Locally applied patches:
	RC1
  Built under freebsd
  Compiled at Jul 18 2016 00:51:15
  %ENV:
    PERL5LIB="/home/cpansand/.cpan/build/2016072415/RDF-Generator-HTTP-0.003-0/blib/arch:/home/cpansand/.cpan/build/2016072415/RDF-Generator-HTTP-0.003-0/blib/lib:/home/cpansand/.cpan/build/2016072415/RDF-ACL-0.104-0/blib/arch:/home/cpansand/.cpan/build/2016072415/RDF-ACL-0.104-0/blib/lib:/home/cpansand/.cpan/build/2016072415/RDF-Helper-2.01-0/blib/arch:/home/cpansand/.cpan/build/2016072415/RDF-Helper-2.01-0/blib/lib:/home/cpansand/.cpan/build/2016072415/RDF-Query-Functions-Buzzword-DateTime-0.002-0/blib/arch:/home/cpansand/.cpan/build/2016072415/RDF-Query-Functions-Buzzword-DateTime-0.002-0/blib/lib:/home/cpansand/.cpan/build/2016072415/RDF-Query-Functions-Buzzword-GB-0.002-0/blib/arch:/home/cpansand/.cpan/build/2016072415/RDF-Query-Functions-Buzzword-GB-0.002-0/blib/lib:/home/cpansand/.cpan/build/2016072415/RDF-Query-Functions-Buzzword-Util-0.003-0/blib/arch:/home/cpansand/.cpan/build/2016072415/RDF-Query-Functions-Buzzword-Util-0.003-0/blib/lib:/home/cpansand/.cpan/build/2016072415/XML-Atom-FromOWL-0.102-1/blib/arch:/home/cpansand/.cpan/build/2016072415/XML-Atom-FromOWL-0.102-1/blib/lib:/home/cpansand/.cpan/build/2016072415/UNIVERSAL-AUTHORITY-0.006-0/blib/arch:/home/cpansand/.cpan/build/2016072415/UNIVERSAL-AUTHORITY-0.006-0/blib/lib:/home/cpansand/.cpan/build/2016072415/RDF-QueryX-Lazy-0.003-0/blib/arch:/home/cpansand/.cpan/build/2016072415/RDF-QueryX-Lazy-0.003-0/blib/lib:/home/cpansand/.cpan/build/2016072415/HTML-HTML5-Builder-0.004-0/blib/arch:/home/cpansand/.cpan/build/2016072415/HTML-HTML5-Builder-0.004-0/blib/lib:/home/cpansand/.cpan/build/2016072415/CatalystX-TraitFor-Dispatcher-ExactMatch-0.003-0/blib/arch:/home/cpansand/.cpan/build/2016072415/CatalystX-TraitFor-Dispatcher-ExactMatch-0.003-0/blib/lib:/home/cpansand/.cpan/build/2016072415/CatalystX-Syntax-Action-0.01-0/blib/arch:/home/cpansand/.cpan/build/2016072415/CatalystX-Syntax-Action-0.01-0/blib/lib:/home/cpansand/.cpan/build/2016072415/CatalystX-RoleApplicator-0.005-0/blib/arch:/home/cpansand/.cpan/build/2016072415/CatalystX-RoleApplicator-0.005-0/blib/lib:/home/cpansand/.cpan/build/2016072415/Catalyst-Plugin-ErrorCatcher-0.0.8.18-0/blib/arch:/home/cpansand/.cpan/build/2016072415/Catalyst-Plugin-ErrorCatcher-0.0.8.18-0/blib/lib:/home/cpansand/.cpan/build/2016072415/Catalyst-Plugin-Cache-HTTP-0.001000-0/blib/arch:/home/cpansand/.cpan/build/2016072415/Catalyst-Plugin-Cache-HTTP-0.001000-0/blib/lib:/home/cpansand/.cpan/build/2016072415/RDF-RDFa-Linter-0.053-0/blib/arch:/home/cpansand/.cpan/build/2016072415/RDF-RDFa-Linter-0.053-0/blib/lib:/home/cpansand/.cpan/build/2016072415/RDF-TrineX-Functions-0.005-1/blib/arch:/home/cpansand/.cpan/build/2016072415/RDF-TrineX-Functions-0.005-1/blib/lib:/home/cpansand/.cpan/build/2016072415/Crypt-X509-0.51-0/blib/arch:/home/cpansand/.cpan/build/2016072415/Crypt-X509-0.51-0/blib/lib:/home/cpansand/.cpan/build/2016072415/XML-GRDDL-0.004-0/blib/arch:/home/cpansand/.cpan/build/2016072415/XML-GRDDL-0.004-0/blib/lib:/home/cpansand/.cpan/build/2016072415/CSS-1.09-0/blib/arch:/home/cpansand/.cpan/build/2016072415/CSS-1.09-0/blib/lib:/home/cpansand/.cpan/build/2016072415/RDF-SIO-Utils-0.003-0/blib/arch:/home/cpansand/.cpan/build/2016072415/RDF-SIO-Utils-0.003-0/blib/lib:/home/cpansand/.cpan/build/2016072415/Test-RDF-DOAP-Version-0.010-0/blib/arch:/home/cpansand/.cpan/build/2016072415/Test-RDF-DOAP-Version-0.010-0/blib/lib:/home/cpansand/.cpan/build/2016072415/RDF-TriN3-0.206-0/blib/arch:/home/cpansand/.cpan/build/2016072415/RDF-TriN3-0.206-0/blib/lib:/home/cpansand/.cpan/build/2016072415/RDF-Trine-Node-Literal-XML-0.16-0/blib/arch:/home/cpansand/.cpan/build/2016072415/RDF-Trine-Node-Literal-XML-0.16-0/blib/lib"
    PERL5OPT=""
    PERL5_CPANPLUS_IS_RUNNING="91676"
    PERL5_CPAN_IS_RUNNING="91676"
    PERL5_CPAN_IS_RUNNING_IN_RECURSION="98843,91676"
    PERLDOC="-MPod::Perldoc::ToTextOverstrike"
    PERL_BATCH="yes"
    PERL_CANARY_STABILITY_NOPROMPT="1"
    PERL_CPAN_REPORTER_CONFIG="/var/tmp/cpansmoker-1023/2016072412/cpanreporter_003_config.ini"
    PERL_EXTUTILS_AUTOINSTALL="--defaultdeps"
  @INC:
    /home/cpansand/.cpan/build/2016072415/RDF-Generator-HTTP-0.003-0/blib/arch
    /home/cpansand/.cpan/build/2016072415/RDF-Generator-HTTP-0.003-0/blib/lib
    /home/cpansand/.cpan/build/2016072415/RDF-ACL-0.104-0/blib/arch
    /home/cpansand/.cpan/build/2016072415/RDF-ACL-0.104-0/blib/lib
    /home/cpansand/.cpan/build/2016072415/RDF-Helper-2.01-0/blib/arch
    /home/cpansand/.cpan/build/2016072415/RDF-Helper-2.01-0/blib/lib
    /home/cpansand/.cpan/build/2016072415/RDF-Query-Functions-Buzzword-DateTime-0.002-0/blib/arch
    /home/cpansand/.cpan/build/2016072415/RDF-Query-Functions-Buzzword-DateTime-0.002-0/blib/lib
    /home/cpansand/.cpan/build/2016072415/RDF-Query-Functions-Buzzword-GB-0.002-0/blib/arch
    /home/cpansand/.cpan/build/2016072415/RDF-Query-Functions-Buzzword-GB-0.002-0/blib/lib
    /home/cpansand/.cpan/build/2016072415/RDF-Query-Functions-Buzzword-Util-0.003-0/blib/arch
    /home/cpansand/.cpan/build/2016072415/RDF-Query-Functions-Buzzword-Util-0.003-0/blib/lib
    /home/cpansand/.cpan/build/2016072415/XML-Atom-FromOWL-0.102-1/blib/arch
    /home/cpansand/.cpan/build/2016072415/XML-Atom-FromOWL-0.102-1/blib/lib
    /home/cpansand/.cpan/build/2016072415/UNIVERSAL-AUTHORITY-0.006-0/blib/arch
    /home/cpansand/.cpan/build/2016072415/UNIVERSAL-AUTHORITY-0.006-0/blib/lib
    /home/cpansand/.cpan/build/2016072415/RDF-QueryX-Lazy-0.003-0/blib/arch
    /home/cpansand/.cpan/build/2016072415/RDF-QueryX-Lazy-0.003-0/blib/lib
    /home/cpansand/.cpan/build/2016072415/HTML-HTML5-Builder-0.004-0/blib/arch
    /home/cpansand/.cpan/build/2016072415/HTML-HTML5-Builder-0.004-0/blib/lib
    /home/cpansand/.cpan/build/2016072415/CatalystX-TraitFor-Dispatcher-ExactMatch-0.003-0/blib/arch
    /home/cpansand/.cpan/build/2016072415/CatalystX-TraitFor-Dispatcher-ExactMatch-0.003-0/blib/lib
    /home/cpansand/.cpan/build/2016072415/CatalystX-Syntax-Action-0.01-0/blib/arch
    /home/cpansand/.cpan/build/2016072415/CatalystX-Syntax-Action-0.01-0/blib/lib
    /home/cpansand/.cpan/build/2016072415/CatalystX-RoleApplicator-0.005-0/blib/arch
    /home/cpansand/.cpan/build/2016072415/CatalystX-RoleApplicator-0.005-0/blib/lib
    /home/cpansand/.cpan/build/2016072415/Catalyst-Plugin-ErrorCatcher-0.0.8.18-0/blib/arch
    /home/cpansand/.cpan/build/2016072415/Catalyst-Plugin-ErrorCatcher-0.0.8.18-0/blib/lib
    /home/cpansand/.cpan/build/2016072415/Catalyst-Plugin-Cache-HTTP-0.001000-0/blib/arch
    /home/cpansand/.cpan/build/2016072415/Catalyst-Plugin-Cache-HTTP-0.001000-0/blib/lib
    /home/cpansand/.cpan/build/2016072415/RDF-RDFa-Linter-0.053-0/blib/arch
    /home/cpansand/.cpan/build/2016072415/RDF-RDFa-Linter-0.053-0/blib/lib
    /home/cpansand/.cpan/build/2016072415/RDF-TrineX-Functions-0.005-1/blib/arch
    /home/cpansand/.cpan/build/2016072415/RDF-TrineX-Functions-0.005-1/blib/lib
    /home/cpansand/.cpan/build/2016072415/Crypt-X509-0.51-0/blib/arch
    /home/cpansand/.cpan/build/2016072415/Crypt-X509-0.51-0/blib/lib
    /home/cpansand/.cpan/build/2016072415/XML-GRDDL-0.004-0/blib/arch
    /home/cpansand/.cpan/build/2016072415/XML-GRDDL-0.004-0/blib/lib
    /home/cpansand/.cpan/build/2016072415/CSS-1.09-0/blib/arch
    /home/cpansand/.cpan/build/2016072415/CSS-1.09-0/blib/lib
    /home/cpansand/.cpan/build/2016072415/RDF-SIO-Utils-0.003-0/blib/arch
    /home/cpansand/.cpan/build/2016072415/RDF-SIO-Utils-0.003-0/blib/lib
    /home/cpansand/.cpan/build/2016072415/Test-RDF-DOAP-Version-0.010-0/blib/arch
    /home/cpansand/.cpan/build/2016072415/Test-RDF-DOAP-Version-0.010-0/blib/lib
    /home/cpansand/.cpan/build/2016072415/RDF-TriN3-0.206-0/blib/arch
    /home/cpansand/.cpan/build/2016072415/RDF-TriN3-0.206-0/blib/lib
    /home/cpansand/.cpan/build/2016072415/RDF-Trine-Node-Literal-XML-0.16-0/blib/arch
    /home/cpansand/.cpan/build/2016072415/RDF-Trine-Node-Literal-XML-0.16-0/blib/lib
    /usr/perl5.22.3-RC1p/lib/site_perl/5.22.3/amd64-freebsd
    /usr/perl5.22.3-RC1p/lib/site_perl/5.22.3
    /usr/perl5.22.3-RC1p/lib/5.22.3/amd64-freebsd
    /usr/perl5.22.3-RC1p/lib/5.22.3
    .