Report for Capture-Tiny-Extended-0.114

Back
From: metabase:user:0d96120c-29e2-11e5-b049-ede3035d37de
Subject: PASS Capture-Tiny-Extended-0.114 v5.18.4 GNU/Linux
Date: 2015-07-24T02:59:51Z

This distribution has been tested as part of the CPAN Testers
project, supporting the Perl programming language.  See
http://wiki.cpantesters.org/ for more information or email
questions to cpan-testers-discuss@perl.org


--
Dear Christian Walde,

This is a computer-generated report for Capture-Tiny-Extended-0.114
on perl 5.18.4, created by CPAN-Reporter-1.2014.

Thank you for uploading your work to CPAN.  Congratulations!
All tests were successful.

Sections of this report:

    * Tester comments
    * Program output
    * Prerequisites
    * Environment and other context

------------------------------
TESTER COMMENTS
------------------------------

Additional comments from tester:

this report is from an automated smoke testing program
and was not reviewed by a human for accuracy

------------------------------
PROGRAM OUTPUT
------------------------------

Output from '/usr/bin/make test':

PERL_DL_NONLAZY=1 /data/perl5/perlbrew/perls/perl-5.18.4-thread-multi-ld/bin/perl "-MExtUtils::Command::MM" "-e" "test_harness(0, 'blib/lib', 'blib/arch')" t/*.t
t/00-compile.t ............. ok
t/01-Capture-Tiny.t ........ ok
t/02-capture.t ............. ok
t/03-tee.t ................. ok
t/06-stdout-closed.t ....... ok
t/07-stderr-closed.t ....... ok
t/08-stdin-closed.t ........ ok
t/09-preserve-exit-code.t .. ok
t/10-stdout-string.t ....... ok
t/11-stderr-string.t ....... ok
t/12-stdin-string.t ........ ok
t/13-stdout-tied.t ......... ok
t/14-stderr-tied.t ......... ok
t/15-stdin-tied.t .......... ok
t/16-catch-errors.t ........ ok
All tests successful.

Test Summary Report
-------------------
t/13-stdout-tied.t       (Wstat: 0 Tests: 489 Failed: 0)
  TODO passed:   5-7, 15-16, 24-25, 32-34, 42-43, 51-52
                57, 66, 77, 79, 88, 96-97, 104, 106, 115
                123-124, 134-139, 154-156, 172-174, 188-193
                208-210, 226-228, 240-243, 254, 266, 276-279
                290, 302, 318, 320, 322-324, 326-327, 352-353
                356-357, 379, 381-383, 385-387, 408, 410
                412-414, 416-417, 442-443, 446-447, 469
                471-473, 475-477
t/14-stderr-tied.t       (Wstat: 0 Tests: 489 Failed: 0)
  TODO passed:   5, 7, 14-16, 23, 25, 32, 34, 41-43, 50
                52, 57, 60, 63, 66, 69, 72, 77-79, 86-88
                95-97, 104-106, 113-115, 122-124, 134-135
                138, 152-157, 170-171, 174, 188-189, 192
                206-211, 224-225, 228, 240-241, 243, 252-255
                264-265, 267, 276-277, 279, 288-291, 300-301
                303, 318-327, 348-357, 378-387, 408-417
                438-447, 468-477
Files=15, Tests=4904,  3 wallclock secs ( 0.44 usr  0.03 sys +  2.30 cusr  0.85 csys =  3.62 CPU)
Result: PASS

------------------------------
PREREQUISITES
------------------------------

Prerequisite modules loaded:

requires:

    Module              Need Have    
    ------------------- ---- --------
    Carp                0    1.29    
    Exporter            0    5.68    
    File::Spec          0    3.40    
    File::Temp          0    0.23    
    IO::Handle          0    1.34    

build_requires:

    Module              Need Have    
    ------------------- ---- --------
    File::Find          0    1.23    
    Test::More          0.62 1.001014

configure_requires:

    Module              Need Have    
    ------------------- ---- --------
    ExtUtils::MakeMaker 6.30 6.66    


------------------------------
ENVIRONMENT AND OTHER CONTEXT
------------------------------

Environment variables:

    AUTOMATED_TESTING = 1
    LANG = en_US.UTF-8
    NONINTERACTIVE_TESTING = 1
    PATH = /home/perltest/sysperl/bin:/home/perltest/perl5/perlbrew/bin:/home/perltest/perl5/perlbrew/perls/perl-5.18.4-thread-multi-ld/bin:/home/perltest/perltest/bin:/home/perltest/perl5/perlbrew/bin:/home/perltest/perl5/perlbrew/perls/perl-5.18.4-ld/bin:/usr/local/sbin:/usr/local/bin:/usr/sbin:/usr/bin:/sbin:/bin:/usr/games:/usr/local/games:/home/perltest/perltest/bin
    PERL5LIB = /home/perltest/sysperl/lib/perl5:
    PERL5OPT = 
    PERL5_CPANPLUS_IS_RUNNING = 17279
    PERL5_CPAN_IS_RUNNING = 17279
    PERL5_CPAN_IS_RUNNING_IN_RECURSION = 2733,17279
    PERLBREW_BASHRC_VERSION = 0.73
    PERLBREW_HOME = /home/perltest/.perlbrew
    PERLBREW_LIB = 
    PERLBREW_MANPATH = /home/perltest/perl5/perlbrew/perls/perl-5.18.4-thread-multi-ld/man
    PERLBREW_PATH = /home/perltest/perl5/perlbrew/bin:/home/perltest/perl5/perlbrew/perls/perl-5.18.4-thread-multi-ld/bin
    PERLBREW_PERL = perl-5.18.4-thread-multi-ld
    PERLBREW_ROOT = /home/perltest/perl5/perlbrew
    PERLBREW_VERSION = 0.73
    PERL_CR_SMOKER_CURRENT = Capture-Tiny-Extended-0.114
    PERL_EXTUTILS_AUTOINSTALL = --defaultdeps
    PERL_LOCAL_LIB_ROOT = /home/perltest/sysperl:
    PERL_MB_OPT = --install_base "//home/perltest/sysperl"
    PERL_MM_OPT = INSTALL_BASE=/home/perltest/sysperl
    PERL_MM_USE_DEFAULT = 1
    SHELL = /bin/bash
    TERM = screen

Perl special variables (and OS-specific diagnostics, for MSWin32):

    $^X = /data/perl5/perlbrew/perls/perl-5.18.4-thread-multi-ld/bin/perl
    $UID/$EUID = 2000 / 2000
    $GID = 2000 2000
    $EGID = 2000 2000

Perl module toolchain versions installed:

    Module              Have    
    ------------------- --------
    CPAN                2.00    
    CPAN::Meta          2.150005
    Cwd                 3.40    
    ExtUtils::CBuilder  0.280210
    ExtUtils::Command   1.17    
    ExtUtils::Install   1.59    
    ExtUtils::MakeMaker 6.66    
    ExtUtils::Manifest  1.70    
    ExtUtils::ParseXS   3.18    
    File::Spec          3.40    
    JSON                2.90    
    JSON::PP            2.27202 
    Module::Build       0.4214  
    Module::Signature   n/a     
    Parse::CPAN::Meta   1.4417  
    Test::Harness       3.35    
    Test::More          1.001014
    YAML                1.15    
    YAML::Syck          n/a     
    version             0.9912  


--

Summary of my perl5 (revision 5 version 18 subversion 4) configuration:
   
  Platform:
    osname=linux, osvers=3.19.0-18-generic, archname=x86_64-linux-thread-multi-ld
    uname='linux perltest.antelope.net 3.19.0-18-generic #18-ubuntu smp tue may 19 18:31:35 utc 2015 x86_64 x86_64 x86_64 gnulinux '
    config_args='-de -Dprefix=/home/perltest/perl5/perlbrew/perls/perl-5.18.4-thread-multi-ld -Dusemultiplicity -Duselongdouble -Dusethreads -Aeval:scriptdir=/home/perltest/perl5/perlbrew/perls/perl-5.18.4-thread-multi-ld/bin'
    hint=recommended, useposix=true, d_sigaction=define
    useithreads=define, usemultiplicity=define
    useperlio=define, d_sfio=undef, uselargefiles=define, usesocks=undef
    use64bitint=define, use64bitall=define, uselongdouble=define
    usemymalloc=n, bincompat5005=undef
  Compiler:
    cc='cc', ccflags ='-D_REENTRANT -D_GNU_SOURCE -fno-strict-aliasing -pipe -fstack-protector -I/usr/local/include -D_LARGEFILE_SOURCE -D_FILE_OFFSET_BITS=64',
    optimize='-O2',
    cppflags='-D_REENTRANT -D_GNU_SOURCE -fno-strict-aliasing -pipe -fstack-protector -I/usr/local/include'
    ccversion='', gccversion='4.9.2', gccosandvers=''
    intsize=4, longsize=8, ptrsize=8, doublesize=8, byteorder=12345678
    d_longlong=define, longlongsize=8, d_longdbl=define, longdblsize=16
    ivtype='long', ivsize=8, nvtype='long double', nvsize=16, Off_t='off_t', lseeksize=8
    alignbytes=16, prototype=define
  Linker and Libraries:
    ld='cc', ldflags =' -fstack-protector -L/usr/local/lib'
    libpth=/usr/local/lib /lib/x86_64-linux-gnu /lib/../lib /usr/lib/x86_64-linux-gnu /usr/lib/../lib /lib /usr/lib
    libs=-lnsl -ldb -ldl -lm -lcrypt -lutil -lpthread -lc
    perllibs=-lnsl -ldl -lm -lcrypt -lutil -lpthread -lc
    libc=libc-2.21.so, so=so, useshrplib=false, libperl=libperl.a
    gnulibc_version='2.21'
  Dynamic Linking:
    dlsrc=dl_dlopen.xs, dlext=so, d_dlsymun=undef, ccdlflags='-Wl,-E'
    cccdlflags='-fPIC', lddlflags='-shared -O2 -L/usr/local/lib -fstack-protector'


Characteristics of this binary (from libperl): 
  Compile-time options: HAS_TIMES MULTIPLICITY PERLIO_LAYERS
                        PERL_DONT_CREATE_GVSV
                        PERL_HASH_FUNC_ONE_AT_A_TIME_HARD
                        PERL_IMPLICIT_CONTEXT PERL_MALLOC_WRAP
                        PERL_PRESERVE_IVUV PERL_SAWAMPERSAND USE_64_BIT_ALL
                        USE_64_BIT_INT USE_ITHREADS USE_LARGE_FILES
                        USE_LOCALE USE_LOCALE_COLLATE USE_LOCALE_CTYPE
                        USE_LOCALE_NUMERIC USE_LONG_DOUBLE USE_PERLIO
                        USE_PERL_ATOF USE_REENTRANT_API
  Locally applied patches:
	Devel::PatchPerl 1.38
  Built under linux
  Compiled at Jul 19 2015 23:12:48
  %ENV:
    PERL5LIB="/home/perltest/sysperl/lib/perl5:"
    PERL5OPT=""
    PERL5_CPANPLUS_IS_RUNNING="17279"
    PERL5_CPAN_IS_RUNNING="17279"
    PERL5_CPAN_IS_RUNNING_IN_RECURSION="2733,17279"
    PERLBREW_BASHRC_VERSION="0.73"
    PERLBREW_HOME="/home/perltest/.perlbrew"
    PERLBREW_LIB=""
    PERLBREW_MANPATH="/home/perltest/perl5/perlbrew/perls/perl-5.18.4-thread-multi-ld/man"
    PERLBREW_PATH="/home/perltest/perl5/perlbrew/bin:/home/perltest/perl5/perlbrew/perls/perl-5.18.4-thread-multi-ld/bin"
    PERLBREW_PERL="perl-5.18.4-thread-multi-ld"
    PERLBREW_ROOT="/home/perltest/perl5/perlbrew"
    PERLBREW_VERSION="0.73"
    PERL_CR_SMOKER_CURRENT="Capture-Tiny-Extended-0.114"
    PERL_EXTUTILS_AUTOINSTALL="--defaultdeps"
    PERL_LOCAL_LIB_ROOT="/home/perltest/sysperl:"
    PERL_MB_OPT="--install_base "//home/perltest/sysperl""
    PERL_MM_OPT="INSTALL_BASE=/home/perltest/sysperl"
    PERL_MM_USE_DEFAULT="1"
  @INC:
    /home/perltest/sysperl/lib/perl5/x86_64-linux-thread-multi-ld
    /home/perltest/sysperl/lib/perl5
    /home/perltest/perl5/perlbrew/perls/perl-5.18.4-thread-multi-ld/lib/site_perl/5.18.4/x86_64-linux-thread-multi-ld
    /home/perltest/perl5/perlbrew/perls/perl-5.18.4-thread-multi-ld/lib/site_perl/5.18.4
    /home/perltest/perl5/perlbrew/perls/perl-5.18.4-thread-multi-ld/lib/5.18.4/x86_64-linux-thread-multi-ld
    /home/perltest/perl5/perlbrew/perls/perl-5.18.4-thread-multi-ld/lib/5.18.4
    .