ExtUtils-ParseXS v3.44 Perl 5 v5.34.1 x86_64-linux-thread-multi

Status
Pass
From
Nigel Horne
Dist
ExtUtils-ParseXS v3.44
Platform
Perl 5 v5.34.1 x86_64-linux-thread-multi
Date
2022-03-22 05:08:03
ID
0d6d44d8-a99e-11ec-aeeb-52b6f2e56ab3
This distribution has been tested as part of the CPAN Testers
project, supporting the Perl programming language.  See
http://wiki.cpantesters.org/ for more information or email
questions to cpan-testers-discuss@perl.org


--
Dear Sawyer X,

This is a computer-generated report for ExtUtils-ParseXS-3.44
on perl 5.34.1, created by CPAN-Reporter-1.2018.

Thank you for uploading your work to CPAN.  Congratulations!
All tests were successful.

Sections of this report:

    * Tester comments
    * Program output
    * Prerequisites
    * Environment and other context

------------------------------
TESTER COMMENTS
------------------------------

Additional comments from tester:

none provided

------------------------------
PROGRAM OUTPUT
------------------------------

Output from '/usr/bin/make test':

PERL_DL_NONLAZY=1 "/home/opc/perl5/perlbrew/perls/perl-5.34.1-thread/bin/perl5.34.1" "-MExtUtils::Command::MM" "-MTest::Harness" "-e" "undef *Test::Harness::Switches; test_harness(0, 'blib/lib', 'blib/arch')" t/*.t
t/001-basic.t ............................ ok
t/002-more.t ............................. ok
t/003-usage.t ............................ ok
t/101-standard_typemap_locations.t ....... ok
t/102-trim_whitespace.t .................. ok
t/103-tidy_type.t ........................ ok
t/104-map_type.t ......................... ok
t/105-valid_proto_string.t ............... ok
t/106-process_typemaps.t ................. ok
t/108-map_type.t ......................... ok
t/109-standard_XS_defs.t ................. ok
t/110-assign_func_args.t ................. ok
t/111-analyze_preprocessor_statements.t .. ok
t/112-set_cond.t ......................... ok
t/113-check_cond_preproc_statements.t .... ok
t/114-blurt_death_Warn.t ................. ok
t/115-avoid-noise.t ...................... ok
t/501-t-compile.t ........................ ok
t/510-t-bare.t ........................... ok
t/511-t-whitespace.t ..................... ok
t/512-t-file.t ........................... ok
t/513-t-merge.t .......................... ok
t/514-t-embed.t .......................... ok
t/515-t-cmd.t ............................ ok
t/516-t-clone.t .......................... ok
t/517-t-targetable.t ..................... ok
t/600-t-compat.t ......................... ok
All tests successful.
Files=27, Tests=268, 14 wallclock secs ( 0.09 usr  0.07 sys +  4.24 cusr  0.69 csys =  5.09 CPU)
Result: PASS

------------------------------
PREREQUISITES
------------------------------

Prerequisite modules loaded:

requires:

    Module              Need Have    
    ------------------- ---- --------
    Carp                0    1.52    
    Cwd                 0    3.80    
    DynaLoader          0    1.50    
    Exporter            5.57 5.76    
    ExtUtils::CBuilder  0    0.280236
    ExtUtils::MakeMaker 6.46 7.64    
    File::Basename      0    2.85    
    File::Spec          0    3.80    
    Symbol              0    1.09    
    Test::More          0.47 1.302190

build_requires:

    Module              Need Have    
    ------------------- ---- --------
    ExtUtils::MakeMaker 0    7.64    

configure_requires:

    Module              Need Have    
    ------------------- ---- --------
    ExtUtils::MakeMaker 6.46 7.64    


------------------------------
ENVIRONMENT AND OTHER CONTEXT
------------------------------

Environment variables:

    LANG = en_US.UTF-8
    PATH = /home/opc/perl5/perlbrew/bin:/home/opc/perl5/perlbrew/perls/perl-5.34.1-thread/bin:/home/opc/perl5/perlbrew/bin:/usr/bin:/bin
    PERL5LIB = 
    PERL5OPT = 
    PERL5_CPANPLUS_IS_RUNNING = 17947
    PERL5_CPAN_IS_RUNNING = 17947
    PERLBREW_HOME = /home/opc/.perlbrew
    PERLBREW_LIB = 
    PERLBREW_MANPATH = /home/opc/perl5/perlbrew/perls/perl-5.34.1-thread/man
    PERLBREW_PATH = /home/opc/perl5/perlbrew/bin:/home/opc/perl5/perlbrew/perls/perl-5.34.1-thread/bin
    PERLBREW_PERL = perl-5.34.1-thread
    PERLBREW_ROOT = /home/opc/perl5/perlbrew
    PERLBREW_SHELLRC_VERSION = 0.92
    PERLBREW_VERSION = 0.92
    PERL_LOCAL_LIB_ROOT = 
    PERL_USE_UNSAFE_INC = 1
    SHELL = /bin/sh
    TMPDIR = /tmp

Perl special variables (and OS-specific diagnostics, for MSWin32):

    $^X = /home/opc/perl5/perlbrew/perls/perl-5.34.1-thread/bin/perl5.34.1
    $UID/$EUID = 1000 / 1000
    $GID = 1000 4 10 190 1000
    $EGID = 1000 4 10 190 1000

Perl module toolchain versions installed:

    Module              Have    
    ------------------- --------
    CPAN                2.29    
    CPAN::Meta          2.150010
    Cwd                 3.80    
    ExtUtils::CBuilder  0.280236
    ExtUtils::Command   7.64    
    ExtUtils::Install   2.20    
    ExtUtils::MakeMaker 7.64    
    ExtUtils::Manifest  1.73    
    ExtUtils::ParseXS   3.43    
    File::Spec          3.80    
    JSON                4.05    
    JSON::PP            4.07    
    Module::Build       0.4231  
    Module::Signature   n/a     
    Parse::CPAN::Meta   2.150010
    Test::Harness       3.43    
    Test::More          1.302190
    YAML                1.30    
    YAML::Syck          n/a     
    version             0.9928  


--

Summary of my perl5 (revision 5 version 34 subversion 1) configuration:
   
  Platform:
    osname=linux
    osvers=5.4.17-2136.304.4.2.el7uek.x86_64
    archname=x86_64-linux-thread-multi
    uname='linux oracle2.bandsman.co.uk 5.4.17-2136.304.4.2.el7uek.x86_64 #2 smp fri feb 25 17:37:41 pst 2022 x86_64 x86_64 x86_64 gnulinux '
    config_args='-de -Dprefix=/home/opc/perl5/perlbrew/perls/perl-5.34.1-thread -Dusedevel -Dusethreads -Accflags= -Aeval:scriptdir=/home/opc/perl5/perlbrew/perls/perl-5.34.1-thread/bin'
    hint=recommended
    useposix=true
    d_sigaction=define
    useithreads=define
    usemultiplicity=define
    use64bitint=define
    use64bitall=define
    uselongdouble=undef
    usemymalloc=n
    default_inc_excludes_dot=define
  Compiler:
    cc='cc'
    ccflags ='-D_REENTRANT -D_GNU_SOURCE -fwrapv -fno-strict-aliasing -pipe -fstack-protector-strong -I/usr/local/include -D_LARGEFILE_SOURCE -D_FILE_OFFSET_BITS=64 -D_FORTIFY_SOURCE=2'
    optimize='-O2'
    cppflags='-D_REENTRANT -D_GNU_SOURCE -fwrapv -fno-strict-aliasing -pipe -fstack-protector-strong -I/usr/local/include'
    ccversion=''
    gccversion='4.8.5 20150623 (Red Hat 4.8.5-44.0.3)'
    gccosandvers=''
    intsize=4
    longsize=8
    ptrsize=8
    doublesize=8
    byteorder=12345678
    doublekind=3
    d_longlong=define
    longlongsize=8
    d_longdbl=define
    longdblsize=16
    longdblkind=3
    ivtype='long'
    ivsize=8
    nvtype='double'
    nvsize=8
    Off_t='off_t'
    lseeksize=8
    alignbytes=8
    prototype=define
  Linker and Libraries:
    ld='cc'
    ldflags =' -fstack-protector-strong -L/usr/local/lib'
    libpth=/usr/local/lib /usr/lib /usr/lib64 /usr/local/lib64
    libs=-lpthread -lnsl -lgdbm -ldb -ldl -lm -lcrypt -lutil -lc -lgdbm_compat
    perllibs=-lpthread -lnsl -ldl -lm -lcrypt -lutil -lc
    libc=libc-2.17.so
    so=so
    useshrplib=false
    libperl=libperl.a
    gnulibc_version='2.17'
  Dynamic Linking:
    dlsrc=dl_dlopen.xs
    dlext=so
    d_dlsymun=undef
    ccdlflags='-Wl,-E'
    cccdlflags='-fPIC'
    lddlflags='-shared -O2 -L/usr/local/lib -fstack-protector-strong'


Characteristics of this binary (from libperl): 
  Compile-time options:
    HAS_TIMES
    MULTIPLICITY
    PERLIO_LAYERS
    PERL_COPY_ON_WRITE
    PERL_DONT_CREATE_GVSV
    PERL_IMPLICIT_CONTEXT
    PERL_MALLOC_WRAP
    PERL_OP_PARENT
    PERL_PRESERVE_IVUV
    PERL_USE_DEVEL
    USE_64_BIT_ALL
    USE_64_BIT_INT
    USE_ITHREADS
    USE_LARGE_FILES
    USE_LOCALE
    USE_LOCALE_COLLATE
    USE_LOCALE_CTYPE
    USE_LOCALE_NUMERIC
    USE_LOCALE_TIME
    USE_PERLIO
    USE_PERL_ATOF
    USE_REENTRANT_API
    USE_THREAD_SAFE_LOCALE
  Built under linux
  Compiled at Mar 14 2022 00:48:22
  %ENV:
    PERL5LIB=""
    PERL5OPT=""
    PERL5_CPANPLUS_IS_RUNNING="17947"
    PERL5_CPAN_IS_RUNNING="17947"
    PERLBREW_HOME="/home/opc/.perlbrew"
    PERLBREW_LIB=""
    PERLBREW_MANPATH="/home/opc/perl5/perlbrew/perls/perl-5.34.1-thread/man"
    PERLBREW_PATH="/home/opc/perl5/perlbrew/bin:/home/opc/perl5/perlbrew/perls/perl-5.34.1-thread/bin"
    PERLBREW_PERL="perl-5.34.1-thread"
    PERLBREW_ROOT="/home/opc/perl5/perlbrew"
    PERLBREW_SHELLRC_VERSION="0.92"
    PERLBREW_VERSION="0.92"
    PERL_LOCAL_LIB_ROOT=""
    PERL_USE_UNSAFE_INC="1"
  @INC:
    /home/opc/perl5/perlbrew/perls/perl-5.34.1-thread/lib/site_perl/5.34.1/x86_64-linux-thread-multi
    /home/opc/perl5/perlbrew/perls/perl-5.34.1-thread/lib/site_perl/5.34.1
    /home/opc/perl5/perlbrew/perls/perl-5.34.1-thread/lib/5.34.1/x86_64-linux-thread-multi
    /home/opc/perl5/perlbrew/perls/perl-5.34.1-thread/lib/5.34.1
    .