Report for Drupal-Admin-0.04

Back
From: metabase:user:315f03b2-2aae-11df-837a-5e0a49663a4f
Subject: PASS Drupal-Admin-0.04 v5.14.2 NetBSD
Date: 2013-03-05T08:59:56Z

This distribution has been tested as part of the CPAN Testers
project, supporting the Perl programming language.  See
http://wiki.cpantesters.org/ for more information or email
questions to cpan-testers-discuss@perl.org


--
Dear Dan Urist,

This is a computer-generated report for Drupal-Admin-0.04
on perl 5.14.2, created by CPAN-Reporter-1.2009.

Thank you for uploading your work to CPAN.  Congratulations!
All tests were successful.

Sections of this report:

    * Tester comments
    * Program output
    * Prerequisites
    * Environment and other context

------------------------------
TESTER COMMENTS
------------------------------

Additional comments from tester:

this report is from an automated smoke testing program
and was not reviewed by a human for accuracy

------------------------------
PROGRAM OUTPUT
------------------------------

Output from '/usr/bin/make test':

PERL_DL_NONLAZY=1 /home/smoke/perl5/perlbrew/perls/perl-5.14.2/bin/perl "-MExtUtils::Command::MM" "-e" "test_harness(0, 'blib/lib', 'blib/arch')" t/*.t
You are overwriting a locally defined function (type) with an accessor at /home/smoke/perl5/perlbrew/perls/perl-5.14.2/lib/site_perl/5.14.2/i386-netbsd/Moose/Meta/Attribute.pm line 1068.
	Moose::Meta::Attribute::_process_accessors('Moose::Meta::Attribute=HASH(0xbab4ae90)', 'reader', 'type', undef) called at /home/smoke/perl5/perlbrew/perls/perl-5.14.2/lib/site_perl/5.14.2/i386-netbsd/Class/MOP/Attribute.pm line 428
	Class::MOP::Attribute::install_accessors('Moose::Meta::Attribute=HASH(0xbab4ae90)') called at /home/smoke/perl5/perlbrew/perls/perl-5.14.2/lib/site_perl/5.14.2/i386-netbsd/Moose/Meta/Attribute.pm line 1012
	Moose::Meta::Attribute::install_accessors('Moose::Meta::Attribute=HASH(0xbab4ae90)') called at /home/smoke/perl5/perlbrew/perls/perl-5.14.2/lib/site_perl/5.14.2/i386-netbsd/Class/MOP/Class.pm line 891
	Class::MOP::Class::__ANON__() called at /home/smoke/perl5/perlbrew/perls/perl-5.14.2/lib/site_perl/5.14.2/Try/Tiny.pm line 76
	eval {...} called at /home/smoke/perl5/perlbrew/perls/perl-5.14.2/lib/site_perl/5.14.2/Try/Tiny.pm line 67
	Try::Tiny::try('CODE(0xbab45360)', 'Try::Tiny::Catch=REF(0xbab46cc0)') called at /home/smoke/perl5/perlbrew/perls/perl-5.14.2/lib/site_perl/5.14.2/i386-netbsd/Class/MOP/Class.pm line 896
	Class::MOP::Class::_post_add_attribute('Moose::Meta::Class=HASH(0xbab32e60)', 'Moose::Meta::Attribute=HASH(0xbab4ae90)') called at /home/smoke/perl5/perlbrew/perls/perl-5.14.2/lib/site_perl/5.14.2/i386-netbsd/Class/MOP/Mixin/HasAttributes.pm line 44
	Class::MOP::Mixin::HasAttributes::add_attribute('Moose::Meta::Class=HASH(0xbab32e60)', 'Moose::Meta::Attribute=HASH(0xbab4ae90)') called at /home/smoke/perl5/perlbrew/perls/perl-5.14.2/lib/site_perl/5.14.2/i386-netbsd/Moose/Meta/Class.pm line 570
	Moose::Meta::Class::add_attribute('Moose::Meta::Class=HASH(0xbab32e60)', 'type', 'required', 1, 'isa', 'StatusType', 'definition_context', 'HASH(0xbab2a070)', 'is', ...) called at /home/smoke/perl5/perlbrew/perls/perl-5.14.2/lib/site_perl/5.14.2/i386-netbsd/Moose.pm line 79
	Moose::has('Moose::Meta::Class=HASH(0xbab32e60)', 'type', 'is', 'ro', 'isa', 'StatusType', 'required', 1) called at /home/smoke/perl5/perlbrew/perls/perl-5.14.2/lib/site_perl/5.14.2/i386-netbsd/Moose/Exporter.pm line 382
	Moose::has('type', 'is', 'ro', 'isa', 'StatusType', 'required', 1) called at /home/smoke/.cpan/build/Drupal-Admin-0.04-76z1q3/blib/lib/Drupal/Admin/Status.pm line 16
	require Drupal/Admin/Status.pm called at /home/smoke/.cpan/build/Drupal-Admin-0.04-76z1q3/blib/lib/Drupal/Admin.pm line 19
	Drupal::Admin::BEGIN() called at /home/smoke/.cpan/build/Drupal-Admin-0.04-76z1q3/blib/lib/Drupal/Admin/Status.pm line 0
	eval {...} called at /home/smoke/.cpan/build/Drupal-Admin-0.04-76z1q3/blib/lib/Drupal/Admin/Status.pm line 0
	require Drupal/Admin.pm called at (eval 4) line 2
	main::BEGIN() called at /home/smoke/.cpan/build/Drupal-Admin-0.04-76z1q3/blib/lib/Drupal/Admin/Status.pm line 0
	eval {...} called at /home/smoke/.cpan/build/Drupal-Admin-0.04-76z1q3/blib/lib/Drupal/Admin/Status.pm line 0
	eval 'package main;
use Drupal::Admin @{$args[0]};
1;

;' called at /home/smoke/perl5/perlbrew/perls/perl-5.14.2/lib/5.14.2/Test/More.pm line 885
	Test::More::_eval('package main;\x{a}use Drupal::Admin @{$args[0]};\x{a}1;\x{a}', 'ARRAY(0xbb9f6830)') called at /home/smoke/perl5/perlbrew/perls/perl-5.14.2/lib/5.14.2/Test/More.pm line 860
	Test::More::use_ok('Drupal::Admin') called at t/00-load.t line 6
	main::BEGIN() called at /home/smoke/.cpan/build/Drupal-Admin-0.04-76z1q3/blib/lib/Drupal/Admin/Status.pm line 0
	eval {...} called at /home/smoke/.cpan/build/Drupal-Admin-0.04-76z1q3/blib/lib/Drupal/Admin/Status.pm line 0
# Testing Drupal::Admin 0.04, Perl 5.014002, /home/smoke/perl5/perlbrew/perls/perl-5.14.2/bin/perl
t/00-load.t ....... ok
You are overwriting a locally defined function (type) with an accessor at /home/smoke/perl5/perlbrew/perls/perl-5.14.2/lib/site_perl/5.14.2/i386-netbsd/Moose/Meta/Attribute.pm line 1065.
	Moose::Meta::Attribute::_process_accessors('Moose::Meta::Attribute=HASH(0xbaa117c0)', 'reader', 'type', undef) called at /home/smoke/perl5/perlbrew/perls/perl-5.14.2/lib/site_perl/5.14.2/i386-netbsd/Class/MOP/Attribute.pm line 428
	Class::MOP::Attribute::install_accessors('Moose::Meta::Attribute=HASH(0xbaa117c0)') called at /home/smoke/perl5/perlbrew/perls/perl-5.14.2/lib/site_perl/5.14.2/i386-netbsd/Moose/Meta/Attribute.pm line 1012
	Moose::Meta::Attribute::install_accessors('Moose::Meta::Attribute=HASH(0xbaa117c0)') called at /home/smoke/perl5/perlbrew/perls/perl-5.14.2/lib/site_perl/5.14.2/i386-netbsd/Class/MOP/Class.pm line 891
	Class::MOP::Class::__ANON__() called at /home/smoke/perl5/perlbrew/perls/perl-5.14.2/lib/site_perl/5.14.2/Try/Tiny.pm line 76
	eval {...} called at /home/smoke/perl5/perlbrew/perls/perl-5.14.2/lib/site_perl/5.14.2/Try/Tiny.pm line 67
	Try::Tiny::try('CODE(0xbaa11a90)', 'Try::Tiny::Catch=REF(0xbaa03690)') called at /home/smoke/perl5/perlbrew/perls/perl-5.14.2/lib/site_perl/5.14.2/i386-netbsd/Class/MOP/Class.pm line 896
	Class::MOP::Class::_post_add_attribute('Moose::Meta::Class=HASH(0xbaba0b40)', 'Moose::Meta::Attribute=HASH(0xbaa117c0)') called at /home/smoke/perl5/perlbrew/perls/perl-5.14.2/lib/site_perl/5.14.2/i386-netbsd/Class/MOP/Mixin/HasAttributes.pm line 44
	Class::MOP::Mixin::HasAttributes::add_attribute('Moose::Meta::Class=HASH(0xbaba0b40)', 'Moose::Meta::Attribute=HASH(0xbaa117c0)') called at /home/smoke/perl5/perlbrew/perls/perl-5.14.2/lib/site_perl/5.14.2/i386-netbsd/Moose/Meta/Class.pm line 570
	Moose::Meta::Class::add_attribute('Moose::Meta::Class=HASH(0xbaba0b40)', 'type', 'required', 1, 'isa', 'StatusType', 'definition_context', 'HASH(0xbabeca20)', 'is', ...) called at /home/smoke/perl5/perlbrew/perls/perl-5.14.2/lib/site_perl/5.14.2/i386-netbsd/Moose.pm line 79
	Moose::has('Moose::Meta::Class=HASH(0xbaba0b40)', 'type', 'is', 'ro', 'isa', 'StatusType', 'required', 1) called at /home/smoke/perl5/perlbrew/perls/perl-5.14.2/lib/site_perl/5.14.2/i386-netbsd/Moose/Exporter.pm line 382
	Moose::has('type', 'is', 'ro', 'isa', 'StatusType', 'required', 1) called at /home/smoke/.cpan/build/Drupal-Admin-0.04-76z1q3/blib/lib/Drupal/Admin/Status.pm line 16
	require Drupal/Admin/Status.pm called at /home/smoke/.cpan/build/Drupal-Admin-0.04-76z1q3/blib/lib/Drupal/Admin.pm line 19
	Drupal::Admin::BEGIN() called at /home/smoke/.cpan/build/Drupal-Admin-0.04-76z1q3/blib/lib/Drupal/Admin/Status.pm line 0
	eval {...} called at /home/smoke/.cpan/build/Drupal-Admin-0.04-76z1q3/blib/lib/Drupal/Admin/Status.pm line 0
	require Drupal/Admin.pm called at (eval 12) line 2
	eval ' require Drupal::Admin 
;' called at /home/smoke/perl5/perlbrew/perls/perl-5.14.2/lib/site_perl/5.14.2/Pod/Coverage.pm line 303
	Pod::Coverage::_get_syms('Pod::Coverage=HASH(0xbb90ed80)', 'Drupal::Admin') called at /home/smoke/perl5/perlbrew/perls/perl-5.14.2/lib/site_perl/5.14.2/Pod/Coverage.pm line 152
	Pod::Coverage::coverage('Pod::Coverage=HASH(0xbb90ed80)') called at /home/smoke/perl5/perlbrew/perls/perl-5.14.2/lib/site_perl/5.14.2/Test/Pod/Coverage.pm line 162
	Test::Pod::Coverage::pod_coverage_ok('Drupal::Admin', 'HASH(0xbb90e1d0)', 'Pod coverage on Drupal::Admin') called at /home/smoke/perl5/perlbrew/perls/perl-5.14.2/lib/site_perl/5.14.2/Test/Pod/Coverage.pm line 126
	Test::Pod::Coverage::all_pod_coverage_ok() called at t/pod-coverage.t line 18
t/pod-coverage.t .. ok
t/pod.t ........... ok
All tests successful.
Files=3, Tests=9,  2 wallclock secs ( 0.05 usr  0.02 sys +  2.04 cusr  0.18 csys =  2.29 CPU)
Result: PASS

------------------------------
PREREQUISITES
------------------------------

Prerequisite modules loaded:

requires:

    Module                      Need Have   
    --------------------------- ---- -------
    File::Type                  0    0.22   
    Getopt::Long                0    2.38   
    Log::Log4perl               0    1.40   
    Moose                       0    2.0604 
    MooseX::Log::Log4perl::Easy 0    0.46   
    Pod::Usage                  0    1.61   
    Test::More                  0    0.98   
    WWW::Mechanize              0    1.72   
    WWW::Mechanize::TreeBuilder 0    1.10003

build_requires:

    Module                      Need Have   
    --------------------------- ---- -------
    ExtUtils::MakeMaker         0    6.64   


------------------------------
ENVIRONMENT AND OTHER CONTEXT
------------------------------

Environment variables:

    AUTOMATED_TESTING = 1
    MANPATH_WITHOUT_PERLBREW = 
    PATH = /home/smoke/perl5/perlbrew/bin:/home/smoke/perl5/perlbrew/perls/perl-5.14.2/bin:/home/smoke/bin:/bin:/sbin:/usr/bin:/usr/sbin:/usr/X11R7/bin:/usr/X11R6/bin:/usr/pkg/bin:/usr/pkg/sbin:/usr/games:/usr/local/bin:/usr/local/sbin
    PATH_WITHOUT_PERLBREW = /home/smoke/bin:/bin:/sbin:/usr/bin:/usr/sbin:/usr/X11R7/bin:/usr/X11R6/bin:/usr/pkg/bin:/usr/pkg/sbin:/usr/games:/usr/local/bin:/usr/local/sbin
    PERL5LIB = 
    PERL5OPT = 
    PERL5_CPANPLUS_IS_RUNNING = 22253
    PERL5_CPAN_IS_RUNNING = 22253
    PERL5_CPAN_IS_RUNNING_IN_RECURSION = 2346,22253
    PERLBREW_BASHRC_VERSION = 0.41
    PERLBREW_HOME = /home/smoke/.perlbrew
    PERLBREW_MANPATH = /home/smoke/perl5/perlbrew/perls/perl-5.14.2/man
    PERLBREW_PATH = /home/smoke/perl5/perlbrew/bin:/home/smoke/perl5/perlbrew/perls/perl-5.14.2/bin
    PERLBREW_PERL = perl-5.14.2
    PERLBREW_ROOT = /home/smoke/perl5/perlbrew
    PERLBREW_VERSION = 0.41
    PERL_CR_SMOKER_CURRENT = Drupal-Admin-0.04
    PERL_EXTUTILS_AUTOINSTALL = --defaultdeps
    PERL_MM_USE_DEFAULT = 1
    SHELL = /usr/pkg/bin/bash
    TERM = xterm-color

Perl special variables (and OS-specific diagnostics, for MSWin32):

    $^X = /home/smoke/perl5/perlbrew/perls/perl-5.14.2/bin/perl
    $UID/$EUID = 1002 / 1002
    $GID = 100 100
    $EGID = 100 100

Perl module toolchain versions installed:

    Module              Have    
    ------------------- --------
    CPAN                1.9402  
    CPAN::Meta          2.120921
    Cwd                 3.40    
    ExtUtils::CBuilder  0.280205
    ExtUtils::Command   1.17    
    ExtUtils::Install   1.54    
    ExtUtils::MakeMaker 6.64    
    ExtUtils::Manifest  1.61    
    ExtUtils::ParseXS   3.18    
    File::Spec          3.40    
    JSON                2.53    
    JSON::PP            2.27200 
    Module::Build       0.4003  
    Module::Signature   n/a     
    Parse::CPAN::Meta   1.4404  
    Test::Harness       3.26    
    Test::More          0.98    
    YAML                0.73    
    YAML::Syck          1.23    
    version             0.9901  


--

Summary of my perl5 (revision 5 version 14 subversion 2) configuration:
   
  Platform:
    osname=netbsd, osvers=6.0.1, archname=i386-netbsd
    uname='netbsd prickle.zeroclue.com 6.0.1 netbsd 6.0.1 (generic) i386 '
    config_args='-de -Dprefix=/home/smoke/perl5/perlbrew/perls/perl-5.14.2'
    hint=recommended, useposix=true, d_sigaction=define
    useithreads=undef, usemultiplicity=undef
    useperlio=define, d_sfio=undef, uselargefiles=define, usesocks=undef
    use64bitint=undef, use64bitall=undef, uselongdouble=undef
    usemymalloc=n, bincompat5005=undef
  Compiler:
    cc='cc', ccflags ='-fno-strict-aliasing -pipe -fstack-protector -I/usr/pkg/include',
    optimize='-O',
    cppflags='-fno-strict-aliasing -pipe -fstack-protector -I/usr/pkg/include'
    ccversion='', gccversion='4.5.3', gccosandvers=''
    intsize=4, longsize=4, ptrsize=4, doublesize=8, byteorder=1234
    d_longlong=define, longlongsize=8, d_longdbl=define, longdblsize=12
    ivtype='long', ivsize=4, nvtype='double', nvsize=8, Off_t='off_t', lseeksize=8
    alignbytes=4, prototype=define
  Linker and Libraries:
    ld='cc', ldflags =' -Wl,-rpath,/usr/pkg/lib -Wl,-rpath,/usr/local/lib -fstack-protector -L/usr/pkg/lib'
    libpth=/usr/pkg/lib /lib /usr/lib
    libs=-lm -lcrypt -lutil -lc -lposix
    perllibs=-lm -lcrypt -lutil -lc -lposix
    libc=/lib/libc.so, so=so, useshrplib=false, libperl=libperl.a
    gnulibc_version=''
  Dynamic Linking:
    dlsrc=dl_dlopen.xs, dlext=so, d_dlsymun=undef, ccdlflags='-Wl,-E '
    cccdlflags='-DPIC -fPIC ', lddlflags='--whole-archive -shared  -L/usr/pkg/lib -fstack-protector'


Characteristics of this binary (from libperl): 
  Compile-time options: PERL_DONT_CREATE_GVSV PERL_MALLOC_WRAP
                        PERL_PRESERVE_IVUV USE_LARGE_FILES USE_PERLIO
                        USE_PERL_ATOF
  Built under netbsd
  Compiled at Feb  1 2013 00:11:44
  %ENV:
    PERL5LIB=""
    PERL5OPT=""
    PERL5_CPANPLUS_IS_RUNNING="22253"
    PERL5_CPAN_IS_RUNNING="22253"
    PERL5_CPAN_IS_RUNNING_IN_RECURSION="2346,22253"
    PERLBREW_BASHRC_VERSION="0.41"
    PERLBREW_HOME="/home/smoke/.perlbrew"
    PERLBREW_MANPATH="/home/smoke/perl5/perlbrew/perls/perl-5.14.2/man"
    PERLBREW_PATH="/home/smoke/perl5/perlbrew/bin:/home/smoke/perl5/perlbrew/perls/perl-5.14.2/bin"
    PERLBREW_PERL="perl-5.14.2"
    PERLBREW_ROOT="/home/smoke/perl5/perlbrew"
    PERLBREW_VERSION="0.41"
    PERL_CR_SMOKER_CURRENT="Drupal-Admin-0.04"
    PERL_EXTUTILS_AUTOINSTALL="--defaultdeps"
    PERL_MM_USE_DEFAULT="1"
  @INC:
    /home/smoke/perl5/perlbrew/perls/perl-5.14.2/lib/site_perl/5.14.2/i386-netbsd
    /home/smoke/perl5/perlbrew/perls/perl-5.14.2/lib/site_perl/5.14.2
    /home/smoke/perl5/perlbrew/perls/perl-5.14.2/lib/5.14.2/i386-netbsd
    /home/smoke/perl5/perlbrew/perls/perl-5.14.2/lib/5.14.2
    .