SQL-Abstract v2.000000 Perl 5 v5.18.4 MSWin32-x64-multi-thread
- Status
- Pass
- From
- twata
- Dist
-
SQL-Abstract v2.000000
- Platform
- Perl 5 v5.18.4 MSWin32-x64-multi-thread
- Date
- 2021-01-23 12:36:25
- ID
- 0d778a3c-6c84-1014-8ba9-173f76a13fd6
This distribution has been tested as part of the CPAN Testers
project, supporting the Perl programming language. See
http://wiki.cpantesters.org/ for more information or email
questions to cpan-testers-discuss@perl.org
--
Dear Matt S Trout,
This is a computer-generated report for SQL-Abstract-2.000000
on perl 5.18.4, created by CPAN-Reporter-1.2018.
Thank you for uploading your work to CPAN. Congratulations!
All tests were successful.
Sections of this report:
* Tester comments
* Program output
* Prerequisites
* Environment and other context
------------------------------
TESTER COMMENTS
------------------------------
Additional comments from tester:
none provided
------------------------------
PROGRAM OUTPUT
------------------------------
Output from 'C:\Strawberry\c\bin\dmake.exe test':
C:\"Strawberry\perl\bin\perl.exe" "-MExtUtils::Command::MM" "-MTest::Harness" "-e" "undef *Test::Harness::Switches; test_harness(0, 'blib\lib', 'blib\arch')" t/*.t t/*/*.t
t/00new.t ................. ok
t/01generate.t ............ ok
t/02where.t ............... ok
t/03values.t .............. ok
t/04modifiers.t ........... ok
t/05in_between.t .......... ok
t/06order_by.t ............ ok
t/07subqueries.t .......... ok
t/08special_ops.t ......... ok
t/09refkind.t ............. ok
t/10test.t ................ ok
t/11parser.t .............. ok
t/12confmerge.t ........... ok
t/12format_keyword.t ...... ok
t/13whitespace_keyword.t .. ok
t/14roundtrippin.t ........ ok
t/15placeholders.t ........ ok
t/16no_sideeffects.t ...... ok
t/20injection_guard.t ..... ok
t/21op_ident.t ............ ok
t/22op_value.t ............ ok
t/23_is_X_value.t ......... ok
t/24order_by_chunks.t ..... ok
t/80extra_clauses.t ....... ok
t/dbic/bulk-insert.t ...... ok
t/dbic/no-repeats.t ....... ok
t/dbic/show-progress.t .... ok
All tests successful.
Files=27, Tests=3941, 22 wallclock secs ( 0.59 usr + 0.08 sys = 0.67 CPU)
Result: PASS
------------------------------
PREREQUISITES
------------------------------
Prerequisite modules loaded:
requires:
Module Need Have
--------------------- -------- ---------
Exporter 5.57 5.70
Hash::Merge 0.12 0.300
List::Util 0 1.55
Moo 2.000001 2.005_002
MRO::Compat 0.12 0.12
perl 5.006 5.018004
Scalar::Util 0 1.55
Sub::Quote 2.000001 2.006006
Test::Builder::Module 0.84 1.302183
Test::Deep 0.101 1.130
Text::Balanced 2.00 2.02
build_requires:
Module Need Have
--------------------- -------- ---------
Data::Dumper::Concise 0 2.023
Storable 0 2.51
Test::Exception 0.31 0.43
Test::More 0.88 1.302183
Test::Warn 0 0.30
configure_requires:
Module Need Have
--------------------- -------- ---------
ExtUtils::MakeMaker 0 7.58
------------------------------
ENVIRONMENT AND OTHER CONTEXT
------------------------------
Environment variables:
COMSPEC = C:\WINDOWS\system32\cmd.exe
NONINTERACTIVE_TESTING = 1
NUMBER_OF_PROCESSORS = 4
PATH = C:\home\golfball\perl5\bin;C:\WINDOWS\system32;C:\WINDOWS;C:\WINDOWS\System32\Wbem;C:\WINDOWS\System32\WindowsPowerShell\v1.0\;C:\Strawberry\c\bin;C:\Strawberry\perl\site\bin;C:\Strawberry\perl\bin
PERL5LIB = C:\home\golfball\perl5\lib\perl5
PERL5OPT =
PERL5_CPANPLUS_IS_RUNNING = 4104
PERL5_CPAN_IS_RUNNING = 4104
PERL_LOCAL_LIB_ROOT = C:\home\golfball\perl5
PERL_MB_OPT = --install_base "C:\\home\\golfball\\perl5"
PERL_MM_OPT = INSTALL_BASE=C:\\home\\golfball\\perl5
PERL_MM_USE_DEFAULT = 1
PERL_USE_UNSAFE_INC = 1
PROCESSOR_IDENTIFIER = Intel64 Family 6 Model 58 Stepping 9, GenuineIntel
TEMP = C:\Users\USER\AppData\Local\Temp
TERM = dumb
Perl special variables (and OS-specific diagnostics, for MSWin32):
$^X = C:\Strawberry\perl\bin\perl.exe
$UID/$EUID = 0 / 0
$GID = 0
$EGID = 0
Win32::GetOSName = Win8
Win32::GetOSVersion = , 6, 2, 9200, 2, 0, 0, 256, 1
Win32::FsType = NTFS
Win32::IsAdminUser = 0
Perl module toolchain versions installed:
Module Have
------------------- --------
CPAN 2.28
CPAN::Meta 2.150010
Cwd 3.47
ExtUtils::CBuilder 0.280235
ExtUtils::Command 7.58
ExtUtils::Install 2.20
ExtUtils::MakeMaker 7.58
ExtUtils::Manifest 1.73
ExtUtils::ParseXS 3.35
File::Spec 3.47
JSON 4.02
JSON::PP 4.05
Module::Build 0.4231
Module::Signature 0.87
Parse::CPAN::Meta 2.150010
Test::Harness 3.42
Test::More 1.302183
YAML 1.12
YAML::Syck 1.34
version 0.9928
--
Summary of my perl5 (revision 5 version 18 subversion 4) configuration:
Platform:
osname=MSWin32, osvers=6.3, archname=MSWin32-x64-multi-thread
uname='Win32 strawberry-perl 5.18.4.1 #1 Thu Oct 2 07:49:26 2014 x64'
config_args='undef'
hint=recommended, useposix=true, d_sigaction=undef
useithreads=define, usemultiplicity=define
useperlio=define, d_sfio=undef, uselargefiles=define, usesocks=undef
use64bitint=define, use64bitall=undef, uselongdouble=undef
usemymalloc=n, bincompat5005=undef
Compiler:
cc='gcc', ccflags =' -s -O2 -DWIN32 -DWIN64 -DCONSERVATIVE -DPERL_TEXTMODE_SCRIPTS -DPERL_IMPLICIT_CONTEXT -DPERL_IMPLICIT_SYS -DUSE_PERLIO -fno-strict-aliasing -mms-bitfields',
optimize='-s -O2',
cppflags='-DWIN32'
ccversion='', gccversion='4.7.3', gccosandvers=''
intsize=4, longsize=4, ptrsize=8, doublesize=8, byteorder=12345678
d_longlong=define, longlongsize=8, d_longdbl=define, longdblsize=12
ivtype='long long', ivsize=8, nvtype='double', nvsize=8, Off_t='long long', lseeksize=8
alignbytes=8, prototype=define
Linker and Libraries:
ld='g++', ldflags ='-s -L"C:\Strawberry\perl\lib\CORE" -L"C:\Strawberry\c\lib"'
libpth=C:\Strawberry\c\lib C:\Strawberry\c\x86_64-w64-mingw32\lib C:\Strawberry\c\lib\gcc\x86_64-w64-mingw32\4.7.3
libs=-lmoldname -lkernel32 -luser32 -lgdi32 -lwinspool -lcomdlg32 -ladvapi32 -lshell32 -lole32 -loleaut32 -lnetapi32 -luuid -lws2_32 -lmpr -lwinmm -lversion -lodbc32 -lodbccp32 -lcomctl32
perllibs=-lmoldname -lkernel32 -luser32 -lgdi32 -lwinspool -lcomdlg32 -ladvapi32 -lshell32 -lole32 -loleaut32 -lnetapi32 -luuid -lws2_32 -lmpr -lwinmm -lversion -lodbc32 -lodbccp32 -lcomctl32
libc=, so=dll, useshrplib=true, libperl=libperl518.a
gnulibc_version=''
Dynamic Linking:
dlsrc=dl_win32.xs, dlext=dll, d_dlsymun=undef, ccdlflags=' '
cccdlflags=' ', lddlflags='-mdll -s -L"C:\Strawberry\perl\lib\CORE" -L"C:\Strawberry\c\lib"'
Characteristics of this binary (from libperl):
Compile-time options: HAS_TIMES HAVE_INTERP_INTERN MULTIPLICITY
PERLIO_LAYERS PERL_DONT_CREATE_GVSV
PERL_HASH_FUNC_ONE_AT_A_TIME_HARD
PERL_IMPLICIT_CONTEXT PERL_IMPLICIT_SYS
PERL_MALLOC_WRAP PERL_PRESERVE_IVUV PERL_SAWAMPERSAND
USE_64_BIT_INT USE_ITHREADS USE_LARGE_FILES
USE_LOCALE USE_LOCALE_COLLATE USE_LOCALE_CTYPE
USE_LOCALE_NUMERIC USE_PERLIO USE_PERL_ATOF
Built under MSWin32
Compiled at Oct 2 2014 07:58:36
%ENV:
PERL5LIB="C:\home\golfball\perl5\lib\perl5"
PERL5_CPANPLUS_IS_RUNNING="4104"
PERL5_CPAN_IS_RUNNING="4104"
PERL_LOCAL_LIB_ROOT="C:\home\golfball\perl5"
PERL_MB_OPT="--install_base "C:\\home\\golfball\\perl5""
PERL_MM_OPT="INSTALL_BASE=C:\\home\\golfball\\perl5"
PERL_MM_USE_DEFAULT="1"
PERL_USE_UNSAFE_INC="1"
@INC:
C:\home\golfball\perl5\lib\perl5/MSWin32-x64-multi-thread
C:\home\golfball\perl5\lib\perl5
C:/Strawberry/perl/site/lib
C:/Strawberry/perl/vendor/lib
C:/Strawberry/perl/lib
.