Back
From: metabase:user:314402c4-2aae-11df-837a-5e0a49663a4f
Subject: PASS Text-VimColor-0.27 v5.24.1 GNU/Linux
Date: 2017-08-07T01:52:22Z
This distribution has been tested as part of the CPAN Testers
project, supporting the Perl programming language. See
http://wiki.cpantesters.org/ for more information or email
questions to cpan-testers-discuss@perl.org
--
Dear Randy Stauner,
This is a computer-generated report for Text-VimColor-0.27
on perl 5.24.1, created by CPAN-Reporter-1.2018.
Thank you for uploading your work to CPAN. Congratulations!
All tests were successful.
Sections of this report:
* Tester comments
* Program output
* Prerequisites
* Environment and other context
------------------------------
TESTER COMMENTS
------------------------------
Additional comments from tester:
none provided
------------------------------
PROGRAM OUTPUT
------------------------------
Output from '/usr/bin/make test':
Skip blib/lib/auto/share/dist/Text-VimColor/light.xsl (unchanged)
Skip blib/lib/auto/share/dist/Text-VimColor/mark.vim (unchanged)
Skip blib/lib/auto/share/dist/Text-VimColor/define_all.vim (unchanged)
Skip blib/lib/auto/share/dist/Text-VimColor/light.css (unchanged)
PERL_DL_NONLAZY=1 "/opt/perl-5.24.1/bin/perl5.24.1" "-MExtUtils::Command::MM" "-MTest::Harness" "-e" "undef *Test::Harness::Switches; test_harness(0, 'blib/lib', 'blib/arch')" t/*.t
t/00-compile.t ......... ok
#
# Versions for all modules listed in MYMETA.json (including optional ones):
#
# === Configure Requires ===
#
# Module Want Have
# ----------------------- ---- ------
# ExtUtils::MakeMaker any 7.30
# File::ShareDir::Install 0.06 0.11
# File::Temp any 0.2304
# IO::File any 1.16
# IPC::Open3 any 1.20
# strict any 1.11
# warnings any 1.36
#
# === Build Requires ===
#
# Module Want Have
# ------------------- ---- ----
# ExtUtils::MakeMaker any 7.30
#
# === Test Requires ===
#
# Module Want Have
# -------------------------- ---- --------
# Exporter any 5.72
# ExtUtils::MakeMaker any 7.30
# File::Spec any 3.63_01
# File::Temp any 0.2304
# IO::Handle any 1.36
# IPC::Open3 any 1.20
# Path::Class 0.04 0.37
# Test::File::ShareDir::Dist any 1.001002
# Test::More 0.88 1.302085
# blib 1.01 1.06
# lib any 0.63
#
# === Test Recommends ===
#
# Module Want Have
# ---------- -------- --------
# CPAN::Meta 2.120900 2.150005
#
# === Runtime Requires ===
#
# Module Want Have
# --------------- ---- ------
# Carp any 1.40
# File::Copy any 2.31
# File::ShareDir any 1.104
# File::Temp any 0.2304
# Getopt::Long any 2.48
# IO::File any 1.16
# IPC::Open3 any 1.20
# Path::Class 0.04 0.37
# Symbol any 1.07
# Term::ANSIColor 1.03 4.06
# constant any 1.33
# strict any 1.11
# warnings any 1.36
#
# === Runtime Recommends ===
#
# Module Want Have
# --------------- ---- ----
# Term::ANSIColor 3 4.06
#
t/00-report-prereqs.t .. ok
# vim --version
#
# VIM - Vi IMproved 7.4 (2013 Aug 10, compiled Nov 24 2016 16:44:48)
# Included patches: 1-1689
# Extra patches: 8.0.0056
# Modified by pkg-vim-maintainers@lists.alioth.debian.org
# Compiled by pkg-vim-maintainers@lists.alioth.debian.org
# Huge version without GUI. Features included (+) or not (-):
# +acl +farsi +mouse_netterm +tag_binary
# +arabic +file_in_path +mouse_sgr +tag_old_static
# +autocmd +find_in_path -mouse_sysmouse -tag_any_white
# -balloon_eval +float +mouse_urxvt -tcl
# -browse +folding +mouse_xterm +terminfo
# ++builtin_terms -footer +multi_byte +termresponse
# +byte_offset +fork() +multi_lang +textobjects
# +channel +gettext -mzscheme +timers
# +cindent -hangul_input +netbeans_intg +title
# -clientserver +iconv +packages -toolbar
# -clipboard +insert_expand +path_extra +user_commands
# +cmdline_compl +job -perl +vertsplit
# +cmdline_hist +jumplist +persistent_undo +virtualedit
# +cmdline_info +keymap +postscript +visual
# +comments +langmap +printer +visualextra
# +conceal +libcall +profile +viminfo
# +cryptv +linebreak -python +vreplace
# +cscope +lispindent +python3 +wildignore
# +cursorbind +listcmds +quickfix +wildmenu
# +cursorshape +localmap +reltime +windows
# +dialog_con -lua +rightleft +writebackup
# +diff +menu -ruby -X11
# +digraphs +mksession +scrollbind -xfontset
# -dnd +modify_fname +signs -xim
# -ebcdic +mouse +smartindent -xsmp
# +emacs_tags -mouseshape +startuptime -xterm_clipboard
# +eval +mouse_dec +statusline -xterm_save
# +ex_extra +mouse_gpm -sun_workshop -xpm
# +extra_search -mouse_jsbterm +syntax
# system vimrc file: "$VIM/vimrc"
# user vimrc file: "$HOME/.vimrc"
# 2nd user vimrc file: "~/.vim/vimrc"
# user exrc file: "$HOME/.exrc"
# fall-back for $VIM: "/usr/share/vim"
# Compilation: gcc -c -I. -Iproto -DHAVE_CONFIG_H -Wdate-time -g -O2 -fPIE -fstack-protector-strong -Wformat -Werror=format-security -U_FORTIFY_SOURCE -D_FORTIFY_SOURCE=1
# Linking: gcc -Wl,-Bsymbolic-functions -fPIE -pie -Wl,-z,relro -Wl,-z,now -Wl,--as-needed -o vim -lm -ltinfo -lnsl -lselinux -lacl -lattr -lgpm -ldl -L/usr/lib/python3.5/config-3.5m-x86_64-linux-gnu -lpython3.5m -lpthread -ldl -lutil -lm
#
t/000-vim-version.t .... ok
t/all-syntax-groups.t .. ok
t/ansi.t ............... ok
t/bin.t ................ ok
t/compare-formats.t .... ok
t/encoding.t ........... ok
t/html.t ............... ok
t/input_filename.t ..... ok
t/new.t ................ ok
t/override-options.t ... ok
t/share-dir.t .......... ok
t/tvctestsyn.t ......... ok
t/untie-std-handles.t .. ok
t/vim_let.t ............ ok
t/vim_options.t ........ ok
t/xml.t ................ ok
All tests successful.
Test Summary Report
-------------------
t/encoding.t (Wstat: 0 Tests: 8 Failed: 0)
TODO passed: 5-6
Files=18, Tests=143, 3 wallclock secs ( 0.03 usr 0.07 sys + 2.04 cusr 0.52 csys = 2.66 CPU)
Result: PASS
------------------------------
PREREQUISITES
------------------------------
Prerequisite modules loaded:
requires:
Module Need Have
-------------------------- -------- --------
Carp 0 1.40
constant 0 1.33
File::Copy 0 2.31
File::ShareDir 0 1.104
File::Temp 0 0.2304
Getopt::Long 0 2.48
IO::File 0 1.16
IPC::Open3 0 1.20
Path::Class 0.04 0.37
perl 5.006 5.024001
strict 0 1.11
Symbol 0 1.07
Term::ANSIColor 1.03 4.06
warnings 0 1.36
build_requires:
Module Need Have
-------------------------- -------- --------
blib 1.01 1.06
Exporter 0 5.72
ExtUtils::MakeMaker 0 7.30
File::Spec 0 3.63_01
File::Temp 0 0.2304
IO::Handle 0 1.36
IPC::Open3 0 1.20
lib 0 0.63
Path::Class 0.04 0.37
Test::File::ShareDir::Dist 0 1.001002
Test::More 0.88 1.302085
configure_requires:
Module Need Have
-------------------------- -------- --------
ExtUtils::MakeMaker 0 7.30
File::ShareDir::Install 0.06 0.11
File::Temp 0 0.2304
IO::File 0 1.16
IPC::Open3 0 1.20
perl 5.006 5.024001
strict 0 1.11
warnings 0 1.36
opt_requires:
Module Need Have
-------------------------- -------- --------
Term::ANSIColor 3 4.06
opt_build_requires:
Module Need Have
-------------------------- -------- --------
CPAN::Meta 2.120900 2.150005
------------------------------
ENVIRONMENT AND OTHER CONTEXT
------------------------------
Environment variables:
LANG = en_US.UTF-8
PATH = /usr/local/bin:/usr/bin:/bin:/usr/local/sbin:/usr/sbin:/sbin:/home/cpansand/bin/linux-gnu:/home/cpansand/bin/sh:/home/cpansand/bin:/usr/games:/home/cpansand/devel:/home/eserte/src/srezic-misc/scripts
PERL5LIB =
PERL5OPT =
PERL5_CPANPLUS_IS_RUNNING = 13424
PERL5_CPAN_IS_RUNNING = 13424
PERL5_CPAN_IS_RUNNING_IN_RECURSION = 13338,13424
PERLDOC = -MPod::Perldoc::ToTextOverstrike
PERL_BATCH = yes
PERL_CANARY_STABILITY_NOPROMPT = 1
PERL_CPAN_REPORTER_CONFIG = /var/tmp/cpansmoker-1023/2017080700/cpanreporter_000_config.ini
PERL_EXTUTILS_AUTOINSTALL = --defaultdeps
SHELL = /usr/bin/zsh
TERM = screen
TMPDIR = /var/tmp/cpansmoker-1023/2017080700
Perl special variables (and OS-specific diagnostics, for MSWin32):
$^X = /opt/perl-5.24.1/bin/perl5.24.1
$UID/$EUID = 1023 / 1023
$GID = 1023 1023
$EGID = 1023 1023
Perl module toolchain versions installed:
Module Have
------------------- ----------
CPAN 2.11_01
CPAN::Meta 2.150005
Cwd 3.63_01
ExtUtils::CBuilder 0.280225
ExtUtils::Command 7.30
ExtUtils::Install 2.06
ExtUtils::MakeMaker 7.30
ExtUtils::Manifest 1.70
ExtUtils::ParseXS 3.31
File::Spec 3.63_01
JSON 2.94
JSON::PP 2.94
Module::Build 0.4224
Module::Signature 0.81
Parse::CPAN::Meta 1.4417_001
Test::Harness 3.36_01
Test::More 1.302085
YAML 1.23
YAML::Syck 1.30
version 0.9916
--
Summary of my perl5 (revision 5 version 24 subversion 1) configuration:
Platform:
osname=linux, osvers=4.4.0-81-generic, archname=x86_64-linux
uname='linux ubuntu16 4.4.0-81-generic #104-ubuntu smp wed jun 14 08:17:06 utc 2017 x86_64 x86_64 x86_64 gnulinux '
config_args='-ds -e -Dprefix=/opt/perl-5.24.1 -Dcf_email=srezic@cpan.org'
hint=recommended, useposix=true, d_sigaction=define
useithreads=undef, usemultiplicity=undef
use64bitint=define, use64bitall=define, uselongdouble=undef
usemymalloc=n, bincompat5005=undef
Compiler:
cc='cc', ccflags ='-fwrapv -fno-strict-aliasing -pipe -fstack-protector-strong -I/usr/local/include -D_LARGEFILE_SOURCE -D_FILE_OFFSET_BITS=64',
optimize='-O2',
cppflags='-fwrapv -fno-strict-aliasing -pipe -fstack-protector-strong -I/usr/local/include'
ccversion='', gccversion='5.4.0 20160609', gccosandvers=''
intsize=4, longsize=8, ptrsize=8, doublesize=8, byteorder=12345678, doublekind=3
d_longlong=define, longlongsize=8, d_longdbl=define, longdblsize=16, longdblkind=3
ivtype='long', ivsize=8, nvtype='double', nvsize=8, Off_t='off_t', lseeksize=8
alignbytes=8, prototype=define
Linker and Libraries:
ld='cc', ldflags =' -fstack-protector-strong -L/usr/local/lib'
libpth=/usr/local/lib /usr/lib/gcc/x86_64-linux-gnu/5/include-fixed /usr/include/x86_64-linux-gnu /usr/lib /lib/x86_64-linux-gnu /lib/../lib /usr/lib/x86_64-linux-gnu /usr/lib/../lib /lib
libs=-lpthread -lnsl -lgdbm -ldb -ldl -lm -lcrypt -lutil -lc -lgdbm_compat
perllibs=-lpthread -lnsl -ldl -lm -lcrypt -lutil -lc
libc=libc-2.23.so, so=so, useshrplib=false, libperl=libperl.a
gnulibc_version='2.23'
Dynamic Linking:
dlsrc=dl_dlopen.xs, dlext=so, d_dlsymun=undef, ccdlflags='-Wl,-E'
cccdlflags='-fPIC', lddlflags='-shared -O2 -L/usr/local/lib -fstack-protector-strong'
Characteristics of this binary (from libperl):
Compile-time options: HAS_TIMES PERLIO_LAYERS PERL_COPY_ON_WRITE
PERL_DONT_CREATE_GVSV
PERL_HASH_FUNC_ONE_AT_A_TIME_HARD PERL_MALLOC_WRAP
PERL_PRESERVE_IVUV USE_64_BIT_ALL USE_64_BIT_INT
USE_LARGE_FILES USE_LOCALE USE_LOCALE_COLLATE
USE_LOCALE_CTYPE USE_LOCALE_NUMERIC USE_LOCALE_TIME
USE_PERLIO USE_PERL_ATOF
Built under linux
Compiled at Jun 21 2017 05:36:18
%ENV:
PERL5LIB=""
PERL5OPT=""
PERL5_CPANPLUS_IS_RUNNING="13424"
PERL5_CPAN_IS_RUNNING="13424"
PERL5_CPAN_IS_RUNNING_IN_RECURSION="13338,13424"
PERLDOC="-MPod::Perldoc::ToTextOverstrike"
PERL_BATCH="yes"
PERL_CANARY_STABILITY_NOPROMPT="1"
PERL_CPAN_REPORTER_CONFIG="/var/tmp/cpansmoker-1023/2017080700/cpanreporter_000_config.ini"
PERL_EXTUTILS_AUTOINSTALL="--defaultdeps"
@INC:
/opt/perl-5.24.1/lib/site_perl/5.24.1/x86_64-linux
/opt/perl-5.24.1/lib/site_perl/5.24.1
/opt/perl-5.24.1/lib/5.24.1/x86_64-linux
/opt/perl-5.24.1/lib/5.24.1
.