Spreadsheet-ParseXLSX v0.27 Perl 5 v5.24.3 OpenBSD.amd64-openbsd
- Status
- Pass
- From
- Alceu Rodrigues de Freitas Junior
- Dist
-
Spreadsheet-ParseXLSX v0.27
- Platform
- Perl 5 v5.24.3 OpenBSD.amd64-openbsd
- Date
- 2018-02-19 21:22:56
- ID
- 0dbeb51e-15bb-11e8-98b5-f8bbf24e1a0e
This distribution has been tested as part of the CPAN Testers
project, supporting the Perl programming language. See
http://wiki.cpantesters.org/ for more information or email
questions to cpan-testers-discuss@perl.org
--
Dear Jesse Luehrs,
This is a computer-generated report for Spreadsheet-ParseXLSX-0.27
on perl 5.24.3, created by CPAN-Reporter-1.2018.
Thank you for uploading your work to CPAN. Congratulations!
All tests were successful.
Sections of this report:
* Tester comments
* Program output
* Prerequisites
* Environment and other context
------------------------------
TESTER COMMENTS
------------------------------
Additional comments from tester:
this report is from an automated smoke testing program
and was not reviewed by a human for accuracy
------------------------------
PROGRAM OUTPUT
------------------------------
Output from '/usr/bin/make test':
PERL_DL_NONLAZY=1 "/home/vegeta/perl5/perlbrew/perls/cperl-5.24.3/bin/cperl" "-MExtUtils::Command::MM" "-MTest::Harness" "-e" "undef *Test::Harness::Switches; test_harness(0, 'blib/lib', 'blib/arch')" t/*.t
t/00-compile.t ............. ok
t/basic.t .................. ok
t/bug-10.t ................. ok
t/bug-11.t ................. ok
t/bug-12.t ................. ok
t/bug-13.t ................. ok
t/bug-14.t ................. ok
t/bug-15.t ................. ok
t/bug-16.t ................. ok
t/bug-17.t ................. ok
t/bug-2.t .................. ok
t/bug-29.t ................. ok
t/bug-3.t .................. ok
t/bug-32.t ................. ok
t/bug-38.t ................. ok
t/bug-4.t .................. ok
t/bug-41.t ................. ok
t/bug-5.t .................. ok
t/bug-57.t ................. ok
t/bug-6-2.t ................ ok
t/bug-6.t .................. ok
t/bug-61.t ................. ok
t/bug-7.t .................. ok
t/bug-8.t .................. ok
t/cell-to-row-col.t ........ ok
t/column-formats.t ......... ok
t/encryption.t ............. ok
t/hidden-row-and-column.t .. ok
t/hidden-sheet.t ........... ok
t/page-Setup.t ............. ok
t/rich.t ................... ok
t/tab-color.t .............. ok
t/target-abspath.t ......... ok
All tests successful.
Files=33, Tests=1211, 151 wallclock secs ( 0.23 usr 0.44 sys + 131.15 cusr 11.72 csys = 143.54 CPU)
Result: PASS
------------------------------
PREREQUISITES
------------------------------
Prerequisite modules loaded:
requires:
Module Need Have
----------------------- ----- --------
Archive::Zip 0 1.60
base 0 2.23_01
Crypt::Mode::CBC 0 0.057
Crypt::Mode::ECB 0 0.057
Digest::SHA 0 6.01
Encode 0 2.96
File::Temp 0 0.2304
Graphics::ColorUtils 0 0.17
MIME::Base64 0 3.15
OLE::Storage_Lite 0 0.19
perl 5.010 5.024003
Scalar::Util 0 1.49_10
Spreadsheet::ParseExcel 0.61 0.65
strict 0 1.10c
warnings 0 1.35
XML::Twig 0 3.52
build_requires:
Module Need Have
----------------------- ----- --------
blib 1.01 1.06
ExtUtils::MakeMaker 0 8.30_04
File::Spec 0 4.64c
IO::Handle 0 1.37
IPC::Open3 0 1.20
Test::More 0.88 1.302122
configure_requires:
Module Need Have
----------------------- ----- --------
ExtUtils::MakeMaker 0 8.30_04
------------------------------
ENVIRONMENT AND OTHER CONTEXT
------------------------------
Environment variables:
AUTOMATED_TESTING = 1
DBD_MYSQL_TESTDB = test
DBD_MYSQL_TESTHOST = localhost
DBD_MYSQL_TESTPASSWORD =
DBD_MYSQL_TESTPORT = 3306
DBD_MYSQL_TESTUSER = vegeta
EXTENDED_TESTING = 1
PATH = /home/vegeta/perl5/perlbrew/bin:/home/vegeta/perl5/perlbrew/perls/cperl-5.24.3/bin:/home/vegeta/bin:/usr/bin:/bin:/usr/sbin:/sbin:/usr/X11R6/bin:/usr/local/bin:/usr/local/sbin
PERL5LIB =
PERL5OPT =
PERL5_CPANPLUS_IS_RUNNING = 32654
PERL5_CPAN_IS_RUNNING = 32654
PERL5_CPAN_IS_RUNNING_IN_RECURSION = 87348,32654
PERLBREW_HOME = /home/vegeta/.perlbrew
PERLBREW_MANPATH = /home/vegeta/perl5/perlbrew/perls/cperl-5.24.3/man
PERLBREW_PATH = /home/vegeta/perl5/perlbrew/bin:/home/vegeta/perl5/perlbrew/perls/cperl-5.24.3/bin
PERLBREW_PERL = cperl-5.24.3
PERLBREW_ROOT = /home/vegeta/perl5/perlbrew
PERLBREW_SHELLRC_VERSION = 0.82
PERLBREW_VERSION = 0.82
PERL_CR_SMOKER_CURRENT = Bio-Gonzales-0.076
PERL_EXTUTILS_AUTOINSTALL = --defaultdeps
PERL_MM_USE_DEFAULT = 1
PERL_USE_UNSAFE_INC = 1
SHELL = /usr/local/bin/bash
TERM = xterm
Perl special variables (and OS-specific diagnostics, for MSWin32):
$^X = /home/vegeta/perl5/perlbrew/perls/cperl-5.24.3/bin/cperl
$UID/$EUID = 1002 / 1002
$GID = 1002 1002 1001
$EGID = 1002 1002 1001
Perl module toolchain versions installed:
Module Have
------------------- ----------
CPAN 2.18_01
CPAN::Meta 2.150010
Cwd 4.64c
ExtUtils::CBuilder 0.280230
ExtUtils::Command 7.30
ExtUtils::Install 2.14
ExtUtils::MakeMaker 8.30_04
ExtUtils::Manifest 1.70
ExtUtils::ParseXS 3.36_03
File::Spec 4.64c
JSON 2.97001
JSON::PP 2.97001_04
Module::Build 0.4224
Module::Signature n/a
Parse::CPAN::Meta 2.150010
Test::Harness 3.39_01
Test::More 1.302122
YAML 1.24
YAML::Syck 1.30
version 0.9918_02c
--
Summary of my cperl (revision 5 version 24 subversion 3) configuration:
Platform:
osname=openbsd, osvers=6.2, archname=OpenBSD.amd64-openbsd
uname='openbsd cpan-smoker-openbsd 6.2 generic.mp#134 amd64 '
config_args='-de -Dprefix=/home/vegeta/perl5/perlbrew/perls/cperl-5.24.3 -Dusecperl -Aeval:scriptdir=/home/vegeta/perl5/perlbrew/perls/cperl-5.24.3/bin'
hint=recommended, useposix=true, d_sigaction=define
useithreads=undef, usemultiplicity=undef
use64bitint=define, use64bitall=define, uselongdouble=undef
usemymalloc=n, bincompat5005=undef
Compiler:
cc='cc', ccflags ='-fno-strict-aliasing -pipe -fstack-protector-strong -I/usr/local/include -D_FORTIFY_SOURCE=2',
optimize='-O2',
cppflags='-fno-strict-aliasing -pipe -fstack-protector-strong -I/usr/local/include'
ccversion='', gccversion='4.2.1 Compatible OpenBSD Clang 4.0.0 (tags/RELEASE_400/final)', gccosandvers=''
intsize=4, longsize=8, ptrsize=8, doublesize=8, byteorder=12345678, doublekind=3
d_longlong=define, longlongsize=8, d_longdbl=define, longdblsize=16, longdblkind=3
ivtype='long', ivsize=8, nvtype='double', nvsize=8, Off_t='off_t', lseeksize=8
alignbytes=8, prototype=define
Linker and Libraries:
ld='cc', ldflags ='-Wl,-E -fstack-protector-strong -L/usr/local/lib'
libpth=/usr/lib /usr/local/lib
libs=-lpthread -lm -lutil -lc
perllibs=-lpthread -lm -lutil -lc
libc=/usr/lib/libc.so.90.0, so=so, useshrplib=false, libperl=libperl.a
gnulibc_version=''
Dynamic Linking:
dlsrc=dl_dlopen.xs, dlext=so, d_dlsymun=undef, ccdlflags=' '
cccdlflags='-DPIC -fPIC ', lddlflags='-shared -fPIC -L/usr/local/lib -fstack-protector-strong'
Characteristics of this binary (from libperl):
Compile-time options: HAS_TIMES PERLIO_LAYERS PERL_COPY_ON_WRITE
PERL_DONT_CREATE_GVSV PERL_HASH_FUNC_FNV1A
PERL_MALLOC_WRAP PERL_PERTURB_KEYS_TOP
PERL_PRESERVE_IVUV USE_64_BIT_ALL USE_64_BIT_INT
USE_CPERL USE_LARGE_FILES USE_LOCALE
USE_LOCALE_COLLATE USE_LOCALE_CTYPE
USE_LOCALE_NUMERIC USE_LOCALE_TIME USE_PERLIO
USE_PERL_ATOF
Built under openbsd
Compiled at Feb 15 2018 20:07:58
%ENV:
PERL5LIB=""
PERL5OPT=""
PERL5_CPANPLUS_IS_RUNNING="32654"
PERL5_CPAN_IS_RUNNING="32654"
PERL5_CPAN_IS_RUNNING_IN_RECURSION="87348,32654"
PERLBREW_HOME="/home/vegeta/.perlbrew"
PERLBREW_MANPATH="/home/vegeta/perl5/perlbrew/perls/cperl-5.24.3/man"
PERLBREW_PATH="/home/vegeta/perl5/perlbrew/bin:/home/vegeta/perl5/perlbrew/perls/cperl-5.24.3/bin"
PERLBREW_PERL="cperl-5.24.3"
PERLBREW_ROOT="/home/vegeta/perl5/perlbrew"
PERLBREW_SHELLRC_VERSION="0.82"
PERLBREW_VERSION="0.82"
PERL_CR_SMOKER_CURRENT="Bio-Gonzales-0.076"
PERL_EXTUTILS_AUTOINSTALL="--defaultdeps"
PERL_MM_USE_DEFAULT="1"
PERL_USE_UNSAFE_INC="1"
@INC:
/home/vegeta/perl5/perlbrew/perls/cperl-5.24.3/lib/site_cperl/5.24.3/OpenBSD.amd64-openbsd
/home/vegeta/perl5/perlbrew/perls/cperl-5.24.3/lib/site_cperl/5.24.3
/home/vegeta/perl5/perlbrew/perls/cperl-5.24.3/lib/5.24.3/OpenBSD.amd64-openbsd
/home/vegeta/perl5/perlbrew/perls/cperl-5.24.3/lib/5.24.3
.