Markdown-Perl v1.10 Perl 5 v5.40.0 aarch64-linux

Status
Pass
From
Slaven Rezić
Dist
Markdown-Perl v1.10
Platform
Perl 5 v5.40.0 aarch64-linux
Date
2025-04-17 21:15:14
ID
0de9384c-1bd1-11f0-b54d-652f6e8775ea
This distribution has been tested as part of the CPAN Testers
project, supporting the Perl programming language.  See
http://wiki.cpantesters.org/ for more information or email
questions to cpan-testers-discuss@perl.org


--
Dear Mathias Kende,

This is a computer-generated report for Markdown-Perl-1.10
on perl 5.40.0, created by CPAN-Reporter-1.2020.

Thank you for uploading your work to CPAN.  Congratulations!
All tests were successful.

Sections of this report:

    * Tester comments
    * Program output
    * Prerequisites
    * Environment and other context

------------------------------
TESTER COMMENTS
------------------------------

Additional comments from tester:

none provided

------------------------------
PROGRAM OUTPUT
------------------------------

Output from '/usr/bin/make test':

PERL_DL_NONLAZY=1 "/opt/perl-5.40.0/bin/perl" "-MExtUtils::Command::MM" "-MTest::Harness" "-e" "undef *Test::Harness::Switches; test_harness(0, 'blib/lib', 'blib/arch')" t/*.t
t/001-podsyntax.t .............................. skipped: Extended test. Run manually or set $ENV{EXTENDED_TESTING} to a true value to run.
t/100-util.t ................................... ok
t/101-inline-tree.t ............................ ok
t/102-html.t ................................... ok
t/001-cpanfile.t ............................... skipped: Extended test. Run manually or set $ENV{EXTENDED_TESTING} to a true value to run.
t/000-load.t ................................... ok
t/200-basic-leaf-blocks.t ...................... ok
t/201-basic-container-blocks.t ................. ok
t/202-basic-inline-rendering.t ................. ok
t/203-options.t ................................ ok
t/302-reference-links.t ........................ ok
t/301-inlines.t ................................ ok
t/300-containers.t ............................. ok
t/303-lists.t .................................. ok
t/400-opt-allow_spaces_in_links.t .............. ok
YAML Metadata (Markdown frontmatter) is invalid at /home/cpansand/.cpan/build/2025041721/Markdown-Perl-1.10-1/blib/lib/Markdown/Perl.pm line 116.
t/304-file_metadata.t .......................... ok
t/400-opt-allow_task_list_markers.t ............ ok
t/400-opt-multi_lines_setext_headings.t ........ ok
t/400-opt-fenced_code_blocks_must_be_closed.t .. ok
t/400-opt-disallowed_html_tags.t ............... ok
t/400-opt-inline_delimiters_max_run_length.t ... ok
t/400-opt-inline_delimiters.t .................. ok
t/400-opt-lists_can_interrupt_paragraph.t ...... ok
t/400-opt-render_naked_paragraphs.t ............ ok
t/400-opt-use_fenced_code_blocks.t ............. ok
t/400-opt-two_spaces_hard_line_breaks.t ........ ok
t/500-hooks-resolve_link_ref.t ................. ok
t/800-bugs.t ................................... ok
t/500-hooks-yaml_metadata.t .................... ok
t/902-markdown-test-suite.t .................... skipped: MMD-Test-Suite must be checked out.
t/904-pmarkdown.t .............................. skipped: The Syntax.md file is not part of this distribution
t/903-mmd-test-suite.t ......................... skipped: MMD-Test-Suite must be checked out.
t/900-cmark-test-suite.t ....................... ok
t/901-github-test-suite.t ...................... ok
t/801-fuzzing.t ................................ ok
All tests successful.
Files=35, Tests=2155,  6 wallclock secs ( 0.37 usr  0.10 sys +  8.33 cusr  1.17 csys =  9.97 CPU)
Result: PASS

------------------------------
PREREQUISITES
------------------------------

Prerequisite modules loaded:

requires:

    Module                        Need    Have    
    ----------------------------- ------- --------
    Encode::Locale                0       1.05    
    List::MoreUtils               0       0.430   
    List::Util                    1.45    1.69    
    perl                          5.026   5.040000
    Readonly                      0       2.05    
    Unicode::CaseFold             0       1.01    
    YAML::Tiny                    0       1.74    

build_requires:

    Module                        Need    Have    
    ----------------------------- ------- --------
    ExtUtils::MakeMaker           0       7.72    
    JSON                          0       4.10    
    Readonly                      0       2.05    
    Test2::V0                     0       1.302209
    Test::CPANfile                0       0.08    
    Test::More                    0       1.302209
    Text::Diff                    0       1.45    
    YAML::PP                      0       v0.38.0 

configure_requires:

    Module                        Need    Have    
    ----------------------------- ------- --------
    ExtUtils::MakeMaker::CPANfile 0.09    0.09    
    perl                          v5.26.0 5.040000


------------------------------
ENVIRONMENT AND OTHER CONTEXT
------------------------------

Environment variables:

    LANG = en_US.UTF-8
    PATH = /usr/local/bin:/usr/bin:/bin:/usr/local/sbin:/usr/sbin:/sbin:/home/cpansand/bin/linux-gnu:/home/cpansand/bin/sh:/home/cpansand/bin:/usr/games:/home/cpansand/devel:/home/eserte/src/srezic-misc/scripts
    PERL5LIB = /home/cpansand/.local/share/.cpan/build/2025041721/Unicode-CaseFold-1.01-1/blib/arch:/home/cpansand/.local/share/.cpan/build/2025041721/Unicode-CaseFold-1.01-1/blib/lib
    PERL5OPT = 
    PERL5_CPANPLUS_IS_RUNNING = 2455456
    PERL5_CPAN_IS_RUNNING = 2455456
    PERL5_CPAN_IS_RUNNING_IN_RECURSION = 2455035,2455456
    PERLDOC = -MPod::Perldoc::ToTextOverstrike
    PERL_BATCH = yes
    PERL_CANARY_STABILITY_NOPROMPT = 1
    PERL_CPAN_REPORTER_CONFIG = /var/tmp/cpansmoker-1023/2025041721/cpanreporter_000_config.ini
    PERL_EXTUTILS_AUTOINSTALL = --defaultdeps
    PERL_USE_UNSAFE_INC = 1
    SHELL = /usr/bin/zsh
    TERM = screen
    TMPDIR = /var/tmp/cpansmoker-1023/2025041721

Perl special variables (and OS-specific diagnostics, for MSWin32):

    $^X = /opt/perl-5.40.0/bin/perl
    $UID/$EUID = 1023 / 1023
    $GID = 1023 1023
    $EGID = 1023 1023

Perl module toolchain versions installed:

    Module              Have    
    ------------------- --------
    CPAN                2.36    
    CPAN::Meta          2.150010
    Cwd                 3.90    
    ExtUtils::CBuilder  0.280240
    ExtUtils::Command   7.72    
    ExtUtils::Install   2.22    
    ExtUtils::MakeMaker 7.72    
    ExtUtils::Manifest  1.75    
    ExtUtils::ParseXS   3.51    
    File::Spec          3.90    
    JSON                4.10    
    JSON::PP            4.16    
    Module::Build       0.4234  
    Module::Signature   n/a     
    Parse::CPAN::Meta   2.150010
    Test2               1.302209
    Test::Harness       3.48    
    Test::More          1.302209
    YAML                1.31    
    YAML::Syck          1.34    
    version             0.9930  


--

Summary of my perl5 (revision 5 version 40 subversion 0) configuration:
   
  Platform:
    osname=linux
    osvers=6.8.0-35-generic
    archname=aarch64-linux
    uname='linux cloud6.bbbike.org 6.8.0-35-generic #35-ubuntu smp preempt_dynamic tue may 21 07:52:29 utc 2024 aarch64 aarch64 aarch64 gnulinux '
    config_args='-ds -e -Dprefix=/opt/perl-5.40.0 -Uinstallusrbinperl -Dcf_email=srezic@cpan.org'
    hint=recommended
    useposix=true
    d_sigaction=define
    useithreads=undef
    usemultiplicity=undef
    use64bitint=define
    use64bitall=define
    uselongdouble=undef
    usemymalloc=n
    default_inc_excludes_dot=define
  Compiler:
    cc='cc'
    ccflags ='-fwrapv -fno-strict-aliasing -pipe -fstack-protector-strong -I/usr/local/include -D_LARGEFILE_SOURCE -D_FILE_OFFSET_BITS=64'
    optimize='-O2'
    cppflags='-fwrapv -fno-strict-aliasing -pipe -fstack-protector-strong -I/usr/local/include'
    ccversion=''
    gccversion='13.2.0'
    gccosandvers=''
    intsize=4
    longsize=8
    ptrsize=8
    doublesize=8
    byteorder=12345678
    doublekind=3
    d_longlong=define
    longlongsize=8
    d_longdbl=define
    longdblsize=16
    longdblkind=1
    ivtype='long'
    ivsize=8
    nvtype='double'
    nvsize=8
    Off_t='off_t'
    lseeksize=8
    alignbytes=8
    prototype=define
  Linker and Libraries:
    ld='cc'
    ldflags =' -fstack-protector-strong -L/usr/local/lib'
    libpth=/usr/local/lib /usr/lib/aarch64-linux-gnu /usr/lib
    libs=-lpthread -ldb -ldl -lm -lcrypt -lutil -lc
    perllibs=-lpthread -ldl -lm -lcrypt -lutil -lc
    libc=/lib/aarch64-linux-gnu/libc.so.6
    so=so
    useshrplib=false
    libperl=libperl.a
    gnulibc_version='2.39'
  Dynamic Linking:
    dlsrc=dl_dlopen.xs
    dlext=so
    d_dlsymun=undef
    ccdlflags='-Wl,-E'
    cccdlflags='-fPIC'
    lddlflags='-shared -O2 -L/usr/local/lib -fstack-protector-strong'


Characteristics of this binary (from libperl): 
  Compile-time options:
    HAS_LONG_DOUBLE
    HAS_STRTOLD
    HAS_TIMES
    PERLIO_LAYERS
    PERL_COPY_ON_WRITE
    PERL_DONT_CREATE_GVSV
    PERL_HASH_FUNC_SIPHASH13
    PERL_HASH_USE_SBOX32
    PERL_MALLOC_WRAP
    PERL_OP_PARENT
    PERL_PRESERVE_IVUV
    PERL_USE_SAFE_PUTENV
    USE_64_BIT_ALL
    USE_64_BIT_INT
    USE_LARGE_FILES
    USE_LOCALE
    USE_LOCALE_COLLATE
    USE_LOCALE_CTYPE
    USE_LOCALE_NUMERIC
    USE_LOCALE_TIME
    USE_PERLIO
    USE_PERL_ATOF
  Built under linux
  Compiled at Jun 10 2024 21:14:35
  %ENV:
    PERL5LIB="/home/cpansand/.local/share/.cpan/build/2025041721/Unicode-CaseFold-1.01-1/blib/arch:/home/cpansand/.local/share/.cpan/build/2025041721/Unicode-CaseFold-1.01-1/blib/lib"
    PERL5OPT=""
    PERL5_CPANPLUS_IS_RUNNING="2455456"
    PERL5_CPAN_IS_RUNNING="2455456"
    PERL5_CPAN_IS_RUNNING_IN_RECURSION="2455035,2455456"
    PERLDOC="-MPod::Perldoc::ToTextOverstrike"
    PERL_BATCH="yes"
    PERL_CANARY_STABILITY_NOPROMPT="1"
    PERL_CPAN_REPORTER_CONFIG="/var/tmp/cpansmoker-1023/2025041721/cpanreporter_000_config.ini"
    PERL_EXTUTILS_AUTOINSTALL="--defaultdeps"
    PERL_USE_UNSAFE_INC="1"
  @INC:
    /home/cpansand/.local/share/.cpan/build/2025041721/Unicode-CaseFold-1.01-1/blib/arch
    /home/cpansand/.local/share/.cpan/build/2025041721/Unicode-CaseFold-1.01-1/blib/lib
    /opt/perl-5.40.0/lib/site_perl/5.40.0/aarch64-linux
    /opt/perl-5.40.0/lib/site_perl/5.40.0
    /opt/perl-5.40.0/lib/5.40.0/aarch64-linux
    /opt/perl-5.40.0/lib/5.40.0
    .